{"text_format":"1","workbook":"xlsx","n_sheets":4,"sheets":["Kämpfe","2020","2018","2019"],"not_rendered":{"charts":0,"images":1,"macros":1,"external_links":0,"defined_names":5,"comments":0,"pivot_tables":0},"unopened":[],"bounds":{"document_bytes":16777216,"sheet_cells":100000,"rows_first":2000,"rows_last":500,"rows_between":2000,"halvings":0,"cell_chars":16384,"cell_head_chars":4096},"cells_cut":0,"cells_raw":0,"read":"whole","date_system":"1900"}

{"sheet":"Kämpfe","index":0,"n_rows":1896,"n_cols":12,"rows_kept":1896,"cut":false,"hidden":false,"merged":[[1,1,1,3],[1,4,1,6]]}
[null,null,null,null,null,null,null,null,"Kuh Nr.",null,"Anzahl Kämpfe","Gewonnen"]
[null,"Gewinner",null,null,"Verlierer",null,null,null,null,null,{"$f":"COUNTIFS($D$4:$E$3000,$I$2)","v":0},{"$f":"COUNTIFS($D$4:$D$3000,$I$2)","v":0}]
["Datum","Besitzer","Name","Nr.","Nr.2","Name2","Besitzer2"]
["2020-09-16",{"$f":"VLOOKUP(D4,'2020'!$A$16:$G$150,3,FALSE)","v":"Jäger Carlo"},{"$f":"VLOOKUP(D4,'2020'!$A$16:$G$150,2,FALSE)","v":"Sera"},64,105,{"$f":"VLOOKUP(E4,'2020'!$A$16:$G$150,2,FALSE)","v":"Xhyla"},{"$f":"VLOOKUP(E4,'2020'!$A$16:$G$150,3,FALSE)","v":"Wyssen Diego u. Madlen"}]
["2020-09-16",{"$f":"VLOOKUP(D5,'2020'!$A$16:$G$150,3,FALSE)","v":"Bregy Ralf + Adolf"},{"$f":"VLOOKUP(D5,'2020'!$A$16:$G$150,2,FALSE)","v":"Coquette"},17,60,{"$f":"VLOOKUP(E5,'2020'!$A$16:$G$150,2,FALSE)","v":"Bayonne"},{"$f":"VLOOKUP(E5,'2020'!$A$16:$G$150,3,FALSE)","v":"Jäger Carlo"}]
["2020-09-16",{"$f":"VLOOKUP(D6,'2020'!$A$16:$G$150,3,FALSE)","v":"Zumofen / Gattlen"},{"$f":"VLOOKUP(D6,'2020'!$A$16:$G$150,2,FALSE)","v":"Maya"},114,35,{"$f":"VLOOKUP(E6,'2020'!$A$16:$G$150,2,FALSE)","v":"Valaisanne"},{"$f":"VLOOKUP(E6,'2020'!$A$16:$G$150,3,FALSE)","v":"Fux W., J., + Wyer Piet"}]
["2020-09-16",{"$f":"VLOOKUP(D7,'2020'!$A$16:$G$150,3,FALSE)","v":"Tscherry E. + B."},{"$f":"VLOOKUP(D7,'2020'!$A$16:$G$150,2,FALSE)","v":"Cobra"},94,51,{"$f":"VLOOKUP(E7,'2020'!$A$16:$G$150,2,FALSE)","v":"Jamanda"},{"$f":"VLOOKUP(E7,'2020'!$A$16:$G$150,3,FALSE)","v":"Hischier H. + Bühlmann J."}]
["2020-09-16",{"$f":"VLOOKUP(D8,'2020'!$A$16:$G$150,3,FALSE)","v":"Gebr. Jäger"},{"$f":"VLOOKUP(D8,'2020'!$A$16:$G$150,2,FALSE)","v":"Dorina"},44,47,{"$f":"VLOOKUP(E8,'2020'!$A$16:$G$150,2,FALSE)","v":"Tiara"},{"$f":"VLOOKUP(E8,'2020'!$A$16:$G$150,3,FALSE)","v":"Gebr. Jäger"}]
["2020-09-15",{"$f":"VLOOKUP(D9,'2020'!$A$16:$G$150,3,FALSE)","v":"Jäger Carlo"},{"$f":"VLOOKUP(D9,'2020'!$A$16:$G$150,2,FALSE)","v":"Bataille"},58,23,{"$f":"VLOOKUP(E9,'2020'!$A$16:$G$150,2,FALSE)","v":"Pandora"},{"$f":"VLOOKUP(E9,'2020'!$A$16:$G$150,3,FALSE)","v":"Bregy Uli + Pascal"}]
["2020-09-15",{"$f":"VLOOKUP(D10,'2020'!$A$16:$G$150,3,FALSE)","v":"Bregy Ralf + Adolf"},{"$f":"VLOOKUP(D10,'2020'!$A$16:$G$150,2,FALSE)","v":"Canaille"},7,20,{"$f":"VLOOKUP(E10,'2020'!$A$16:$G$150,2,FALSE)","v":"Caline"},{"$f":"VLOOKUP(E10,'2020'!$A$16:$G$150,3,FALSE)","v":"Bregy Uli + Pascal"}]
["2020-09-15",{"$f":"VLOOKUP(D11,'2020'!$A$16:$G$150,3,FALSE)","v":"Hutter Richard"},{"$f":"VLOOKUP(D11,'2020'!$A$16:$G$150,2,FALSE)","v":"Fägär"},84,50,{"$f":"VLOOKUP(E11,'2020'!$A$16:$G$150,2,FALSE)","v":"Tanja"},{"$f":"VLOOKUP(E11,'2020'!$A$16:$G$150,3,FALSE)","v":"Gebr. Jäger"}]
["2020-09-15",{"$f":"VLOOKUP(D12,'2020'!$A$16:$G$150,3,FALSE)","v":"Bregy Ralf + Adolf"},{"$f":"VLOOKUP(D12,'2020'!$A$16:$G$150,2,FALSE)","v":"Creola"},8,18,{"$f":"VLOOKUP(E12,'2020'!$A$16:$G$150,2,FALSE)","v":"Souki"},{"$f":"VLOOKUP(E12,'2020'!$A$16:$G$150,3,FALSE)","v":"Bregy Uli + Pascal"}]
["2020-09-15",{"$f":"VLOOKUP(D13,'2020'!$A$16:$G$150,3,FALSE)","v":"Jäger Carlo"},{"$f":"VLOOKUP(D13,'2020'!$A$16:$G$150,2,FALSE)","v":"Micabol"},67,73,{"$f":"VLOOKUP(E13,'2020'!$A$16:$G$150,2,FALSE)","v":"Bavaria"},{"$f":"VLOOKUP(E13,'2020'!$A$16:$G$150,3,FALSE)","v":"Mathieu Leander + S."}]
["2020-09-15",{"$f":"VLOOKUP(D14,'2020'!$A$16:$G$150,3,FALSE)","v":"Stallung Passeraub"},{"$f":"VLOOKUP(D14,'2020'!$A$16:$G$150,2,FALSE)","v":"Bobino"},85,117,{"$f":"VLOOKUP(E14,'2020'!$A$16:$G$150,2,FALSE)","v":"Rigolo"},{"$f":"VLOOKUP(E14,'2020'!$A$16:$G$150,3,FALSE)","v":"Zumofen / Gattlen"}]
["2020-09-15",{"$f":"VLOOKUP(D15,'2020'!$A$16:$G$150,3,FALSE)","v":"Zumofen / Gattlen"},{"$f":"VLOOKUP(D15,'2020'!$A$16:$G$150,2,FALSE)","v":"Violette"},108,82,{"$f":"VLOOKUP(E15,'2020'!$A$16:$G$150,2,FALSE)","v":"Bonita"},{"$f":"VLOOKUP(E15,'2020'!$A$16:$G$150,3,FALSE)","v":"Stallung Passeraub "}]
["2020-09-15",{"$f":"VLOOKUP(D16,'2020'!$A$16:$G$150,3,FALSE)","v":"Zumofen / Gattlen"},{"$f":"VLOOKUP(D16,'2020'!$A$16:$G$150,2,FALSE)","v":"Rigolo"},117,68,{"$f":"VLOOKUP(E16,'2020'!$A$16:$G$150,2,FALSE)","v":"Pivoine"},{"$f":"VLOOKUP(E16,'2020'!$A$16:$G$150,3,FALSE)","v":"Jäger Carlo"}]
["2020-09-15",{"$f":"VLOOKUP(D17,'2020'!$A$16:$G$150,3,FALSE)","v":"Bregy Ralf + Adolf"},{"$f":"VLOOKUP(D17,'2020'!$A$16:$G$150,2,FALSE)","v":"Canaille"},7,46,{"$f":"VLOOKUP(E17,'2020'!$A$16:$G$150,2,FALSE)","v":"Lorens"},{"$f":"VLOOKUP(E17,'2020'!$A$16:$G$150,3,FALSE)","v":"Gebr. Jäger"}]
["2020-09-15",{"$f":"VLOOKUP(D18,'2020'!$A$16:$G$150,3,FALSE)","v":"Zumofen / Gattlen"},{"$f":"VLOOKUP(D18,'2020'!$A$16:$G$150,2,FALSE)","v":"Rambo"},106,29,{"$f":"VLOOKUP(E18,'2020'!$A$16:$G$150,2,FALSE)","v":"Rebell"},{"$f":"VLOOKUP(E18,'2020'!$A$16:$G$150,3,FALSE)","v":"Fam. Leiggener"}]
["2020-09-14",{"$f":"VLOOKUP(D19,'2020'!$A$16:$G$150,3,FALSE)","v":"Fux W., J., + Wyer Piet"},{"$f":"VLOOKUP(D19,'2020'!$A$16:$G$150,2,FALSE)","v":"Valaisanne"},35,84,{"$f":"VLOOKUP(E19,'2020'!$A$16:$G$150,2,FALSE)","v":"Fägär"},{"$f":"VLOOKUP(E19,'2020'!$A$16:$G$150,3,FALSE)","v":"Hutter Richard"}]
["2020-09-14",{"$f":"VLOOKUP(D20,'2020'!$A$16:$G$150,3,FALSE)","v":"Jäger Carlo"},{"$f":"VLOOKUP(D20,'2020'!$A$16:$G$150,2,FALSE)","v":"Maila"},59,80,{"$f":"VLOOKUP(E20,'2020'!$A$16:$G$150,2,FALSE)","v":"Manou"},{"$f":"VLOOKUP(E20,'2020'!$A$16:$G$150,3,FALSE)","v":"Stallung Passeraub "}]
["2020-09-14",{"$f":"VLOOKUP(D21,'2020'!$A$16:$G$150,3,FALSE)","v":"Bregy Ralf + Adolf"},{"$f":"VLOOKUP(D21,'2020'!$A$16:$G$150,2,FALSE)","v":"Coquette"},17,65,{"$f":"VLOOKUP(E21,'2020'!$A$16:$G$150,2,FALSE)","v":"Megane"},{"$f":"VLOOKUP(E21,'2020'!$A$16:$G$150,3,FALSE)","v":"Jäger Carlo"}]
["2020-09-14",{"$f":"VLOOKUP(D22,'2020'!$A$16:$G$150,3,FALSE)","v":"Zumofen / Gattlen"},{"$f":"VLOOKUP(D22,'2020'!$A$16:$G$150,2,FALSE)","v":"Violette"},108,14,{"$f":"VLOOKUP(E22,'2020'!$A$16:$G$150,2,FALSE)","v":"Canabis"},{"$f":"VLOOKUP(E22,'2020'!$A$16:$G$150,3,FALSE)","v":"Bregy Ralf + Adolf"}]
["2020-09-14",{"$f":"VLOOKUP(D23,'2020'!$A$16:$G$150,3,FALSE)","v":"Sewer R. + Thommen S."},{"$f":"VLOOKUP(D23,'2020'!$A$16:$G$150,2,FALSE)","v":"Bolera"},91,89,{"$f":"VLOOKUP(E23,'2020'!$A$16:$G$150,2,FALSE)","v":"Tiara"},{"$f":"VLOOKUP(E23,'2020'!$A$16:$G$150,3,FALSE)","v":"Sewer R. + Thommen S."}]
["2020-09-14",{"$f":"VLOOKUP(D24,'2020'!$A$16:$G$150,3,FALSE)","v":"Bregy Ralf + Adolf"},{"$f":"VLOOKUP(D24,'2020'!$A$16:$G$150,2,FALSE)","v":"Coquette"},17,65,{"$f":"VLOOKUP(E24,'2020'!$A$16:$G$150,2,FALSE)","v":"Megane"},{"$f":"VLOOKUP(E24,'2020'!$A$16:$G$150,3,FALSE)","v":"Jäger Carlo"}]
["2020-09-14",{"$f":"VLOOKUP(D25,'2020'!$A$16:$G$150,3,FALSE)","v":"Fam. Leiggener"},{"$f":"VLOOKUP(D25,'2020'!$A$16:$G$150,2,FALSE)","v":"Mira"},32,79,{"$f":"VLOOKUP(E25,'2020'!$A$16:$G$150,2,FALSE)","v":"Marla"},{"$f":"VLOOKUP(E25,'2020'!$A$16:$G$150,3,FALSE)","v":"Stallung Passeraub "}]
["2020-09-14",{"$f":"VLOOKUP(D26,'2020'!$A$16:$G$150,3,FALSE)","v":"Bregy Ralf + Adolf"},{"$f":"VLOOKUP(D26,'2020'!$A$16:$G$150,2,FALSE)","v":"Canabis"},14,91,{"$f":"VLOOKUP(E26,'2020'!$A$16:$G$150,2,FALSE)","v":"Bolera"},{"$f":"VLOOKUP(E26,'2020'!$A$16:$G$150,3,FALSE)","v":"Sewer R. + Thommen S."}]
["2020-09-13",{"$f":"VLOOKUP(D27,'2020'!$A$16:$G$150,3,FALSE)","v":"Bayard Medard + Gustav"},{"$f":"VLOOKUP(D27,'2020'!$A$16:$G$150,2,FALSE)","v":"Vampir"},4,60,{"$f":"VLOOKUP(E27,'2020'!$A$16:$G$150,2,FALSE)","v":"Bayonne"},{"$f":"VLOOKUP(E27,'2020'!$A$16:$G$150,3,FALSE)","v":"Jäger Carlo"}]
["2020-09-13",{"$f":"VLOOKUP(D28,'2020'!$A$16:$G$150,3,FALSE)","v":"Hischier H. + Bühlmann J."},{"$f":"VLOOKUP(D28,'2020'!$A$16:$G$150,2,FALSE)","v":"Lenja"},52,26,{"$f":"VLOOKUP(E28,'2020'!$A$16:$G$150,2,FALSE)","v":"Cataleya"},{"$f":"VLOOKUP(E28,'2020'!$A$16:$G$150,3,FALSE)","v":"Bregy Uli + Pascal"}]
["2020-09-13",{"$f":"VLOOKUP(D29,'2020'!$A$16:$G$150,3,FALSE)","v":"Zumofen / Gattlen"},{"$f":"VLOOKUP(D29,'2020'!$A$16:$G$150,2,FALSE)","v":"Rigolo"},117,22,{"$f":"VLOOKUP(E29,'2020'!$A$16:$G$150,2,FALSE)","v":"Xaphir"},{"$f":"VLOOKUP(E29,'2020'!$A$16:$G$150,3,FALSE)","v":"Bregy Uli + Pascal"}]
["2020-09-13",{"$f":"VLOOKUP(D30,'2020'!$A$16:$G$150,3,FALSE)","v":"Bayard Medard + Gustav"},{"$f":"VLOOKUP(D30,'2020'!$A$16:$G$150,2,FALSE)","v":"Fantastic"},2,52,{"$f":"VLOOKUP(E30,'2020'!$A$16:$G$150,2,FALSE)","v":"Lenja"},{"$f":"VLOOKUP(E30,'2020'!$A$16:$G$150,3,FALSE)","v":"Hischier H. + Bühlmann J."}]
["2020-09-13",{"$f":"VLOOKUP(D31,'2020'!$A$16:$G$150,3,FALSE)","v":"Williner Anton"},{"$f":"VLOOKUP(D31,'2020'!$A$16:$G$150,2,FALSE)","v":"Vivana"},95,119,{"$f":"VLOOKUP(E31,'2020'!$A$16:$G$150,2,FALSE)","v":"Fayola"},{"$f":"VLOOKUP(E31,'2020'!$A$16:$G$150,3,FALSE)","v":"Zumofen / Gattlen"}]
["2020-09-13",{"$f":"VLOOKUP(D32,'2020'!$A$16:$G$150,3,FALSE)","v":"Tscherry E. + B."},{"$f":"VLOOKUP(D32,'2020'!$A$16:$G$150,2,FALSE)","v":"Cobra"},94,65,{"$f":"VLOOKUP(E32,'2020'!$A$16:$G$150,2,FALSE)","v":"Megane"},{"$f":"VLOOKUP(E32,'2020'!$A$16:$G$150,3,FALSE)","v":"Jäger Carlo"}]
["2020-09-13",{"$f":"VLOOKUP(D33,'2020'!$A$16:$G$150,3,FALSE)","v":"Mathieu Leander + S."},{"$f":"VLOOKUP(D33,'2020'!$A$16:$G$150,2,FALSE)","v":"Babylon"},76,75,{"$f":"VLOOKUP(E33,'2020'!$A$16:$G$150,2,FALSE)","v":"Bonita"},{"$f":"VLOOKUP(E33,'2020'!$A$16:$G$150,3,FALSE)","v":"Mathieu Leander + S."}]
["2020-09-13",{"$f":"VLOOKUP(D34,'2020'!$A$16:$G$150,3,FALSE)","v":"Hischier Pius"},{"$f":"VLOOKUP(D34,'2020'!$A$16:$G$150,2,FALSE)","v":"Safira"},53,115,{"$f":"VLOOKUP(E34,'2020'!$A$16:$G$150,2,FALSE)","v":"Pepitta"},{"$f":"VLOOKUP(E34,'2020'!$A$16:$G$150,3,FALSE)","v":"Zumofen / Gattlen"}]
["2020-09-13",{"$f":"VLOOKUP(D35,'2020'!$A$16:$G$150,3,FALSE)","v":"Gebr. Jäger"},{"$f":"VLOOKUP(D35,'2020'!$A$16:$G$150,2,FALSE)","v":"Simba"},48,23,{"$f":"VLOOKUP(E35,'2020'!$A$16:$G$150,2,FALSE)","v":"Pandora"},{"$f":"VLOOKUP(E35,'2020'!$A$16:$G$150,3,FALSE)","v":"Bregy Uli + Pascal"}]
["2020-09-13",{"$f":"VLOOKUP(D36,'2020'!$A$16:$G$150,3,FALSE)","v":"Zumofen / Gattlen"},{"$f":"VLOOKUP(D36,'2020'!$A$16:$G$150,2,FALSE)","v":"Vanda"},113,40,{"$f":"VLOOKUP(E36,'2020'!$A$16:$G$150,2,FALSE)","v":"Toscana"},{"$f":"VLOOKUP(E36,'2020'!$A$16:$G$150,3,FALSE)","v":"Fux W., J., + Wyer Piet"}]
["2020-09-13",{"$f":"VLOOKUP(D37,'2020'!$A$16:$G$150,3,FALSE)","v":"Stallung zum Stäg"},{"$f":"VLOOKUP(D37,'2020'!$A$16:$G$150,2,FALSE)","v":"Babylon"},86,115,{"$f":"VLOOKUP(E37,'2020'!$A$16:$G$150,2,FALSE)","v":"Pepitta"},{"$f":"VLOOKUP(E37,'2020'!$A$16:$G$150,3,FALSE)","v":"Zumofen / Gattlen"}]
["2020-09-12",{"$f":"VLOOKUP(D38,'2020'!$A$16:$G$150,3,FALSE)","v":"Stallung Passeraub"},{"$f":"VLOOKUP(D38,'2020'!$A$16:$G$150,2,FALSE)","v":"Bobino"},85,67,{"$f":"VLOOKUP(E38,'2020'!$A$16:$G$150,2,FALSE)","v":"Micabol"},{"$f":"VLOOKUP(E38,'2020'!$A$16:$G$150,3,FALSE)","v":"Jäger Carlo"}]
["2020-09-12",{"$f":"VLOOKUP(D39,'2020'!$A$16:$G$150,3,FALSE)","v":"Sewer R. + Thommen S."},{"$f":"VLOOKUP(D39,'2020'!$A$16:$G$150,2,FALSE)","v":"Biscot"},90,6,{"$f":"VLOOKUP(E39,'2020'!$A$16:$G$150,2,FALSE)","v":"Venus"},{"$f":"VLOOKUP(E39,'2020'!$A$16:$G$150,3,FALSE)","v":"Bayard Medard + Gustav"}]
["2020-09-12",{"$f":"VLOOKUP(D40,'2020'!$A$16:$G$150,3,FALSE)","v":"Bregy Uli + Pascal"},{"$f":"VLOOKUP(D40,'2020'!$A$16:$G$150,2,FALSE)","v":"Tiranie"},19,65,{"$f":"VLOOKUP(E40,'2020'!$A$16:$G$150,2,FALSE)","v":"Megane"},{"$f":"VLOOKUP(E40,'2020'!$A$16:$G$150,3,FALSE)","v":"Jäger Carlo"}]
["2020-09-12",{"$f":"VLOOKUP(D41,'2020'!$A$16:$G$150,3,FALSE)","v":"Sewer R. + Thommen S."},{"$f":"VLOOKUP(D41,'2020'!$A$16:$G$150,2,FALSE)","v":"Malice"},88,111,{"$f":"VLOOKUP(E41,'2020'!$A$16:$G$150,2,FALSE)","v":"Vidona"},{"$f":"VLOOKUP(E41,'2020'!$A$16:$G$150,3,FALSE)","v":"Zumofen / Gattlen"}]
["2020-09-12",{"$f":"VLOOKUP(D42,'2020'!$A$16:$G$150,3,FALSE)","v":"Zumofen / Gattlen"},{"$f":"VLOOKUP(D42,'2020'!$A$16:$G$150,2,FALSE)","v":"Rigolo"},117,19,{"$f":"VLOOKUP(E42,'2020'!$A$16:$G$150,2,FALSE)","v":"Tiranie"},{"$f":"VLOOKUP(E42,'2020'!$A$16:$G$150,3,FALSE)","v":"Bregy Uli + Pascal"}]
["2020-09-12",{"$f":"VLOOKUP(D43,'2020'!$A$16:$G$150,3,FALSE)","v":"Zumofen / Gattlen"},{"$f":"VLOOKUP(D43,'2020'!$A$16:$G$150,2,FALSE)","v":"Rigolo"},117,53,{"$f":"VLOOKUP(E43,'2020'!$A$16:$G$150,2,FALSE)","v":"Safira"},{"$f":"VLOOKUP(E43,'2020'!$A$16:$G$150,3,FALSE)","v":"Hischier Pius"}]
["2020-09-12",{"$f":"VLOOKUP(D44,'2020'!$A$16:$G$150,3,FALSE)","v":"Bayard Medard + Gustav"},{"$f":"VLOOKUP(D44,'2020'!$A$16:$G$150,2,FALSE)","v":"Venus"},6,100,{"$f":"VLOOKUP(E44,'2020'!$A$16:$G$150,2,FALSE)","v":"Tira"},{"$f":"VLOOKUP(E44,'2020'!$A$16:$G$150,3,FALSE)","v":"Williner Anton"}]
["2020-09-12",{"$f":"VLOOKUP(D45,'2020'!$A$16:$G$150,3,FALSE)","v":"Hischier Pius"},{"$f":"VLOOKUP(D45,'2020'!$A$16:$G$150,2,FALSE)","v":"Safira"},53,88,{"$f":"VLOOKUP(E45,'2020'!$A$16:$G$150,2,FALSE)","v":"Malice"},{"$f":"VLOOKUP(E45,'2020'!$A$16:$G$150,3,FALSE)","v":"Sewer R. + Thommen S."}]
["2020-09-12",{"$f":"VLOOKUP(D46,'2020'!$A$16:$G$150,3,FALSE)","v":"Bregy Ralf + Adolf"},{"$f":"VLOOKUP(D46,'2020'!$A$16:$G$150,2,FALSE)","v":"Coquette"},17,84,{"$f":"VLOOKUP(E46,'2020'!$A$16:$G$150,2,FALSE)","v":"Fägär"},{"$f":"VLOOKUP(E46,'2020'!$A$16:$G$150,3,FALSE)","v":"Hutter Richard"}]
["2020-09-12",{"$f":"VLOOKUP(D47,'2020'!$A$16:$G$150,3,FALSE)","v":"Stallung Passeraub "},{"$f":"VLOOKUP(D47,'2020'!$A$16:$G$150,2,FALSE)","v":"Medusa"},81,41,{"$f":"VLOOKUP(E47,'2020'!$A$16:$G$150,2,FALSE)","v":"Mystic"},{"$f":"VLOOKUP(E47,'2020'!$A$16:$G$150,3,FALSE)","v":"Fux W., J., + Wyer Piet"}]
["2020-09-12",{"$f":"VLOOKUP(D48,'2020'!$A$16:$G$150,3,FALSE)","v":"Zumofen / Gattlen"},{"$f":"VLOOKUP(D48,'2020'!$A$16:$G$150,2,FALSE)","v":"Violette"},108,32,{"$f":"VLOOKUP(E48,'2020'!$A$16:$G$150,2,FALSE)","v":"Mira"},{"$f":"VLOOKUP(E48,'2020'!$A$16:$G$150,3,FALSE)","v":"Fam. Leiggener"}]
["2020-09-12",{"$f":"VLOOKUP(D49,'2020'!$A$16:$G$150,3,FALSE)","v":"Sewer R. + Thommen S."},{"$f":"VLOOKUP(D49,'2020'!$A$16:$G$150,2,FALSE)","v":"Biscot"},90,89,{"$f":"VLOOKUP(E49,'2020'!$A$16:$G$150,2,FALSE)","v":"Tiara"},{"$f":"VLOOKUP(E49,'2020'!$A$16:$G$150,3,FALSE)","v":"Sewer R. + Thommen S."}]
["2020-09-12",{"$f":"VLOOKUP(D50,'2020'!$A$16:$G$150,3,FALSE)","v":"Gebr. Jäger"},{"$f":"VLOOKUP(D50,'2020'!$A$16:$G$150,2,FALSE)","v":"Dorina"},44,26,{"$f":"VLOOKUP(E50,'2020'!$A$16:$G$150,2,FALSE)","v":"Cataleya"},{"$f":"VLOOKUP(E50,'2020'!$A$16:$G$150,3,FALSE)","v":"Bregy Uli + Pascal"}]
["2020-09-12",{"$f":"VLOOKUP(D51,'2020'!$A$16:$G$150,3,FALSE)","v":"Bayard Medard + Gustav"},{"$f":"VLOOKUP(D51,'2020'!$A$16:$G$150,2,FALSE)","v":"Venus"},6,50,{"$f":"VLOOKUP(E51,'2020'!$A$16:$G$150,2,FALSE)","v":"Tanja"},{"$f":"VLOOKUP(E51,'2020'!$A$16:$G$150,3,FALSE)","v":"Gebr. Jäger"}]
["2020-09-12",{"$f":"VLOOKUP(D52,'2020'!$A$16:$G$150,3,FALSE)","v":"Stallung zum Stäg"},{"$f":"VLOOKUP(D52,'2020'!$A$16:$G$150,2,FALSE)","v":"Babylon"},86,115,{"$f":"VLOOKUP(E52,'2020'!$A$16:$G$150,2,FALSE)","v":"Pepitta"},{"$f":"VLOOKUP(E52,'2020'!$A$16:$G$150,3,FALSE)","v":"Zumofen / Gattlen"}]
["2020-09-12",{"$f":"VLOOKUP(D53,'2020'!$A$16:$G$150,3,FALSE)","v":"Zumofen / Gattlen"},{"$f":"VLOOKUP(D53,'2020'!$A$16:$G$150,2,FALSE)","v":"Riva "},112,44,{"$f":"VLOOKUP(E53,'2020'!$A$16:$G$150,2,FALSE)","v":"Dorina"},{"$f":"VLOOKUP(E53,'2020'!$A$16:$G$150,3,FALSE)","v":"Gebr. Jäger"}]
["2020-09-12",{"$f":"VLOOKUP(D54,'2020'!$A$16:$G$150,3,FALSE)","v":"Bregy Ralf + Adolf"},{"$f":"VLOOKUP(D54,'2020'!$A$16:$G$150,2,FALSE)","v":"Coquette"},17,102,{"$f":"VLOOKUP(E54,'2020'!$A$16:$G$150,2,FALSE)","v":"Rasta"},{"$f":"VLOOKUP(E54,'2020'!$A$16:$G$150,3,FALSE)","v":"Wyssen Diego u. Madlen"}]
["2020-09-12",{"$f":"VLOOKUP(D55,'2020'!$A$16:$G$150,3,FALSE)","v":"Fam. Leiggener"},{"$f":"VLOOKUP(D55,'2020'!$A$16:$G$150,2,FALSE)","v":"Rebell"},29,21,{"$f":"VLOOKUP(E55,'2020'!$A$16:$G$150,2,FALSE)","v":"Bora"},{"$f":"VLOOKUP(E55,'2020'!$A$16:$G$150,3,FALSE)","v":"Bregy Uli + Pascal"}]
["2020-09-12",{"$f":"VLOOKUP(D56,'2020'!$A$16:$G$150,3,FALSE)","v":"Jäger Carlo"},{"$f":"VLOOKUP(D56,'2020'!$A$16:$G$150,2,FALSE)","v":"Grolla"},61,88,{"$f":"VLOOKUP(E56,'2020'!$A$16:$G$150,2,FALSE)","v":"Malice"},{"$f":"VLOOKUP(E56,'2020'!$A$16:$G$150,3,FALSE)","v":"Sewer R. + Thommen S."}]
["2020-09-12",{"$f":"VLOOKUP(D57,'2020'!$A$16:$G$150,3,FALSE)","v":"Fam. Leiggener"},{"$f":"VLOOKUP(D57,'2020'!$A$16:$G$150,2,FALSE)","v":"Baron"},31,33,{"$f":"VLOOKUP(E57,'2020'!$A$16:$G$150,2,FALSE)","v":"Baquera"},{"$f":"VLOOKUP(E57,'2020'!$A$16:$G$150,3,FALSE)","v":"Fux W., J., + Wyer Piet"}]
["2020-09-12",{"$f":"VLOOKUP(D58,'2020'!$A$16:$G$150,3,FALSE)","v":"Williner Anton"},{"$f":"VLOOKUP(D58,'2020'!$A$16:$G$150,2,FALSE)","v":"Colonell"},98,65,{"$f":"VLOOKUP(E58,'2020'!$A$16:$G$150,2,FALSE)","v":"Megane"},{"$f":"VLOOKUP(E58,'2020'!$A$16:$G$150,3,FALSE)","v":"Jäger Carlo"}]
["2020-09-12",{"$f":"VLOOKUP(D59,'2020'!$A$16:$G$150,3,FALSE)","v":"Wyssen Diego u. Madlen"},{"$f":"VLOOKUP(D59,'2020'!$A$16:$G$150,2,FALSE)","v":"Xena"},104,112,{"$f":"VLOOKUP(E59,'2020'!$A$16:$G$150,2,FALSE)","v":"Riva "},{"$f":"VLOOKUP(E59,'2020'!$A$16:$G$150,3,FALSE)","v":"Zumofen / Gattlen"}]
["2020-09-12",{"$f":"VLOOKUP(D60,'2020'!$A$16:$G$150,3,FALSE)","v":"Bregy Ralf + Adolf"},{"$f":"VLOOKUP(D60,'2020'!$A$16:$G$150,2,FALSE)","v":"Cashida"},15,102,{"$f":"VLOOKUP(E60,'2020'!$A$16:$G$150,2,FALSE)","v":"Rasta"},{"$f":"VLOOKUP(E60,'2020'!$A$16:$G$150,3,FALSE)","v":"Wyssen Diego u. Madlen"}]
["2020-09-12",{"$f":"VLOOKUP(D61,'2020'!$A$16:$G$150,3,FALSE)","v":"Bregy Uli + Pascal"},{"$f":"VLOOKUP(D61,'2020'!$A$16:$G$150,2,FALSE)","v":"Xaphir"},22,65,{"$f":"VLOOKUP(E61,'2020'!$A$16:$G$150,2,FALSE)","v":"Megane"},{"$f":"VLOOKUP(E61,'2020'!$A$16:$G$150,3,FALSE)","v":"Jäger Carlo"}]
["2020-09-12",{"$f":"VLOOKUP(D62,'2020'!$A$16:$G$150,3,FALSE)","v":"Mathieu Leander + S."},{"$f":"VLOOKUP(D62,'2020'!$A$16:$G$150,2,FALSE)","v":"Babylon"},76,75,{"$f":"VLOOKUP(E62,'2020'!$A$16:$G$150,2,FALSE)","v":"Bonita"},{"$f":"VLOOKUP(E62,'2020'!$A$16:$G$150,3,FALSE)","v":"Mathieu Leander + S."}]
["2020-09-12",{"$f":"VLOOKUP(D63,'2020'!$A$16:$G$150,3,FALSE)","v":"Zumofen / Gattlen"},{"$f":"VLOOKUP(D63,'2020'!$A$16:$G$150,2,FALSE)","v":"Vanda"},113,104,{"$f":"VLOOKUP(E63,'2020'!$A$16:$G$150,2,FALSE)","v":"Xena"},{"$f":"VLOOKUP(E63,'2020'!$A$16:$G$150,3,FALSE)","v":"Wyssen Diego u. Madlen"}]
["2020-09-12",{"$f":"VLOOKUP(D64,'2020'!$A$16:$G$150,3,FALSE)","v":"Jäger Carlo"},{"$f":"VLOOKUP(D64,'2020'!$A$16:$G$150,2,FALSE)","v":"Micabol"},67,71,{"$f":"VLOOKUP(E64,'2020'!$A$16:$G$150,2,FALSE)","v":"Baghira"},{"$f":"VLOOKUP(E64,'2020'!$A$16:$G$150,3,FALSE)","v":"Mathieu Leander + S."}]
["2020-09-12",{"$f":"VLOOKUP(D65,'2020'!$A$16:$G$150,3,FALSE)","v":"Bregy Ralf + Adolf"},{"$f":"VLOOKUP(D65,'2020'!$A$16:$G$150,2,FALSE)","v":"Canabis"},14,101,{"$f":"VLOOKUP(E65,'2020'!$A$16:$G$150,2,FALSE)","v":"Xandria"},{"$f":"VLOOKUP(E65,'2020'!$A$16:$G$150,3,FALSE)","v":"Wyssen Diego u. Madlen"}]
["2020-09-12",{"$f":"VLOOKUP(D66,'2020'!$A$16:$G$150,3,FALSE)","v":"Jäger Carlo"},{"$f":"VLOOKUP(D66,'2020'!$A$16:$G$150,2,FALSE)","v":"Megane"},65,15,{"$f":"VLOOKUP(E66,'2020'!$A$16:$G$150,2,FALSE)","v":"Cashida"},{"$f":"VLOOKUP(E66,'2020'!$A$16:$G$150,3,FALSE)","v":"Bregy Ralf + Adolf"}]
["2020-09-12",{"$f":"VLOOKUP(D67,'2020'!$A$16:$G$150,3,FALSE)","v":"Jäger Carlo"},{"$f":"VLOOKUP(D67,'2020'!$A$16:$G$150,2,FALSE)","v":"Megane"},65,84,{"$f":"VLOOKUP(E67,'2020'!$A$16:$G$150,2,FALSE)","v":"Fägär"},{"$f":"VLOOKUP(E67,'2020'!$A$16:$G$150,3,FALSE)","v":"Hutter Richard"}]
["2020-09-12",{"$f":"VLOOKUP(D68,'2020'!$A$16:$G$150,3,FALSE)","v":"Zumofen / Gattlen"},{"$f":"VLOOKUP(D68,'2020'!$A$16:$G$150,2,FALSE)","v":"Xena"},110,46,{"$f":"VLOOKUP(E68,'2020'!$A$16:$G$150,2,FALSE)","v":"Lorens"},{"$f":"VLOOKUP(E68,'2020'!$A$16:$G$150,3,FALSE)","v":"Gebr. Jäger"}]
["2020-09-12",{"$f":"VLOOKUP(D69,'2020'!$A$16:$G$150,3,FALSE)","v":"Hischier Pius"},{"$f":"VLOOKUP(D69,'2020'!$A$16:$G$150,2,FALSE)","v":"Safira"},53,84,{"$f":"VLOOKUP(E69,'2020'!$A$16:$G$150,2,FALSE)","v":"Fägär"},{"$f":"VLOOKUP(E69,'2020'!$A$16:$G$150,3,FALSE)","v":"Hutter Richard"}]
["2020-09-12",{"$f":"VLOOKUP(D70,'2020'!$A$16:$G$150,3,FALSE)","v":"Mathieu Leander + S."},{"$f":"VLOOKUP(D70,'2020'!$A$16:$G$150,2,FALSE)","v":"Baghira"},71,114,{"$f":"VLOOKUP(E70,'2020'!$A$16:$G$150,2,FALSE)","v":"Maya"},{"$f":"VLOOKUP(E70,'2020'!$A$16:$G$150,3,FALSE)","v":"Zumofen / Gattlen"}]
["2020-09-11",{"$f":"VLOOKUP(D71,'2020'!$A$16:$G$150,3,FALSE)","v":"Hischier Pius"},{"$f":"VLOOKUP(D71,'2020'!$A$16:$G$150,2,FALSE)","v":"Shakira"},56,89,{"$f":"VLOOKUP(E71,'2020'!$A$16:$G$150,2,FALSE)","v":"Tiara"},{"$f":"VLOOKUP(E71,'2020'!$A$16:$G$150,3,FALSE)","v":"Sewer R. + Thommen S."}]
["2020-09-11",{"$f":"VLOOKUP(D72,'2020'!$A$16:$G$150,3,FALSE)","v":"Stallung Passeraub "},{"$f":"VLOOKUP(D72,'2020'!$A$16:$G$150,2,FALSE)","v":"Bonita"},82,6,{"$f":"VLOOKUP(E72,'2020'!$A$16:$G$150,2,FALSE)","v":"Venus"},{"$f":"VLOOKUP(E72,'2020'!$A$16:$G$150,3,FALSE)","v":"Bayard Medard + Gustav"}]
["2020-09-11",{"$f":"VLOOKUP(D73,'2020'!$A$16:$G$150,3,FALSE)","v":"Williner Anton"},{"$f":"VLOOKUP(D73,'2020'!$A$16:$G$150,2,FALSE)","v":"Tira"},100,47,{"$f":"VLOOKUP(E73,'2020'!$A$16:$G$150,2,FALSE)","v":"Tiara"},{"$f":"VLOOKUP(E73,'2020'!$A$16:$G$150,3,FALSE)","v":"Gebr. Jäger"}]
["2020-09-11",{"$f":"VLOOKUP(D74,'2020'!$A$16:$G$150,3,FALSE)","v":"Hischier Pius"},{"$f":"VLOOKUP(D74,'2020'!$A$16:$G$150,2,FALSE)","v":"Shakira"},56,32,{"$f":"VLOOKUP(E74,'2020'!$A$16:$G$150,2,FALSE)","v":"Mira"},{"$f":"VLOOKUP(E74,'2020'!$A$16:$G$150,3,FALSE)","v":"Fam. Leiggener"}]
["2020-09-11",{"$f":"VLOOKUP(D75,'2020'!$A$16:$G$150,3,FALSE)","v":"Fam. Leiggener"},{"$f":"VLOOKUP(D75,'2020'!$A$16:$G$150,2,FALSE)","v":"Mira"},32,5,{"$f":"VLOOKUP(E75,'2020'!$A$16:$G$150,2,FALSE)","v":"Pandera"},{"$f":"VLOOKUP(E75,'2020'!$A$16:$G$150,3,FALSE)","v":"Bayard Medard + Gustav"}]
["2020-09-11",{"$f":"VLOOKUP(D76,'2020'!$A$16:$G$150,3,FALSE)","v":"Bayard Medard + Gustav"},{"$f":"VLOOKUP(D76,'2020'!$A$16:$G$150,2,FALSE)","v":"Venus"},6,100,{"$f":"VLOOKUP(E76,'2020'!$A$16:$G$150,2,FALSE)","v":"Tira"},{"$f":"VLOOKUP(E76,'2020'!$A$16:$G$150,3,FALSE)","v":"Williner Anton"}]
["2020-09-11",{"$f":"VLOOKUP(D77,'2020'!$A$16:$G$150,3,FALSE)","v":"Williner Anton"},{"$f":"VLOOKUP(D77,'2020'!$A$16:$G$150,2,FALSE)","v":"Tira"},100,5,{"$f":"VLOOKUP(E77,'2020'!$A$16:$G$150,2,FALSE)","v":"Pandera"},{"$f":"VLOOKUP(E77,'2020'!$A$16:$G$150,3,FALSE)","v":"Bayard Medard + Gustav"}]
["2020-09-11",{"$f":"VLOOKUP(D78,'2020'!$A$16:$G$150,3,FALSE)","v":"Hutter Richard"},{"$f":"VLOOKUP(D78,'2020'!$A$16:$G$150,2,FALSE)","v":"Fägär"},84,53,{"$f":"VLOOKUP(E78,'2020'!$A$16:$G$150,2,FALSE)","v":"Safira"},{"$f":"VLOOKUP(E78,'2020'!$A$16:$G$150,3,FALSE)","v":"Hischier Pius"}]
["2020-09-11",{"$f":"VLOOKUP(D79,'2020'!$A$16:$G$150,3,FALSE)","v":"Bayard Medard + Gustav"},{"$f":"VLOOKUP(D79,'2020'!$A$16:$G$150,2,FALSE)","v":"Pandera"},5,100,{"$f":"VLOOKUP(E79,'2020'!$A$16:$G$150,2,FALSE)","v":"Tira"},{"$f":"VLOOKUP(E79,'2020'!$A$16:$G$150,3,FALSE)","v":"Williner Anton"}]
["2020-09-11",{"$f":"VLOOKUP(D80,'2020'!$A$16:$G$150,3,FALSE)","v":"Wyssen Diego u. Madlen"},{"$f":"VLOOKUP(D80,'2020'!$A$16:$G$150,2,FALSE)","v":"Xandria"},101,111,{"$f":"VLOOKUP(E80,'2020'!$A$16:$G$150,2,FALSE)","v":"Vidona"},{"$f":"VLOOKUP(E80,'2020'!$A$16:$G$150,3,FALSE)","v":"Zumofen / Gattlen"}]
["2020-09-10",{"$f":"VLOOKUP(D81,'2020'!$A$16:$G$150,3,FALSE)","v":"Hischier Pius"},{"$f":"VLOOKUP(D81,'2020'!$A$16:$G$150,2,FALSE)","v":"Safira"},53,2,{"$f":"VLOOKUP(E81,'2020'!$A$16:$G$150,2,FALSE)","v":"Fantastic"},{"$f":"VLOOKUP(E81,'2020'!$A$16:$G$150,3,FALSE)","v":"Bayard Medard + Gustav"}]
["2020-09-10",{"$f":"VLOOKUP(D82,'2020'!$A$16:$G$150,3,FALSE)","v":"Bregy Uli + Pascal"},{"$f":"VLOOKUP(D82,'2020'!$A$16:$G$150,2,FALSE)","v":"Souki"},18,59,{"$f":"VLOOKUP(E82,'2020'!$A$16:$G$150,2,FALSE)","v":"Maila"},{"$f":"VLOOKUP(E82,'2020'!$A$16:$G$150,3,FALSE)","v":"Jäger Carlo"}]
["2020-09-10",{"$f":"VLOOKUP(D83,'2020'!$A$16:$G$150,3,FALSE)","v":"Zumofen / Gattlen"},{"$f":"VLOOKUP(D83,'2020'!$A$16:$G$150,2,FALSE)","v":"Xena"},110,46,{"$f":"VLOOKUP(E83,'2020'!$A$16:$G$150,2,FALSE)","v":"Lorens"},{"$f":"VLOOKUP(E83,'2020'!$A$16:$G$150,3,FALSE)","v":"Gebr. Jäger"}]
["2020-09-10",{"$f":"VLOOKUP(D84,'2020'!$A$16:$G$150,3,FALSE)","v":"Williner Anton"},{"$f":"VLOOKUP(D84,'2020'!$A$16:$G$150,2,FALSE)","v":"Vanessa"},97,100,{"$f":"VLOOKUP(E84,'2020'!$A$16:$G$150,2,FALSE)","v":"Tira"},{"$f":"VLOOKUP(E84,'2020'!$A$16:$G$150,3,FALSE)","v":"Williner Anton"}]
["2020-09-10",{"$f":"VLOOKUP(D85,'2020'!$A$16:$G$150,3,FALSE)","v":"Zumofen / Gattlen"},{"$f":"VLOOKUP(D85,'2020'!$A$16:$G$150,2,FALSE)","v":"Rambo"},106,102,{"$f":"VLOOKUP(E85,'2020'!$A$16:$G$150,2,FALSE)","v":"Rasta"},{"$f":"VLOOKUP(E85,'2020'!$A$16:$G$150,3,FALSE)","v":"Wyssen Diego u. Madlen"}]
["2020-09-10",{"$f":"VLOOKUP(D86,'2020'!$A$16:$G$150,3,FALSE)","v":"Jäger Carlo"},{"$f":"VLOOKUP(D86,'2020'!$A$16:$G$150,2,FALSE)","v":"Grolla"},61,33,{"$f":"VLOOKUP(E86,'2020'!$A$16:$G$150,2,FALSE)","v":"Baquera"},{"$f":"VLOOKUP(E86,'2020'!$A$16:$G$150,3,FALSE)","v":"Fux W., J., + Wyer Piet"}]
["2020-09-10",{"$f":"VLOOKUP(D87,'2020'!$A$16:$G$150,3,FALSE)","v":"Bregy Ralf + Adolf"},{"$f":"VLOOKUP(D87,'2020'!$A$16:$G$150,2,FALSE)","v":"Canabis"},14,89,{"$f":"VLOOKUP(E87,'2020'!$A$16:$G$150,2,FALSE)","v":"Tiara"},{"$f":"VLOOKUP(E87,'2020'!$A$16:$G$150,3,FALSE)","v":"Sewer R. + Thommen S."}]
["2020-09-10",{"$f":"VLOOKUP(D88,'2020'!$A$16:$G$150,3,FALSE)","v":"Wyssen Diego u. Madlen"},{"$f":"VLOOKUP(D88,'2020'!$A$16:$G$150,2,FALSE)","v":"Xhyla"},105,29,{"$f":"VLOOKUP(E88,'2020'!$A$16:$G$150,2,FALSE)","v":"Rebell"},{"$f":"VLOOKUP(E88,'2020'!$A$16:$G$150,3,FALSE)","v":"Fam. Leiggener"}]
["2020-09-10",{"$f":"VLOOKUP(D89,'2020'!$A$16:$G$150,3,FALSE)","v":"Hutter Richard"},{"$f":"VLOOKUP(D89,'2020'!$A$16:$G$150,2,FALSE)","v":"Fägär"},84,50,{"$f":"VLOOKUP(E89,'2020'!$A$16:$G$150,2,FALSE)","v":"Tanja"},{"$f":"VLOOKUP(E89,'2020'!$A$16:$G$150,3,FALSE)","v":"Gebr. Jäger"}]
["2020-09-10",{"$f":"VLOOKUP(D90,'2020'!$A$16:$G$150,3,FALSE)","v":"Zumofen / Gattlen"},{"$f":"VLOOKUP(D90,'2020'!$A$16:$G$150,2,FALSE)","v":"Rambo"},106,67,{"$f":"VLOOKUP(E90,'2020'!$A$16:$G$150,2,FALSE)","v":"Micabol"},{"$f":"VLOOKUP(E90,'2020'!$A$16:$G$150,3,FALSE)","v":"Jäger Carlo"}]
["2020-09-10",{"$f":"VLOOKUP(D91,'2020'!$A$16:$G$150,3,FALSE)","v":"Jäger Carlo"},{"$f":"VLOOKUP(D91,'2020'!$A$16:$G$150,2,FALSE)","v":"Megane"},65,80,{"$f":"VLOOKUP(E91,'2020'!$A$16:$G$150,2,FALSE)","v":"Manou"},{"$f":"VLOOKUP(E91,'2020'!$A$16:$G$150,3,FALSE)","v":"Stallung Passeraub "}]
["2020-09-10",{"$f":"VLOOKUP(D92,'2020'!$A$16:$G$150,3,FALSE)","v":"Bregy Ralf + Adolf"},{"$f":"VLOOKUP(D92,'2020'!$A$16:$G$150,2,FALSE)","v":"Creola"},8,9,{"$f":"VLOOKUP(E92,'2020'!$A$16:$G$150,2,FALSE)","v":"Flacari"},{"$f":"VLOOKUP(E92,'2020'!$A$16:$G$150,3,FALSE)","v":"Bregy Ralf + Adolf"}]
["2020-09-09",{"$f":"VLOOKUP(D93,'2020'!$A$16:$G$150,3,FALSE)","v":"Zumofen / Gattlen"},{"$f":"VLOOKUP(D93,'2020'!$A$16:$G$150,2,FALSE)","v":"Rambo"},106,104,{"$f":"VLOOKUP(E93,'2020'!$A$16:$G$150,2,FALSE)","v":"Xena"},{"$f":"VLOOKUP(E93,'2020'!$A$16:$G$150,3,FALSE)","v":"Wyssen Diego u. Madlen"}]
["2020-09-09",{"$f":"VLOOKUP(D94,'2020'!$A$16:$G$150,3,FALSE)","v":"Williner Anton"},{"$f":"VLOOKUP(D94,'2020'!$A$16:$G$150,2,FALSE)","v":"Colonell"},98,40,{"$f":"VLOOKUP(E94,'2020'!$A$16:$G$150,2,FALSE)","v":"Toscana"},{"$f":"VLOOKUP(E94,'2020'!$A$16:$G$150,3,FALSE)","v":"Fux W., J., + Wyer Piet"}]
["2020-09-09",{"$f":"VLOOKUP(D95,'2020'!$A$16:$G$150,3,FALSE)","v":"Bregy Ralf + Adolf"},{"$f":"VLOOKUP(D95,'2020'!$A$16:$G$150,2,FALSE)","v":"Canabis"},14,17,{"$f":"VLOOKUP(E95,'2020'!$A$16:$G$150,2,FALSE)","v":"Coquette"},{"$f":"VLOOKUP(E95,'2020'!$A$16:$G$150,3,FALSE)","v":"Bregy Ralf + Adolf"}]
["2020-09-09",{"$f":"VLOOKUP(D96,'2020'!$A$16:$G$150,3,FALSE)","v":"Sewer R. + Thommen S."},{"$f":"VLOOKUP(D96,'2020'!$A$16:$G$150,2,FALSE)","v":"Bolera"},91,84,{"$f":"VLOOKUP(E96,'2020'!$A$16:$G$150,2,FALSE)","v":"Fägär"},{"$f":"VLOOKUP(E96,'2020'!$A$16:$G$150,3,FALSE)","v":"Hutter Richard"}]
["2020-09-09",{"$f":"VLOOKUP(D97,'2020'!$A$16:$G$150,3,FALSE)","v":"Zumofen / Gattlen"},{"$f":"VLOOKUP(D97,'2020'!$A$16:$G$150,2,FALSE)","v":"Riva "},112,29,{"$f":"VLOOKUP(E97,'2020'!$A$16:$G$150,2,FALSE)","v":"Rebell"},{"$f":"VLOOKUP(E97,'2020'!$A$16:$G$150,3,FALSE)","v":"Fam. Leiggener"}]
["2020-09-09",{"$f":"VLOOKUP(D98,'2020'!$A$16:$G$150,3,FALSE)","v":"Jäger Carlo"},{"$f":"VLOOKUP(D98,'2020'!$A$16:$G$150,2,FALSE)","v":"Pivoine"},68,114,{"$f":"VLOOKUP(E98,'2020'!$A$16:$G$150,2,FALSE)","v":"Maya"},{"$f":"VLOOKUP(E98,'2020'!$A$16:$G$150,3,FALSE)","v":"Zumofen / Gattlen"}]
["2020-09-09",{"$f":"VLOOKUP(D99,'2020'!$A$16:$G$150,3,FALSE)","v":"Bregy Ralf + Adolf"},{"$f":"VLOOKUP(D99,'2020'!$A$16:$G$150,2,FALSE)","v":"Flacari"},9,95,{"$f":"VLOOKUP(E99,'2020'!$A$16:$G$150,2,FALSE)","v":"Vivana"},{"$f":"VLOOKUP(E99,'2020'!$A$16:$G$150,3,FALSE)","v":"Williner Anton"}]
["2020-09-09",{"$f":"VLOOKUP(D100,'2020'!$A$16:$G$150,3,FALSE)","v":"Bregy Uli + Pascal"},{"$f":"VLOOKUP(D100,'2020'!$A$16:$G$150,2,FALSE)","v":"Murphy"},27,2,{"$f":"VLOOKUP(E100,'2020'!$A$16:$G$150,2,FALSE)","v":"Fantastic"},{"$f":"VLOOKUP(E100,'2020'!$A$16:$G$150,3,FALSE)","v":"Bayard Medard + Gustav"}]
["2020-09-09",{"$f":"VLOOKUP(D101,'2020'!$A$16:$G$150,3,FALSE)","v":"Bregy Ralf + Adolf"},{"$f":"VLOOKUP(D101,'2020'!$A$16:$G$150,2,FALSE)","v":"Diabolo"},10,104,{"$f":"VLOOKUP(E101,'2020'!$A$16:$G$150,2,FALSE)","v":"Xena"},{"$f":"VLOOKUP(E101,'2020'!$A$16:$G$150,3,FALSE)","v":"Wyssen Diego u. Madlen"}]
["2020-09-09",{"$f":"VLOOKUP(D102,'2020'!$A$16:$G$150,3,FALSE)","v":"Zumofen / Gattlen"},{"$f":"VLOOKUP(D102,'2020'!$A$16:$G$150,2,FALSE)","v":"Rambo"},106,60,{"$f":"VLOOKUP(E102,'2020'!$A$16:$G$150,2,FALSE)","v":"Bayonne"},{"$f":"VLOOKUP(E102,'2020'!$A$16:$G$150,3,FALSE)","v":"Jäger Carlo"}]
["2020-09-09",{"$f":"VLOOKUP(D103,'2020'!$A$16:$G$150,3,FALSE)","v":"Wyssen Diego u. Madlen"},{"$f":"VLOOKUP(D103,'2020'!$A$16:$G$150,2,FALSE)","v":"Xena"},104,106,{"$f":"VLOOKUP(E103,'2020'!$A$16:$G$150,2,FALSE)","v":"Rambo"},{"$f":"VLOOKUP(E103,'2020'!$A$16:$G$150,3,FALSE)","v":"Zumofen / Gattlen"}]
["2020-09-09",{"$f":"VLOOKUP(D104,'2020'!$A$16:$G$150,3,FALSE)","v":"Bregy Ralf + Adolf"},{"$f":"VLOOKUP(D104,'2020'!$A$16:$G$150,2,FALSE)","v":"Canabis"},14,23,{"$f":"VLOOKUP(E104,'2020'!$A$16:$G$150,2,FALSE)","v":"Pandora"},{"$f":"VLOOKUP(E104,'2020'!$A$16:$G$150,3,FALSE)","v":"Bregy Uli + Pascal"}]
["2020-09-09",{"$f":"VLOOKUP(D105,'2020'!$A$16:$G$150,3,FALSE)","v":"Bregy Uli + Pascal"},{"$f":"VLOOKUP(D105,'2020'!$A$16:$G$150,2,FALSE)","v":"Souki"},18,59,{"$f":"VLOOKUP(E105,'2020'!$A$16:$G$150,2,FALSE)","v":"Maila"},{"$f":"VLOOKUP(E105,'2020'!$A$16:$G$150,3,FALSE)","v":"Jäger Carlo"}]
["2020-09-09",{"$f":"VLOOKUP(D106,'2020'!$A$16:$G$150,3,FALSE)","v":"Stallung Passeraub"},{"$f":"VLOOKUP(D106,'2020'!$A$16:$G$150,2,FALSE)","v":"Ballerine"},78,113,{"$f":"VLOOKUP(E106,'2020'!$A$16:$G$150,2,FALSE)","v":"Vanda"},{"$f":"VLOOKUP(E106,'2020'!$A$16:$G$150,3,FALSE)","v":"Zumofen / Gattlen"}]
["2020-09-09",{"$f":"VLOOKUP(D107,'2020'!$A$16:$G$150,3,FALSE)","v":"Bregy Ralf + Adolf"},{"$f":"VLOOKUP(D107,'2020'!$A$16:$G$150,2,FALSE)","v":"Flacari"},9,19,{"$f":"VLOOKUP(E107,'2020'!$A$16:$G$150,2,FALSE)","v":"Tiranie"},{"$f":"VLOOKUP(E107,'2020'!$A$16:$G$150,3,FALSE)","v":"Bregy Uli + Pascal"}]
["2020-09-09",{"$f":"VLOOKUP(D108,'2020'!$A$16:$G$150,3,FALSE)","v":"Bregy Ralf + Adolf"},{"$f":"VLOOKUP(D108,'2020'!$A$16:$G$150,2,FALSE)","v":"Canabis"},14,80,{"$f":"VLOOKUP(E108,'2020'!$A$16:$G$150,2,FALSE)","v":"Manou"},{"$f":"VLOOKUP(E108,'2020'!$A$16:$G$150,3,FALSE)","v":"Stallung Passeraub "}]
["2020-09-09",{"$f":"VLOOKUP(D109,'2020'!$A$16:$G$150,3,FALSE)","v":"Bregy Uli + Pascal"},{"$f":"VLOOKUP(D109,'2020'!$A$16:$G$150,2,FALSE)","v":"Bora"},21,9,{"$f":"VLOOKUP(E109,'2020'!$A$16:$G$150,2,FALSE)","v":"Flacari"},{"$f":"VLOOKUP(E109,'2020'!$A$16:$G$150,3,FALSE)","v":"Bregy Ralf + Adolf"}]
["2020-09-09",{"$f":"VLOOKUP(D110,'2020'!$A$16:$G$150,3,FALSE)","v":"Bregy Ralf + Adolf"},{"$f":"VLOOKUP(D110,'2020'!$A$16:$G$150,2,FALSE)","v":"Creola"},8,104,{"$f":"VLOOKUP(E110,'2020'!$A$16:$G$150,2,FALSE)","v":"Xena"},{"$f":"VLOOKUP(E110,'2020'!$A$16:$G$150,3,FALSE)","v":"Wyssen Diego u. Madlen"}]
["2020-09-09",{"$f":"VLOOKUP(D111,'2020'!$A$16:$G$150,3,FALSE)","v":"Wyssen Diego u. Madlen"},{"$f":"VLOOKUP(D111,'2020'!$A$16:$G$150,2,FALSE)","v":"Xena"},104,59,{"$f":"VLOOKUP(E111,'2020'!$A$16:$G$150,2,FALSE)","v":"Maila"},{"$f":"VLOOKUP(E111,'2020'!$A$16:$G$150,3,FALSE)","v":"Jäger Carlo"}]
["2020-09-08",{"$f":"VLOOKUP(D112,'2020'!$A$16:$G$150,3,FALSE)","v":"Wyssen Diego u. Madlen"},{"$f":"VLOOKUP(D112,'2020'!$A$16:$G$150,2,FALSE)","v":"Xhyla"},105,10,{"$f":"VLOOKUP(E112,'2020'!$A$16:$G$150,2,FALSE)","v":"Diabolo"},{"$f":"VLOOKUP(E112,'2020'!$A$16:$G$150,3,FALSE)","v":"Bregy Ralf + Adolf"}]
["2020-09-08",{"$f":"VLOOKUP(D113,'2020'!$A$16:$G$150,3,FALSE)","v":"Zumofen / Gattlen"},{"$f":"VLOOKUP(D113,'2020'!$A$16:$G$150,2,FALSE)","v":"Rena"},109,65,{"$f":"VLOOKUP(E113,'2020'!$A$16:$G$150,2,FALSE)","v":"Megane"},{"$f":"VLOOKUP(E113,'2020'!$A$16:$G$150,3,FALSE)","v":"Jäger Carlo"}]
["2020-09-08",{"$f":"VLOOKUP(D114,'2020'!$A$16:$G$150,3,FALSE)","v":"Jäger Carlo"},{"$f":"VLOOKUP(D114,'2020'!$A$16:$G$150,2,FALSE)","v":"Bataille"},58,17,{"$f":"VLOOKUP(E114,'2020'!$A$16:$G$150,2,FALSE)","v":"Coquette"},{"$f":"VLOOKUP(E114,'2020'!$A$16:$G$150,3,FALSE)","v":"Bregy Ralf + Adolf"}]
["2020-09-08",{"$f":"VLOOKUP(D115,'2020'!$A$16:$G$150,3,FALSE)","v":"Gebr. Jäger"},{"$f":"VLOOKUP(D115,'2020'!$A$16:$G$150,2,FALSE)","v":"Lorens"},46,8,{"$f":"VLOOKUP(E115,'2020'!$A$16:$G$150,2,FALSE)","v":"Creola"},{"$f":"VLOOKUP(E115,'2020'!$A$16:$G$150,3,FALSE)","v":"Bregy Ralf + Adolf"}]
["2020-09-08",{"$f":"VLOOKUP(D116,'2020'!$A$16:$G$150,3,FALSE)","v":"Bregy Ralf + Adolf"},{"$f":"VLOOKUP(D116,'2020'!$A$16:$G$150,2,FALSE)","v":"Coquette"},17,58,{"$f":"VLOOKUP(E116,'2020'!$A$16:$G$150,2,FALSE)","v":"Bataille"},{"$f":"VLOOKUP(E116,'2020'!$A$16:$G$150,3,FALSE)","v":"Jäger Carlo"}]
["2020-09-08",{"$f":"VLOOKUP(D117,'2020'!$A$16:$G$150,3,FALSE)","v":"Zumofen / Gattlen"},{"$f":"VLOOKUP(D117,'2020'!$A$16:$G$150,2,FALSE)","v":"Violette"},108,3,{"$f":"VLOOKUP(E117,'2020'!$A$16:$G$150,2,FALSE)","v":"Priska"},{"$f":"VLOOKUP(E117,'2020'!$A$16:$G$150,3,FALSE)","v":"Bayard Medard + Gustav"}]
["2020-09-07",{"$f":"VLOOKUP(D118,'2020'!$A$16:$G$150,3,FALSE)","v":"Bayard Medard + Gustav"},{"$f":"VLOOKUP(D118,'2020'!$A$16:$G$150,2,FALSE)","v":"Vampir"},4,86,{"$f":"VLOOKUP(E118,'2020'!$A$16:$G$150,2,FALSE)","v":"Babylon"},{"$f":"VLOOKUP(E118,'2020'!$A$16:$G$150,3,FALSE)","v":"Stallung zum Stäg"}]
["2020-09-07",{"$f":"VLOOKUP(D119,'2020'!$A$16:$G$150,3,FALSE)","v":"Wyssen Diego u. Madlen"},{"$f":"VLOOKUP(D119,'2020'!$A$16:$G$150,2,FALSE)","v":"Xena"},104,29,{"$f":"VLOOKUP(E119,'2020'!$A$16:$G$150,2,FALSE)","v":"Rebell"},{"$f":"VLOOKUP(E119,'2020'!$A$16:$G$150,3,FALSE)","v":"Fam. Leiggener"}]
["2020-09-07",{"$f":"VLOOKUP(D120,'2020'!$A$16:$G$150,3,FALSE)","v":"Zumofen / Gattlen"},{"$f":"VLOOKUP(D120,'2020'!$A$16:$G$150,2,FALSE)","v":"Violin"},107,75,{"$f":"VLOOKUP(E120,'2020'!$A$16:$G$150,2,FALSE)","v":"Bonita"},{"$f":"VLOOKUP(E120,'2020'!$A$16:$G$150,3,FALSE)","v":"Mathieu Leander + S."}]
["2020-09-07",{"$f":"VLOOKUP(D121,'2020'!$A$16:$G$150,3,FALSE)","v":"Bayard Medard + Gustav"},{"$f":"VLOOKUP(D121,'2020'!$A$16:$G$150,2,FALSE)","v":"Vampir"},4,35,{"$f":"VLOOKUP(E121,'2020'!$A$16:$G$150,2,FALSE)","v":"Valaisanne"},{"$f":"VLOOKUP(E121,'2020'!$A$16:$G$150,3,FALSE)","v":"Fux W., J., + Wyer Piet"}]
["2020-09-07",{"$f":"VLOOKUP(D122,'2020'!$A$16:$G$150,3,FALSE)","v":"Bregy Ralf + Adolf"},{"$f":"VLOOKUP(D122,'2020'!$A$16:$G$150,2,FALSE)","v":"Canaille"},7,20,{"$f":"VLOOKUP(E122,'2020'!$A$16:$G$150,2,FALSE)","v":"Caline"},{"$f":"VLOOKUP(E122,'2020'!$A$16:$G$150,3,FALSE)","v":"Bregy Uli + Pascal"}]
["2020-09-07",{"$f":"VLOOKUP(D123,'2020'!$A$16:$G$150,3,FALSE)","v":"Jäger Carlo"},{"$f":"VLOOKUP(D123,'2020'!$A$16:$G$150,2,FALSE)","v":"Bayonne"},60,51,{"$f":"VLOOKUP(E123,'2020'!$A$16:$G$150,2,FALSE)","v":"Jamanda"},{"$f":"VLOOKUP(E123,'2020'!$A$16:$G$150,3,FALSE)","v":"Hischier H. + Bühlmann J."}]
["2020-09-07",{"$f":"VLOOKUP(D124,'2020'!$A$16:$G$150,3,FALSE)","v":"Bregy Ralf + Adolf"},{"$f":"VLOOKUP(D124,'2020'!$A$16:$G$150,2,FALSE)","v":"Canabis"},14,50,{"$f":"VLOOKUP(E124,'2020'!$A$16:$G$150,2,FALSE)","v":"Tanja"},{"$f":"VLOOKUP(E124,'2020'!$A$16:$G$150,3,FALSE)","v":"Gebr. Jäger"}]
["2020-09-07",{"$f":"VLOOKUP(D125,'2020'!$A$16:$G$150,3,FALSE)","v":"Jäger Carlo"},{"$f":"VLOOKUP(D125,'2020'!$A$16:$G$150,2,FALSE)","v":"Bayonne"},60,29,{"$f":"VLOOKUP(E125,'2020'!$A$16:$G$150,2,FALSE)","v":"Rebell"},{"$f":"VLOOKUP(E125,'2020'!$A$16:$G$150,3,FALSE)","v":"Fam. Leiggener"}]
["2020-09-07",{"$f":"VLOOKUP(D126,'2020'!$A$16:$G$150,3,FALSE)","v":"Zumofen / Gattlen"},{"$f":"VLOOKUP(D126,'2020'!$A$16:$G$150,2,FALSE)","v":"Violette"},108,48,{"$f":"VLOOKUP(E126,'2020'!$A$16:$G$150,2,FALSE)","v":"Simba"},{"$f":"VLOOKUP(E126,'2020'!$A$16:$G$150,3,FALSE)","v":"Gebr. Jäger"}]
["2020-09-07",{"$f":"VLOOKUP(D127,'2020'!$A$16:$G$150,3,FALSE)","v":"Williner Anton"},{"$f":"VLOOKUP(D127,'2020'!$A$16:$G$150,2,FALSE)","v":"Tira"},100,119,{"$f":"VLOOKUP(E127,'2020'!$A$16:$G$150,2,FALSE)","v":"Fayola"},{"$f":"VLOOKUP(E127,'2020'!$A$16:$G$150,3,FALSE)","v":"Zumofen / Gattlen"}]
["2020-09-06",{"$f":"VLOOKUP(D128,'2020'!$A$16:$G$150,3,FALSE)","v":"Bregy Uli + Pascal"},{"$f":"VLOOKUP(D128,'2020'!$A$16:$G$150,2,FALSE)","v":"Caline"},20,29,{"$f":"VLOOKUP(E128,'2020'!$A$16:$G$150,2,FALSE)","v":"Rebell"},{"$f":"VLOOKUP(E128,'2020'!$A$16:$G$150,3,FALSE)","v":"Fam. Leiggener"}]
["2020-09-06",{"$f":"VLOOKUP(D129,'2020'!$A$16:$G$150,3,FALSE)","v":"Fux W., J., + Wyer Piet"},{"$f":"VLOOKUP(D129,'2020'!$A$16:$G$150,2,FALSE)","v":"Toscana"},40,73,{"$f":"VLOOKUP(E129,'2020'!$A$16:$G$150,2,FALSE)","v":"Bavaria"},{"$f":"VLOOKUP(E129,'2020'!$A$16:$G$150,3,FALSE)","v":"Mathieu Leander + S."}]
["2020-09-06",{"$f":"VLOOKUP(D130,'2020'!$A$16:$G$150,3,FALSE)","v":"Stallung zum Stäg"},{"$f":"VLOOKUP(D130,'2020'!$A$16:$G$150,2,FALSE)","v":"Babylon"},86,68,{"$f":"VLOOKUP(E130,'2020'!$A$16:$G$150,2,FALSE)","v":"Pivoine"},{"$f":"VLOOKUP(E130,'2020'!$A$16:$G$150,3,FALSE)","v":"Jäger Carlo"}]
["2020-09-06",{"$f":"VLOOKUP(D131,'2020'!$A$16:$G$150,3,FALSE)","v":"Tscherry E. + B."},{"$f":"VLOOKUP(D131,'2020'!$A$16:$G$150,2,FALSE)","v":"Carolin"},93,26,{"$f":"VLOOKUP(E131,'2020'!$A$16:$G$150,2,FALSE)","v":"Cataleya"},{"$f":"VLOOKUP(E131,'2020'!$A$16:$G$150,3,FALSE)","v":"Bregy Uli + Pascal"}]
["2020-09-06",{"$f":"VLOOKUP(D132,'2020'!$A$16:$G$150,3,FALSE)","v":"Zumofen / Gattlen"},{"$f":"VLOOKUP(D132,'2020'!$A$16:$G$150,2,FALSE)","v":"Rigolo"},117,32,{"$f":"VLOOKUP(E132,'2020'!$A$16:$G$150,2,FALSE)","v":"Mira"},{"$f":"VLOOKUP(E132,'2020'!$A$16:$G$150,3,FALSE)","v":"Fam. Leiggener"}]
["2020-09-05",{"$f":"VLOOKUP(D133,'2020'!$A$16:$G$150,3,FALSE)","v":"Stallung Passeraub"},{"$f":"VLOOKUP(D133,'2020'!$A$16:$G$150,2,FALSE)","v":"Ballerine"},78,10,{"$f":"VLOOKUP(E133,'2020'!$A$16:$G$150,2,FALSE)","v":"Diabolo"},{"$f":"VLOOKUP(E133,'2020'!$A$16:$G$150,3,FALSE)","v":"Bregy Ralf + Adolf"}]
["2020-09-05",{"$f":"VLOOKUP(D134,'2020'!$A$16:$G$150,3,FALSE)","v":"Bregy Uli + Pascal"},{"$f":"VLOOKUP(D134,'2020'!$A$16:$G$150,2,FALSE)","v":"Souki"},18,59,{"$f":"VLOOKUP(E134,'2020'!$A$16:$G$150,2,FALSE)","v":"Maila"},{"$f":"VLOOKUP(E134,'2020'!$A$16:$G$150,3,FALSE)","v":"Jäger Carlo"}]
["2020-09-05",{"$f":"VLOOKUP(D135,'2020'!$A$16:$G$150,3,FALSE)","v":"Fux W., J., + Wyer Piet"},{"$f":"VLOOKUP(D135,'2020'!$A$16:$G$150,2,FALSE)","v":"Bacardi"},39,96,{"$f":"VLOOKUP(E135,'2020'!$A$16:$G$150,2,FALSE)","v":"Tigra"},{"$f":"VLOOKUP(E135,'2020'!$A$16:$G$150,3,FALSE)","v":"Williner Anton"}]
["2020-09-05",{"$f":"VLOOKUP(D136,'2020'!$A$16:$G$150,3,FALSE)","v":"Bregy Ralf + Adolf"},{"$f":"VLOOKUP(D136,'2020'!$A$16:$G$150,2,FALSE)","v":"Canaille"},7,110,{"$f":"VLOOKUP(E136,'2020'!$A$16:$G$150,2,FALSE)","v":"Xena"},{"$f":"VLOOKUP(E136,'2020'!$A$16:$G$150,3,FALSE)","v":"Zumofen / Gattlen"}]
["2020-09-05",{"$f":"VLOOKUP(D137,'2020'!$A$16:$G$150,3,FALSE)","v":"Williner Anton"},{"$f":"VLOOKUP(D137,'2020'!$A$16:$G$150,2,FALSE)","v":"Tigra"},96,47,{"$f":"VLOOKUP(E137,'2020'!$A$16:$G$150,2,FALSE)","v":"Tiara"},{"$f":"VLOOKUP(E137,'2020'!$A$16:$G$150,3,FALSE)","v":"Gebr. Jäger"}]
["2020-09-05",{"$f":"VLOOKUP(D138,'2020'!$A$16:$G$150,3,FALSE)","v":"Zumofen / Gattlen"},{"$f":"VLOOKUP(D138,'2020'!$A$16:$G$150,2,FALSE)","v":"Rigolo"},117,19,{"$f":"VLOOKUP(E138,'2020'!$A$16:$G$150,2,FALSE)","v":"Tiranie"},{"$f":"VLOOKUP(E138,'2020'!$A$16:$G$150,3,FALSE)","v":"Bregy Uli + Pascal"}]
["2020-09-05",{"$f":"VLOOKUP(D139,'2020'!$A$16:$G$150,3,FALSE)","v":"Bregy Ralf + Adolf"},{"$f":"VLOOKUP(D139,'2020'!$A$16:$G$150,2,FALSE)","v":"Canaille"},7,18,{"$f":"VLOOKUP(E139,'2020'!$A$16:$G$150,2,FALSE)","v":"Souki"},{"$f":"VLOOKUP(E139,'2020'!$A$16:$G$150,3,FALSE)","v":"Bregy Uli + Pascal"}]
["2020-09-05",{"$f":"VLOOKUP(D140,'2020'!$A$16:$G$150,3,FALSE)","v":"Bregy Ralf + Adolf"},{"$f":"VLOOKUP(D140,'2020'!$A$16:$G$150,2,FALSE)","v":"Diabolo"},10,18,{"$f":"VLOOKUP(E140,'2020'!$A$16:$G$150,2,FALSE)","v":"Souki"},{"$f":"VLOOKUP(E140,'2020'!$A$16:$G$150,3,FALSE)","v":"Bregy Uli + Pascal"}]
["2020-09-05",{"$f":"VLOOKUP(D141,'2020'!$A$16:$G$150,3,FALSE)","v":"Stallung Passeraub "},{"$f":"VLOOKUP(D141,'2020'!$A$16:$G$150,2,FALSE)","v":"Manou"},80,117,{"$f":"VLOOKUP(E141,'2020'!$A$16:$G$150,2,FALSE)","v":"Rigolo"},{"$f":"VLOOKUP(E141,'2020'!$A$16:$G$150,3,FALSE)","v":"Zumofen / Gattlen"}]
["2020-09-05",{"$f":"VLOOKUP(D142,'2020'!$A$16:$G$150,3,FALSE)","v":"Zumofen / Gattlen"},{"$f":"VLOOKUP(D142,'2020'!$A$16:$G$150,2,FALSE)","v":"Rambo"},106,29,{"$f":"VLOOKUP(E142,'2020'!$A$16:$G$150,2,FALSE)","v":"Rebell"},{"$f":"VLOOKUP(E142,'2020'!$A$16:$G$150,3,FALSE)","v":"Fam. Leiggener"}]
["2020-09-05",{"$f":"VLOOKUP(D143,'2020'!$A$16:$G$150,3,FALSE)","v":"Zumofen / Gattlen"},{"$f":"VLOOKUP(D143,'2020'!$A$16:$G$150,2,FALSE)","v":"Riva "},112,29,{"$f":"VLOOKUP(E143,'2020'!$A$16:$G$150,2,FALSE)","v":"Rebell"},{"$f":"VLOOKUP(E143,'2020'!$A$16:$G$150,3,FALSE)","v":"Fam. Leiggener"}]
["2020-09-05",{"$f":"VLOOKUP(D144,'2020'!$A$16:$G$150,3,FALSE)","v":"Zumofen / Gattlen"},{"$f":"VLOOKUP(D144,'2020'!$A$16:$G$150,2,FALSE)","v":"Rambo"},106,96,{"$f":"VLOOKUP(E144,'2020'!$A$16:$G$150,2,FALSE)","v":"Tigra"},{"$f":"VLOOKUP(E144,'2020'!$A$16:$G$150,3,FALSE)","v":"Williner Anton"}]
["2020-09-05",{"$f":"VLOOKUP(D145,'2020'!$A$16:$G$150,3,FALSE)","v":"Bregy Uli + Pascal"},{"$f":"VLOOKUP(D145,'2020'!$A$16:$G$150,2,FALSE)","v":"Murphy"},27,26,{"$f":"VLOOKUP(E145,'2020'!$A$16:$G$150,2,FALSE)","v":"Cataleya"},{"$f":"VLOOKUP(E145,'2020'!$A$16:$G$150,3,FALSE)","v":"Bregy Uli + Pascal"}]
["2020-09-05",{"$f":"VLOOKUP(D146,'2020'!$A$16:$G$150,3,FALSE)","v":"Fux W., J., + Wyer Piet"},{"$f":"VLOOKUP(D146,'2020'!$A$16:$G$150,2,FALSE)","v":"Mystic"},41,109,{"$f":"VLOOKUP(E146,'2020'!$A$16:$G$150,2,FALSE)","v":"Rena"},{"$f":"VLOOKUP(E146,'2020'!$A$16:$G$150,3,FALSE)","v":"Zumofen / Gattlen"}]
["2020-09-05",{"$f":"VLOOKUP(D147,'2020'!$A$16:$G$150,3,FALSE)","v":"Fux W., J., + Wyer Piet"},{"$f":"VLOOKUP(D147,'2020'!$A$16:$G$150,2,FALSE)","v":"Mystic"},41,33,{"$f":"VLOOKUP(E147,'2020'!$A$16:$G$150,2,FALSE)","v":"Baquera"},{"$f":"VLOOKUP(E147,'2020'!$A$16:$G$150,3,FALSE)","v":"Fux W., J., + Wyer Piet"}]
["2020-09-05",{"$f":"VLOOKUP(D148,'2020'!$A$16:$G$150,3,FALSE)","v":"Stallung Passeraub"},{"$f":"VLOOKUP(D148,'2020'!$A$16:$G$150,2,FALSE)","v":"Beres"},77,32,{"$f":"VLOOKUP(E148,'2020'!$A$16:$G$150,2,FALSE)","v":"Mira"},{"$f":"VLOOKUP(E148,'2020'!$A$16:$G$150,3,FALSE)","v":"Fam. Leiggener"}]
["2020-09-05",{"$f":"VLOOKUP(D149,'2020'!$A$16:$G$150,3,FALSE)","v":"Zumofen / Gattlen"},{"$f":"VLOOKUP(D149,'2020'!$A$16:$G$150,2,FALSE)","v":"Rambo"},106,81,{"$f":"VLOOKUP(E149,'2020'!$A$16:$G$150,2,FALSE)","v":"Medusa"},{"$f":"VLOOKUP(E149,'2020'!$A$16:$G$150,3,FALSE)","v":"Stallung Passeraub "}]
["2020-09-05",{"$f":"VLOOKUP(D150,'2020'!$A$16:$G$150,3,FALSE)","v":"Jäger Carlo"},{"$f":"VLOOKUP(D150,'2020'!$A$16:$G$150,2,FALSE)","v":"Maila"},59,53,{"$f":"VLOOKUP(E150,'2020'!$A$16:$G$150,2,FALSE)","v":"Safira"},{"$f":"VLOOKUP(E150,'2020'!$A$16:$G$150,3,FALSE)","v":"Hischier Pius"}]
["2020-09-05",{"$f":"VLOOKUP(D151,'2020'!$A$16:$G$150,3,FALSE)","v":"Zumofen / Gattlen"},{"$f":"VLOOKUP(D151,'2020'!$A$16:$G$150,2,FALSE)","v":"Vanda"},113,40,{"$f":"VLOOKUP(E151,'2020'!$A$16:$G$150,2,FALSE)","v":"Toscana"},{"$f":"VLOOKUP(E151,'2020'!$A$16:$G$150,3,FALSE)","v":"Fux W., J., + Wyer Piet"}]
["2020-09-05",{"$f":"VLOOKUP(D152,'2020'!$A$16:$G$150,3,FALSE)","v":"Fux W., J., + Wyer Piet"},{"$f":"VLOOKUP(D152,'2020'!$A$16:$G$150,2,FALSE)","v":"Toscana"},40,108,{"$f":"VLOOKUP(E152,'2020'!$A$16:$G$150,2,FALSE)","v":"Violette"},{"$f":"VLOOKUP(E152,'2020'!$A$16:$G$150,3,FALSE)","v":"Zumofen / Gattlen"}]
["2020-09-05",{"$f":"VLOOKUP(D153,'2020'!$A$16:$G$150,3,FALSE)","v":"Fux W., J., + Wyer Piet"},{"$f":"VLOOKUP(D153,'2020'!$A$16:$G$150,2,FALSE)","v":"Toscana"},40,17,{"$f":"VLOOKUP(E153,'2020'!$A$16:$G$150,2,FALSE)","v":"Coquette"},{"$f":"VLOOKUP(E153,'2020'!$A$16:$G$150,3,FALSE)","v":"Bregy Ralf + Adolf"}]
["2020-09-05",{"$f":"VLOOKUP(D154,'2020'!$A$16:$G$150,3,FALSE)","v":"Bregy Ralf + Adolf"},{"$f":"VLOOKUP(D154,'2020'!$A$16:$G$150,2,FALSE)","v":"Canaille"},7,106,{"$f":"VLOOKUP(E154,'2020'!$A$16:$G$150,2,FALSE)","v":"Rambo"},{"$f":"VLOOKUP(E154,'2020'!$A$16:$G$150,3,FALSE)","v":"Zumofen / Gattlen"}]
["2020-09-05",{"$f":"VLOOKUP(D155,'2020'!$A$16:$G$150,3,FALSE)","v":"Stallung Passeraub"},{"$f":"VLOOKUP(D155,'2020'!$A$16:$G$150,2,FALSE)","v":"Ballerine"},78,10,{"$f":"VLOOKUP(E155,'2020'!$A$16:$G$150,2,FALSE)","v":"Diabolo"},{"$f":"VLOOKUP(E155,'2020'!$A$16:$G$150,3,FALSE)","v":"Bregy Ralf + Adolf"}]
["2020-09-05",{"$f":"VLOOKUP(D156,'2020'!$A$16:$G$150,3,FALSE)","v":"Bregy Uli + Pascal"},{"$f":"VLOOKUP(D156,'2020'!$A$16:$G$150,2,FALSE)","v":"Caline"},20,7,{"$f":"VLOOKUP(E156,'2020'!$A$16:$G$150,2,FALSE)","v":"Canaille"},{"$f":"VLOOKUP(E156,'2020'!$A$16:$G$150,3,FALSE)","v":"Bregy Ralf + Adolf"}]
["2020-09-05",{"$f":"VLOOKUP(D157,'2020'!$A$16:$G$150,3,FALSE)","v":"Bregy Ralf + Adolf"},{"$f":"VLOOKUP(D157,'2020'!$A$16:$G$150,2,FALSE)","v":"Canabis"},14,91,{"$f":"VLOOKUP(E157,'2020'!$A$16:$G$150,2,FALSE)","v":"Bolera"},{"$f":"VLOOKUP(E157,'2020'!$A$16:$G$150,3,FALSE)","v":"Sewer R. + Thommen S."}]
["2020-09-05",{"$f":"VLOOKUP(D158,'2020'!$A$16:$G$150,3,FALSE)","v":"Zumofen / Gattlen"},{"$f":"VLOOKUP(D158,'2020'!$A$16:$G$150,2,FALSE)","v":"Rambo"},106,35,{"$f":"VLOOKUP(E158,'2020'!$A$16:$G$150,2,FALSE)","v":"Valaisanne"},{"$f":"VLOOKUP(E158,'2020'!$A$16:$G$150,3,FALSE)","v":"Fux W., J., + Wyer Piet"}]
["2020-09-04",{"$f":"VLOOKUP(D159,'2020'!$A$16:$G$150,3,FALSE)","v":"Zumofen / Gattlen"},{"$f":"VLOOKUP(D159,'2020'!$A$16:$G$150,2,FALSE)","v":"Vanda"},113,78,{"$f":"VLOOKUP(E159,'2020'!$A$16:$G$150,2,FALSE)","v":"Ballerine"},{"$f":"VLOOKUP(E159,'2020'!$A$16:$G$150,3,FALSE)","v":"Stallung Passeraub"}]
["2020-09-04",{"$f":"VLOOKUP(D160,'2020'!$A$16:$G$150,3,FALSE)","v":"Stallung Passeraub"},{"$f":"VLOOKUP(D160,'2020'!$A$16:$G$150,2,FALSE)","v":"Ballerine"},78,88,{"$f":"VLOOKUP(E160,'2020'!$A$16:$G$150,2,FALSE)","v":"Malice"},{"$f":"VLOOKUP(E160,'2020'!$A$16:$G$150,3,FALSE)","v":"Sewer R. + Thommen S."}]
["2020-09-04",{"$f":"VLOOKUP(D161,'2020'!$A$16:$G$150,3,FALSE)","v":"Zumofen / Gattlen"},{"$f":"VLOOKUP(D161,'2020'!$A$16:$G$150,2,FALSE)","v":"Fayola"},119,95,{"$f":"VLOOKUP(E161,'2020'!$A$16:$G$150,2,FALSE)","v":"Vivana"},{"$f":"VLOOKUP(E161,'2020'!$A$16:$G$150,3,FALSE)","v":"Williner Anton"}]
["2020-09-03",{"$f":"VLOOKUP(D162,'2020'!$A$16:$G$150,3,FALSE)","v":"Zumofen / Gattlen"},{"$f":"VLOOKUP(D162,'2020'!$A$16:$G$150,2,FALSE)","v":"Violin"},107,89,{"$f":"VLOOKUP(E162,'2020'!$A$16:$G$150,2,FALSE)","v":"Tiara"},{"$f":"VLOOKUP(E162,'2020'!$A$16:$G$150,3,FALSE)","v":"Sewer R. + Thommen S."}]
["2020-09-03",{"$f":"VLOOKUP(D163,'2020'!$A$16:$G$150,3,FALSE)","v":"Sewer R. + Thommen S."},{"$f":"VLOOKUP(D163,'2020'!$A$16:$G$150,2,FALSE)","v":"Biscot"},90,2,{"$f":"VLOOKUP(E163,'2020'!$A$16:$G$150,2,FALSE)","v":"Fantastic"},{"$f":"VLOOKUP(E163,'2020'!$A$16:$G$150,3,FALSE)","v":"Bayard Medard + Gustav"}]
["2020-09-03",{"$f":"VLOOKUP(D164,'2020'!$A$16:$G$150,3,FALSE)","v":"Bayard Medard + Gustav"},{"$f":"VLOOKUP(D164,'2020'!$A$16:$G$150,2,FALSE)","v":"Pandera"},5,99,{"$f":"VLOOKUP(E164,'2020'!$A$16:$G$150,2,FALSE)","v":"Diva"},{"$f":"VLOOKUP(E164,'2020'!$A$16:$G$150,3,FALSE)","v":"Williner Anton"}]
["2020-09-03",{"$f":"VLOOKUP(D165,'2020'!$A$16:$G$150,3,FALSE)","v":"Williner Anton"},{"$f":"VLOOKUP(D165,'2020'!$A$16:$G$150,2,FALSE)","v":"Vivana"},95,10,{"$f":"VLOOKUP(E165,'2020'!$A$16:$G$150,2,FALSE)","v":"Diabolo"},{"$f":"VLOOKUP(E165,'2020'!$A$16:$G$150,3,FALSE)","v":"Bregy Ralf + Adolf"}]
["2020-09-03",{"$f":"VLOOKUP(D166,'2020'!$A$16:$G$150,3,FALSE)","v":"Jäger Carlo"},{"$f":"VLOOKUP(D166,'2020'!$A$16:$G$150,2,FALSE)","v":"Megane"},65,114,{"$f":"VLOOKUP(E166,'2020'!$A$16:$G$150,2,FALSE)","v":"Maya"},{"$f":"VLOOKUP(E166,'2020'!$A$16:$G$150,3,FALSE)","v":"Zumofen / Gattlen"}]
["2020-09-03",{"$f":"VLOOKUP(D167,'2020'!$A$16:$G$150,3,FALSE)","v":"Wyssen Diego u. Madlen"},{"$f":"VLOOKUP(D167,'2020'!$A$16:$G$150,2,FALSE)","v":"Xena"},104,99,{"$f":"VLOOKUP(E167,'2020'!$A$16:$G$150,2,FALSE)","v":"Diva"},{"$f":"VLOOKUP(E167,'2020'!$A$16:$G$150,3,FALSE)","v":"Williner Anton"}]
["2020-09-03",{"$f":"VLOOKUP(D168,'2020'!$A$16:$G$150,3,FALSE)","v":"Jäger Carlo"},{"$f":"VLOOKUP(D168,'2020'!$A$16:$G$150,2,FALSE)","v":"Maila"},59,14,{"$f":"VLOOKUP(E168,'2020'!$A$16:$G$150,2,FALSE)","v":"Canabis"},{"$f":"VLOOKUP(E168,'2020'!$A$16:$G$150,3,FALSE)","v":"Bregy Ralf + Adolf"}]
["2020-09-03",{"$f":"VLOOKUP(D169,'2020'!$A$16:$G$150,3,FALSE)","v":"Bregy Ralf + Adolf"},{"$f":"VLOOKUP(D169,'2020'!$A$16:$G$150,2,FALSE)","v":"Diabolo"},10,104,{"$f":"VLOOKUP(E169,'2020'!$A$16:$G$150,2,FALSE)","v":"Xena"},{"$f":"VLOOKUP(E169,'2020'!$A$16:$G$150,3,FALSE)","v":"Wyssen Diego u. Madlen"}]
["2020-09-03",{"$f":"VLOOKUP(D170,'2020'!$A$16:$G$150,3,FALSE)","v":"Wyssen Diego u. Madlen"},{"$f":"VLOOKUP(D170,'2020'!$A$16:$G$150,2,FALSE)","v":"Xhyla"},105,47,{"$f":"VLOOKUP(E170,'2020'!$A$16:$G$150,2,FALSE)","v":"Tiara"},{"$f":"VLOOKUP(E170,'2020'!$A$16:$G$150,3,FALSE)","v":"Gebr. Jäger"}]
["2020-09-03",{"$f":"VLOOKUP(D171,'2020'!$A$16:$G$150,3,FALSE)","v":"Zumofen / Gattlen"},{"$f":"VLOOKUP(D171,'2020'!$A$16:$G$150,2,FALSE)","v":"Pinoccio"},116,47,{"$f":"VLOOKUP(E171,'2020'!$A$16:$G$150,2,FALSE)","v":"Tiara"},{"$f":"VLOOKUP(E171,'2020'!$A$16:$G$150,3,FALSE)","v":"Gebr. Jäger"}]
["2020-09-03",{"$f":"VLOOKUP(D172,'2020'!$A$16:$G$150,3,FALSE)","v":"Gebr. Jäger"},{"$f":"VLOOKUP(D172,'2020'!$A$16:$G$150,2,FALSE)","v":"Tanja"},50,36,{"$f":"VLOOKUP(E172,'2020'!$A$16:$G$150,2,FALSE)","v":"Calmy"},{"$f":"VLOOKUP(E172,'2020'!$A$16:$G$150,3,FALSE)","v":"Fux W., J., + Wyer Piet"}]
["2020-09-02",{"$f":"VLOOKUP(D173,'2020'!$A$16:$G$150,3,FALSE)","v":"Jäger Carlo"},{"$f":"VLOOKUP(D173,'2020'!$A$16:$G$150,2,FALSE)","v":"Sera"},64,12,{"$f":"VLOOKUP(E173,'2020'!$A$16:$G$150,2,FALSE)","v":"Milow"},{"$f":"VLOOKUP(E173,'2020'!$A$16:$G$150,3,FALSE)","v":"Bregy Silvan + Patrick"}]
["2020-09-02",{"$f":"VLOOKUP(D174,'2020'!$A$16:$G$150,3,FALSE)","v":"Hischier Pius"},{"$f":"VLOOKUP(D174,'2020'!$A$16:$G$150,2,FALSE)","v":"Shakira"},56,66,{"$f":"VLOOKUP(E174,'2020'!$A$16:$G$150,2,FALSE)","v":"Metis"},{"$f":"VLOOKUP(E174,'2020'!$A$16:$G$150,3,FALSE)","v":"Jäger Carlo"}]
["2020-09-02",{"$f":"VLOOKUP(D175,'2020'!$A$16:$G$150,3,FALSE)","v":"Tscherry E. + B."},{"$f":"VLOOKUP(D175,'2020'!$A$16:$G$150,2,FALSE)","v":"Carolin"},93,56,{"$f":"VLOOKUP(E175,'2020'!$A$16:$G$150,2,FALSE)","v":"Shakira"},{"$f":"VLOOKUP(E175,'2020'!$A$16:$G$150,3,FALSE)","v":"Hischier Pius"}]
["2020-09-02",{"$f":"VLOOKUP(D176,'2020'!$A$16:$G$150,3,FALSE)","v":"Jäger Carlo"},{"$f":"VLOOKUP(D176,'2020'!$A$16:$G$150,2,FALSE)","v":"Metis"},66,56,{"$f":"VLOOKUP(E176,'2020'!$A$16:$G$150,2,FALSE)","v":"Shakira"},{"$f":"VLOOKUP(E176,'2020'!$A$16:$G$150,3,FALSE)","v":"Hischier Pius"}]
["2020-09-01",{"$f":"VLOOKUP(D177,'2020'!$A$16:$G$150,3,FALSE)","v":"Bregy Ralf + Adolf"},{"$f":"VLOOKUP(D177,'2020'!$A$16:$G$150,2,FALSE)","v":"Coquette"},17,93,{"$f":"VLOOKUP(E177,'2020'!$A$16:$G$150,2,FALSE)","v":"Carolin"},{"$f":"VLOOKUP(E177,'2020'!$A$16:$G$150,3,FALSE)","v":"Tscherry E. + B."}]
["2020-09-01",{"$f":"VLOOKUP(D178,'2020'!$A$16:$G$150,3,FALSE)","v":"Zumofen / Gattlen"},{"$f":"VLOOKUP(D178,'2020'!$A$16:$G$150,2,FALSE)","v":"Violette"},108,78,{"$f":"VLOOKUP(E178,'2020'!$A$16:$G$150,2,FALSE)","v":"Ballerine"},{"$f":"VLOOKUP(E178,'2020'!$A$16:$G$150,3,FALSE)","v":"Stallung Passeraub"}]
["2020-09-01",{"$f":"VLOOKUP(D179,'2020'!$A$16:$G$150,3,FALSE)","v":"Stallung Passeraub "},{"$f":"VLOOKUP(D179,'2020'!$A$16:$G$150,2,FALSE)","v":"Manou"},80,89,{"$f":"VLOOKUP(E179,'2020'!$A$16:$G$150,2,FALSE)","v":"Tiara"},{"$f":"VLOOKUP(E179,'2020'!$A$16:$G$150,3,FALSE)","v":"Sewer R. + Thommen S."}]
["2020-09-01",{"$f":"VLOOKUP(D180,'2020'!$A$16:$G$150,3,FALSE)","v":"Zumofen / Gattlen"},{"$f":"VLOOKUP(D180,'2020'!$A$16:$G$150,2,FALSE)","v":"Rena"},109,67,{"$f":"VLOOKUP(E180,'2020'!$A$16:$G$150,2,FALSE)","v":"Micabol"},{"$f":"VLOOKUP(E180,'2020'!$A$16:$G$150,3,FALSE)","v":"Jäger Carlo"}]
["2020-09-01",{"$f":"VLOOKUP(D181,'2020'!$A$16:$G$150,3,FALSE)","v":"Bregy Ralf + Adolf"},{"$f":"VLOOKUP(D181,'2020'!$A$16:$G$150,2,FALSE)","v":"Creola"},8,119,{"$f":"VLOOKUP(E181,'2020'!$A$16:$G$150,2,FALSE)","v":"Fayola"},{"$f":"VLOOKUP(E181,'2020'!$A$16:$G$150,3,FALSE)","v":"Zumofen / Gattlen"}]
["2020-08-31",{"$f":"VLOOKUP(D182,'2020'!$A$16:$G$150,3,FALSE)","v":"Zumofen / Gattlen"},{"$f":"VLOOKUP(D182,'2020'!$A$16:$G$150,2,FALSE)","v":"Vanda"},113,11,{"$f":"VLOOKUP(E182,'2020'!$A$16:$G$150,2,FALSE)","v":"Carcas"},{"$f":"VLOOKUP(E182,'2020'!$A$16:$G$150,3,FALSE)","v":"Bregy Ralf + Adolf"}]
["2020-08-31",{"$f":"VLOOKUP(D183,'2020'!$A$16:$G$150,3,FALSE)","v":"Zumofen / Gattlen"},{"$f":"VLOOKUP(D183,'2020'!$A$16:$G$150,2,FALSE)","v":"Vanda"},113,104,{"$f":"VLOOKUP(E183,'2020'!$A$16:$G$150,2,FALSE)","v":"Xena"},{"$f":"VLOOKUP(E183,'2020'!$A$16:$G$150,3,FALSE)","v":"Wyssen Diego u. Madlen"}]
["2020-08-31",{"$f":"VLOOKUP(D184,'2020'!$A$16:$G$150,3,FALSE)","v":"Jäger Carlo"},{"$f":"VLOOKUP(D184,'2020'!$A$16:$G$150,2,FALSE)","v":"Tokio"},70,85,{"$f":"VLOOKUP(E184,'2020'!$A$16:$G$150,2,FALSE)","v":"Bobino"},{"$f":"VLOOKUP(E184,'2020'!$A$16:$G$150,3,FALSE)","v":"Stallung Passeraub"}]
["2020-08-31",{"$f":"VLOOKUP(D185,'2020'!$A$16:$G$150,3,FALSE)","v":"Jäger Carlo"},{"$f":"VLOOKUP(D185,'2020'!$A$16:$G$150,2,FALSE)","v":"Sera"},64,107,{"$f":"VLOOKUP(E185,'2020'!$A$16:$G$150,2,FALSE)","v":"Violin"},{"$f":"VLOOKUP(E185,'2020'!$A$16:$G$150,3,FALSE)","v":"Zumofen / Gattlen"}]
["2020-08-31",{"$f":"VLOOKUP(D186,'2020'!$A$16:$G$150,3,FALSE)","v":"Williner Anton"},{"$f":"VLOOKUP(D186,'2020'!$A$16:$G$150,2,FALSE)","v":"Colonell"},98,14,{"$f":"VLOOKUP(E186,'2020'!$A$16:$G$150,2,FALSE)","v":"Canabis"},{"$f":"VLOOKUP(E186,'2020'!$A$16:$G$150,3,FALSE)","v":"Bregy Ralf + Adolf"}]
["2020-08-31",{"$f":"VLOOKUP(D187,'2020'!$A$16:$G$150,3,FALSE)","v":"Jäger Carlo"},{"$f":"VLOOKUP(D187,'2020'!$A$16:$G$150,2,FALSE)","v":"Sera"},64,13,{"$f":"VLOOKUP(E187,'2020'!$A$16:$G$150,2,FALSE)","v":"Tequilla"},{"$f":"VLOOKUP(E187,'2020'!$A$16:$G$150,3,FALSE)","v":"Bregy Silvan + Patrick"}]
["2020-08-29",{"$f":"VLOOKUP(D188,'2020'!$A$16:$G$150,3,FALSE)","v":"Stallung Passeraub"},{"$f":"VLOOKUP(D188,'2020'!$A$16:$G$150,2,FALSE)","v":"Ballerine"},78,115,{"$f":"VLOOKUP(E188,'2020'!$A$16:$G$150,2,FALSE)","v":"Pepitta"},{"$f":"VLOOKUP(E188,'2020'!$A$16:$G$150,3,FALSE)","v":"Zumofen / Gattlen"}]
["2020-08-29",{"$f":"VLOOKUP(D189,'2020'!$A$16:$G$150,3,FALSE)","v":"Stallung Passeraub"},{"$f":"VLOOKUP(D189,'2020'!$A$16:$G$150,2,FALSE)","v":"Ballerine"},78,111,{"$f":"VLOOKUP(E189,'2020'!$A$16:$G$150,2,FALSE)","v":"Vidona"},{"$f":"VLOOKUP(E189,'2020'!$A$16:$G$150,3,FALSE)","v":"Zumofen / Gattlen"}]
["2020-08-29",{"$f":"VLOOKUP(D190,'2020'!$A$16:$G$150,3,FALSE)","v":"Tscherry E. + B."},{"$f":"VLOOKUP(D190,'2020'!$A$16:$G$150,2,FALSE)","v":"Cobra"},94,25,{"$f":"VLOOKUP(E190,'2020'!$A$16:$G$150,2,FALSE)","v":"Calette"},{"$f":"VLOOKUP(E190,'2020'!$A$16:$G$150,3,FALSE)","v":"Bregy Uli + Pascal"}]
["2020-08-28",{"$f":"VLOOKUP(D191,'2020'!$A$16:$G$150,3,FALSE)","v":"Stallung Passeraub"},{"$f":"VLOOKUP(D191,'2020'!$A$16:$G$150,2,FALSE)","v":"Ballerine"},78,108,{"$f":"VLOOKUP(E191,'2020'!$A$16:$G$150,2,FALSE)","v":"Violette"},{"$f":"VLOOKUP(E191,'2020'!$A$16:$G$150,3,FALSE)","v":"Zumofen / Gattlen"}]
["2020-08-28",{"$f":"VLOOKUP(D192,'2020'!$A$16:$G$150,3,FALSE)","v":"Bayard Medard + Gustav"},{"$f":"VLOOKUP(D192,'2020'!$A$16:$G$150,2,FALSE)","v":"Pandera"},5,47,{"$f":"VLOOKUP(E192,'2020'!$A$16:$G$150,2,FALSE)","v":"Tiara"},{"$f":"VLOOKUP(E192,'2020'!$A$16:$G$150,3,FALSE)","v":"Gebr. Jäger"}]
["2020-08-28",{"$f":"VLOOKUP(D193,'2020'!$A$16:$G$150,3,FALSE)","v":"Gebr. Jäger"},{"$f":"VLOOKUP(D193,'2020'!$A$16:$G$150,2,FALSE)","v":"Lorens"},46,20,{"$f":"VLOOKUP(E193,'2020'!$A$16:$G$150,2,FALSE)","v":"Caline"},{"$f":"VLOOKUP(E193,'2020'!$A$16:$G$150,3,FALSE)","v":"Bregy Uli + Pascal"}]
["2020-08-28",{"$f":"VLOOKUP(D194,'2020'!$A$16:$G$150,3,FALSE)","v":"Zumofen / Gattlen"},{"$f":"VLOOKUP(D194,'2020'!$A$16:$G$150,2,FALSE)","v":"Riva "},112,13,{"$f":"VLOOKUP(E194,'2020'!$A$16:$G$150,2,FALSE)","v":"Tequilla"},{"$f":"VLOOKUP(E194,'2020'!$A$16:$G$150,3,FALSE)","v":"Bregy Silvan + Patrick"}]
["2020-08-28",{"$f":"VLOOKUP(D195,'2020'!$A$16:$G$150,3,FALSE)","v":"Williner Anton"},{"$f":"VLOOKUP(D195,'2020'!$A$16:$G$150,2,FALSE)","v":"Vivana"},95,109,{"$f":"VLOOKUP(E195,'2020'!$A$16:$G$150,2,FALSE)","v":"Rena"},{"$f":"VLOOKUP(E195,'2020'!$A$16:$G$150,3,FALSE)","v":"Zumofen / Gattlen"}]
["2020-08-28",{"$f":"VLOOKUP(D196,'2020'!$A$16:$G$150,3,FALSE)","v":"Bayard Medard + Gustav"},{"$f":"VLOOKUP(D196,'2020'!$A$16:$G$150,2,FALSE)","v":"Venus"},6,67,{"$f":"VLOOKUP(E196,'2020'!$A$16:$G$150,2,FALSE)","v":"Micabol"},{"$f":"VLOOKUP(E196,'2020'!$A$16:$G$150,3,FALSE)","v":"Jäger Carlo"}]
["2020-08-28",{"$f":"VLOOKUP(D197,'2020'!$A$16:$G$150,3,FALSE)","v":"Bregy Ralf + Adolf"},{"$f":"VLOOKUP(D197,'2020'!$A$16:$G$150,2,FALSE)","v":"Carcas"},11,25,{"$f":"VLOOKUP(E197,'2020'!$A$16:$G$150,2,FALSE)","v":"Calette"},{"$f":"VLOOKUP(E197,'2020'!$A$16:$G$150,3,FALSE)","v":"Bregy Uli + Pascal"}]
["2020-08-27",{"$f":"VLOOKUP(D198,'2020'!$A$16:$G$150,3,FALSE)","v":"Stallung Passeraub "},{"$f":"VLOOKUP(D198,'2020'!$A$16:$G$150,2,FALSE)","v":"Manou"},80,2,{"$f":"VLOOKUP(E198,'2020'!$A$16:$G$150,2,FALSE)","v":"Fantastic"},{"$f":"VLOOKUP(E198,'2020'!$A$16:$G$150,3,FALSE)","v":"Bayard Medard + Gustav"}]
["2020-08-27",{"$f":"VLOOKUP(D199,'2020'!$A$16:$G$150,3,FALSE)","v":"Zumofen / Gattlen"},{"$f":"VLOOKUP(D199,'2020'!$A$16:$G$150,2,FALSE)","v":"Fayola"},119,95,{"$f":"VLOOKUP(E199,'2020'!$A$16:$G$150,2,FALSE)","v":"Vivana"},{"$f":"VLOOKUP(E199,'2020'!$A$16:$G$150,3,FALSE)","v":"Williner Anton"}]
["2020-08-27",{"$f":"VLOOKUP(D200,'2020'!$A$16:$G$150,3,FALSE)","v":"Stallung Passeraub "},{"$f":"VLOOKUP(D200,'2020'!$A$16:$G$150,2,FALSE)","v":"Bonita"},82,5,{"$f":"VLOOKUP(E200,'2020'!$A$16:$G$150,2,FALSE)","v":"Pandera"},{"$f":"VLOOKUP(E200,'2020'!$A$16:$G$150,3,FALSE)","v":"Bayard Medard + Gustav"}]
["2020-08-26",{"$f":"VLOOKUP(D201,'2020'!$A$16:$G$150,3,FALSE)","v":"Tscherry E. + B."},{"$f":"VLOOKUP(D201,'2020'!$A$16:$G$150,2,FALSE)","v":"Carolin"},93,62,{"$f":"VLOOKUP(E201,'2020'!$A$16:$G$150,2,FALSE)","v":"Candice"},{"$f":"VLOOKUP(E201,'2020'!$A$16:$G$150,3,FALSE)","v":"Jäger Carlo"}]
["2020-08-26",{"$f":"VLOOKUP(D202,'2020'!$A$16:$G$150,3,FALSE)","v":"Zumofen / Gattlen"},{"$f":"VLOOKUP(D202,'2020'!$A$16:$G$150,2,FALSE)","v":"Vanda"},113,11,{"$f":"VLOOKUP(E202,'2020'!$A$16:$G$150,2,FALSE)","v":"Carcas"},{"$f":"VLOOKUP(E202,'2020'!$A$16:$G$150,3,FALSE)","v":"Bregy Ralf + Adolf"}]
["2020-08-26",{"$f":"VLOOKUP(D203,'2020'!$A$16:$G$150,3,FALSE)","v":"Gebr. Jäger"},{"$f":"VLOOKUP(D203,'2020'!$A$16:$G$150,2,FALSE)","v":"Simba"},48,117,{"$f":"VLOOKUP(E203,'2020'!$A$16:$G$150,2,FALSE)","v":"Rigolo"},{"$f":"VLOOKUP(E203,'2020'!$A$16:$G$150,3,FALSE)","v":"Zumofen / Gattlen"}]
["2020-08-26",{"$f":"VLOOKUP(D204,'2020'!$A$16:$G$150,3,FALSE)","v":"Sewer R. + Thommen S."},{"$f":"VLOOKUP(D204,'2020'!$A$16:$G$150,2,FALSE)","v":"Biscot"},90,53,{"$f":"VLOOKUP(E204,'2020'!$A$16:$G$150,2,FALSE)","v":"Safira"},{"$f":"VLOOKUP(E204,'2020'!$A$16:$G$150,3,FALSE)","v":"Hischier Pius"}]
["2020-08-26",{"$f":"VLOOKUP(D205,'2020'!$A$16:$G$150,3,FALSE)","v":"Sewer R. + Thommen S."},{"$f":"VLOOKUP(D205,'2020'!$A$16:$G$150,2,FALSE)","v":"Malice"},88,35,{"$f":"VLOOKUP(E205,'2020'!$A$16:$G$150,2,FALSE)","v":"Valaisanne"},{"$f":"VLOOKUP(E205,'2020'!$A$16:$G$150,3,FALSE)","v":"Fux W., J., + Wyer Piet"}]
["2020-08-25",{"$f":"VLOOKUP(D206,'2020'!$A$16:$G$150,3,FALSE)","v":"Bayard Medard + Gustav"},{"$f":"VLOOKUP(D206,'2020'!$A$16:$G$150,2,FALSE)","v":"Priska"},3,58,{"$f":"VLOOKUP(E206,'2020'!$A$16:$G$150,2,FALSE)","v":"Bataille"},{"$f":"VLOOKUP(E206,'2020'!$A$16:$G$150,3,FALSE)","v":"Jäger Carlo"}]
["2020-08-25",{"$f":"VLOOKUP(D207,'2020'!$A$16:$G$150,3,FALSE)","v":"Zumofen / Gattlen"},{"$f":"VLOOKUP(D207,'2020'!$A$16:$G$150,2,FALSE)","v":"Rigolo"},117,23,{"$f":"VLOOKUP(E207,'2020'!$A$16:$G$150,2,FALSE)","v":"Pandora"},{"$f":"VLOOKUP(E207,'2020'!$A$16:$G$150,3,FALSE)","v":"Bregy Uli + Pascal"}]
["2020-08-25",{"$f":"VLOOKUP(D208,'2020'!$A$16:$G$150,3,FALSE)","v":"Bayard Medard + Gustav"},{"$f":"VLOOKUP(D208,'2020'!$A$16:$G$150,2,FALSE)","v":"Priska"},3,22,{"$f":"VLOOKUP(E208,'2020'!$A$16:$G$150,2,FALSE)","v":"Xaphir"},{"$f":"VLOOKUP(E208,'2020'!$A$16:$G$150,3,FALSE)","v":"Bregy Uli + Pascal"}]
["2020-08-25",{"$f":"VLOOKUP(D209,'2020'!$A$16:$G$150,3,FALSE)","v":"Zumofen / Gattlen"},{"$f":"VLOOKUP(D209,'2020'!$A$16:$G$150,2,FALSE)","v":"Vidona"},111,77,{"$f":"VLOOKUP(E209,'2020'!$A$16:$G$150,2,FALSE)","v":"Beres"},{"$f":"VLOOKUP(E209,'2020'!$A$16:$G$150,3,FALSE)","v":"Stallung Passeraub"}]
["2020-08-25",{"$f":"VLOOKUP(D210,'2020'!$A$16:$G$150,3,FALSE)","v":"Fux W., J., + Wyer Piet"},{"$f":"VLOOKUP(D210,'2020'!$A$16:$G$150,2,FALSE)","v":"Bacardi"},39,51,{"$f":"VLOOKUP(E210,'2020'!$A$16:$G$150,2,FALSE)","v":"Jamanda"},{"$f":"VLOOKUP(E210,'2020'!$A$16:$G$150,3,FALSE)","v":"Hischier H. + Bühlmann J."}]
["2020-08-25",{"$f":"VLOOKUP(D211,'2020'!$A$16:$G$150,3,FALSE)","v":"Bregy Ralf + Adolf"},{"$f":"VLOOKUP(D211,'2020'!$A$16:$G$150,2,FALSE)","v":"Creola"},8,20,{"$f":"VLOOKUP(E211,'2020'!$A$16:$G$150,2,FALSE)","v":"Caline"},{"$f":"VLOOKUP(E211,'2020'!$A$16:$G$150,3,FALSE)","v":"Bregy Uli + Pascal"}]
["2020-08-25",{"$f":"VLOOKUP(D212,'2020'!$A$16:$G$150,3,FALSE)","v":"Jäger Carlo"},{"$f":"VLOOKUP(D212,'2020'!$A$16:$G$150,2,FALSE)","v":"Candice"},62,26,{"$f":"VLOOKUP(E212,'2020'!$A$16:$G$150,2,FALSE)","v":"Cataleya"},{"$f":"VLOOKUP(E212,'2020'!$A$16:$G$150,3,FALSE)","v":"Bregy Uli + Pascal"}]
["2020-08-25",{"$f":"VLOOKUP(D213,'2020'!$A$16:$G$150,3,FALSE)","v":"Bayard Medard + Gustav"},{"$f":"VLOOKUP(D213,'2020'!$A$16:$G$150,2,FALSE)","v":"Diabolo"},1,114,{"$f":"VLOOKUP(E213,'2020'!$A$16:$G$150,2,FALSE)","v":"Maya"},{"$f":"VLOOKUP(E213,'2020'!$A$16:$G$150,3,FALSE)","v":"Zumofen / Gattlen"}]
["2020-08-25",{"$f":"VLOOKUP(D214,'2020'!$A$16:$G$150,3,FALSE)","v":"Zumofen / Gattlen"},{"$f":"VLOOKUP(D214,'2020'!$A$16:$G$150,2,FALSE)","v":"Violette"},108,70,{"$f":"VLOOKUP(E214,'2020'!$A$16:$G$150,2,FALSE)","v":"Tokio"},{"$f":"VLOOKUP(E214,'2020'!$A$16:$G$150,3,FALSE)","v":"Jäger Carlo"}]
["2020-08-25",{"$f":"VLOOKUP(D215,'2020'!$A$16:$G$150,3,FALSE)","v":"Jäger Carlo"},{"$f":"VLOOKUP(D215,'2020'!$A$16:$G$150,2,FALSE)","v":"Sera"},64,10,{"$f":"VLOOKUP(E215,'2020'!$A$16:$G$150,2,FALSE)","v":"Diabolo"},{"$f":"VLOOKUP(E215,'2020'!$A$16:$G$150,3,FALSE)","v":"Bregy Ralf + Adolf"}]
["2020-08-24",{"$f":"VLOOKUP(D216,'2020'!$A$16:$G$150,3,FALSE)","v":"Bayard Medard + Gustav"},{"$f":"VLOOKUP(D216,'2020'!$A$16:$G$150,2,FALSE)","v":"Venus"},6,65,{"$f":"VLOOKUP(E216,'2020'!$A$16:$G$150,2,FALSE)","v":"Megane"},{"$f":"VLOOKUP(E216,'2020'!$A$16:$G$150,3,FALSE)","v":"Jäger Carlo"}]
["2020-08-24",{"$f":"VLOOKUP(D217,'2020'!$A$16:$G$150,3,FALSE)","v":"Bregy Ralf + Adolf"},{"$f":"VLOOKUP(D217,'2020'!$A$16:$G$150,2,FALSE)","v":"Canaille"},7,90,{"$f":"VLOOKUP(E217,'2020'!$A$16:$G$150,2,FALSE)","v":"Biscot"},{"$f":"VLOOKUP(E217,'2020'!$A$16:$G$150,3,FALSE)","v":"Sewer R. + Thommen S."}]
["2020-08-24",{"$f":"VLOOKUP(D218,'2020'!$A$16:$G$150,3,FALSE)","v":"Zumofen / Gattlen"},{"$f":"VLOOKUP(D218,'2020'!$A$16:$G$150,2,FALSE)","v":"Fayola"},119,99,{"$f":"VLOOKUP(E218,'2020'!$A$16:$G$150,2,FALSE)","v":"Diva"},{"$f":"VLOOKUP(E218,'2020'!$A$16:$G$150,3,FALSE)","v":"Williner Anton"}]
["2020-08-24",{"$f":"VLOOKUP(D219,'2020'!$A$16:$G$150,3,FALSE)","v":"Bregy Silvan + Patrick"},{"$f":"VLOOKUP(D219,'2020'!$A$16:$G$150,2,FALSE)","v":"Milow"},12,46,{"$f":"VLOOKUP(E219,'2020'!$A$16:$G$150,2,FALSE)","v":"Lorens"},{"$f":"VLOOKUP(E219,'2020'!$A$16:$G$150,3,FALSE)","v":"Gebr. Jäger"}]
["2020-08-24",{"$f":"VLOOKUP(D220,'2020'!$A$16:$G$150,3,FALSE)","v":"Mathieu Leander + S."},{"$f":"VLOOKUP(D220,'2020'!$A$16:$G$150,2,FALSE)","v":"Babylon"},76,88,{"$f":"VLOOKUP(E220,'2020'!$A$16:$G$150,2,FALSE)","v":"Malice"},{"$f":"VLOOKUP(E220,'2020'!$A$16:$G$150,3,FALSE)","v":"Sewer R. + Thommen S."}]
["2020-08-24",{"$f":"VLOOKUP(D221,'2020'!$A$16:$G$150,3,FALSE)","v":"Zumofen / Gattlen"},{"$f":"VLOOKUP(D221,'2020'!$A$16:$G$150,2,FALSE)","v":"Fayola"},119,46,{"$f":"VLOOKUP(E221,'2020'!$A$16:$G$150,2,FALSE)","v":"Lorens"},{"$f":"VLOOKUP(E221,'2020'!$A$16:$G$150,3,FALSE)","v":"Gebr. Jäger"}]
["2020-08-24",{"$f":"VLOOKUP(D222,'2020'!$A$16:$G$150,3,FALSE)","v":"Bregy Silvan + Patrick"},{"$f":"VLOOKUP(D222,'2020'!$A$16:$G$150,2,FALSE)","v":"Tequilla"},13,46,{"$f":"VLOOKUP(E222,'2020'!$A$16:$G$150,2,FALSE)","v":"Lorens"},{"$f":"VLOOKUP(E222,'2020'!$A$16:$G$150,3,FALSE)","v":"Gebr. Jäger"}]
["2020-08-24",{"$f":"VLOOKUP(D223,'2020'!$A$16:$G$150,3,FALSE)","v":"Williner Anton"},{"$f":"VLOOKUP(D223,'2020'!$A$16:$G$150,2,FALSE)","v":"Tira"},100,47,{"$f":"VLOOKUP(E223,'2020'!$A$16:$G$150,2,FALSE)","v":"Tiara"},{"$f":"VLOOKUP(E223,'2020'!$A$16:$G$150,3,FALSE)","v":"Gebr. Jäger"}]
["2020-08-24",{"$f":"VLOOKUP(D224,'2020'!$A$16:$G$150,3,FALSE)","v":"Zumofen / Gattlen"},{"$f":"VLOOKUP(D224,'2020'!$A$16:$G$150,2,FALSE)","v":"Rena"},109,4,{"$f":"VLOOKUP(E224,'2020'!$A$16:$G$150,2,FALSE)","v":"Vampir"},{"$f":"VLOOKUP(E224,'2020'!$A$16:$G$150,3,FALSE)","v":"Bayard Medard + Gustav"}]
["2020-08-24",{"$f":"VLOOKUP(D225,'2020'!$A$16:$G$150,3,FALSE)","v":"Zumofen / Gattlen"},{"$f":"VLOOKUP(D225,'2020'!$A$16:$G$150,2,FALSE)","v":"Violette"},108,70,{"$f":"VLOOKUP(E225,'2020'!$A$16:$G$150,2,FALSE)","v":"Tokio"},{"$f":"VLOOKUP(E225,'2020'!$A$16:$G$150,3,FALSE)","v":"Jäger Carlo"}]
["2020-08-24",{"$f":"VLOOKUP(D226,'2020'!$A$16:$G$150,3,FALSE)","v":"Jäger Carlo"},{"$f":"VLOOKUP(D226,'2020'!$A$16:$G$150,2,FALSE)","v":"Megane"},65,23,{"$f":"VLOOKUP(E226,'2020'!$A$16:$G$150,2,FALSE)","v":"Pandora"},{"$f":"VLOOKUP(E226,'2020'!$A$16:$G$150,3,FALSE)","v":"Bregy Uli + Pascal"}]
["2020-08-23",{"$f":"VLOOKUP(D227,'2020'!$A$16:$G$150,3,FALSE)","v":"Bregy Ralf + Adolf"},{"$f":"VLOOKUP(D227,'2020'!$A$16:$G$150,2,FALSE)","v":"Coquette"},17,15,{"$f":"VLOOKUP(E227,'2020'!$A$16:$G$150,2,FALSE)","v":"Cashida"},{"$f":"VLOOKUP(E227,'2020'!$A$16:$G$150,3,FALSE)","v":"Bregy Ralf + Adolf"}]
["2020-08-23",{"$f":"VLOOKUP(D228,'2020'!$A$16:$G$150,3,FALSE)","v":"Zumofen / Gattlen"},{"$f":"VLOOKUP(D228,'2020'!$A$16:$G$150,2,FALSE)","v":"Rambo"},106,104,{"$f":"VLOOKUP(E228,'2020'!$A$16:$G$150,2,FALSE)","v":"Xena"},{"$f":"VLOOKUP(E228,'2020'!$A$16:$G$150,3,FALSE)","v":"Wyssen Diego u. Madlen"}]
["2020-08-23",{"$f":"VLOOKUP(D229,'2020'!$A$16:$G$150,3,FALSE)","v":"Jäger Carlo"},{"$f":"VLOOKUP(D229,'2020'!$A$16:$G$150,2,FALSE)","v":"Metis"},66,72,{"$f":"VLOOKUP(E229,'2020'!$A$16:$G$150,2,FALSE)","v":"Baronesse"},{"$f":"VLOOKUP(E229,'2020'!$A$16:$G$150,3,FALSE)","v":"Mathieu Leander + S."}]
["2020-08-22",{"$f":"VLOOKUP(D230,'2020'!$A$16:$G$150,3,FALSE)","v":"Williner Anton"},{"$f":"VLOOKUP(D230,'2020'!$A$16:$G$150,2,FALSE)","v":"Tigra"},96,73,{"$f":"VLOOKUP(E230,'2020'!$A$16:$G$150,2,FALSE)","v":"Bavaria"},{"$f":"VLOOKUP(E230,'2020'!$A$16:$G$150,3,FALSE)","v":"Mathieu Leander + S."}]
["2020-08-22",{"$f":"VLOOKUP(D231,'2020'!$A$16:$G$150,3,FALSE)","v":"Bregy Uli + Pascal"},{"$f":"VLOOKUP(D231,'2020'!$A$16:$G$150,2,FALSE)","v":"Bora"},21,59,{"$f":"VLOOKUP(E231,'2020'!$A$16:$G$150,2,FALSE)","v":"Maila"},{"$f":"VLOOKUP(E231,'2020'!$A$16:$G$150,3,FALSE)","v":"Jäger Carlo"}]
["2020-08-21",{"$f":"VLOOKUP(D232,'2020'!$A$16:$G$150,3,FALSE)","v":"Gebr. Jäger"},{"$f":"VLOOKUP(D232,'2020'!$A$16:$G$150,2,FALSE)","v":"Dorina"},44,3,{"$f":"VLOOKUP(E232,'2020'!$A$16:$G$150,2,FALSE)","v":"Priska"},{"$f":"VLOOKUP(E232,'2020'!$A$16:$G$150,3,FALSE)","v":"Bayard Medard + Gustav"}]
["2020-08-21",{"$f":"VLOOKUP(D233,'2020'!$A$16:$G$150,3,FALSE)","v":"Jäger Carlo"},{"$f":"VLOOKUP(D233,'2020'!$A$16:$G$150,2,FALSE)","v":"Micabol"},67,80,{"$f":"VLOOKUP(E233,'2020'!$A$16:$G$150,2,FALSE)","v":"Manou"},{"$f":"VLOOKUP(E233,'2020'!$A$16:$G$150,3,FALSE)","v":"Stallung Passeraub "}]
["2020-08-21",{"$f":"VLOOKUP(D234,'2020'!$A$16:$G$150,3,FALSE)","v":"Jäger Carlo"},{"$f":"VLOOKUP(D234,'2020'!$A$16:$G$150,2,FALSE)","v":"Megane"},65,90,{"$f":"VLOOKUP(E234,'2020'!$A$16:$G$150,2,FALSE)","v":"Biscot"},{"$f":"VLOOKUP(E234,'2020'!$A$16:$G$150,3,FALSE)","v":"Sewer R. + Thommen S."}]
["2020-08-21",{"$f":"VLOOKUP(D235,'2020'!$A$16:$G$150,3,FALSE)","v":"Bregy Uli + Pascal"},{"$f":"VLOOKUP(D235,'2020'!$A$16:$G$150,2,FALSE)","v":"Catalina"},24,62,{"$f":"VLOOKUP(E235,'2020'!$A$16:$G$150,2,FALSE)","v":"Candice"},{"$f":"VLOOKUP(E235,'2020'!$A$16:$G$150,3,FALSE)","v":"Jäger Carlo"}]
["2020-08-21",{"$f":"VLOOKUP(D236,'2020'!$A$16:$G$150,3,FALSE)","v":"Jäger Carlo"},{"$f":"VLOOKUP(D236,'2020'!$A$16:$G$150,2,FALSE)","v":"Micabol"},67,18,{"$f":"VLOOKUP(E236,'2020'!$A$16:$G$150,2,FALSE)","v":"Souki"},{"$f":"VLOOKUP(E236,'2020'!$A$16:$G$150,3,FALSE)","v":"Bregy Uli + Pascal"}]
["2020-08-21",{"$f":"VLOOKUP(D237,'2020'!$A$16:$G$150,3,FALSE)","v":"Bregy Ralf + Adolf"},{"$f":"VLOOKUP(D237,'2020'!$A$16:$G$150,2,FALSE)","v":"Canabis"},14,101,{"$f":"VLOOKUP(E237,'2020'!$A$16:$G$150,2,FALSE)","v":"Xandria"},{"$f":"VLOOKUP(E237,'2020'!$A$16:$G$150,3,FALSE)","v":"Wyssen Diego u. Madlen"}]
["2020-08-20",{"$f":"VLOOKUP(D238,'2020'!$A$16:$G$150,3,FALSE)","v":"Jäger Carlo"},{"$f":"VLOOKUP(D238,'2020'!$A$16:$G$150,2,FALSE)","v":"Candice"},62,13,{"$f":"VLOOKUP(E238,'2020'!$A$16:$G$150,2,FALSE)","v":"Tequilla"},{"$f":"VLOOKUP(E238,'2020'!$A$16:$G$150,3,FALSE)","v":"Bregy Silvan + Patrick"}]
["2020-08-20",{"$f":"VLOOKUP(D239,'2020'!$A$16:$G$150,3,FALSE)","v":"Bayard Medard + Gustav"},{"$f":"VLOOKUP(D239,'2020'!$A$16:$G$150,2,FALSE)","v":"Priska"},3,39,{"$f":"VLOOKUP(E239,'2020'!$A$16:$G$150,2,FALSE)","v":"Bacardi"},{"$f":"VLOOKUP(E239,'2020'!$A$16:$G$150,3,FALSE)","v":"Fux W., J., + Wyer Piet"}]
["2020-08-20",{"$f":"VLOOKUP(D240,'2020'!$A$16:$G$150,3,FALSE)","v":"Gebr. Jäger"},{"$f":"VLOOKUP(D240,'2020'!$A$16:$G$150,2,FALSE)","v":"Tiara"},47,88,{"$f":"VLOOKUP(E240,'2020'!$A$16:$G$150,2,FALSE)","v":"Malice"},{"$f":"VLOOKUP(E240,'2020'!$A$16:$G$150,3,FALSE)","v":"Sewer R. + Thommen S."}]
["2020-08-20",{"$f":"VLOOKUP(D241,'2020'!$A$16:$G$150,3,FALSE)","v":"Bregy Uli + Pascal"},{"$f":"VLOOKUP(D241,'2020'!$A$16:$G$150,2,FALSE)","v":"Souki"},18,31,{"$f":"VLOOKUP(E241,'2020'!$A$16:$G$150,2,FALSE)","v":"Baron"},{"$f":"VLOOKUP(E241,'2020'!$A$16:$G$150,3,FALSE)","v":"Fam. Leiggener"}]
["2020-08-19",{"$f":"VLOOKUP(D242,'2020'!$A$16:$G$150,3,FALSE)","v":"Bregy Silvan + Patrick"},{"$f":"VLOOKUP(D242,'2020'!$A$16:$G$150,2,FALSE)","v":"Tequilla"},13,46,{"$f":"VLOOKUP(E242,'2020'!$A$16:$G$150,2,FALSE)","v":"Lorens"},{"$f":"VLOOKUP(E242,'2020'!$A$16:$G$150,3,FALSE)","v":"Gebr. Jäger"}]
["2020-08-19",{"$f":"VLOOKUP(D243,'2020'!$A$16:$G$150,3,FALSE)","v":"Bregy Ralf + Adolf"},{"$f":"VLOOKUP(D243,'2020'!$A$16:$G$150,2,FALSE)","v":"Canaille"},7,110,{"$f":"VLOOKUP(E243,'2020'!$A$16:$G$150,2,FALSE)","v":"Xena"},{"$f":"VLOOKUP(E243,'2020'!$A$16:$G$150,3,FALSE)","v":"Zumofen / Gattlen"}]
["2020-08-19",{"$f":"VLOOKUP(D244,'2020'!$A$16:$G$150,3,FALSE)","v":"Bregy Uli + Pascal"},{"$f":"VLOOKUP(D244,'2020'!$A$16:$G$150,2,FALSE)","v":"Bora"},21,59,{"$f":"VLOOKUP(E244,'2020'!$A$16:$G$150,2,FALSE)","v":"Maila"},{"$f":"VLOOKUP(E244,'2020'!$A$16:$G$150,3,FALSE)","v":"Jäger Carlo"}]
["2020-08-18",{"$f":"VLOOKUP(D245,'2020'!$A$16:$G$150,3,FALSE)","v":"Zumofen / Gattlen"},{"$f":"VLOOKUP(D245,'2020'!$A$16:$G$150,2,FALSE)","v":"Violette"},108,82,{"$f":"VLOOKUP(E245,'2020'!$A$16:$G$150,2,FALSE)","v":"Bonita"},{"$f":"VLOOKUP(E245,'2020'!$A$16:$G$150,3,FALSE)","v":"Stallung Passeraub "}]
["2020-08-18",{"$f":"VLOOKUP(D246,'2020'!$A$16:$G$150,3,FALSE)","v":"Jäger Carlo"},{"$f":"VLOOKUP(D246,'2020'!$A$16:$G$150,2,FALSE)","v":"Megane"},65,44,{"$f":"VLOOKUP(E246,'2020'!$A$16:$G$150,2,FALSE)","v":"Dorina"},{"$f":"VLOOKUP(E246,'2020'!$A$16:$G$150,3,FALSE)","v":"Gebr. Jäger"}]
["2020-08-18",{"$f":"VLOOKUP(D247,'2020'!$A$16:$G$150,3,FALSE)","v":"Bregy Uli + Pascal"},{"$f":"VLOOKUP(D247,'2020'!$A$16:$G$150,2,FALSE)","v":"Bora"},21,109,{"$f":"VLOOKUP(E247,'2020'!$A$16:$G$150,2,FALSE)","v":"Rena"},{"$f":"VLOOKUP(E247,'2020'!$A$16:$G$150,3,FALSE)","v":"Zumofen / Gattlen"}]
["2020-08-18",{"$f":"VLOOKUP(D248,'2020'!$A$16:$G$150,3,FALSE)","v":"Williner Anton"},{"$f":"VLOOKUP(D248,'2020'!$A$16:$G$150,2,FALSE)","v":"Tigra"},96,82,{"$f":"VLOOKUP(E248,'2020'!$A$16:$G$150,2,FALSE)","v":"Bonita"},{"$f":"VLOOKUP(E248,'2020'!$A$16:$G$150,3,FALSE)","v":"Stallung Passeraub "}]
["2020-08-18",{"$f":"VLOOKUP(D249,'2020'!$A$16:$G$150,3,FALSE)","v":"Bayard Medard + Gustav"},{"$f":"VLOOKUP(D249,'2020'!$A$16:$G$150,2,FALSE)","v":"Venus"},6,94,{"$f":"VLOOKUP(E249,'2020'!$A$16:$G$150,2,FALSE)","v":"Cobra"},{"$f":"VLOOKUP(E249,'2020'!$A$16:$G$150,3,FALSE)","v":"Tscherry E. + B."}]
["2020-08-18",{"$f":"VLOOKUP(D250,'2020'!$A$16:$G$150,3,FALSE)","v":"Zumofen / Gattlen"},{"$f":"VLOOKUP(D250,'2020'!$A$16:$G$150,2,FALSE)","v":"Riva "},112,14,{"$f":"VLOOKUP(E250,'2020'!$A$16:$G$150,2,FALSE)","v":"Canabis"},{"$f":"VLOOKUP(E250,'2020'!$A$16:$G$150,3,FALSE)","v":"Bregy Ralf + Adolf"}]
["2020-08-18",{"$f":"VLOOKUP(D251,'2020'!$A$16:$G$150,3,FALSE)","v":"Bregy Ralf + Adolf"},{"$f":"VLOOKUP(D251,'2020'!$A$16:$G$150,2,FALSE)","v":"Canabis"},14,73,{"$f":"VLOOKUP(E251,'2020'!$A$16:$G$150,2,FALSE)","v":"Bavaria"},{"$f":"VLOOKUP(E251,'2020'!$A$16:$G$150,3,FALSE)","v":"Mathieu Leander + S."}]
["2020-08-18",{"$f":"VLOOKUP(D252,'2020'!$A$16:$G$150,3,FALSE)","v":"Bayard Medard + Gustav"},{"$f":"VLOOKUP(D252,'2020'!$A$16:$G$150,2,FALSE)","v":"Diabolo"},1,102,{"$f":"VLOOKUP(E252,'2020'!$A$16:$G$150,2,FALSE)","v":"Rasta"},{"$f":"VLOOKUP(E252,'2020'!$A$16:$G$150,3,FALSE)","v":"Wyssen Diego u. Madlen"}]
["2020-08-17",{"$f":"VLOOKUP(D253,'2020'!$A$16:$G$150,3,FALSE)","v":"Mathieu Leander + S."},{"$f":"VLOOKUP(D253,'2020'!$A$16:$G$150,2,FALSE)","v":"Bonita"},75,62,{"$f":"VLOOKUP(E253,'2020'!$A$16:$G$150,2,FALSE)","v":"Candice"},{"$f":"VLOOKUP(E253,'2020'!$A$16:$G$150,3,FALSE)","v":"Jäger Carlo"}]
["2020-08-17",{"$f":"VLOOKUP(D254,'2020'!$A$16:$G$150,3,FALSE)","v":"Bregy Uli + Pascal"},{"$f":"VLOOKUP(D254,'2020'!$A$16:$G$150,2,FALSE)","v":"Xaphir"},22,48,{"$f":"VLOOKUP(E254,'2020'!$A$16:$G$150,2,FALSE)","v":"Simba"},{"$f":"VLOOKUP(E254,'2020'!$A$16:$G$150,3,FALSE)","v":"Gebr. Jäger"}]
["2020-08-17",{"$f":"VLOOKUP(D255,'2020'!$A$16:$G$150,3,FALSE)","v":"Tscherry E. + B."},{"$f":"VLOOKUP(D255,'2020'!$A$16:$G$150,2,FALSE)","v":"Carolin"},93,25,{"$f":"VLOOKUP(E255,'2020'!$A$16:$G$150,2,FALSE)","v":"Calette"},{"$f":"VLOOKUP(E255,'2020'!$A$16:$G$150,3,FALSE)","v":"Bregy Uli + Pascal"}]
["2020-08-17",{"$f":"VLOOKUP(D256,'2020'!$A$16:$G$150,3,FALSE)","v":"Tscherry E. + B."},{"$f":"VLOOKUP(D256,'2020'!$A$16:$G$150,2,FALSE)","v":"Carolin"},93,22,{"$f":"VLOOKUP(E256,'2020'!$A$16:$G$150,2,FALSE)","v":"Xaphir"},{"$f":"VLOOKUP(E256,'2020'!$A$16:$G$150,3,FALSE)","v":"Bregy Uli + Pascal"}]
["2020-08-17",{"$f":"VLOOKUP(D257,'2020'!$A$16:$G$150,3,FALSE)","v":"Bregy Uli + Pascal"},{"$f":"VLOOKUP(D257,'2020'!$A$16:$G$150,2,FALSE)","v":"Xaphir"},22,91,{"$f":"VLOOKUP(E257,'2020'!$A$16:$G$150,2,FALSE)","v":"Bolera"},{"$f":"VLOOKUP(E257,'2020'!$A$16:$G$150,3,FALSE)","v":"Sewer R. + Thommen S."}]
["2020-08-17",{"$f":"VLOOKUP(D258,'2020'!$A$16:$G$150,3,FALSE)","v":"Bregy Ralf + Adolf"},{"$f":"VLOOKUP(D258,'2020'!$A$16:$G$150,2,FALSE)","v":"Canabis"},14,91,{"$f":"VLOOKUP(E258,'2020'!$A$16:$G$150,2,FALSE)","v":"Bolera"},{"$f":"VLOOKUP(E258,'2020'!$A$16:$G$150,3,FALSE)","v":"Sewer R. + Thommen S."}]
["2020-08-17",{"$f":"VLOOKUP(D259,'2020'!$A$16:$G$150,3,FALSE)","v":"Williner Anton"},{"$f":"VLOOKUP(D259,'2020'!$A$16:$G$150,2,FALSE)","v":"Tigra"},96,77,{"$f":"VLOOKUP(E259,'2020'!$A$16:$G$150,2,FALSE)","v":"Beres"},{"$f":"VLOOKUP(E259,'2020'!$A$16:$G$150,3,FALSE)","v":"Stallung Passeraub"}]
["2020-08-17",{"$f":"VLOOKUP(D260,'2020'!$A$16:$G$150,3,FALSE)","v":"Tscherry E. + B."},{"$f":"VLOOKUP(D260,'2020'!$A$16:$G$150,2,FALSE)","v":"Cobra"},94,87,{"$f":"VLOOKUP(E260,'2020'!$A$16:$G$150,2,FALSE)","v":"Benika"},{"$f":"VLOOKUP(E260,'2020'!$A$16:$G$150,3,FALSE)","v":"Stallung zum Stäg"}]
["2020-08-16",{"$f":"VLOOKUP(D261,'2020'!$A$16:$G$150,3,FALSE)","v":"Zumofen / Gattlen"},{"$f":"VLOOKUP(D261,'2020'!$A$16:$G$150,2,FALSE)","v":"Fayola"},119,13,{"$f":"VLOOKUP(E261,'2020'!$A$16:$G$150,2,FALSE)","v":"Tequilla"},{"$f":"VLOOKUP(E261,'2020'!$A$16:$G$150,3,FALSE)","v":"Bregy Silvan + Patrick"}]
["2020-08-16",{"$f":"VLOOKUP(D262,'2020'!$A$16:$G$150,3,FALSE)","v":"Stallung Passeraub"},{"$f":"VLOOKUP(D262,'2020'!$A$16:$G$150,2,FALSE)","v":"Ballerine"},78,3,{"$f":"VLOOKUP(E262,'2020'!$A$16:$G$150,2,FALSE)","v":"Priska"},{"$f":"VLOOKUP(E262,'2020'!$A$16:$G$150,3,FALSE)","v":"Bayard Medard + Gustav"}]
["2020-08-16",{"$f":"VLOOKUP(D263,'2020'!$A$16:$G$150,3,FALSE)","v":"Bayard Medard + Gustav"},{"$f":"VLOOKUP(D263,'2020'!$A$16:$G$150,2,FALSE)","v":"Pandera"},5,111,{"$f":"VLOOKUP(E263,'2020'!$A$16:$G$150,2,FALSE)","v":"Vidona"},{"$f":"VLOOKUP(E263,'2020'!$A$16:$G$150,3,FALSE)","v":"Zumofen / Gattlen"}]
["2020-08-16",{"$f":"VLOOKUP(D264,'2020'!$A$16:$G$150,3,FALSE)","v":"Sewer R. + Thommen S."},{"$f":"VLOOKUP(D264,'2020'!$A$16:$G$150,2,FALSE)","v":"Bolera"},91,33,{"$f":"VLOOKUP(E264,'2020'!$A$16:$G$150,2,FALSE)","v":"Baquera"},{"$f":"VLOOKUP(E264,'2020'!$A$16:$G$150,3,FALSE)","v":"Fux W., J., + Wyer Piet"}]
["2020-08-15",{"$f":"VLOOKUP(D265,'2020'!$A$16:$G$150,3,FALSE)","v":"Zumofen / Gattlen"},{"$f":"VLOOKUP(D265,'2020'!$A$16:$G$150,2,FALSE)","v":"Fayola"},119,8,{"$f":"VLOOKUP(E265,'2020'!$A$16:$G$150,2,FALSE)","v":"Creola"},{"$f":"VLOOKUP(E265,'2020'!$A$16:$G$150,3,FALSE)","v":"Bregy Ralf + Adolf"}]
["2020-08-15",{"$f":"VLOOKUP(D266,'2020'!$A$16:$G$150,3,FALSE)","v":"Bayard Medard + Gustav"},{"$f":"VLOOKUP(D266,'2020'!$A$16:$G$150,2,FALSE)","v":"Venus"},6,101,{"$f":"VLOOKUP(E266,'2020'!$A$16:$G$150,2,FALSE)","v":"Xandria"},{"$f":"VLOOKUP(E266,'2020'!$A$16:$G$150,3,FALSE)","v":"Wyssen Diego u. Madlen"}]
["2020-08-15",{"$f":"VLOOKUP(D267,'2020'!$A$16:$G$150,3,FALSE)","v":"Bregy Uli + Pascal"},{"$f":"VLOOKUP(D267,'2020'!$A$16:$G$150,2,FALSE)","v":"Corona"},28,32,{"$f":"VLOOKUP(E267,'2020'!$A$16:$G$150,2,FALSE)","v":"Mira"},{"$f":"VLOOKUP(E267,'2020'!$A$16:$G$150,3,FALSE)","v":"Fam. Leiggener"}]
["2020-08-15",{"$f":"VLOOKUP(D268,'2020'!$A$16:$G$150,3,FALSE)","v":"Bregy Uli + Pascal"},{"$f":"VLOOKUP(D268,'2020'!$A$16:$G$150,2,FALSE)","v":"Caline"},20,8,{"$f":"VLOOKUP(E268,'2020'!$A$16:$G$150,2,FALSE)","v":"Creola"},{"$f":"VLOOKUP(E268,'2020'!$A$16:$G$150,3,FALSE)","v":"Bregy Ralf + Adolf"}]
["2020-08-15",{"$f":"VLOOKUP(D269,'2020'!$A$16:$G$150,3,FALSE)","v":"Williner Anton"},{"$f":"VLOOKUP(D269,'2020'!$A$16:$G$150,2,FALSE)","v":"Tira"},100,62,{"$f":"VLOOKUP(E269,'2020'!$A$16:$G$150,2,FALSE)","v":"Candice"},{"$f":"VLOOKUP(E269,'2020'!$A$16:$G$150,3,FALSE)","v":"Jäger Carlo"}]
["2020-08-15",{"$f":"VLOOKUP(D270,'2020'!$A$16:$G$150,3,FALSE)","v":"Bregy Ralf + Adolf"},{"$f":"VLOOKUP(D270,'2020'!$A$16:$G$150,2,FALSE)","v":"Canaille"},7,110,{"$f":"VLOOKUP(E270,'2020'!$A$16:$G$150,2,FALSE)","v":"Xena"},{"$f":"VLOOKUP(E270,'2020'!$A$16:$G$150,3,FALSE)","v":"Zumofen / Gattlen"}]
["2020-08-15",{"$f":"VLOOKUP(D271,'2020'!$A$16:$G$150,3,FALSE)","v":"Bregy Uli + Pascal"},{"$f":"VLOOKUP(D271,'2020'!$A$16:$G$150,2,FALSE)","v":"Bora"},21,9,{"$f":"VLOOKUP(E271,'2020'!$A$16:$G$150,2,FALSE)","v":"Flacari"},{"$f":"VLOOKUP(E271,'2020'!$A$16:$G$150,3,FALSE)","v":"Bregy Ralf + Adolf"}]
["2020-08-14",{"$f":"VLOOKUP(D272,'2020'!$A$16:$G$150,3,FALSE)","v":"Jäger Carlo"},{"$f":"VLOOKUP(D272,'2020'!$A$16:$G$150,2,FALSE)","v":"Pivoine"},68,33,{"$f":"VLOOKUP(E272,'2020'!$A$16:$G$150,2,FALSE)","v":"Baquera"},{"$f":"VLOOKUP(E272,'2020'!$A$16:$G$150,3,FALSE)","v":"Fux W., J., + Wyer Piet"}]
["2020-08-14",{"$f":"VLOOKUP(D273,'2020'!$A$16:$G$150,3,FALSE)","v":"Mathieu Leander + S."},{"$f":"VLOOKUP(D273,'2020'!$A$16:$G$150,2,FALSE)","v":"Babylon"},76,75,{"$f":"VLOOKUP(E273,'2020'!$A$16:$G$150,2,FALSE)","v":"Bonita"},{"$f":"VLOOKUP(E273,'2020'!$A$16:$G$150,3,FALSE)","v":"Mathieu Leander + S."}]
["2020-08-14",{"$f":"VLOOKUP(D274,'2020'!$A$16:$G$150,3,FALSE)","v":"Bregy Uli + Pascal"},{"$f":"VLOOKUP(D274,'2020'!$A$16:$G$150,2,FALSE)","v":"Tiranie"},19,75,{"$f":"VLOOKUP(E274,'2020'!$A$16:$G$150,2,FALSE)","v":"Bonita"},{"$f":"VLOOKUP(E274,'2020'!$A$16:$G$150,3,FALSE)","v":"Mathieu Leander + S."}]
["2020-08-14",{"$f":"VLOOKUP(D275,'2020'!$A$16:$G$150,3,FALSE)","v":"Bregy Ralf + Adolf"},{"$f":"VLOOKUP(D275,'2020'!$A$16:$G$150,2,FALSE)","v":"Flacari"},9,20,{"$f":"VLOOKUP(E275,'2020'!$A$16:$G$150,2,FALSE)","v":"Caline"},{"$f":"VLOOKUP(E275,'2020'!$A$16:$G$150,3,FALSE)","v":"Bregy Uli + Pascal"}]
["2020-08-14",{"$f":"VLOOKUP(D276,'2020'!$A$16:$G$150,3,FALSE)","v":"Zumofen / Gattlen"},{"$f":"VLOOKUP(D276,'2020'!$A$16:$G$150,2,FALSE)","v":"Xena"},110,67,{"$f":"VLOOKUP(E276,'2020'!$A$16:$G$150,2,FALSE)","v":"Micabol"},{"$f":"VLOOKUP(E276,'2020'!$A$16:$G$150,3,FALSE)","v":"Jäger Carlo"}]
["2020-08-14",{"$f":"VLOOKUP(D277,'2020'!$A$16:$G$150,3,FALSE)","v":"Zumofen / Gattlen"},{"$f":"VLOOKUP(D277,'2020'!$A$16:$G$150,2,FALSE)","v":"Fayola"},119,21,{"$f":"VLOOKUP(E277,'2020'!$A$16:$G$150,2,FALSE)","v":"Bora"},{"$f":"VLOOKUP(E277,'2020'!$A$16:$G$150,3,FALSE)","v":"Bregy Uli + Pascal"}]
["2020-08-14",{"$f":"VLOOKUP(D278,'2020'!$A$16:$G$150,3,FALSE)","v":"Stallung Passeraub "},{"$f":"VLOOKUP(D278,'2020'!$A$16:$G$150,2,FALSE)","v":"Marla"},79,32,{"$f":"VLOOKUP(E278,'2020'!$A$16:$G$150,2,FALSE)","v":"Mira"},{"$f":"VLOOKUP(E278,'2020'!$A$16:$G$150,3,FALSE)","v":"Fam. Leiggener"}]
["2020-08-14",{"$f":"VLOOKUP(D279,'2020'!$A$16:$G$150,3,FALSE)","v":"Bregy Ralf + Adolf"},{"$f":"VLOOKUP(D279,'2020'!$A$16:$G$150,2,FALSE)","v":"Canaille"},7,119,{"$f":"VLOOKUP(E279,'2020'!$A$16:$G$150,2,FALSE)","v":"Fayola"},{"$f":"VLOOKUP(E279,'2020'!$A$16:$G$150,3,FALSE)","v":"Zumofen / Gattlen"}]
["2020-08-14",{"$f":"VLOOKUP(D280,'2020'!$A$16:$G$150,3,FALSE)","v":"Fux W., J., + Wyer Piet"},{"$f":"VLOOKUP(D280,'2020'!$A$16:$G$150,2,FALSE)","v":"Valaisanne"},35,32,{"$f":"VLOOKUP(E280,'2020'!$A$16:$G$150,2,FALSE)","v":"Mira"},{"$f":"VLOOKUP(E280,'2020'!$A$16:$G$150,3,FALSE)","v":"Fam. Leiggener"}]
["2020-08-14",{"$f":"VLOOKUP(D281,'2020'!$A$16:$G$150,3,FALSE)","v":"Zumofen / Gattlen"},{"$f":"VLOOKUP(D281,'2020'!$A$16:$G$150,2,FALSE)","v":"Fayola"},119,13,{"$f":"VLOOKUP(E281,'2020'!$A$16:$G$150,2,FALSE)","v":"Tequilla"},{"$f":"VLOOKUP(E281,'2020'!$A$16:$G$150,3,FALSE)","v":"Bregy Silvan + Patrick"}]
["2020-08-14",{"$f":"VLOOKUP(D282,'2020'!$A$16:$G$150,3,FALSE)","v":"Wyssen Diego u. Madlen"},{"$f":"VLOOKUP(D282,'2020'!$A$16:$G$150,2,FALSE)","v":"Xhyla"},105,14,{"$f":"VLOOKUP(E282,'2020'!$A$16:$G$150,2,FALSE)","v":"Canabis"},{"$f":"VLOOKUP(E282,'2020'!$A$16:$G$150,3,FALSE)","v":"Bregy Ralf + Adolf"}]
["2020-08-13",{"$f":"VLOOKUP(D283,'2020'!$A$16:$G$150,3,FALSE)","v":"Bregy Ralf + Adolf"},{"$f":"VLOOKUP(D283,'2020'!$A$16:$G$150,2,FALSE)","v":"Coquette"},17,50,{"$f":"VLOOKUP(E283,'2020'!$A$16:$G$150,2,FALSE)","v":"Tanja"},{"$f":"VLOOKUP(E283,'2020'!$A$16:$G$150,3,FALSE)","v":"Gebr. Jäger"}]
["2020-08-13",{"$f":"VLOOKUP(D284,'2020'!$A$16:$G$150,3,FALSE)","v":"Jäger Carlo"},{"$f":"VLOOKUP(D284,'2020'!$A$16:$G$150,2,FALSE)","v":"Sera"},64,10,{"$f":"VLOOKUP(E284,'2020'!$A$16:$G$150,2,FALSE)","v":"Diabolo"},{"$f":"VLOOKUP(E284,'2020'!$A$16:$G$150,3,FALSE)","v":"Bregy Ralf + Adolf"}]
["2020-08-13",{"$f":"VLOOKUP(D285,'2020'!$A$16:$G$150,3,FALSE)","v":"Bayard Medard + Gustav"},{"$f":"VLOOKUP(D285,'2020'!$A$16:$G$150,2,FALSE)","v":"Fantastic"},2,11,{"$f":"VLOOKUP(E285,'2020'!$A$16:$G$150,2,FALSE)","v":"Carcas"},{"$f":"VLOOKUP(E285,'2020'!$A$16:$G$150,3,FALSE)","v":"Bregy Ralf + Adolf"}]
["2020-08-13",{"$f":"VLOOKUP(D286,'2020'!$A$16:$G$150,3,FALSE)","v":"Zumofen / Gattlen"},{"$f":"VLOOKUP(D286,'2020'!$A$16:$G$150,2,FALSE)","v":"Violin"},107,111,{"$f":"VLOOKUP(E286,'2020'!$A$16:$G$150,2,FALSE)","v":"Vidona"},{"$f":"VLOOKUP(E286,'2020'!$A$16:$G$150,3,FALSE)","v":"Zumofen / Gattlen"}]
["2020-08-13",{"$f":"VLOOKUP(D287,'2020'!$A$16:$G$150,3,FALSE)","v":"Mathieu Leander + S."},{"$f":"VLOOKUP(D287,'2020'!$A$16:$G$150,2,FALSE)","v":"Bonita"},75,65,{"$f":"VLOOKUP(E287,'2020'!$A$16:$G$150,2,FALSE)","v":"Megane"},{"$f":"VLOOKUP(E287,'2020'!$A$16:$G$150,3,FALSE)","v":"Jäger Carlo"}]
["2020-08-13",{"$f":"VLOOKUP(D288,'2020'!$A$16:$G$150,3,FALSE)","v":"Jäger Carlo"},{"$f":"VLOOKUP(D288,'2020'!$A$16:$G$150,2,FALSE)","v":"Grolla"},61,115,{"$f":"VLOOKUP(E288,'2020'!$A$16:$G$150,2,FALSE)","v":"Pepitta"},{"$f":"VLOOKUP(E288,'2020'!$A$16:$G$150,3,FALSE)","v":"Zumofen / Gattlen"}]
["2020-08-13",{"$f":"VLOOKUP(D289,'2020'!$A$16:$G$150,3,FALSE)","v":"Stallung Passeraub"},{"$f":"VLOOKUP(D289,'2020'!$A$16:$G$150,2,FALSE)","v":"Ballerine"},78,1,{"$f":"VLOOKUP(E289,'2020'!$A$16:$G$150,2,FALSE)","v":"Diabolo"},{"$f":"VLOOKUP(E289,'2020'!$A$16:$G$150,3,FALSE)","v":"Bayard Medard + Gustav"}]
["2020-08-12",{"$f":"VLOOKUP(D290,'2020'!$A$16:$G$150,3,FALSE)","v":"Jäger Carlo"},{"$f":"VLOOKUP(D290,'2020'!$A$16:$G$150,2,FALSE)","v":"Pivoine"},68,114,{"$f":"VLOOKUP(E290,'2020'!$A$16:$G$150,2,FALSE)","v":"Maya"},{"$f":"VLOOKUP(E290,'2020'!$A$16:$G$150,3,FALSE)","v":"Zumofen / Gattlen"}]
["2020-08-12",{"$f":"VLOOKUP(D291,'2020'!$A$16:$G$150,3,FALSE)","v":"Wyssen Diego u. Madlen"},{"$f":"VLOOKUP(D291,'2020'!$A$16:$G$150,2,FALSE)","v":"Xhyla"},105,106,{"$f":"VLOOKUP(E291,'2020'!$A$16:$G$150,2,FALSE)","v":"Rambo"},{"$f":"VLOOKUP(E291,'2020'!$A$16:$G$150,3,FALSE)","v":"Zumofen / Gattlen"}]
["2020-08-12",{"$f":"VLOOKUP(D292,'2020'!$A$16:$G$150,3,FALSE)","v":"Jäger Carlo"},{"$f":"VLOOKUP(D292,'2020'!$A$16:$G$150,2,FALSE)","v":"Candice"},62,108,{"$f":"VLOOKUP(E292,'2020'!$A$16:$G$150,2,FALSE)","v":"Violette"},{"$f":"VLOOKUP(E292,'2020'!$A$16:$G$150,3,FALSE)","v":"Zumofen / Gattlen"}]
["2020-08-12",{"$f":"VLOOKUP(D293,'2020'!$A$16:$G$150,3,FALSE)","v":"Fux W., J., + Wyer Piet"},{"$f":"VLOOKUP(D293,'2020'!$A$16:$G$150,2,FALSE)","v":"Mystic"},41,21,{"$f":"VLOOKUP(E293,'2020'!$A$16:$G$150,2,FALSE)","v":"Bora"},{"$f":"VLOOKUP(E293,'2020'!$A$16:$G$150,3,FALSE)","v":"Bregy Uli + Pascal"}]
["2020-08-12",{"$f":"VLOOKUP(D294,'2020'!$A$16:$G$150,3,FALSE)","v":"Bregy Uli + Pascal"},{"$f":"VLOOKUP(D294,'2020'!$A$16:$G$150,2,FALSE)","v":"Souki"},18,112,{"$f":"VLOOKUP(E294,'2020'!$A$16:$G$150,2,FALSE)","v":"Riva "},{"$f":"VLOOKUP(E294,'2020'!$A$16:$G$150,3,FALSE)","v":"Zumofen / Gattlen"}]
["2020-08-12",{"$f":"VLOOKUP(D295,'2020'!$A$16:$G$150,3,FALSE)","v":"Stallung Passeraub"},{"$f":"VLOOKUP(D295,'2020'!$A$16:$G$150,2,FALSE)","v":"Beres"},77,51,{"$f":"VLOOKUP(E295,'2020'!$A$16:$G$150,2,FALSE)","v":"Jamanda"},{"$f":"VLOOKUP(E295,'2020'!$A$16:$G$150,3,FALSE)","v":"Hischier H. + Bühlmann J."}]
["2020-08-12",{"$f":"VLOOKUP(D296,'2020'!$A$16:$G$150,3,FALSE)","v":"Gebr. Jäger"},{"$f":"VLOOKUP(D296,'2020'!$A$16:$G$150,2,FALSE)","v":"Tiara"},47,100,{"$f":"VLOOKUP(E296,'2020'!$A$16:$G$150,2,FALSE)","v":"Tira"},{"$f":"VLOOKUP(E296,'2020'!$A$16:$G$150,3,FALSE)","v":"Williner Anton"}]
["2020-08-12",{"$f":"VLOOKUP(D297,'2020'!$A$16:$G$150,3,FALSE)","v":"Gebr. Jäger"},{"$f":"VLOOKUP(D297,'2020'!$A$16:$G$150,2,FALSE)","v":"Tiara"},47,107,{"$f":"VLOOKUP(E297,'2020'!$A$16:$G$150,2,FALSE)","v":"Violin"},{"$f":"VLOOKUP(E297,'2020'!$A$16:$G$150,3,FALSE)","v":"Zumofen / Gattlen"}]
["2020-08-12",{"$f":"VLOOKUP(D298,'2020'!$A$16:$G$150,3,FALSE)","v":"Gebr. Jäger"},{"$f":"VLOOKUP(D298,'2020'!$A$16:$G$150,2,FALSE)","v":"Dorina"},44,73,{"$f":"VLOOKUP(E298,'2020'!$A$16:$G$150,2,FALSE)","v":"Bavaria"},{"$f":"VLOOKUP(E298,'2020'!$A$16:$G$150,3,FALSE)","v":"Mathieu Leander + S."}]
["2020-08-12",{"$f":"VLOOKUP(D299,'2020'!$A$16:$G$150,3,FALSE)","v":"Tscherry E. + B."},{"$f":"VLOOKUP(D299,'2020'!$A$16:$G$150,2,FALSE)","v":"Cobra"},94,11,{"$f":"VLOOKUP(E299,'2020'!$A$16:$G$150,2,FALSE)","v":"Carcas"},{"$f":"VLOOKUP(E299,'2020'!$A$16:$G$150,3,FALSE)","v":"Bregy Ralf + Adolf"}]
["2020-08-12",{"$f":"VLOOKUP(D300,'2020'!$A$16:$G$150,3,FALSE)","v":"Jäger Carlo"},{"$f":"VLOOKUP(D300,'2020'!$A$16:$G$150,2,FALSE)","v":"Micabol"},67,39,{"$f":"VLOOKUP(E300,'2020'!$A$16:$G$150,2,FALSE)","v":"Bacardi"},{"$f":"VLOOKUP(E300,'2020'!$A$16:$G$150,3,FALSE)","v":"Fux W., J., + Wyer Piet"}]
["2020-08-12",{"$f":"VLOOKUP(D301,'2020'!$A$16:$G$150,3,FALSE)","v":"Fux W., J., + Wyer Piet"},{"$f":"VLOOKUP(D301,'2020'!$A$16:$G$150,2,FALSE)","v":"Toscana"},40,17,{"$f":"VLOOKUP(E301,'2020'!$A$16:$G$150,2,FALSE)","v":"Coquette"},{"$f":"VLOOKUP(E301,'2020'!$A$16:$G$150,3,FALSE)","v":"Bregy Ralf + Adolf"}]
["2020-08-12",{"$f":"VLOOKUP(D302,'2020'!$A$16:$G$150,3,FALSE)","v":"Bregy Ralf + Adolf"},{"$f":"VLOOKUP(D302,'2020'!$A$16:$G$150,2,FALSE)","v":"Canaille"},7,69,{"$f":"VLOOKUP(E302,'2020'!$A$16:$G$150,2,FALSE)","v":"Taverne"},{"$f":"VLOOKUP(E302,'2020'!$A$16:$G$150,3,FALSE)","v":"Jäger Carlo"}]
["2020-08-12",{"$f":"VLOOKUP(D303,'2020'!$A$16:$G$150,3,FALSE)","v":"Fux W., J., + Wyer Piet"},{"$f":"VLOOKUP(D303,'2020'!$A$16:$G$150,2,FALSE)","v":"Toscana"},40,11,{"$f":"VLOOKUP(E303,'2020'!$A$16:$G$150,2,FALSE)","v":"Carcas"},{"$f":"VLOOKUP(E303,'2020'!$A$16:$G$150,3,FALSE)","v":"Bregy Ralf + Adolf"}]
["2020-08-12",{"$f":"VLOOKUP(D304,'2020'!$A$16:$G$150,3,FALSE)","v":"Williner Anton"},{"$f":"VLOOKUP(D304,'2020'!$A$16:$G$150,2,FALSE)","v":"Diva"},99,2,{"$f":"VLOOKUP(E304,'2020'!$A$16:$G$150,2,FALSE)","v":"Fantastic"},{"$f":"VLOOKUP(E304,'2020'!$A$16:$G$150,3,FALSE)","v":"Bayard Medard + Gustav"}]
["2020-08-12",{"$f":"VLOOKUP(D305,'2020'!$A$16:$G$150,3,FALSE)","v":"Jäger Carlo"},{"$f":"VLOOKUP(D305,'2020'!$A$16:$G$150,2,FALSE)","v":"Tokio"},70,11,{"$f":"VLOOKUP(E305,'2020'!$A$16:$G$150,2,FALSE)","v":"Carcas"},{"$f":"VLOOKUP(E305,'2020'!$A$16:$G$150,3,FALSE)","v":"Bregy Ralf + Adolf"}]
["2020-08-12",{"$f":"VLOOKUP(D306,'2020'!$A$16:$G$150,3,FALSE)","v":"Bregy Ralf + Adolf"},{"$f":"VLOOKUP(D306,'2020'!$A$16:$G$150,2,FALSE)","v":"Coquette"},17,51,{"$f":"VLOOKUP(E306,'2020'!$A$16:$G$150,2,FALSE)","v":"Jamanda"},{"$f":"VLOOKUP(E306,'2020'!$A$16:$G$150,3,FALSE)","v":"Hischier H. + Bühlmann J."}]
["2020-08-12",{"$f":"VLOOKUP(D307,'2020'!$A$16:$G$150,3,FALSE)","v":"Sewer R. + Thommen S."},{"$f":"VLOOKUP(D307,'2020'!$A$16:$G$150,2,FALSE)","v":"Bolera"},91,27,{"$f":"VLOOKUP(E307,'2020'!$A$16:$G$150,2,FALSE)","v":"Murphy"},{"$f":"VLOOKUP(E307,'2020'!$A$16:$G$150,3,FALSE)","v":"Bregy Uli + Pascal"}]
["2020-08-12",{"$f":"VLOOKUP(D308,'2020'!$A$16:$G$150,3,FALSE)","v":"Zumofen / Gattlen"},{"$f":"VLOOKUP(D308,'2020'!$A$16:$G$150,2,FALSE)","v":"Fayola"},119,10,{"$f":"VLOOKUP(E308,'2020'!$A$16:$G$150,2,FALSE)","v":"Diabolo"},{"$f":"VLOOKUP(E308,'2020'!$A$16:$G$150,3,FALSE)","v":"Bregy Ralf + Adolf"}]
["2020-08-12",{"$f":"VLOOKUP(D309,'2020'!$A$16:$G$150,3,FALSE)","v":"Bregy Uli + Pascal"},{"$f":"VLOOKUP(D309,'2020'!$A$16:$G$150,2,FALSE)","v":"Tiranie"},19,9,{"$f":"VLOOKUP(E309,'2020'!$A$16:$G$150,2,FALSE)","v":"Flacari"},{"$f":"VLOOKUP(E309,'2020'!$A$16:$G$150,3,FALSE)","v":"Bregy Ralf + Adolf"}]
["2020-08-12",{"$f":"VLOOKUP(D310,'2020'!$A$16:$G$150,3,FALSE)","v":"Fam. Leiggener"},{"$f":"VLOOKUP(D310,'2020'!$A$16:$G$150,2,FALSE)","v":"Baron"},31,52,{"$f":"VLOOKUP(E310,'2020'!$A$16:$G$150,2,FALSE)","v":"Lenja"},{"$f":"VLOOKUP(E310,'2020'!$A$16:$G$150,3,FALSE)","v":"Hischier H. + Bühlmann J."}]
["2020-08-12",{"$f":"VLOOKUP(D311,'2020'!$A$16:$G$150,3,FALSE)","v":"Zumofen / Gattlen"},{"$f":"VLOOKUP(D311,'2020'!$A$16:$G$150,2,FALSE)","v":"Rena"},109,90,{"$f":"VLOOKUP(E311,'2020'!$A$16:$G$150,2,FALSE)","v":"Biscot"},{"$f":"VLOOKUP(E311,'2020'!$A$16:$G$150,3,FALSE)","v":"Sewer R. + Thommen S."}]
["2020-08-12",{"$f":"VLOOKUP(D312,'2020'!$A$16:$G$150,3,FALSE)","v":"Jäger Carlo"},{"$f":"VLOOKUP(D312,'2020'!$A$16:$G$150,2,FALSE)","v":"Sera"},64,10,{"$f":"VLOOKUP(E312,'2020'!$A$16:$G$150,2,FALSE)","v":"Diabolo"},{"$f":"VLOOKUP(E312,'2020'!$A$16:$G$150,3,FALSE)","v":"Bregy Ralf + Adolf"}]
["2020-08-12",{"$f":"VLOOKUP(D313,'2020'!$A$16:$G$150,3,FALSE)","v":"Bayard Medard + Gustav"},{"$f":"VLOOKUP(D313,'2020'!$A$16:$G$150,2,FALSE)","v":"Fantastic"},2,11,{"$f":"VLOOKUP(E313,'2020'!$A$16:$G$150,2,FALSE)","v":"Carcas"},{"$f":"VLOOKUP(E313,'2020'!$A$16:$G$150,3,FALSE)","v":"Bregy Ralf + Adolf"}]
["2020-08-12",{"$f":"VLOOKUP(D314,'2020'!$A$16:$G$150,3,FALSE)","v":"Bregy Ralf + Adolf"},{"$f":"VLOOKUP(D314,'2020'!$A$16:$G$150,2,FALSE)","v":"Cashida"},15,32,{"$f":"VLOOKUP(E314,'2020'!$A$16:$G$150,2,FALSE)","v":"Mira"},{"$f":"VLOOKUP(E314,'2020'!$A$16:$G$150,3,FALSE)","v":"Fam. Leiggener"}]
["2020-08-12",{"$f":"VLOOKUP(D315,'2020'!$A$16:$G$150,3,FALSE)","v":"Bayard Medard + Gustav"},{"$f":"VLOOKUP(D315,'2020'!$A$16:$G$150,2,FALSE)","v":"Fantastic"},2,15,{"$f":"VLOOKUP(E315,'2020'!$A$16:$G$150,2,FALSE)","v":"Cashida"},{"$f":"VLOOKUP(E315,'2020'!$A$16:$G$150,3,FALSE)","v":"Bregy Ralf + Adolf"}]
["2020-08-12",{"$f":"VLOOKUP(D316,'2020'!$A$16:$G$150,3,FALSE)","v":"Bregy Ralf + Adolf"},{"$f":"VLOOKUP(D316,'2020'!$A$16:$G$150,2,FALSE)","v":"Coquette"},17,72,{"$f":"VLOOKUP(E316,'2020'!$A$16:$G$150,2,FALSE)","v":"Baronesse"},{"$f":"VLOOKUP(E316,'2020'!$A$16:$G$150,3,FALSE)","v":"Mathieu Leander + S."}]
["2020-08-12",{"$f":"VLOOKUP(D317,'2020'!$A$16:$G$150,3,FALSE)","v":"Zumofen / Gattlen"},{"$f":"VLOOKUP(D317,'2020'!$A$16:$G$150,2,FALSE)","v":"Rambo"},106,103,{"$f":"VLOOKUP(E317,'2020'!$A$16:$G$150,2,FALSE)","v":"Roxana"},{"$f":"VLOOKUP(E317,'2020'!$A$16:$G$150,3,FALSE)","v":"Wyssen Diego u. Madlen"}]
["2020-08-12",{"$f":"VLOOKUP(D318,'2020'!$A$16:$G$150,3,FALSE)","v":"Fux W., J., + Wyer Piet"},{"$f":"VLOOKUP(D318,'2020'!$A$16:$G$150,2,FALSE)","v":"Toscana"},40,117,{"$f":"VLOOKUP(E318,'2020'!$A$16:$G$150,2,FALSE)","v":"Rigolo"},{"$f":"VLOOKUP(E318,'2020'!$A$16:$G$150,3,FALSE)","v":"Zumofen / Gattlen"}]
["2020-08-11",{"$f":"VLOOKUP(D319,'2020'!$A$16:$G$150,3,FALSE)","v":"Bregy Ralf + Adolf"},{"$f":"VLOOKUP(D319,'2020'!$A$16:$G$150,2,FALSE)","v":"Canabis"},14,82,{"$f":"VLOOKUP(E319,'2020'!$A$16:$G$150,2,FALSE)","v":"Bonita"},{"$f":"VLOOKUP(E319,'2020'!$A$16:$G$150,3,FALSE)","v":"Stallung Passeraub "}]
["2020-08-11",{"$f":"VLOOKUP(D320,'2020'!$A$16:$G$150,3,FALSE)","v":"Bregy Uli + Pascal"},{"$f":"VLOOKUP(D320,'2020'!$A$16:$G$150,2,FALSE)","v":"Caline"},20,97,{"$f":"VLOOKUP(E320,'2020'!$A$16:$G$150,2,FALSE)","v":"Vanessa"},{"$f":"VLOOKUP(E320,'2020'!$A$16:$G$150,3,FALSE)","v":"Williner Anton"}]
["2020-08-11",{"$f":"VLOOKUP(D321,'2020'!$A$16:$G$150,3,FALSE)","v":"Bregy Uli + Pascal"},{"$f":"VLOOKUP(D321,'2020'!$A$16:$G$150,2,FALSE)","v":"Catalina"},24,22,{"$f":"VLOOKUP(E321,'2020'!$A$16:$G$150,2,FALSE)","v":"Xaphir"},{"$f":"VLOOKUP(E321,'2020'!$A$16:$G$150,3,FALSE)","v":"Bregy Uli + Pascal"}]
["2020-08-11",{"$f":"VLOOKUP(D322,'2020'!$A$16:$G$150,3,FALSE)","v":"Jäger Carlo"},{"$f":"VLOOKUP(D322,'2020'!$A$16:$G$150,2,FALSE)","v":"Bataille"},58,98,{"$f":"VLOOKUP(E322,'2020'!$A$16:$G$150,2,FALSE)","v":"Colonell"},{"$f":"VLOOKUP(E322,'2020'!$A$16:$G$150,3,FALSE)","v":"Williner Anton"}]
["2020-08-11",{"$f":"VLOOKUP(D323,'2020'!$A$16:$G$150,3,FALSE)","v":"Bayard Medard + Gustav"},{"$f":"VLOOKUP(D323,'2020'!$A$16:$G$150,2,FALSE)","v":"Vampir"},4,51,{"$f":"VLOOKUP(E323,'2020'!$A$16:$G$150,2,FALSE)","v":"Jamanda"},{"$f":"VLOOKUP(E323,'2020'!$A$16:$G$150,3,FALSE)","v":"Hischier H. + Bühlmann J."}]
["2020-08-11",{"$f":"VLOOKUP(D324,'2020'!$A$16:$G$150,3,FALSE)","v":"Jäger Carlo"},{"$f":"VLOOKUP(D324,'2020'!$A$16:$G$150,2,FALSE)","v":"Metis"},66,90,{"$f":"VLOOKUP(E324,'2020'!$A$16:$G$150,2,FALSE)","v":"Biscot"},{"$f":"VLOOKUP(E324,'2020'!$A$16:$G$150,3,FALSE)","v":"Sewer R. + Thommen S."}]
["2020-08-11",{"$f":"VLOOKUP(D325,'2020'!$A$16:$G$150,3,FALSE)","v":"Bregy Uli + Pascal"},{"$f":"VLOOKUP(D325,'2020'!$A$16:$G$150,2,FALSE)","v":"Souki"},18,46,{"$f":"VLOOKUP(E325,'2020'!$A$16:$G$150,2,FALSE)","v":"Lorens"},{"$f":"VLOOKUP(E325,'2020'!$A$16:$G$150,3,FALSE)","v":"Gebr. Jäger"}]
["2020-08-11",{"$f":"VLOOKUP(D326,'2020'!$A$16:$G$150,3,FALSE)","v":"Williner Anton"},{"$f":"VLOOKUP(D326,'2020'!$A$16:$G$150,2,FALSE)","v":"Tira"},100,104,{"$f":"VLOOKUP(E326,'2020'!$A$16:$G$150,2,FALSE)","v":"Xena"},{"$f":"VLOOKUP(E326,'2020'!$A$16:$G$150,3,FALSE)","v":"Wyssen Diego u. Madlen"}]
["2020-08-11",{"$f":"VLOOKUP(D327,'2020'!$A$16:$G$150,3,FALSE)","v":"Williner Anton"},{"$f":"VLOOKUP(D327,'2020'!$A$16:$G$150,2,FALSE)","v":"Diva"},99,2,{"$f":"VLOOKUP(E327,'2020'!$A$16:$G$150,2,FALSE)","v":"Fantastic"},{"$f":"VLOOKUP(E327,'2020'!$A$16:$G$150,3,FALSE)","v":"Bayard Medard + Gustav"}]
["2020-08-11",{"$f":"VLOOKUP(D328,'2020'!$A$16:$G$150,3,FALSE)","v":"Zumofen / Gattlen"},{"$f":"VLOOKUP(D328,'2020'!$A$16:$G$150,2,FALSE)","v":"Violin"},107,86,{"$f":"VLOOKUP(E328,'2020'!$A$16:$G$150,2,FALSE)","v":"Babylon"},{"$f":"VLOOKUP(E328,'2020'!$A$16:$G$150,3,FALSE)","v":"Stallung zum Stäg"}]
["2020-08-11",{"$f":"VLOOKUP(D329,'2020'!$A$16:$G$150,3,FALSE)","v":"Zumofen / Gattlen"},{"$f":"VLOOKUP(D329,'2020'!$A$16:$G$150,2,FALSE)","v":"Fayola"},119,18,{"$f":"VLOOKUP(E329,'2020'!$A$16:$G$150,2,FALSE)","v":"Souki"},{"$f":"VLOOKUP(E329,'2020'!$A$16:$G$150,3,FALSE)","v":"Bregy Uli + Pascal"}]
["2020-08-11",{"$f":"VLOOKUP(D330,'2020'!$A$16:$G$150,3,FALSE)","v":"Williner Anton"},{"$f":"VLOOKUP(D330,'2020'!$A$16:$G$150,2,FALSE)","v":"Tira"},100,14,{"$f":"VLOOKUP(E330,'2020'!$A$16:$G$150,2,FALSE)","v":"Canabis"},{"$f":"VLOOKUP(E330,'2020'!$A$16:$G$150,3,FALSE)","v":"Bregy Ralf + Adolf"}]
["2020-08-11",{"$f":"VLOOKUP(D331,'2020'!$A$16:$G$150,3,FALSE)","v":"Zumofen / Gattlen"},{"$f":"VLOOKUP(D331,'2020'!$A$16:$G$150,2,FALSE)","v":"Violin"},107,87,{"$f":"VLOOKUP(E331,'2020'!$A$16:$G$150,2,FALSE)","v":"Benika"},{"$f":"VLOOKUP(E331,'2020'!$A$16:$G$150,3,FALSE)","v":"Stallung zum Stäg"}]
["2020-08-11",{"$f":"VLOOKUP(D332,'2020'!$A$16:$G$150,3,FALSE)","v":"Bayard Medard + Gustav"},{"$f":"VLOOKUP(D332,'2020'!$A$16:$G$150,2,FALSE)","v":"Venus"},6,113,{"$f":"VLOOKUP(E332,'2020'!$A$16:$G$150,2,FALSE)","v":"Vanda"},{"$f":"VLOOKUP(E332,'2020'!$A$16:$G$150,3,FALSE)","v":"Zumofen / Gattlen"}]
["2020-08-11",{"$f":"VLOOKUP(D333,'2020'!$A$16:$G$150,3,FALSE)","v":"Bregy Uli + Pascal"},{"$f":"VLOOKUP(D333,'2020'!$A$16:$G$150,2,FALSE)","v":"Bora"},21,9,{"$f":"VLOOKUP(E333,'2020'!$A$16:$G$150,2,FALSE)","v":"Flacari"},{"$f":"VLOOKUP(E333,'2020'!$A$16:$G$150,3,FALSE)","v":"Bregy Ralf + Adolf"}]
["2020-08-11",{"$f":"VLOOKUP(D334,'2020'!$A$16:$G$150,3,FALSE)","v":"Bayard Medard + Gustav"},{"$f":"VLOOKUP(D334,'2020'!$A$16:$G$150,2,FALSE)","v":"Venus"},6,111,{"$f":"VLOOKUP(E334,'2020'!$A$16:$G$150,2,FALSE)","v":"Vidona"},{"$f":"VLOOKUP(E334,'2020'!$A$16:$G$150,3,FALSE)","v":"Zumofen / Gattlen"}]
["2020-08-11",{"$f":"VLOOKUP(D335,'2020'!$A$16:$G$150,3,FALSE)","v":"Bregy Uli + Pascal"},{"$f":"VLOOKUP(D335,'2020'!$A$16:$G$150,2,FALSE)","v":"Souki"},18,23,{"$f":"VLOOKUP(E335,'2020'!$A$16:$G$150,2,FALSE)","v":"Pandora"},{"$f":"VLOOKUP(E335,'2020'!$A$16:$G$150,3,FALSE)","v":"Bregy Uli + Pascal"}]
["2020-08-11",{"$f":"VLOOKUP(D336,'2020'!$A$16:$G$150,3,FALSE)","v":"Bregy Uli + Pascal"},{"$f":"VLOOKUP(D336,'2020'!$A$16:$G$150,2,FALSE)","v":"Pandora"},23,18,{"$f":"VLOOKUP(E336,'2020'!$A$16:$G$150,2,FALSE)","v":"Souki"},{"$f":"VLOOKUP(E336,'2020'!$A$16:$G$150,3,FALSE)","v":"Bregy Uli + Pascal"}]
["2020-08-11",{"$f":"VLOOKUP(D337,'2020'!$A$16:$G$150,3,FALSE)","v":"Jäger Carlo"},{"$f":"VLOOKUP(D337,'2020'!$A$16:$G$150,2,FALSE)","v":"Metis"},66,87,{"$f":"VLOOKUP(E337,'2020'!$A$16:$G$150,2,FALSE)","v":"Benika"},{"$f":"VLOOKUP(E337,'2020'!$A$16:$G$150,3,FALSE)","v":"Stallung zum Stäg"}]
["2020-08-10",{"$f":"VLOOKUP(D338,'2020'!$A$16:$G$150,3,FALSE)","v":"Zumofen / Gattlen"},{"$f":"VLOOKUP(D338,'2020'!$A$16:$G$150,2,FALSE)","v":"Xena"},110,98,{"$f":"VLOOKUP(E338,'2020'!$A$16:$G$150,2,FALSE)","v":"Colonell"},{"$f":"VLOOKUP(E338,'2020'!$A$16:$G$150,3,FALSE)","v":"Williner Anton"}]
["2020-08-10",{"$f":"VLOOKUP(D339,'2020'!$A$16:$G$150,3,FALSE)","v":"Williner Anton"},{"$f":"VLOOKUP(D339,'2020'!$A$16:$G$150,2,FALSE)","v":"Diva"},99,26,{"$f":"VLOOKUP(E339,'2020'!$A$16:$G$150,2,FALSE)","v":"Cataleya"},{"$f":"VLOOKUP(E339,'2020'!$A$16:$G$150,3,FALSE)","v":"Bregy Uli + Pascal"}]
["2020-08-10",{"$f":"VLOOKUP(D340,'2020'!$A$16:$G$150,3,FALSE)","v":"Zumofen / Gattlen"},{"$f":"VLOOKUP(D340,'2020'!$A$16:$G$150,2,FALSE)","v":"Vanda"},113,23,{"$f":"VLOOKUP(E340,'2020'!$A$16:$G$150,2,FALSE)","v":"Pandora"},{"$f":"VLOOKUP(E340,'2020'!$A$16:$G$150,3,FALSE)","v":"Bregy Uli + Pascal"}]
["2020-08-10",{"$f":"VLOOKUP(D341,'2020'!$A$16:$G$150,3,FALSE)","v":"Bregy Ralf + Adolf"},{"$f":"VLOOKUP(D341,'2020'!$A$16:$G$150,2,FALSE)","v":"Flacari"},9,46,{"$f":"VLOOKUP(E341,'2020'!$A$16:$G$150,2,FALSE)","v":"Lorens"},{"$f":"VLOOKUP(E341,'2020'!$A$16:$G$150,3,FALSE)","v":"Gebr. Jäger"}]
["2020-08-10",{"$f":"VLOOKUP(D342,'2020'!$A$16:$G$150,3,FALSE)","v":"Bregy Ralf + Adolf"},{"$f":"VLOOKUP(D342,'2020'!$A$16:$G$150,2,FALSE)","v":"Coquette"},17,41,{"$f":"VLOOKUP(E342,'2020'!$A$16:$G$150,2,FALSE)","v":"Mystic"},{"$f":"VLOOKUP(E342,'2020'!$A$16:$G$150,3,FALSE)","v":"Fux W., J., + Wyer Piet"}]
["2020-08-10",{"$f":"VLOOKUP(D343,'2020'!$A$16:$G$150,3,FALSE)","v":"Gebr. Jäger"},{"$f":"VLOOKUP(D343,'2020'!$A$16:$G$150,2,FALSE)","v":"Lorens"},46,29,{"$f":"VLOOKUP(E343,'2020'!$A$16:$G$150,2,FALSE)","v":"Rebell"},{"$f":"VLOOKUP(E343,'2020'!$A$16:$G$150,3,FALSE)","v":"Fam. Leiggener"}]
["2020-08-10",{"$f":"VLOOKUP(D344,'2020'!$A$16:$G$150,3,FALSE)","v":"Tscherry E. + B."},{"$f":"VLOOKUP(D344,'2020'!$A$16:$G$150,2,FALSE)","v":"Carolin"},93,60,{"$f":"VLOOKUP(E344,'2020'!$A$16:$G$150,2,FALSE)","v":"Bayonne"},{"$f":"VLOOKUP(E344,'2020'!$A$16:$G$150,3,FALSE)","v":"Jäger Carlo"}]
["2020-08-10",{"$f":"VLOOKUP(D345,'2020'!$A$16:$G$150,3,FALSE)","v":"Zumofen / Gattlen"},{"$f":"VLOOKUP(D345,'2020'!$A$16:$G$150,2,FALSE)","v":"Maya"},114,61,{"$f":"VLOOKUP(E345,'2020'!$A$16:$G$150,2,FALSE)","v":"Grolla"},{"$f":"VLOOKUP(E345,'2020'!$A$16:$G$150,3,FALSE)","v":"Jäger Carlo"}]
["2020-08-10",{"$f":"VLOOKUP(D346,'2020'!$A$16:$G$150,3,FALSE)","v":"Zumofen / Gattlen"},{"$f":"VLOOKUP(D346,'2020'!$A$16:$G$150,2,FALSE)","v":"Riva "},112,80,{"$f":"VLOOKUP(E346,'2020'!$A$16:$G$150,2,FALSE)","v":"Manou"},{"$f":"VLOOKUP(E346,'2020'!$A$16:$G$150,3,FALSE)","v":"Stallung Passeraub "}]
["2020-08-10",{"$f":"VLOOKUP(D347,'2020'!$A$16:$G$150,3,FALSE)","v":"Jäger Carlo"},{"$f":"VLOOKUP(D347,'2020'!$A$16:$G$150,2,FALSE)","v":"Tokio"},70,112,{"$f":"VLOOKUP(E347,'2020'!$A$16:$G$150,2,FALSE)","v":"Riva "},{"$f":"VLOOKUP(E347,'2020'!$A$16:$G$150,3,FALSE)","v":"Zumofen / Gattlen"}]
["2020-08-10",{"$f":"VLOOKUP(D348,'2020'!$A$16:$G$150,3,FALSE)","v":"Stallung zum Stäg"},{"$f":"VLOOKUP(D348,'2020'!$A$16:$G$150,2,FALSE)","v":"Babylon"},86,88,{"$f":"VLOOKUP(E348,'2020'!$A$16:$G$150,2,FALSE)","v":"Malice"},{"$f":"VLOOKUP(E348,'2020'!$A$16:$G$150,3,FALSE)","v":"Sewer R. + Thommen S."}]
["2020-08-10",{"$f":"VLOOKUP(D349,'2020'!$A$16:$G$150,3,FALSE)","v":"Bregy Ralf + Adolf"},{"$f":"VLOOKUP(D349,'2020'!$A$16:$G$150,2,FALSE)","v":"Canabis"},14,40,{"$f":"VLOOKUP(E349,'2020'!$A$16:$G$150,2,FALSE)","v":"Toscana"},{"$f":"VLOOKUP(E349,'2020'!$A$16:$G$150,3,FALSE)","v":"Fux W., J., + Wyer Piet"}]
["2020-08-09",{"$f":"VLOOKUP(D350,'2020'!$A$16:$G$150,3,FALSE)","v":"Bayard Medard + Gustav"},{"$f":"VLOOKUP(D350,'2020'!$A$16:$G$150,2,FALSE)","v":"Venus"},6,109,{"$f":"VLOOKUP(E350,'2020'!$A$16:$G$150,2,FALSE)","v":"Rena"},{"$f":"VLOOKUP(E350,'2020'!$A$16:$G$150,3,FALSE)","v":"Zumofen / Gattlen"}]
["2020-08-09",{"$f":"VLOOKUP(D351,'2020'!$A$16:$G$150,3,FALSE)","v":"Sewer R. + Thommen S."},{"$f":"VLOOKUP(D351,'2020'!$A$16:$G$150,2,FALSE)","v":"Biscot"},90,41,{"$f":"VLOOKUP(E351,'2020'!$A$16:$G$150,2,FALSE)","v":"Mystic"},{"$f":"VLOOKUP(E351,'2020'!$A$16:$G$150,3,FALSE)","v":"Fux W., J., + Wyer Piet"}]
["2020-08-09",{"$f":"VLOOKUP(D352,'2020'!$A$16:$G$150,3,FALSE)","v":"Zumofen / Gattlen"},{"$f":"VLOOKUP(D352,'2020'!$A$16:$G$150,2,FALSE)","v":"Rambo"},106,39,{"$f":"VLOOKUP(E352,'2020'!$A$16:$G$150,2,FALSE)","v":"Bacardi"},{"$f":"VLOOKUP(E352,'2020'!$A$16:$G$150,3,FALSE)","v":"Fux W., J., + Wyer Piet"}]
["2020-08-09",{"$f":"VLOOKUP(D353,'2020'!$A$16:$G$150,3,FALSE)","v":"Bregy Ralf + Adolf"},{"$f":"VLOOKUP(D353,'2020'!$A$16:$G$150,2,FALSE)","v":"Coquette"},17,39,{"$f":"VLOOKUP(E353,'2020'!$A$16:$G$150,2,FALSE)","v":"Bacardi"},{"$f":"VLOOKUP(E353,'2020'!$A$16:$G$150,3,FALSE)","v":"Fux W., J., + Wyer Piet"}]
["2020-08-09",{"$f":"VLOOKUP(D354,'2020'!$A$16:$G$150,3,FALSE)","v":"Fam. Leiggener"},{"$f":"VLOOKUP(D354,'2020'!$A$16:$G$150,2,FALSE)","v":"Rebell"},29,96,{"$f":"VLOOKUP(E354,'2020'!$A$16:$G$150,2,FALSE)","v":"Tigra"},{"$f":"VLOOKUP(E354,'2020'!$A$16:$G$150,3,FALSE)","v":"Williner Anton"}]
["2020-08-09",{"$f":"VLOOKUP(D355,'2020'!$A$16:$G$150,3,FALSE)","v":"Jäger Carlo"},{"$f":"VLOOKUP(D355,'2020'!$A$16:$G$150,2,FALSE)","v":"Candice"},62,71,{"$f":"VLOOKUP(E355,'2020'!$A$16:$G$150,2,FALSE)","v":"Baghira"},{"$f":"VLOOKUP(E355,'2020'!$A$16:$G$150,3,FALSE)","v":"Mathieu Leander + S."}]
["2020-08-09",{"$f":"VLOOKUP(D356,'2020'!$A$16:$G$150,3,FALSE)","v":"Bayard Medard + Gustav"},{"$f":"VLOOKUP(D356,'2020'!$A$16:$G$150,2,FALSE)","v":"Fantastic"},2,61,{"$f":"VLOOKUP(E356,'2020'!$A$16:$G$150,2,FALSE)","v":"Grolla"},{"$f":"VLOOKUP(E356,'2020'!$A$16:$G$150,3,FALSE)","v":"Jäger Carlo"}]
["2020-08-09",{"$f":"VLOOKUP(D357,'2020'!$A$16:$G$150,3,FALSE)","v":"Bregy Ralf + Adolf"},{"$f":"VLOOKUP(D357,'2020'!$A$16:$G$150,2,FALSE)","v":"Coquette"},17,63,{"$f":"VLOOKUP(E357,'2020'!$A$16:$G$150,2,FALSE)","v":"Pisa"},{"$f":"VLOOKUP(E357,'2020'!$A$16:$G$150,3,FALSE)","v":"Jäger Carlo"}]
["2020-08-09",{"$f":"VLOOKUP(D358,'2020'!$A$16:$G$150,3,FALSE)","v":"Fux W., J., + Wyer Piet"},{"$f":"VLOOKUP(D358,'2020'!$A$16:$G$150,2,FALSE)","v":"Toscana"},40,89,{"$f":"VLOOKUP(E358,'2020'!$A$16:$G$150,2,FALSE)","v":"Tiara"},{"$f":"VLOOKUP(E358,'2020'!$A$16:$G$150,3,FALSE)","v":"Sewer R. + Thommen S."}]
["2020-08-09",{"$f":"VLOOKUP(D359,'2020'!$A$16:$G$150,3,FALSE)","v":"Jäger Carlo"},{"$f":"VLOOKUP(D359,'2020'!$A$16:$G$150,2,FALSE)","v":"Taverne"},69,88,{"$f":"VLOOKUP(E359,'2020'!$A$16:$G$150,2,FALSE)","v":"Malice"},{"$f":"VLOOKUP(E359,'2020'!$A$16:$G$150,3,FALSE)","v":"Sewer R. + Thommen S."}]
["2020-08-09",{"$f":"VLOOKUP(D360,'2020'!$A$16:$G$150,3,FALSE)","v":"Stallung Passeraub "},{"$f":"VLOOKUP(D360,'2020'!$A$16:$G$150,2,FALSE)","v":"Manou"},80,31,{"$f":"VLOOKUP(E360,'2020'!$A$16:$G$150,2,FALSE)","v":"Baron"},{"$f":"VLOOKUP(E360,'2020'!$A$16:$G$150,3,FALSE)","v":"Fam. Leiggener"}]
["2020-08-09",{"$f":"VLOOKUP(D361,'2020'!$A$16:$G$150,3,FALSE)","v":"Zumofen / Gattlen"},{"$f":"VLOOKUP(D361,'2020'!$A$16:$G$150,2,FALSE)","v":"Vanda"},113,4,{"$f":"VLOOKUP(E361,'2020'!$A$16:$G$150,2,FALSE)","v":"Vampir"},{"$f":"VLOOKUP(E361,'2020'!$A$16:$G$150,3,FALSE)","v":"Bayard Medard + Gustav"}]
["2020-08-09",{"$f":"VLOOKUP(D362,'2020'!$A$16:$G$150,3,FALSE)","v":"Williner Anton"},{"$f":"VLOOKUP(D362,'2020'!$A$16:$G$150,2,FALSE)","v":"Tigra"},96,117,{"$f":"VLOOKUP(E362,'2020'!$A$16:$G$150,2,FALSE)","v":"Rigolo"},{"$f":"VLOOKUP(E362,'2020'!$A$16:$G$150,3,FALSE)","v":"Zumofen / Gattlen"}]
["2020-08-09",{"$f":"VLOOKUP(D363,'2020'!$A$16:$G$150,3,FALSE)","v":"Bregy Uli + Pascal"},{"$f":"VLOOKUP(D363,'2020'!$A$16:$G$150,2,FALSE)","v":"Murphy"},27,25,{"$f":"VLOOKUP(E363,'2020'!$A$16:$G$150,2,FALSE)","v":"Calette"},{"$f":"VLOOKUP(E363,'2020'!$A$16:$G$150,3,FALSE)","v":"Bregy Uli + Pascal"}]
["2020-08-09",{"$f":"VLOOKUP(D364,'2020'!$A$16:$G$150,3,FALSE)","v":"Gebr. Jäger"},{"$f":"VLOOKUP(D364,'2020'!$A$16:$G$150,2,FALSE)","v":"Tiara"},47,115,{"$f":"VLOOKUP(E364,'2020'!$A$16:$G$150,2,FALSE)","v":"Pepitta"},{"$f":"VLOOKUP(E364,'2020'!$A$16:$G$150,3,FALSE)","v":"Zumofen / Gattlen"}]
["2020-08-09",{"$f":"VLOOKUP(D365,'2020'!$A$16:$G$150,3,FALSE)","v":"Bayard Medard + Gustav"},{"$f":"VLOOKUP(D365,'2020'!$A$16:$G$150,2,FALSE)","v":"Vampir"},4,68,{"$f":"VLOOKUP(E365,'2020'!$A$16:$G$150,2,FALSE)","v":"Pivoine"},{"$f":"VLOOKUP(E365,'2020'!$A$16:$G$150,3,FALSE)","v":"Jäger Carlo"}]
["2020-08-09",{"$f":"VLOOKUP(D366,'2020'!$A$16:$G$150,3,FALSE)","v":"Bayard Medard + Gustav"},{"$f":"VLOOKUP(D366,'2020'!$A$16:$G$150,2,FALSE)","v":"Venus"},6,101,{"$f":"VLOOKUP(E366,'2020'!$A$16:$G$150,2,FALSE)","v":"Xandria"},{"$f":"VLOOKUP(E366,'2020'!$A$16:$G$150,3,FALSE)","v":"Wyssen Diego u. Madlen"}]
["2020-08-09",{"$f":"VLOOKUP(D367,'2020'!$A$16:$G$150,3,FALSE)","v":"Zumofen / Gattlen"},{"$f":"VLOOKUP(D367,'2020'!$A$16:$G$150,2,FALSE)","v":"Violette"},108,32,{"$f":"VLOOKUP(E367,'2020'!$A$16:$G$150,2,FALSE)","v":"Mira"},{"$f":"VLOOKUP(E367,'2020'!$A$16:$G$150,3,FALSE)","v":"Fam. Leiggener"}]
["2020-08-09",{"$f":"VLOOKUP(D368,'2020'!$A$16:$G$150,3,FALSE)","v":"Zumofen / Gattlen"},{"$f":"VLOOKUP(D368,'2020'!$A$16:$G$150,2,FALSE)","v":"Fayola"},119,107,{"$f":"VLOOKUP(E368,'2020'!$A$16:$G$150,2,FALSE)","v":"Violin"},{"$f":"VLOOKUP(E368,'2020'!$A$16:$G$150,3,FALSE)","v":"Zumofen / Gattlen"}]
["2020-08-08",{"$f":"VLOOKUP(D369,'2020'!$A$16:$G$150,3,FALSE)","v":"Wyssen Diego u. Madlen"},{"$f":"VLOOKUP(D369,'2020'!$A$16:$G$150,2,FALSE)","v":"Rasta"},102,14,{"$f":"VLOOKUP(E369,'2020'!$A$16:$G$150,2,FALSE)","v":"Canabis"},{"$f":"VLOOKUP(E369,'2020'!$A$16:$G$150,3,FALSE)","v":"Bregy Ralf + Adolf"}]
["2020-08-08",{"$f":"VLOOKUP(D370,'2020'!$A$16:$G$150,3,FALSE)","v":"Stallung Passeraub"},{"$f":"VLOOKUP(D370,'2020'!$A$16:$G$150,2,FALSE)","v":"Beres"},77,43,{"$f":"VLOOKUP(E370,'2020'!$A$16:$G$150,2,FALSE)","v":"Pampère"},{"$f":"VLOOKUP(E370,'2020'!$A$16:$G$150,3,FALSE)","v":"Fux W., J., + Wyer Piet"}]
["2020-08-08",{"$f":"VLOOKUP(D371,'2020'!$A$16:$G$150,3,FALSE)","v":"Fam. Leiggener"},{"$f":"VLOOKUP(D371,'2020'!$A$16:$G$150,2,FALSE)","v":"Bulle"},30,79,{"$f":"VLOOKUP(E371,'2020'!$A$16:$G$150,2,FALSE)","v":"Marla"},{"$f":"VLOOKUP(E371,'2020'!$A$16:$G$150,3,FALSE)","v":"Stallung Passeraub "}]
["2020-08-08",{"$f":"VLOOKUP(D372,'2020'!$A$16:$G$150,3,FALSE)","v":"Jäger Carlo"},{"$f":"VLOOKUP(D372,'2020'!$A$16:$G$150,2,FALSE)","v":"Bataille"},58,11,{"$f":"VLOOKUP(E372,'2020'!$A$16:$G$150,2,FALSE)","v":"Carcas"},{"$f":"VLOOKUP(E372,'2020'!$A$16:$G$150,3,FALSE)","v":"Bregy Ralf + Adolf"}]
["2020-08-08",{"$f":"VLOOKUP(D373,'2020'!$A$16:$G$150,3,FALSE)","v":"Zumofen / Gattlen"},{"$f":"VLOOKUP(D373,'2020'!$A$16:$G$150,2,FALSE)","v":"Rena"},109,115,{"$f":"VLOOKUP(E373,'2020'!$A$16:$G$150,2,FALSE)","v":"Pepitta"},{"$f":"VLOOKUP(E373,'2020'!$A$16:$G$150,3,FALSE)","v":"Zumofen / Gattlen"}]
["2020-08-08",{"$f":"VLOOKUP(D374,'2020'!$A$16:$G$150,3,FALSE)","v":"Bregy Ralf + Adolf"},{"$f":"VLOOKUP(D374,'2020'!$A$16:$G$150,2,FALSE)","v":"Canabis"},14,77,{"$f":"VLOOKUP(E374,'2020'!$A$16:$G$150,2,FALSE)","v":"Beres"},{"$f":"VLOOKUP(E374,'2020'!$A$16:$G$150,3,FALSE)","v":"Stallung Passeraub"}]
["2020-08-08",{"$f":"VLOOKUP(D375,'2020'!$A$16:$G$150,3,FALSE)","v":"Zumofen / Gattlen"},{"$f":"VLOOKUP(D375,'2020'!$A$16:$G$150,2,FALSE)","v":"Violette"},108,40,{"$f":"VLOOKUP(E375,'2020'!$A$16:$G$150,2,FALSE)","v":"Toscana"},{"$f":"VLOOKUP(E375,'2020'!$A$16:$G$150,3,FALSE)","v":"Fux W., J., + Wyer Piet"}]
["2020-08-08",{"$f":"VLOOKUP(D376,'2020'!$A$16:$G$150,3,FALSE)","v":"Stallung Passeraub "},{"$f":"VLOOKUP(D376,'2020'!$A$16:$G$150,2,FALSE)","v":"Bonita"},82,14,{"$f":"VLOOKUP(E376,'2020'!$A$16:$G$150,2,FALSE)","v":"Canabis"},{"$f":"VLOOKUP(E376,'2020'!$A$16:$G$150,3,FALSE)","v":"Bregy Ralf + Adolf"}]
["2020-08-07",{"$f":"VLOOKUP(D377,'2020'!$A$16:$G$150,3,FALSE)","v":"Bregy Uli + Pascal"},{"$f":"VLOOKUP(D377,'2020'!$A$16:$G$150,2,FALSE)","v":"Murphy"},27,25,{"$f":"VLOOKUP(E377,'2020'!$A$16:$G$150,2,FALSE)","v":"Calette"},{"$f":"VLOOKUP(E377,'2020'!$A$16:$G$150,3,FALSE)","v":"Bregy Uli + Pascal"}]
["2020-08-07",{"$f":"VLOOKUP(D378,'2020'!$A$16:$G$150,3,FALSE)","v":"Jäger Carlo"},{"$f":"VLOOKUP(D378,'2020'!$A$16:$G$150,2,FALSE)","v":"Candice"},62,47,{"$f":"VLOOKUP(E378,'2020'!$A$16:$G$150,2,FALSE)","v":"Tiara"},{"$f":"VLOOKUP(E378,'2020'!$A$16:$G$150,3,FALSE)","v":"Gebr. Jäger"}]
["2020-08-07",{"$f":"VLOOKUP(D379,'2020'!$A$16:$G$150,3,FALSE)","v":"Jäger Carlo"},{"$f":"VLOOKUP(D379,'2020'!$A$16:$G$150,2,FALSE)","v":"Micabol"},67,23,{"$f":"VLOOKUP(E379,'2020'!$A$16:$G$150,2,FALSE)","v":"Pandora"},{"$f":"VLOOKUP(E379,'2020'!$A$16:$G$150,3,FALSE)","v":"Bregy Uli + Pascal"}]
["2020-08-07",{"$f":"VLOOKUP(D380,'2020'!$A$16:$G$150,3,FALSE)","v":"Zumofen / Gattlen"},{"$f":"VLOOKUP(D380,'2020'!$A$16:$G$150,2,FALSE)","v":"Violette"},108,71,{"$f":"VLOOKUP(E380,'2020'!$A$16:$G$150,2,FALSE)","v":"Baghira"},{"$f":"VLOOKUP(E380,'2020'!$A$16:$G$150,3,FALSE)","v":"Mathieu Leander + S."}]
["2020-08-07",{"$f":"VLOOKUP(D381,'2020'!$A$16:$G$150,3,FALSE)","v":"Bregy Uli + Pascal"},{"$f":"VLOOKUP(D381,'2020'!$A$16:$G$150,2,FALSE)","v":"Catalina"},24,94,{"$f":"VLOOKUP(E381,'2020'!$A$16:$G$150,2,FALSE)","v":"Cobra"},{"$f":"VLOOKUP(E381,'2020'!$A$16:$G$150,3,FALSE)","v":"Tscherry E. + B."}]
["2020-08-07",{"$f":"VLOOKUP(D382,'2020'!$A$16:$G$150,3,FALSE)","v":"Zumofen / Gattlen"},{"$f":"VLOOKUP(D382,'2020'!$A$16:$G$150,2,FALSE)","v":"Vanda"},113,40,{"$f":"VLOOKUP(E382,'2020'!$A$16:$G$150,2,FALSE)","v":"Toscana"},{"$f":"VLOOKUP(E382,'2020'!$A$16:$G$150,3,FALSE)","v":"Fux W., J., + Wyer Piet"}]
["2020-08-07",{"$f":"VLOOKUP(D383,'2020'!$A$16:$G$150,3,FALSE)","v":"Wyssen Diego u. Madlen"},{"$f":"VLOOKUP(D383,'2020'!$A$16:$G$150,2,FALSE)","v":"Xhyla"},105,107,{"$f":"VLOOKUP(E383,'2020'!$A$16:$G$150,2,FALSE)","v":"Violin"},{"$f":"VLOOKUP(E383,'2020'!$A$16:$G$150,3,FALSE)","v":"Zumofen / Gattlen"}]
["2020-08-07",{"$f":"VLOOKUP(D384,'2020'!$A$16:$G$150,3,FALSE)","v":"Bregy Ralf + Adolf"},{"$f":"VLOOKUP(D384,'2020'!$A$16:$G$150,2,FALSE)","v":"Canabis"},14,104,{"$f":"VLOOKUP(E384,'2020'!$A$16:$G$150,2,FALSE)","v":"Xena"},{"$f":"VLOOKUP(E384,'2020'!$A$16:$G$150,3,FALSE)","v":"Wyssen Diego u. Madlen"}]
["2020-08-07",{"$f":"VLOOKUP(D385,'2020'!$A$16:$G$150,3,FALSE)","v":"Mathieu Leander + S."},{"$f":"VLOOKUP(D385,'2020'!$A$16:$G$150,2,FALSE)","v":"Bonita"},75,62,{"$f":"VLOOKUP(E385,'2020'!$A$16:$G$150,2,FALSE)","v":"Candice"},{"$f":"VLOOKUP(E385,'2020'!$A$16:$G$150,3,FALSE)","v":"Jäger Carlo"}]
["2020-08-07",{"$f":"VLOOKUP(D386,'2020'!$A$16:$G$150,3,FALSE)","v":"Zumofen / Gattlen"},{"$f":"VLOOKUP(D386,'2020'!$A$16:$G$150,2,FALSE)","v":"Violette"},108,87,{"$f":"VLOOKUP(E386,'2020'!$A$16:$G$150,2,FALSE)","v":"Benika"},{"$f":"VLOOKUP(E386,'2020'!$A$16:$G$150,3,FALSE)","v":"Stallung zum Stäg"}]
["2020-08-07",{"$f":"VLOOKUP(D387,'2020'!$A$16:$G$150,3,FALSE)","v":"Mathieu Leander + S."},{"$f":"VLOOKUP(D387,'2020'!$A$16:$G$150,2,FALSE)","v":"Bonita"},75,116,{"$f":"VLOOKUP(E387,'2020'!$A$16:$G$150,2,FALSE)","v":"Pinoccio"},{"$f":"VLOOKUP(E387,'2020'!$A$16:$G$150,3,FALSE)","v":"Zumofen / Gattlen"}]
["2020-08-07",{"$f":"VLOOKUP(D388,'2020'!$A$16:$G$150,3,FALSE)","v":"Zumofen / Gattlen"},{"$f":"VLOOKUP(D388,'2020'!$A$16:$G$150,2,FALSE)","v":"Fayola"},119,50,{"$f":"VLOOKUP(E388,'2020'!$A$16:$G$150,2,FALSE)","v":"Tanja"},{"$f":"VLOOKUP(E388,'2020'!$A$16:$G$150,3,FALSE)","v":"Gebr. Jäger"}]
["2020-08-06",{"$f":"VLOOKUP(D389,'2020'!$A$16:$G$150,3,FALSE)","v":"Zumofen / Gattlen"},{"$f":"VLOOKUP(D389,'2020'!$A$16:$G$150,2,FALSE)","v":"Vanda"},113,14,{"$f":"VLOOKUP(E389,'2020'!$A$16:$G$150,2,FALSE)","v":"Canabis"},{"$f":"VLOOKUP(E389,'2020'!$A$16:$G$150,3,FALSE)","v":"Bregy Ralf + Adolf"}]
["2020-08-06",{"$f":"VLOOKUP(D390,'2020'!$A$16:$G$150,3,FALSE)","v":"Fux W., J., + Wyer Piet"},{"$f":"VLOOKUP(D390,'2020'!$A$16:$G$150,2,FALSE)","v":"Pampère"},43,2,{"$f":"VLOOKUP(E390,'2020'!$A$16:$G$150,2,FALSE)","v":"Fantastic"},{"$f":"VLOOKUP(E390,'2020'!$A$16:$G$150,3,FALSE)","v":"Bayard Medard + Gustav"}]
["2020-08-06",{"$f":"VLOOKUP(D391,'2020'!$A$16:$G$150,3,FALSE)","v":"Sewer R. + Thommen S."},{"$f":"VLOOKUP(D391,'2020'!$A$16:$G$150,2,FALSE)","v":"Biscot"},90,53,{"$f":"VLOOKUP(E391,'2020'!$A$16:$G$150,2,FALSE)","v":"Safira"},{"$f":"VLOOKUP(E391,'2020'!$A$16:$G$150,3,FALSE)","v":"Hischier Pius"}]
["2020-08-06",{"$f":"VLOOKUP(D392,'2020'!$A$16:$G$150,3,FALSE)","v":"Zumofen / Gattlen"},{"$f":"VLOOKUP(D392,'2020'!$A$16:$G$150,2,FALSE)","v":"Vanda"},113,104,{"$f":"VLOOKUP(E392,'2020'!$A$16:$G$150,2,FALSE)","v":"Xena"},{"$f":"VLOOKUP(E392,'2020'!$A$16:$G$150,3,FALSE)","v":"Wyssen Diego u. Madlen"}]
["2020-08-06",{"$f":"VLOOKUP(D393,'2020'!$A$16:$G$150,3,FALSE)","v":"Wyssen Diego u. Madlen"},{"$f":"VLOOKUP(D393,'2020'!$A$16:$G$150,2,FALSE)","v":"Rasta"},102,32,{"$f":"VLOOKUP(E393,'2020'!$A$16:$G$150,2,FALSE)","v":"Mira"},{"$f":"VLOOKUP(E393,'2020'!$A$16:$G$150,3,FALSE)","v":"Fam. Leiggener"}]
["2020-08-06",{"$f":"VLOOKUP(D394,'2020'!$A$16:$G$150,3,FALSE)","v":"Wyssen Diego u. Madlen"},{"$f":"VLOOKUP(D394,'2020'!$A$16:$G$150,2,FALSE)","v":"Rasta"},102,65,{"$f":"VLOOKUP(E394,'2020'!$A$16:$G$150,2,FALSE)","v":"Megane"},{"$f":"VLOOKUP(E394,'2020'!$A$16:$G$150,3,FALSE)","v":"Jäger Carlo"}]
["2020-08-06",{"$f":"VLOOKUP(D395,'2020'!$A$16:$G$150,3,FALSE)","v":"Hischier Pius"},{"$f":"VLOOKUP(D395,'2020'!$A$16:$G$150,2,FALSE)","v":"Shakira"},56,88,{"$f":"VLOOKUP(E395,'2020'!$A$16:$G$150,2,FALSE)","v":"Malice"},{"$f":"VLOOKUP(E395,'2020'!$A$16:$G$150,3,FALSE)","v":"Sewer R. + Thommen S."}]
["2020-08-06",{"$f":"VLOOKUP(D396,'2020'!$A$16:$G$150,3,FALSE)","v":"Jäger Carlo"},{"$f":"VLOOKUP(D396,'2020'!$A$16:$G$150,2,FALSE)","v":"Pivoine"},68,52,{"$f":"VLOOKUP(E396,'2020'!$A$16:$G$150,2,FALSE)","v":"Lenja"},{"$f":"VLOOKUP(E396,'2020'!$A$16:$G$150,3,FALSE)","v":"Hischier H. + Bühlmann J."}]
["2020-08-06",{"$f":"VLOOKUP(D397,'2020'!$A$16:$G$150,3,FALSE)","v":"Zumofen / Gattlen"},{"$f":"VLOOKUP(D397,'2020'!$A$16:$G$150,2,FALSE)","v":"Vidona"},111,68,{"$f":"VLOOKUP(E397,'2020'!$A$16:$G$150,2,FALSE)","v":"Pivoine"},{"$f":"VLOOKUP(E397,'2020'!$A$16:$G$150,3,FALSE)","v":"Jäger Carlo"}]
["2020-08-05",{"$f":"VLOOKUP(D398,'2020'!$A$16:$G$150,3,FALSE)","v":"Zumofen / Gattlen"},{"$f":"VLOOKUP(D398,'2020'!$A$16:$G$150,2,FALSE)","v":"Riva "},112,90,{"$f":"VLOOKUP(E398,'2020'!$A$16:$G$150,2,FALSE)","v":"Biscot"},{"$f":"VLOOKUP(E398,'2020'!$A$16:$G$150,3,FALSE)","v":"Sewer R. + Thommen S."}]
["2020-08-05",{"$f":"VLOOKUP(D399,'2020'!$A$16:$G$150,3,FALSE)","v":"Bregy Ralf + Adolf"},{"$f":"VLOOKUP(D399,'2020'!$A$16:$G$150,2,FALSE)","v":"Carcas"},11,25,{"$f":"VLOOKUP(E399,'2020'!$A$16:$G$150,2,FALSE)","v":"Calette"},{"$f":"VLOOKUP(E399,'2020'!$A$16:$G$150,3,FALSE)","v":"Bregy Uli + Pascal"}]
["2020-08-05",{"$f":"VLOOKUP(D400,'2020'!$A$16:$G$150,3,FALSE)","v":"Wyssen Diego u. Madlen"},{"$f":"VLOOKUP(D400,'2020'!$A$16:$G$150,2,FALSE)","v":"Rasta"},102,51,{"$f":"VLOOKUP(E400,'2020'!$A$16:$G$150,2,FALSE)","v":"Jamanda"},{"$f":"VLOOKUP(E400,'2020'!$A$16:$G$150,3,FALSE)","v":"Hischier H. + Bühlmann J."}]
["2020-08-05",{"$f":"VLOOKUP(D401,'2020'!$A$16:$G$150,3,FALSE)","v":"Gebr. Jäger"},{"$f":"VLOOKUP(D401,'2020'!$A$16:$G$150,2,FALSE)","v":"Lorens"},46,99,{"$f":"VLOOKUP(E401,'2020'!$A$16:$G$150,2,FALSE)","v":"Diva"},{"$f":"VLOOKUP(E401,'2020'!$A$16:$G$150,3,FALSE)","v":"Williner Anton"}]
["2020-08-05",{"$f":"VLOOKUP(D402,'2020'!$A$16:$G$150,3,FALSE)","v":"Mathieu Leander + S."},{"$f":"VLOOKUP(D402,'2020'!$A$16:$G$150,2,FALSE)","v":"Baghira"},71,19,{"$f":"VLOOKUP(E402,'2020'!$A$16:$G$150,2,FALSE)","v":"Tiranie"},{"$f":"VLOOKUP(E402,'2020'!$A$16:$G$150,3,FALSE)","v":"Bregy Uli + Pascal"}]
["2020-08-05",{"$f":"VLOOKUP(D403,'2020'!$A$16:$G$150,3,FALSE)","v":"Bayard Medard + Gustav"},{"$f":"VLOOKUP(D403,'2020'!$A$16:$G$150,2,FALSE)","v":"Venus"},6,19,{"$f":"VLOOKUP(E403,'2020'!$A$16:$G$150,2,FALSE)","v":"Tiranie"},{"$f":"VLOOKUP(E403,'2020'!$A$16:$G$150,3,FALSE)","v":"Bregy Uli + Pascal"}]
["2020-08-05",{"$f":"VLOOKUP(D404,'2020'!$A$16:$G$150,3,FALSE)","v":"Jäger Carlo"},{"$f":"VLOOKUP(D404,'2020'!$A$16:$G$150,2,FALSE)","v":"Candice"},62,102,{"$f":"VLOOKUP(E404,'2020'!$A$16:$G$150,2,FALSE)","v":"Rasta"},{"$f":"VLOOKUP(E404,'2020'!$A$16:$G$150,3,FALSE)","v":"Wyssen Diego u. Madlen"}]
["2020-08-05",{"$f":"VLOOKUP(D405,'2020'!$A$16:$G$150,3,FALSE)","v":"Jäger Carlo"},{"$f":"VLOOKUP(D405,'2020'!$A$16:$G$150,2,FALSE)","v":"Candice"},62,2,{"$f":"VLOOKUP(E405,'2020'!$A$16:$G$150,2,FALSE)","v":"Fantastic"},{"$f":"VLOOKUP(E405,'2020'!$A$16:$G$150,3,FALSE)","v":"Bayard Medard + Gustav"}]
["2020-08-05",{"$f":"VLOOKUP(D406,'2020'!$A$16:$G$150,3,FALSE)","v":"Hischier Pius"},{"$f":"VLOOKUP(D406,'2020'!$A$16:$G$150,2,FALSE)","v":"Safira"},53,1,{"$f":"VLOOKUP(E406,'2020'!$A$16:$G$150,2,FALSE)","v":"Diabolo"},{"$f":"VLOOKUP(E406,'2020'!$A$16:$G$150,3,FALSE)","v":"Bayard Medard + Gustav"}]
["2020-08-05",{"$f":"VLOOKUP(D407,'2020'!$A$16:$G$150,3,FALSE)","v":"Bregy Uli + Pascal"},{"$f":"VLOOKUP(D407,'2020'!$A$16:$G$150,2,FALSE)","v":"Pandora"},23,88,{"$f":"VLOOKUP(E407,'2020'!$A$16:$G$150,2,FALSE)","v":"Malice"},{"$f":"VLOOKUP(E407,'2020'!$A$16:$G$150,3,FALSE)","v":"Sewer R. + Thommen S."}]
["2020-08-05",{"$f":"VLOOKUP(D408,'2020'!$A$16:$G$150,3,FALSE)","v":"Jäger Carlo"},{"$f":"VLOOKUP(D408,'2020'!$A$16:$G$150,2,FALSE)","v":"Megane"},65,47,{"$f":"VLOOKUP(E408,'2020'!$A$16:$G$150,2,FALSE)","v":"Tiara"},{"$f":"VLOOKUP(E408,'2020'!$A$16:$G$150,3,FALSE)","v":"Gebr. Jäger"}]
["2020-08-05",{"$f":"VLOOKUP(D409,'2020'!$A$16:$G$150,3,FALSE)","v":"Zumofen / Gattlen"},{"$f":"VLOOKUP(D409,'2020'!$A$16:$G$150,2,FALSE)","v":"Vanda"},113,32,{"$f":"VLOOKUP(E409,'2020'!$A$16:$G$150,2,FALSE)","v":"Mira"},{"$f":"VLOOKUP(E409,'2020'!$A$16:$G$150,3,FALSE)","v":"Fam. Leiggener"}]
["2020-08-05",{"$f":"VLOOKUP(D410,'2020'!$A$16:$G$150,3,FALSE)","v":"Bregy Ralf + Adolf"},{"$f":"VLOOKUP(D410,'2020'!$A$16:$G$150,2,FALSE)","v":"Coquette"},17,44,{"$f":"VLOOKUP(E410,'2020'!$A$16:$G$150,2,FALSE)","v":"Dorina"},{"$f":"VLOOKUP(E410,'2020'!$A$16:$G$150,3,FALSE)","v":"Gebr. Jäger"}]
["2020-08-05",{"$f":"VLOOKUP(D411,'2020'!$A$16:$G$150,3,FALSE)","v":"Bayard Medard + Gustav"},{"$f":"VLOOKUP(D411,'2020'!$A$16:$G$150,2,FALSE)","v":"Fantastic"},2,99,{"$f":"VLOOKUP(E411,'2020'!$A$16:$G$150,2,FALSE)","v":"Diva"},{"$f":"VLOOKUP(E411,'2020'!$A$16:$G$150,3,FALSE)","v":"Williner Anton"}]
["2020-08-05",{"$f":"VLOOKUP(D412,'2020'!$A$16:$G$150,3,FALSE)","v":"Bregy Uli + Pascal"},{"$f":"VLOOKUP(D412,'2020'!$A$16:$G$150,2,FALSE)","v":"Catalina"},24,109,{"$f":"VLOOKUP(E412,'2020'!$A$16:$G$150,2,FALSE)","v":"Rena"},{"$f":"VLOOKUP(E412,'2020'!$A$16:$G$150,3,FALSE)","v":"Zumofen / Gattlen"}]
["2020-08-05",{"$f":"VLOOKUP(D413,'2020'!$A$16:$G$150,3,FALSE)","v":"Wyssen Diego u. Madlen"},{"$f":"VLOOKUP(D413,'2020'!$A$16:$G$150,2,FALSE)","v":"Xena"},104,2,{"$f":"VLOOKUP(E413,'2020'!$A$16:$G$150,2,FALSE)","v":"Fantastic"},{"$f":"VLOOKUP(E413,'2020'!$A$16:$G$150,3,FALSE)","v":"Bayard Medard + Gustav"}]
["2020-08-05",{"$f":"VLOOKUP(D414,'2020'!$A$16:$G$150,3,FALSE)","v":"Zumofen / Gattlen"},{"$f":"VLOOKUP(D414,'2020'!$A$16:$G$150,2,FALSE)","v":"Vanda"},113,104,{"$f":"VLOOKUP(E414,'2020'!$A$16:$G$150,2,FALSE)","v":"Xena"},{"$f":"VLOOKUP(E414,'2020'!$A$16:$G$150,3,FALSE)","v":"Wyssen Diego u. Madlen"}]
["2020-08-05",{"$f":"VLOOKUP(D415,'2020'!$A$16:$G$150,3,FALSE)","v":"Williner Anton"},{"$f":"VLOOKUP(D415,'2020'!$A$16:$G$150,2,FALSE)","v":"Diva"},99,97,{"$f":"VLOOKUP(E415,'2020'!$A$16:$G$150,2,FALSE)","v":"Vanessa"},{"$f":"VLOOKUP(E415,'2020'!$A$16:$G$150,3,FALSE)","v":"Williner Anton"}]
["2020-08-04",{"$f":"VLOOKUP(D416,'2020'!$A$16:$G$150,3,FALSE)","v":"Bregy Ralf + Adolf"},{"$f":"VLOOKUP(D416,'2020'!$A$16:$G$150,2,FALSE)","v":"Coquette"},17,66,{"$f":"VLOOKUP(E416,'2020'!$A$16:$G$150,2,FALSE)","v":"Metis"},{"$f":"VLOOKUP(E416,'2020'!$A$16:$G$150,3,FALSE)","v":"Jäger Carlo"}]
["2020-08-04",{"$f":"VLOOKUP(D417,'2020'!$A$16:$G$150,3,FALSE)","v":"Bregy Uli + Pascal"},{"$f":"VLOOKUP(D417,'2020'!$A$16:$G$150,2,FALSE)","v":"Pandora"},23,112,{"$f":"VLOOKUP(E417,'2020'!$A$16:$G$150,2,FALSE)","v":"Riva "},{"$f":"VLOOKUP(E417,'2020'!$A$16:$G$150,3,FALSE)","v":"Zumofen / Gattlen"}]
["2020-08-04",{"$f":"VLOOKUP(D418,'2020'!$A$16:$G$150,3,FALSE)","v":"Bregy Ralf + Adolf"},{"$f":"VLOOKUP(D418,'2020'!$A$16:$G$150,2,FALSE)","v":"Coquette"},17,67,{"$f":"VLOOKUP(E418,'2020'!$A$16:$G$150,2,FALSE)","v":"Micabol"},{"$f":"VLOOKUP(E418,'2020'!$A$16:$G$150,3,FALSE)","v":"Jäger Carlo"}]
["2020-08-04",{"$f":"VLOOKUP(D419,'2020'!$A$16:$G$150,3,FALSE)","v":"Bayard Medard + Gustav"},{"$f":"VLOOKUP(D419,'2020'!$A$16:$G$150,2,FALSE)","v":"Vampir"},4,32,{"$f":"VLOOKUP(E419,'2020'!$A$16:$G$150,2,FALSE)","v":"Mira"},{"$f":"VLOOKUP(E419,'2020'!$A$16:$G$150,3,FALSE)","v":"Fam. Leiggener"}]
["2020-08-04",{"$f":"VLOOKUP(D420,'2020'!$A$16:$G$150,3,FALSE)","v":"Zumofen / Gattlen"},{"$f":"VLOOKUP(D420,'2020'!$A$16:$G$150,2,FALSE)","v":"Fayola"},119,20,{"$f":"VLOOKUP(E420,'2020'!$A$16:$G$150,2,FALSE)","v":"Caline"},{"$f":"VLOOKUP(E420,'2020'!$A$16:$G$150,3,FALSE)","v":"Bregy Uli + Pascal"}]
["2020-08-04",{"$f":"VLOOKUP(D421,'2020'!$A$16:$G$150,3,FALSE)","v":"Williner Anton"},{"$f":"VLOOKUP(D421,'2020'!$A$16:$G$150,2,FALSE)","v":"Tira"},100,105,{"$f":"VLOOKUP(E421,'2020'!$A$16:$G$150,2,FALSE)","v":"Xhyla"},{"$f":"VLOOKUP(E421,'2020'!$A$16:$G$150,3,FALSE)","v":"Wyssen Diego u. Madlen"}]
["2020-08-04",{"$f":"VLOOKUP(D422,'2020'!$A$16:$G$150,3,FALSE)","v":"Wyssen Diego u. Madlen"},{"$f":"VLOOKUP(D422,'2020'!$A$16:$G$150,2,FALSE)","v":"Roxana"},103,90,{"$f":"VLOOKUP(E422,'2020'!$A$16:$G$150,2,FALSE)","v":"Biscot"},{"$f":"VLOOKUP(E422,'2020'!$A$16:$G$150,3,FALSE)","v":"Sewer R. + Thommen S."}]
["2020-08-04",{"$f":"VLOOKUP(D423,'2020'!$A$16:$G$150,3,FALSE)","v":"Fam. Leiggener"},{"$f":"VLOOKUP(D423,'2020'!$A$16:$G$150,2,FALSE)","v":"Mira"},32,79,{"$f":"VLOOKUP(E423,'2020'!$A$16:$G$150,2,FALSE)","v":"Marla"},{"$f":"VLOOKUP(E423,'2020'!$A$16:$G$150,3,FALSE)","v":"Stallung Passeraub "}]
["2020-08-04",{"$f":"VLOOKUP(D424,'2020'!$A$16:$G$150,3,FALSE)","v":"Bregy Silvan + Patrick"},{"$f":"VLOOKUP(D424,'2020'!$A$16:$G$150,2,FALSE)","v":"Tequilla"},13,32,{"$f":"VLOOKUP(E424,'2020'!$A$16:$G$150,2,FALSE)","v":"Mira"},{"$f":"VLOOKUP(E424,'2020'!$A$16:$G$150,3,FALSE)","v":"Fam. Leiggener"}]
["2020-08-04",{"$f":"VLOOKUP(D425,'2020'!$A$16:$G$150,3,FALSE)","v":"Bregy Uli + Pascal"},{"$f":"VLOOKUP(D425,'2020'!$A$16:$G$150,2,FALSE)","v":"Souki"},18,13,{"$f":"VLOOKUP(E425,'2020'!$A$16:$G$150,2,FALSE)","v":"Tequilla"},{"$f":"VLOOKUP(E425,'2020'!$A$16:$G$150,3,FALSE)","v":"Bregy Silvan + Patrick"}]
["2020-08-04",{"$f":"VLOOKUP(D426,'2020'!$A$16:$G$150,3,FALSE)","v":"Stallung Passeraub"},{"$f":"VLOOKUP(D426,'2020'!$A$16:$G$150,2,FALSE)","v":"Bobino"},85,81,{"$f":"VLOOKUP(E426,'2020'!$A$16:$G$150,2,FALSE)","v":"Medusa"},{"$f":"VLOOKUP(E426,'2020'!$A$16:$G$150,3,FALSE)","v":"Stallung Passeraub "}]
["2020-08-04",{"$f":"VLOOKUP(D427,'2020'!$A$16:$G$150,3,FALSE)","v":"Wyssen Diego u. Madlen"},{"$f":"VLOOKUP(D427,'2020'!$A$16:$G$150,2,FALSE)","v":"Xhyla"},105,24,{"$f":"VLOOKUP(E427,'2020'!$A$16:$G$150,2,FALSE)","v":"Catalina"},{"$f":"VLOOKUP(E427,'2020'!$A$16:$G$150,3,FALSE)","v":"Bregy Uli + Pascal"}]
["2020-08-04",{"$f":"VLOOKUP(D428,'2020'!$A$16:$G$150,3,FALSE)","v":"Zumofen / Gattlen"},{"$f":"VLOOKUP(D428,'2020'!$A$16:$G$150,2,FALSE)","v":"Fayola"},119,78,{"$f":"VLOOKUP(E428,'2020'!$A$16:$G$150,2,FALSE)","v":"Ballerine"},{"$f":"VLOOKUP(E428,'2020'!$A$16:$G$150,3,FALSE)","v":"Stallung Passeraub"}]
["2020-08-04",{"$f":"VLOOKUP(D429,'2020'!$A$16:$G$150,3,FALSE)","v":"Fam. Leiggener"},{"$f":"VLOOKUP(D429,'2020'!$A$16:$G$150,2,FALSE)","v":"Mira"},32,35,{"$f":"VLOOKUP(E429,'2020'!$A$16:$G$150,2,FALSE)","v":"Valaisanne"},{"$f":"VLOOKUP(E429,'2020'!$A$16:$G$150,3,FALSE)","v":"Fux W., J., + Wyer Piet"}]
["2020-08-04",{"$f":"VLOOKUP(D430,'2020'!$A$16:$G$150,3,FALSE)","v":"Bregy Ralf + Adolf"},{"$f":"VLOOKUP(D430,'2020'!$A$16:$G$150,2,FALSE)","v":"Coquette"},17,40,{"$f":"VLOOKUP(E430,'2020'!$A$16:$G$150,2,FALSE)","v":"Toscana"},{"$f":"VLOOKUP(E430,'2020'!$A$16:$G$150,3,FALSE)","v":"Fux W., J., + Wyer Piet"}]
["2020-08-03",{"$f":"VLOOKUP(D431,'2020'!$A$16:$G$150,3,FALSE)","v":"Bayard Medard + Gustav"},{"$f":"VLOOKUP(D431,'2020'!$A$16:$G$150,2,FALSE)","v":"Pandera"},5,81,{"$f":"VLOOKUP(E431,'2020'!$A$16:$G$150,2,FALSE)","v":"Medusa"},{"$f":"VLOOKUP(E431,'2020'!$A$16:$G$150,3,FALSE)","v":"Stallung Passeraub "}]
["2020-08-03",{"$f":"VLOOKUP(D432,'2020'!$A$16:$G$150,3,FALSE)","v":"Bregy Ralf + Adolf"},{"$f":"VLOOKUP(D432,'2020'!$A$16:$G$150,2,FALSE)","v":"Carcas"},11,40,{"$f":"VLOOKUP(E432,'2020'!$A$16:$G$150,2,FALSE)","v":"Toscana"},{"$f":"VLOOKUP(E432,'2020'!$A$16:$G$150,3,FALSE)","v":"Fux W., J., + Wyer Piet"}]
["2020-08-03",{"$f":"VLOOKUP(D433,'2020'!$A$16:$G$150,3,FALSE)","v":"Bregy Ralf + Adolf"},{"$f":"VLOOKUP(D433,'2020'!$A$16:$G$150,2,FALSE)","v":"Canaille"},7,95,{"$f":"VLOOKUP(E433,'2020'!$A$16:$G$150,2,FALSE)","v":"Vivana"},{"$f":"VLOOKUP(E433,'2020'!$A$16:$G$150,3,FALSE)","v":"Williner Anton"}]
["2020-08-03",{"$f":"VLOOKUP(D434,'2020'!$A$16:$G$150,3,FALSE)","v":"Bregy Ralf + Adolf"},{"$f":"VLOOKUP(D434,'2020'!$A$16:$G$150,2,FALSE)","v":"Coquette"},17,47,{"$f":"VLOOKUP(E434,'2020'!$A$16:$G$150,2,FALSE)","v":"Tiara"},{"$f":"VLOOKUP(E434,'2020'!$A$16:$G$150,3,FALSE)","v":"Gebr. Jäger"}]
["2020-08-03",{"$f":"VLOOKUP(D435,'2020'!$A$16:$G$150,3,FALSE)","v":"Bregy Uli + Pascal"},{"$f":"VLOOKUP(D435,'2020'!$A$16:$G$150,2,FALSE)","v":"Souki"},18,13,{"$f":"VLOOKUP(E435,'2020'!$A$16:$G$150,2,FALSE)","v":"Tequilla"},{"$f":"VLOOKUP(E435,'2020'!$A$16:$G$150,3,FALSE)","v":"Bregy Silvan + Patrick"}]
["2020-08-02",{"$f":"VLOOKUP(D436,'2020'!$A$16:$G$150,3,FALSE)","v":"Williner Anton"},{"$f":"VLOOKUP(D436,'2020'!$A$16:$G$150,2,FALSE)","v":"Vivana"},95,7,{"$f":"VLOOKUP(E436,'2020'!$A$16:$G$150,2,FALSE)","v":"Canaille"},{"$f":"VLOOKUP(E436,'2020'!$A$16:$G$150,3,FALSE)","v":"Bregy Ralf + Adolf"}]
["2020-08-02",{"$f":"VLOOKUP(D437,'2020'!$A$16:$G$150,3,FALSE)","v":"Zumofen / Gattlen"},{"$f":"VLOOKUP(D437,'2020'!$A$16:$G$150,2,FALSE)","v":"Fayola"},119,20,{"$f":"VLOOKUP(E437,'2020'!$A$16:$G$150,2,FALSE)","v":"Caline"},{"$f":"VLOOKUP(E437,'2020'!$A$16:$G$150,3,FALSE)","v":"Bregy Uli + Pascal"}]
["2020-08-02",{"$f":"VLOOKUP(D438,'2020'!$A$16:$G$150,3,FALSE)","v":"Bregy Ralf + Adolf"},{"$f":"VLOOKUP(D438,'2020'!$A$16:$G$150,2,FALSE)","v":"Coquette"},17,15,{"$f":"VLOOKUP(E438,'2020'!$A$16:$G$150,2,FALSE)","v":"Cashida"},{"$f":"VLOOKUP(E438,'2020'!$A$16:$G$150,3,FALSE)","v":"Bregy Ralf + Adolf"}]
["2020-08-02",{"$f":"VLOOKUP(D439,'2020'!$A$16:$G$150,3,FALSE)","v":"Zumofen / Gattlen"},{"$f":"VLOOKUP(D439,'2020'!$A$16:$G$150,2,FALSE)","v":"Maya"},114,15,{"$f":"VLOOKUP(E439,'2020'!$A$16:$G$150,2,FALSE)","v":"Cashida"},{"$f":"VLOOKUP(E439,'2020'!$A$16:$G$150,3,FALSE)","v":"Bregy Ralf + Adolf"}]
["2020-08-01",{"$f":"VLOOKUP(D440,'2020'!$A$16:$G$150,3,FALSE)","v":"Zumofen / Gattlen"},{"$f":"VLOOKUP(D440,'2020'!$A$16:$G$150,2,FALSE)","v":"Violin"},107,3,{"$f":"VLOOKUP(E440,'2020'!$A$16:$G$150,2,FALSE)","v":"Priska"},{"$f":"VLOOKUP(E440,'2020'!$A$16:$G$150,3,FALSE)","v":"Bayard Medard + Gustav"}]
["2020-08-01",{"$f":"VLOOKUP(D441,'2020'!$A$16:$G$150,3,FALSE)","v":"Bregy Uli + Pascal"},{"$f":"VLOOKUP(D441,'2020'!$A$16:$G$150,2,FALSE)","v":"Corona"},28,47,{"$f":"VLOOKUP(E441,'2020'!$A$16:$G$150,2,FALSE)","v":"Tiara"},{"$f":"VLOOKUP(E441,'2020'!$A$16:$G$150,3,FALSE)","v":"Gebr. Jäger"}]
["2020-08-01",{"$f":"VLOOKUP(D442,'2020'!$A$16:$G$150,3,FALSE)","v":"Bayard Medard + Gustav"},{"$f":"VLOOKUP(D442,'2020'!$A$16:$G$150,2,FALSE)","v":"Fantastic"},2,1,{"$f":"VLOOKUP(E442,'2020'!$A$16:$G$150,2,FALSE)","v":"Diabolo"},{"$f":"VLOOKUP(E442,'2020'!$A$16:$G$150,3,FALSE)","v":"Bayard Medard + Gustav"}]
["2020-08-01",{"$f":"VLOOKUP(D443,'2020'!$A$16:$G$150,3,FALSE)","v":"Stallung zum Stäg"},{"$f":"VLOOKUP(D443,'2020'!$A$16:$G$150,2,FALSE)","v":"Babylon"},86,68,{"$f":"VLOOKUP(E443,'2020'!$A$16:$G$150,2,FALSE)","v":"Pivoine"},{"$f":"VLOOKUP(E443,'2020'!$A$16:$G$150,3,FALSE)","v":"Jäger Carlo"}]
["2020-08-01",{"$f":"VLOOKUP(D444,'2020'!$A$16:$G$150,3,FALSE)","v":"Mathieu Leander + S."},{"$f":"VLOOKUP(D444,'2020'!$A$16:$G$150,2,FALSE)","v":"Baghira"},71,36,{"$f":"VLOOKUP(E444,'2020'!$A$16:$G$150,2,FALSE)","v":"Calmy"},{"$f":"VLOOKUP(E444,'2020'!$A$16:$G$150,3,FALSE)","v":"Fux W., J., + Wyer Piet"}]
["2020-08-01",{"$f":"VLOOKUP(D445,'2020'!$A$16:$G$150,3,FALSE)","v":"Williner Anton"},{"$f":"VLOOKUP(D445,'2020'!$A$16:$G$150,2,FALSE)","v":"Colonell"},98,63,{"$f":"VLOOKUP(E445,'2020'!$A$16:$G$150,2,FALSE)","v":"Pisa"},{"$f":"VLOOKUP(E445,'2020'!$A$16:$G$150,3,FALSE)","v":"Jäger Carlo"}]
["2020-08-01",{"$f":"VLOOKUP(D446,'2020'!$A$16:$G$150,3,FALSE)","v":"Bregy Uli + Pascal"},{"$f":"VLOOKUP(D446,'2020'!$A$16:$G$150,2,FALSE)","v":"Tiranie"},19,111,{"$f":"VLOOKUP(E446,'2020'!$A$16:$G$150,2,FALSE)","v":"Vidona"},{"$f":"VLOOKUP(E446,'2020'!$A$16:$G$150,3,FALSE)","v":"Zumofen / Gattlen"}]
["2020-08-01",{"$f":"VLOOKUP(D447,'2020'!$A$16:$G$150,3,FALSE)","v":"Bregy Uli + Pascal"},{"$f":"VLOOKUP(D447,'2020'!$A$16:$G$150,2,FALSE)","v":"Souki"},18,5,{"$f":"VLOOKUP(E447,'2020'!$A$16:$G$150,2,FALSE)","v":"Pandera"},{"$f":"VLOOKUP(E447,'2020'!$A$16:$G$150,3,FALSE)","v":"Bayard Medard + Gustav"}]
["2020-08-01",{"$f":"VLOOKUP(D448,'2020'!$A$16:$G$150,3,FALSE)","v":"Hischier H. + Bühlmann J."},{"$f":"VLOOKUP(D448,'2020'!$A$16:$G$150,2,FALSE)","v":"Jamanda"},51,75,{"$f":"VLOOKUP(E448,'2020'!$A$16:$G$150,2,FALSE)","v":"Bonita"},{"$f":"VLOOKUP(E448,'2020'!$A$16:$G$150,3,FALSE)","v":"Mathieu Leander + S."}]
["2020-08-01",{"$f":"VLOOKUP(D449,'2020'!$A$16:$G$150,3,FALSE)","v":"Bregy Silvan + Patrick"},{"$f":"VLOOKUP(D449,'2020'!$A$16:$G$150,2,FALSE)","v":"Tequilla"},13,5,{"$f":"VLOOKUP(E449,'2020'!$A$16:$G$150,2,FALSE)","v":"Pandera"},{"$f":"VLOOKUP(E449,'2020'!$A$16:$G$150,3,FALSE)","v":"Bayard Medard + Gustav"}]
["2020-08-01",{"$f":"VLOOKUP(D450,'2020'!$A$16:$G$150,3,FALSE)","v":"Zumofen / Gattlen"},{"$f":"VLOOKUP(D450,'2020'!$A$16:$G$150,2,FALSE)","v":"Rambo"},106,2,{"$f":"VLOOKUP(E450,'2020'!$A$16:$G$150,2,FALSE)","v":"Fantastic"},{"$f":"VLOOKUP(E450,'2020'!$A$16:$G$150,3,FALSE)","v":"Bayard Medard + Gustav"}]
["2020-08-01",{"$f":"VLOOKUP(D451,'2020'!$A$16:$G$150,3,FALSE)","v":"Williner Anton"},{"$f":"VLOOKUP(D451,'2020'!$A$16:$G$150,2,FALSE)","v":"Tigra"},96,70,{"$f":"VLOOKUP(E451,'2020'!$A$16:$G$150,2,FALSE)","v":"Tokio"},{"$f":"VLOOKUP(E451,'2020'!$A$16:$G$150,3,FALSE)","v":"Jäger Carlo"}]
["2020-08-01",{"$f":"VLOOKUP(D452,'2020'!$A$16:$G$150,3,FALSE)","v":"Jäger Carlo"},{"$f":"VLOOKUP(D452,'2020'!$A$16:$G$150,2,FALSE)","v":"Megane"},65,34,{"$f":"VLOOKUP(E452,'2020'!$A$16:$G$150,2,FALSE)","v":"Souris"},{"$f":"VLOOKUP(E452,'2020'!$A$16:$G$150,3,FALSE)","v":"Fux W., J., + Wyer Piet"}]
["2020-08-01",{"$f":"VLOOKUP(D453,'2020'!$A$16:$G$150,3,FALSE)","v":"Bregy Ralf + Adolf"},{"$f":"VLOOKUP(D453,'2020'!$A$16:$G$150,2,FALSE)","v":"Cashida"},15,65,{"$f":"VLOOKUP(E453,'2020'!$A$16:$G$150,2,FALSE)","v":"Megane"},{"$f":"VLOOKUP(E453,'2020'!$A$16:$G$150,3,FALSE)","v":"Jäger Carlo"}]
["2020-08-01",{"$f":"VLOOKUP(D454,'2020'!$A$16:$G$150,3,FALSE)","v":"Bregy Uli + Pascal"},{"$f":"VLOOKUP(D454,'2020'!$A$16:$G$150,2,FALSE)","v":"Corona"},28,44,{"$f":"VLOOKUP(E454,'2020'!$A$16:$G$150,2,FALSE)","v":"Dorina"},{"$f":"VLOOKUP(E454,'2020'!$A$16:$G$150,3,FALSE)","v":"Gebr. Jäger"}]
["2020-08-01",{"$f":"VLOOKUP(D455,'2020'!$A$16:$G$150,3,FALSE)","v":"Zumofen / Gattlen"},{"$f":"VLOOKUP(D455,'2020'!$A$16:$G$150,2,FALSE)","v":"Maya"},114,15,{"$f":"VLOOKUP(E455,'2020'!$A$16:$G$150,2,FALSE)","v":"Cashida"},{"$f":"VLOOKUP(E455,'2020'!$A$16:$G$150,3,FALSE)","v":"Bregy Ralf + Adolf"}]
["2020-07-31",{"$f":"VLOOKUP(D456,'2020'!$A$16:$G$150,3,FALSE)","v":"Zumofen / Gattlen"},{"$f":"VLOOKUP(D456,'2020'!$A$16:$G$150,2,FALSE)","v":"Vanda"},113,104,{"$f":"VLOOKUP(E456,'2020'!$A$16:$G$150,2,FALSE)","v":"Xena"},{"$f":"VLOOKUP(E456,'2020'!$A$16:$G$150,3,FALSE)","v":"Wyssen Diego u. Madlen"}]
["2020-07-31",{"$f":"VLOOKUP(D457,'2020'!$A$16:$G$150,3,FALSE)","v":"Zumofen / Gattlen"},{"$f":"VLOOKUP(D457,'2020'!$A$16:$G$150,2,FALSE)","v":"Violin"},107,62,{"$f":"VLOOKUP(E457,'2020'!$A$16:$G$150,2,FALSE)","v":"Candice"},{"$f":"VLOOKUP(E457,'2020'!$A$16:$G$150,3,FALSE)","v":"Jäger Carlo"}]
["2020-07-31",{"$f":"VLOOKUP(D458,'2020'!$A$16:$G$150,3,FALSE)","v":"Fux W., J., + Wyer Piet"},{"$f":"VLOOKUP(D458,'2020'!$A$16:$G$150,2,FALSE)","v":"Bacardi"},39,31,{"$f":"VLOOKUP(E458,'2020'!$A$16:$G$150,2,FALSE)","v":"Baron"},{"$f":"VLOOKUP(E458,'2020'!$A$16:$G$150,3,FALSE)","v":"Fam. Leiggener"}]
["2020-07-31",{"$f":"VLOOKUP(D459,'2020'!$A$16:$G$150,3,FALSE)","v":"Gebr. Jäger"},{"$f":"VLOOKUP(D459,'2020'!$A$16:$G$150,2,FALSE)","v":"Simba"},48,4,{"$f":"VLOOKUP(E459,'2020'!$A$16:$G$150,2,FALSE)","v":"Vampir"},{"$f":"VLOOKUP(E459,'2020'!$A$16:$G$150,3,FALSE)","v":"Bayard Medard + Gustav"}]
["2020-07-31",{"$f":"VLOOKUP(D460,'2020'!$A$16:$G$150,3,FALSE)","v":"Bayard Medard + Gustav"},{"$f":"VLOOKUP(D460,'2020'!$A$16:$G$150,2,FALSE)","v":"Priska"},3,29,{"$f":"VLOOKUP(E460,'2020'!$A$16:$G$150,2,FALSE)","v":"Rebell"},{"$f":"VLOOKUP(E460,'2020'!$A$16:$G$150,3,FALSE)","v":"Fam. Leiggener"}]
["2020-07-31",{"$f":"VLOOKUP(D461,'2020'!$A$16:$G$150,3,FALSE)","v":"Zumofen / Gattlen"},{"$f":"VLOOKUP(D461,'2020'!$A$16:$G$150,2,FALSE)","v":"Fayola"},119,20,{"$f":"VLOOKUP(E461,'2020'!$A$16:$G$150,2,FALSE)","v":"Caline"},{"$f":"VLOOKUP(E461,'2020'!$A$16:$G$150,3,FALSE)","v":"Bregy Uli + Pascal"}]
["2020-07-31",{"$f":"VLOOKUP(D462,'2020'!$A$16:$G$150,3,FALSE)","v":"Zumofen / Gattlen"},{"$f":"VLOOKUP(D462,'2020'!$A$16:$G$150,2,FALSE)","v":"Vanda"},113,102,{"$f":"VLOOKUP(E462,'2020'!$A$16:$G$150,2,FALSE)","v":"Rasta"},{"$f":"VLOOKUP(E462,'2020'!$A$16:$G$150,3,FALSE)","v":"Wyssen Diego u. Madlen"}]
["2020-07-31",{"$f":"VLOOKUP(D463,'2020'!$A$16:$G$150,3,FALSE)","v":"Hischier Pius"},{"$f":"VLOOKUP(D463,'2020'!$A$16:$G$150,2,FALSE)","v":"Shakira"},56,36,{"$f":"VLOOKUP(E463,'2020'!$A$16:$G$150,2,FALSE)","v":"Calmy"},{"$f":"VLOOKUP(E463,'2020'!$A$16:$G$150,3,FALSE)","v":"Fux W., J., + Wyer Piet"}]
["2020-07-31",{"$f":"VLOOKUP(D464,'2020'!$A$16:$G$150,3,FALSE)","v":"Fux W., J., + Wyer Piet"},{"$f":"VLOOKUP(D464,'2020'!$A$16:$G$150,2,FALSE)","v":"Calmy"},36,32,{"$f":"VLOOKUP(E464,'2020'!$A$16:$G$150,2,FALSE)","v":"Mira"},{"$f":"VLOOKUP(E464,'2020'!$A$16:$G$150,3,FALSE)","v":"Fam. Leiggener"}]
["2020-07-31",{"$f":"VLOOKUP(D465,'2020'!$A$16:$G$150,3,FALSE)","v":"Fux W., J., + Wyer Piet"},{"$f":"VLOOKUP(D465,'2020'!$A$16:$G$150,2,FALSE)","v":"Toscana"},40,30,{"$f":"VLOOKUP(E465,'2020'!$A$16:$G$150,2,FALSE)","v":"Bulle"},{"$f":"VLOOKUP(E465,'2020'!$A$16:$G$150,3,FALSE)","v":"Fam. Leiggener"}]
["2020-07-31",{"$f":"VLOOKUP(D466,'2020'!$A$16:$G$150,3,FALSE)","v":"Bayard Medard + Gustav"},{"$f":"VLOOKUP(D466,'2020'!$A$16:$G$150,2,FALSE)","v":"Vampir"},4,47,{"$f":"VLOOKUP(E466,'2020'!$A$16:$G$150,2,FALSE)","v":"Tiara"},{"$f":"VLOOKUP(E466,'2020'!$A$16:$G$150,3,FALSE)","v":"Gebr. Jäger"}]
["2020-07-31",{"$f":"VLOOKUP(D467,'2020'!$A$16:$G$150,3,FALSE)","v":"Bregy Silvan + Patrick"},{"$f":"VLOOKUP(D467,'2020'!$A$16:$G$150,2,FALSE)","v":"Tequilla"},13,17,{"$f":"VLOOKUP(E467,'2020'!$A$16:$G$150,2,FALSE)","v":"Coquette"},{"$f":"VLOOKUP(E467,'2020'!$A$16:$G$150,3,FALSE)","v":"Bregy Ralf + Adolf"}]
["2020-07-31",{"$f":"VLOOKUP(D468,'2020'!$A$16:$G$150,3,FALSE)","v":"Bregy Ralf + Adolf"},{"$f":"VLOOKUP(D468,'2020'!$A$16:$G$150,2,FALSE)","v":"Coquette"},17,27,{"$f":"VLOOKUP(E468,'2020'!$A$16:$G$150,2,FALSE)","v":"Murphy"},{"$f":"VLOOKUP(E468,'2020'!$A$16:$G$150,3,FALSE)","v":"Bregy Uli + Pascal"}]
["2020-07-31",{"$f":"VLOOKUP(D469,'2020'!$A$16:$G$150,3,FALSE)","v":"Jäger Carlo"},{"$f":"VLOOKUP(D469,'2020'!$A$16:$G$150,2,FALSE)","v":"Megane"},65,71,{"$f":"VLOOKUP(E469,'2020'!$A$16:$G$150,2,FALSE)","v":"Baghira"},{"$f":"VLOOKUP(E469,'2020'!$A$16:$G$150,3,FALSE)","v":"Mathieu Leander + S."}]
["2020-07-31",{"$f":"VLOOKUP(D470,'2020'!$A$16:$G$150,3,FALSE)","v":"Wyssen Diego u. Madlen"},{"$f":"VLOOKUP(D470,'2020'!$A$16:$G$150,2,FALSE)","v":"Rasta"},102,71,{"$f":"VLOOKUP(E470,'2020'!$A$16:$G$150,2,FALSE)","v":"Baghira"},{"$f":"VLOOKUP(E470,'2020'!$A$16:$G$150,3,FALSE)","v":"Mathieu Leander + S."}]
["2020-07-31",{"$f":"VLOOKUP(D471,'2020'!$A$16:$G$150,3,FALSE)","v":"Zumofen / Gattlen"},{"$f":"VLOOKUP(D471,'2020'!$A$16:$G$150,2,FALSE)","v":"Vanda"},113,40,{"$f":"VLOOKUP(E471,'2020'!$A$16:$G$150,2,FALSE)","v":"Toscana"},{"$f":"VLOOKUP(E471,'2020'!$A$16:$G$150,3,FALSE)","v":"Fux W., J., + Wyer Piet"}]
["2020-07-30",{"$f":"VLOOKUP(D472,'2020'!$A$16:$G$150,3,FALSE)","v":"Bregy Ralf + Adolf"},{"$f":"VLOOKUP(D472,'2020'!$A$16:$G$150,2,FALSE)","v":"Carcas"},11,40,{"$f":"VLOOKUP(E472,'2020'!$A$16:$G$150,2,FALSE)","v":"Toscana"},{"$f":"VLOOKUP(E472,'2020'!$A$16:$G$150,3,FALSE)","v":"Fux W., J., + Wyer Piet"}]
["2020-07-30",{"$f":"VLOOKUP(D473,'2020'!$A$16:$G$150,3,FALSE)","v":"Zumofen / Gattlen"},{"$f":"VLOOKUP(D473,'2020'!$A$16:$G$150,2,FALSE)","v":"Violette"},108,39,{"$f":"VLOOKUP(E473,'2020'!$A$16:$G$150,2,FALSE)","v":"Bacardi"},{"$f":"VLOOKUP(E473,'2020'!$A$16:$G$150,3,FALSE)","v":"Fux W., J., + Wyer Piet"}]
["2020-07-30",{"$f":"VLOOKUP(D474,'2020'!$A$16:$G$150,3,FALSE)","v":"Zumofen / Gattlen"},{"$f":"VLOOKUP(D474,'2020'!$A$16:$G$150,2,FALSE)","v":"Vanda"},113,39,{"$f":"VLOOKUP(E474,'2020'!$A$16:$G$150,2,FALSE)","v":"Bacardi"},{"$f":"VLOOKUP(E474,'2020'!$A$16:$G$150,3,FALSE)","v":"Fux W., J., + Wyer Piet"}]
["2020-07-30",{"$f":"VLOOKUP(D475,'2020'!$A$16:$G$150,3,FALSE)","v":"Bregy Ralf + Adolf"},{"$f":"VLOOKUP(D475,'2020'!$A$16:$G$150,2,FALSE)","v":"Canabis"},14,80,{"$f":"VLOOKUP(E475,'2020'!$A$16:$G$150,2,FALSE)","v":"Manou"},{"$f":"VLOOKUP(E475,'2020'!$A$16:$G$150,3,FALSE)","v":"Stallung Passeraub "}]
["2020-07-30",{"$f":"VLOOKUP(D476,'2020'!$A$16:$G$150,3,FALSE)","v":"Bregy Silvan + Patrick"},{"$f":"VLOOKUP(D476,'2020'!$A$16:$G$150,2,FALSE)","v":"Milow"},12,20,{"$f":"VLOOKUP(E476,'2020'!$A$16:$G$150,2,FALSE)","v":"Caline"},{"$f":"VLOOKUP(E476,'2020'!$A$16:$G$150,3,FALSE)","v":"Bregy Uli + Pascal"}]
["2020-07-30",{"$f":"VLOOKUP(D477,'2020'!$A$16:$G$150,3,FALSE)","v":"Jäger Carlo"},{"$f":"VLOOKUP(D477,'2020'!$A$16:$G$150,2,FALSE)","v":"Maila"},59,14,{"$f":"VLOOKUP(E477,'2020'!$A$16:$G$150,2,FALSE)","v":"Canabis"},{"$f":"VLOOKUP(E477,'2020'!$A$16:$G$150,3,FALSE)","v":"Bregy Ralf + Adolf"}]
["2020-07-30",{"$f":"VLOOKUP(D478,'2020'!$A$16:$G$150,3,FALSE)","v":"Bregy Ralf + Adolf"},{"$f":"VLOOKUP(D478,'2020'!$A$16:$G$150,2,FALSE)","v":"Carcas"},11,14,{"$f":"VLOOKUP(E478,'2020'!$A$16:$G$150,2,FALSE)","v":"Canabis"},{"$f":"VLOOKUP(E478,'2020'!$A$16:$G$150,3,FALSE)","v":"Bregy Ralf + Adolf"}]
["2020-07-29",{"$f":"VLOOKUP(D479,'2020'!$A$16:$G$150,3,FALSE)","v":"Williner Anton"},{"$f":"VLOOKUP(D479,'2020'!$A$16:$G$150,2,FALSE)","v":"Vivana"},95,10,{"$f":"VLOOKUP(E479,'2020'!$A$16:$G$150,2,FALSE)","v":"Diabolo"},{"$f":"VLOOKUP(E479,'2020'!$A$16:$G$150,3,FALSE)","v":"Bregy Ralf + Adolf"}]
["2020-07-29",{"$f":"VLOOKUP(D480,'2020'!$A$16:$G$150,3,FALSE)","v":"Bregy Ralf + Adolf"},{"$f":"VLOOKUP(D480,'2020'!$A$16:$G$150,2,FALSE)","v":"Flacari"},9,20,{"$f":"VLOOKUP(E480,'2020'!$A$16:$G$150,2,FALSE)","v":"Caline"},{"$f":"VLOOKUP(E480,'2020'!$A$16:$G$150,3,FALSE)","v":"Bregy Uli + Pascal"}]
["2020-07-29",{"$f":"VLOOKUP(D481,'2020'!$A$16:$G$150,3,FALSE)","v":"Bregy Silvan + Patrick"},{"$f":"VLOOKUP(D481,'2020'!$A$16:$G$150,2,FALSE)","v":"Milow"},12,95,{"$f":"VLOOKUP(E481,'2020'!$A$16:$G$150,2,FALSE)","v":"Vivana"},{"$f":"VLOOKUP(E481,'2020'!$A$16:$G$150,3,FALSE)","v":"Williner Anton"}]
["2020-07-29",{"$f":"VLOOKUP(D482,'2020'!$A$16:$G$150,3,FALSE)","v":"Bregy Ralf + Adolf"},{"$f":"VLOOKUP(D482,'2020'!$A$16:$G$150,2,FALSE)","v":"Canabis"},14,34,{"$f":"VLOOKUP(E482,'2020'!$A$16:$G$150,2,FALSE)","v":"Souris"},{"$f":"VLOOKUP(E482,'2020'!$A$16:$G$150,3,FALSE)","v":"Fux W., J., + Wyer Piet"}]
["2020-07-29",{"$f":"VLOOKUP(D483,'2020'!$A$16:$G$150,3,FALSE)","v":"Bregy Ralf + Adolf"},{"$f":"VLOOKUP(D483,'2020'!$A$16:$G$150,2,FALSE)","v":"Canaille"},7,14,{"$f":"VLOOKUP(E483,'2020'!$A$16:$G$150,2,FALSE)","v":"Canabis"},{"$f":"VLOOKUP(E483,'2020'!$A$16:$G$150,3,FALSE)","v":"Bregy Ralf + Adolf"}]
["2020-07-29",{"$f":"VLOOKUP(D484,'2020'!$A$16:$G$150,3,FALSE)","v":"Williner Anton"},{"$f":"VLOOKUP(D484,'2020'!$A$16:$G$150,2,FALSE)","v":"Vivana"},95,12,{"$f":"VLOOKUP(E484,'2020'!$A$16:$G$150,2,FALSE)","v":"Milow"},{"$f":"VLOOKUP(E484,'2020'!$A$16:$G$150,3,FALSE)","v":"Bregy Silvan + Patrick"}]
["2020-07-29",{"$f":"VLOOKUP(D485,'2020'!$A$16:$G$150,3,FALSE)","v":"Bregy Ralf + Adolf"},{"$f":"VLOOKUP(D485,'2020'!$A$16:$G$150,2,FALSE)","v":"Carcas"},11,10,{"$f":"VLOOKUP(E485,'2020'!$A$16:$G$150,2,FALSE)","v":"Diabolo"},{"$f":"VLOOKUP(E485,'2020'!$A$16:$G$150,3,FALSE)","v":"Bregy Ralf + Adolf"}]
["2020-07-29",{"$f":"VLOOKUP(D486,'2020'!$A$16:$G$150,3,FALSE)","v":"Wyssen Diego u. Madlen"},{"$f":"VLOOKUP(D486,'2020'!$A$16:$G$150,2,FALSE)","v":"Rasta"},102,5,{"$f":"VLOOKUP(E486,'2020'!$A$16:$G$150,2,FALSE)","v":"Pandera"},{"$f":"VLOOKUP(E486,'2020'!$A$16:$G$150,3,FALSE)","v":"Bayard Medard + Gustav"}]
["2020-07-29",{"$f":"VLOOKUP(D487,'2020'!$A$16:$G$150,3,FALSE)","v":"Jäger Carlo"},{"$f":"VLOOKUP(D487,'2020'!$A$16:$G$150,2,FALSE)","v":"Micabol"},67,40,{"$f":"VLOOKUP(E487,'2020'!$A$16:$G$150,2,FALSE)","v":"Toscana"},{"$f":"VLOOKUP(E487,'2020'!$A$16:$G$150,3,FALSE)","v":"Fux W., J., + Wyer Piet"}]
["2020-07-29",{"$f":"VLOOKUP(D488,'2020'!$A$16:$G$150,3,FALSE)","v":"Fam. Leiggener"},{"$f":"VLOOKUP(D488,'2020'!$A$16:$G$150,2,FALSE)","v":"Bulle"},30,34,{"$f":"VLOOKUP(E488,'2020'!$A$16:$G$150,2,FALSE)","v":"Souris"},{"$f":"VLOOKUP(E488,'2020'!$A$16:$G$150,3,FALSE)","v":"Fux W., J., + Wyer Piet"}]
["2020-07-29",{"$f":"VLOOKUP(D489,'2020'!$A$16:$G$150,3,FALSE)","v":"Hischier Pius"},{"$f":"VLOOKUP(D489,'2020'!$A$16:$G$150,2,FALSE)","v":"Safira"},53,31,{"$f":"VLOOKUP(E489,'2020'!$A$16:$G$150,2,FALSE)","v":"Baron"},{"$f":"VLOOKUP(E489,'2020'!$A$16:$G$150,3,FALSE)","v":"Fam. Leiggener"}]
["2020-07-28",{"$f":"VLOOKUP(D490,'2020'!$A$16:$G$150,3,FALSE)","v":"Zumofen / Gattlen"},{"$f":"VLOOKUP(D490,'2020'!$A$16:$G$150,2,FALSE)","v":"Rigolo"},117,70,{"$f":"VLOOKUP(E490,'2020'!$A$16:$G$150,2,FALSE)","v":"Tokio"},{"$f":"VLOOKUP(E490,'2020'!$A$16:$G$150,3,FALSE)","v":"Jäger Carlo"}]
["2020-07-28",{"$f":"VLOOKUP(D491,'2020'!$A$16:$G$150,3,FALSE)","v":"Zumofen / Gattlen"},{"$f":"VLOOKUP(D491,'2020'!$A$16:$G$150,2,FALSE)","v":"Fayola"},119,34,{"$f":"VLOOKUP(E491,'2020'!$A$16:$G$150,2,FALSE)","v":"Souris"},{"$f":"VLOOKUP(E491,'2020'!$A$16:$G$150,3,FALSE)","v":"Fux W., J., + Wyer Piet"}]
["2020-07-28",{"$f":"VLOOKUP(D492,'2020'!$A$16:$G$150,3,FALSE)","v":"Zumofen / Gattlen"},{"$f":"VLOOKUP(D492,'2020'!$A$16:$G$150,2,FALSE)","v":"Fayola"},119,46,{"$f":"VLOOKUP(E492,'2020'!$A$16:$G$150,2,FALSE)","v":"Lorens"},{"$f":"VLOOKUP(E492,'2020'!$A$16:$G$150,3,FALSE)","v":"Gebr. Jäger"}]
["2020-07-28",{"$f":"VLOOKUP(D493,'2020'!$A$16:$G$150,3,FALSE)","v":"Bregy Uli + Pascal"},{"$f":"VLOOKUP(D493,'2020'!$A$16:$G$150,2,FALSE)","v":"Pandora"},23,48,{"$f":"VLOOKUP(E493,'2020'!$A$16:$G$150,2,FALSE)","v":"Simba"},{"$f":"VLOOKUP(E493,'2020'!$A$16:$G$150,3,FALSE)","v":"Gebr. Jäger"}]
["2020-07-28",{"$f":"VLOOKUP(D494,'2020'!$A$16:$G$150,3,FALSE)","v":"Bregy Silvan + Patrick"},{"$f":"VLOOKUP(D494,'2020'!$A$16:$G$150,2,FALSE)","v":"Tequilla"},13,65,{"$f":"VLOOKUP(E494,'2020'!$A$16:$G$150,2,FALSE)","v":"Megane"},{"$f":"VLOOKUP(E494,'2020'!$A$16:$G$150,3,FALSE)","v":"Jäger Carlo"}]
["2020-07-28",{"$f":"VLOOKUP(D495,'2020'!$A$16:$G$150,3,FALSE)","v":"Fam. Leiggener"},{"$f":"VLOOKUP(D495,'2020'!$A$16:$G$150,2,FALSE)","v":"Baron"},31,35,{"$f":"VLOOKUP(E495,'2020'!$A$16:$G$150,2,FALSE)","v":"Valaisanne"},{"$f":"VLOOKUP(E495,'2020'!$A$16:$G$150,3,FALSE)","v":"Fux W., J., + Wyer Piet"}]
["2020-07-27",{"$f":"VLOOKUP(D496,'2020'!$A$16:$G$150,3,FALSE)","v":"Wyssen Diego u. Madlen"},{"$f":"VLOOKUP(D496,'2020'!$A$16:$G$150,2,FALSE)","v":"Roxana"},103,71,{"$f":"VLOOKUP(E496,'2020'!$A$16:$G$150,2,FALSE)","v":"Baghira"},{"$f":"VLOOKUP(E496,'2020'!$A$16:$G$150,3,FALSE)","v":"Mathieu Leander + S."}]
["2020-07-27",{"$f":"VLOOKUP(D497,'2020'!$A$16:$G$150,3,FALSE)","v":"Zumofen / Gattlen"},{"$f":"VLOOKUP(D497,'2020'!$A$16:$G$150,2,FALSE)","v":"Violin"},107,102,{"$f":"VLOOKUP(E497,'2020'!$A$16:$G$150,2,FALSE)","v":"Rasta"},{"$f":"VLOOKUP(E497,'2020'!$A$16:$G$150,3,FALSE)","v":"Wyssen Diego u. Madlen"}]
["2020-07-27",{"$f":"VLOOKUP(D498,'2020'!$A$16:$G$150,3,FALSE)","v":"Bregy Ralf + Adolf"},{"$f":"VLOOKUP(D498,'2020'!$A$16:$G$150,2,FALSE)","v":"Canabis"},14,38,{"$f":"VLOOKUP(E498,'2020'!$A$16:$G$150,2,FALSE)","v":"Bresil"},{"$f":"VLOOKUP(E498,'2020'!$A$16:$G$150,3,FALSE)","v":"Fux W., J., + Wyer Piet"}]
["2020-07-27",{"$f":"VLOOKUP(D499,'2020'!$A$16:$G$150,3,FALSE)","v":"Tscherry E. + B."},{"$f":"VLOOKUP(D499,'2020'!$A$16:$G$150,2,FALSE)","v":"Cobra"},94,79,{"$f":"VLOOKUP(E499,'2020'!$A$16:$G$150,2,FALSE)","v":"Marla"},{"$f":"VLOOKUP(E499,'2020'!$A$16:$G$150,3,FALSE)","v":"Stallung Passeraub "}]
["2020-07-27",{"$f":"VLOOKUP(D500,'2020'!$A$16:$G$150,3,FALSE)","v":"Jäger Carlo"},{"$f":"VLOOKUP(D500,'2020'!$A$16:$G$150,2,FALSE)","v":"Tokio"},70,10,{"$f":"VLOOKUP(E500,'2020'!$A$16:$G$150,2,FALSE)","v":"Diabolo"},{"$f":"VLOOKUP(E500,'2020'!$A$16:$G$150,3,FALSE)","v":"Bregy Ralf + Adolf"}]
["2020-07-27",{"$f":"VLOOKUP(D501,'2020'!$A$16:$G$150,3,FALSE)","v":"Williner Anton"},{"$f":"VLOOKUP(D501,'2020'!$A$16:$G$150,2,FALSE)","v":"Diva"},99,112,{"$f":"VLOOKUP(E501,'2020'!$A$16:$G$150,2,FALSE)","v":"Riva "},{"$f":"VLOOKUP(E501,'2020'!$A$16:$G$150,3,FALSE)","v":"Zumofen / Gattlen"}]
["2020-07-27",{"$f":"VLOOKUP(D502,'2020'!$A$16:$G$150,3,FALSE)","v":"Bregy Ralf + Adolf"},{"$f":"VLOOKUP(D502,'2020'!$A$16:$G$150,2,FALSE)","v":"Flacabre"},16,40,{"$f":"VLOOKUP(E502,'2020'!$A$16:$G$150,2,FALSE)","v":"Toscana"},{"$f":"VLOOKUP(E502,'2020'!$A$16:$G$150,3,FALSE)","v":"Fux W., J., + Wyer Piet"}]
["2020-07-27",{"$f":"VLOOKUP(D503,'2020'!$A$16:$G$150,3,FALSE)","v":"Bregy Silvan + Patrick"},{"$f":"VLOOKUP(D503,'2020'!$A$16:$G$150,2,FALSE)","v":"Milow"},12,48,{"$f":"VLOOKUP(E503,'2020'!$A$16:$G$150,2,FALSE)","v":"Simba"},{"$f":"VLOOKUP(E503,'2020'!$A$16:$G$150,3,FALSE)","v":"Gebr. Jäger"}]
["2020-07-27",{"$f":"VLOOKUP(D504,'2020'!$A$16:$G$150,3,FALSE)","v":"Stallung Passeraub"},{"$f":"VLOOKUP(D504,'2020'!$A$16:$G$150,2,FALSE)","v":"Bobino"},85,3,{"$f":"VLOOKUP(E504,'2020'!$A$16:$G$150,2,FALSE)","v":"Priska"},{"$f":"VLOOKUP(E504,'2020'!$A$16:$G$150,3,FALSE)","v":"Bayard Medard + Gustav"}]
["2020-07-26",{"$f":"VLOOKUP(D505,'2020'!$A$16:$G$150,3,FALSE)","v":"Bregy Ralf + Adolf"},{"$f":"VLOOKUP(D505,'2020'!$A$16:$G$150,2,FALSE)","v":"Flacabre"},16,30,{"$f":"VLOOKUP(E505,'2020'!$A$16:$G$150,2,FALSE)","v":"Bulle"},{"$f":"VLOOKUP(E505,'2020'!$A$16:$G$150,3,FALSE)","v":"Fam. Leiggener"}]
["2020-07-26",{"$f":"VLOOKUP(D506,'2020'!$A$16:$G$150,3,FALSE)","v":"Bregy Ralf + Adolf"},{"$f":"VLOOKUP(D506,'2020'!$A$16:$G$150,2,FALSE)","v":"Flacabre"},16,40,{"$f":"VLOOKUP(E506,'2020'!$A$16:$G$150,2,FALSE)","v":"Toscana"},{"$f":"VLOOKUP(E506,'2020'!$A$16:$G$150,3,FALSE)","v":"Fux W., J., + Wyer Piet"}]
["2020-07-26",{"$f":"VLOOKUP(D507,'2020'!$A$16:$G$150,3,FALSE)","v":"Bayard Medard + Gustav"},{"$f":"VLOOKUP(D507,'2020'!$A$16:$G$150,2,FALSE)","v":"Pandera"},5,30,{"$f":"VLOOKUP(E507,'2020'!$A$16:$G$150,2,FALSE)","v":"Bulle"},{"$f":"VLOOKUP(E507,'2020'!$A$16:$G$150,3,FALSE)","v":"Fam. Leiggener"}]
["2020-07-26",{"$f":"VLOOKUP(D508,'2020'!$A$16:$G$150,3,FALSE)","v":"Zumofen / Gattlen"},{"$f":"VLOOKUP(D508,'2020'!$A$16:$G$150,2,FALSE)","v":"Violette"},108,80,{"$f":"VLOOKUP(E508,'2020'!$A$16:$G$150,2,FALSE)","v":"Manou"},{"$f":"VLOOKUP(E508,'2020'!$A$16:$G$150,3,FALSE)","v":"Stallung Passeraub "}]
["2020-07-26",{"$f":"VLOOKUP(D509,'2020'!$A$16:$G$150,3,FALSE)","v":"Bregy Uli + Pascal"},{"$f":"VLOOKUP(D509,'2020'!$A$16:$G$150,2,FALSE)","v":"Pandora"},23,14,{"$f":"VLOOKUP(E509,'2020'!$A$16:$G$150,2,FALSE)","v":"Canabis"},{"$f":"VLOOKUP(E509,'2020'!$A$16:$G$150,3,FALSE)","v":"Bregy Ralf + Adolf"}]
["2020-07-26",{"$f":"VLOOKUP(D510,'2020'!$A$16:$G$150,3,FALSE)","v":"Bayard Medard + Gustav"},{"$f":"VLOOKUP(D510,'2020'!$A$16:$G$150,2,FALSE)","v":"Pandera"},5,98,{"$f":"VLOOKUP(E510,'2020'!$A$16:$G$150,2,FALSE)","v":"Colonell"},{"$f":"VLOOKUP(E510,'2020'!$A$16:$G$150,3,FALSE)","v":"Williner Anton"}]
["2020-07-26",{"$f":"VLOOKUP(D511,'2020'!$A$16:$G$150,3,FALSE)","v":"Zumofen / Gattlen"},{"$f":"VLOOKUP(D511,'2020'!$A$16:$G$150,2,FALSE)","v":"Violette"},108,109,{"$f":"VLOOKUP(E511,'2020'!$A$16:$G$150,2,FALSE)","v":"Rena"},{"$f":"VLOOKUP(E511,'2020'!$A$16:$G$150,3,FALSE)","v":"Zumofen / Gattlen"}]
["2020-07-26",{"$f":"VLOOKUP(D512,'2020'!$A$16:$G$150,3,FALSE)","v":"Wyssen Diego u. Madlen"},{"$f":"VLOOKUP(D512,'2020'!$A$16:$G$150,2,FALSE)","v":"Xhyla"},105,3,{"$f":"VLOOKUP(E512,'2020'!$A$16:$G$150,2,FALSE)","v":"Priska"},{"$f":"VLOOKUP(E512,'2020'!$A$16:$G$150,3,FALSE)","v":"Bayard Medard + Gustav"}]
["2020-07-25",{"$f":"VLOOKUP(D513,'2020'!$A$16:$G$150,3,FALSE)","v":"Zumofen / Gattlen"},{"$f":"VLOOKUP(D513,'2020'!$A$16:$G$150,2,FALSE)","v":"Vanda"},113,81,{"$f":"VLOOKUP(E513,'2020'!$A$16:$G$150,2,FALSE)","v":"Medusa"},{"$f":"VLOOKUP(E513,'2020'!$A$16:$G$150,3,FALSE)","v":"Stallung Passeraub "}]
["2020-07-25",{"$f":"VLOOKUP(D514,'2020'!$A$16:$G$150,3,FALSE)","v":"Zumofen / Gattlen"},{"$f":"VLOOKUP(D514,'2020'!$A$16:$G$150,2,FALSE)","v":"Violette"},108,109,{"$f":"VLOOKUP(E514,'2020'!$A$16:$G$150,2,FALSE)","v":"Rena"},{"$f":"VLOOKUP(E514,'2020'!$A$16:$G$150,3,FALSE)","v":"Zumofen / Gattlen"}]
["2020-07-25",{"$f":"VLOOKUP(D515,'2020'!$A$16:$G$150,3,FALSE)","v":"Mathieu Leander + S."},{"$f":"VLOOKUP(D515,'2020'!$A$16:$G$150,2,FALSE)","v":"Babylon"},76,69,{"$f":"VLOOKUP(E515,'2020'!$A$16:$G$150,2,FALSE)","v":"Taverne"},{"$f":"VLOOKUP(E515,'2020'!$A$16:$G$150,3,FALSE)","v":"Jäger Carlo"}]
["2020-07-25",{"$f":"VLOOKUP(D516,'2020'!$A$16:$G$150,3,FALSE)","v":"Bregy Uli + Pascal"},{"$f":"VLOOKUP(D516,'2020'!$A$16:$G$150,2,FALSE)","v":"Souki"},18,29,{"$f":"VLOOKUP(E516,'2020'!$A$16:$G$150,2,FALSE)","v":"Rebell"},{"$f":"VLOOKUP(E516,'2020'!$A$16:$G$150,3,FALSE)","v":"Fam. Leiggener"}]
["2020-07-25",{"$f":"VLOOKUP(D517,'2020'!$A$16:$G$150,3,FALSE)","v":"Bregy Ralf + Adolf"},{"$f":"VLOOKUP(D517,'2020'!$A$16:$G$150,2,FALSE)","v":"Creola"},8,59,{"$f":"VLOOKUP(E517,'2020'!$A$16:$G$150,2,FALSE)","v":"Maila"},{"$f":"VLOOKUP(E517,'2020'!$A$16:$G$150,3,FALSE)","v":"Jäger Carlo"}]
["2020-07-25",{"$f":"VLOOKUP(D518,'2020'!$A$16:$G$150,3,FALSE)","v":"Bayard Medard + Gustav"},{"$f":"VLOOKUP(D518,'2020'!$A$16:$G$150,2,FALSE)","v":"Venus"},6,22,{"$f":"VLOOKUP(E518,'2020'!$A$16:$G$150,2,FALSE)","v":"Xaphir"},{"$f":"VLOOKUP(E518,'2020'!$A$16:$G$150,3,FALSE)","v":"Bregy Uli + Pascal"}]
["2020-07-25",{"$f":"VLOOKUP(D519,'2020'!$A$16:$G$150,3,FALSE)","v":"Williner Anton"},{"$f":"VLOOKUP(D519,'2020'!$A$16:$G$150,2,FALSE)","v":"Tira"},100,112,{"$f":"VLOOKUP(E519,'2020'!$A$16:$G$150,2,FALSE)","v":"Riva "},{"$f":"VLOOKUP(E519,'2020'!$A$16:$G$150,3,FALSE)","v":"Zumofen / Gattlen"}]
["2020-07-24",{"$f":"VLOOKUP(D520,'2020'!$A$16:$G$150,3,FALSE)","v":"Fam. Leiggener"},{"$f":"VLOOKUP(D520,'2020'!$A$16:$G$150,2,FALSE)","v":"Rebell"},29,115,{"$f":"VLOOKUP(E520,'2020'!$A$16:$G$150,2,FALSE)","v":"Pepitta"},{"$f":"VLOOKUP(E520,'2020'!$A$16:$G$150,3,FALSE)","v":"Zumofen / Gattlen"}]
["2020-07-24",{"$f":"VLOOKUP(D521,'2020'!$A$16:$G$150,3,FALSE)","v":"Zumofen / Gattlen"},{"$f":"VLOOKUP(D521,'2020'!$A$16:$G$150,2,FALSE)","v":"Rigolo"},117,96,{"$f":"VLOOKUP(E521,'2020'!$A$16:$G$150,2,FALSE)","v":"Tigra"},{"$f":"VLOOKUP(E521,'2020'!$A$16:$G$150,3,FALSE)","v":"Williner Anton"}]
["2020-07-24",{"$f":"VLOOKUP(D522,'2020'!$A$16:$G$150,3,FALSE)","v":"Hischier Pius"},{"$f":"VLOOKUP(D522,'2020'!$A$16:$G$150,2,FALSE)","v":"Safira"},53,94,{"$f":"VLOOKUP(E522,'2020'!$A$16:$G$150,2,FALSE)","v":"Cobra"},{"$f":"VLOOKUP(E522,'2020'!$A$16:$G$150,3,FALSE)","v":"Tscherry E. + B."}]
["2020-07-24",{"$f":"VLOOKUP(D523,'2020'!$A$16:$G$150,3,FALSE)","v":"Bregy Ralf + Adolf"},{"$f":"VLOOKUP(D523,'2020'!$A$16:$G$150,2,FALSE)","v":"Canaille"},7,110,{"$f":"VLOOKUP(E523,'2020'!$A$16:$G$150,2,FALSE)","v":"Xena"},{"$f":"VLOOKUP(E523,'2020'!$A$16:$G$150,3,FALSE)","v":"Zumofen / Gattlen"}]
["2020-07-24",{"$f":"VLOOKUP(D524,'2020'!$A$16:$G$150,3,FALSE)","v":"Bayard Medard + Gustav"},{"$f":"VLOOKUP(D524,'2020'!$A$16:$G$150,2,FALSE)","v":"Vampir"},4,60,{"$f":"VLOOKUP(E524,'2020'!$A$16:$G$150,2,FALSE)","v":"Bayonne"},{"$f":"VLOOKUP(E524,'2020'!$A$16:$G$150,3,FALSE)","v":"Jäger Carlo"}]
["2020-07-24",{"$f":"VLOOKUP(D525,'2020'!$A$16:$G$150,3,FALSE)","v":"Zumofen / Gattlen"},{"$f":"VLOOKUP(D525,'2020'!$A$16:$G$150,2,FALSE)","v":"Violin"},107,72,{"$f":"VLOOKUP(E525,'2020'!$A$16:$G$150,2,FALSE)","v":"Baronesse"},{"$f":"VLOOKUP(E525,'2020'!$A$16:$G$150,3,FALSE)","v":"Mathieu Leander + S."}]
["2020-07-24",{"$f":"VLOOKUP(D526,'2020'!$A$16:$G$150,3,FALSE)","v":"Jäger Carlo"},{"$f":"VLOOKUP(D526,'2020'!$A$16:$G$150,2,FALSE)","v":"Taverne"},69,114,{"$f":"VLOOKUP(E526,'2020'!$A$16:$G$150,2,FALSE)","v":"Maya"},{"$f":"VLOOKUP(E526,'2020'!$A$16:$G$150,3,FALSE)","v":"Zumofen / Gattlen"}]
["2020-07-24",{"$f":"VLOOKUP(D527,'2020'!$A$16:$G$150,3,FALSE)","v":"Zumofen / Gattlen"},{"$f":"VLOOKUP(D527,'2020'!$A$16:$G$150,2,FALSE)","v":"Vanda"},113,82,{"$f":"VLOOKUP(E527,'2020'!$A$16:$G$150,2,FALSE)","v":"Bonita"},{"$f":"VLOOKUP(E527,'2020'!$A$16:$G$150,3,FALSE)","v":"Stallung Passeraub "}]
["2020-07-24",{"$f":"VLOOKUP(D528,'2020'!$A$16:$G$150,3,FALSE)","v":"Gebr. Jäger"},{"$f":"VLOOKUP(D528,'2020'!$A$16:$G$150,2,FALSE)","v":"Dorina"},44,80,{"$f":"VLOOKUP(E528,'2020'!$A$16:$G$150,2,FALSE)","v":"Manou"},{"$f":"VLOOKUP(E528,'2020'!$A$16:$G$150,3,FALSE)","v":"Stallung Passeraub "}]
["2020-07-24",{"$f":"VLOOKUP(D529,'2020'!$A$16:$G$150,3,FALSE)","v":"Jäger Carlo"},{"$f":"VLOOKUP(D529,'2020'!$A$16:$G$150,2,FALSE)","v":"Metis"},66,31,{"$f":"VLOOKUP(E529,'2020'!$A$16:$G$150,2,FALSE)","v":"Baron"},{"$f":"VLOOKUP(E529,'2020'!$A$16:$G$150,3,FALSE)","v":"Fam. Leiggener"}]
["2020-07-24",{"$f":"VLOOKUP(D530,'2020'!$A$16:$G$150,3,FALSE)","v":"Jäger Carlo"},{"$f":"VLOOKUP(D530,'2020'!$A$16:$G$150,2,FALSE)","v":"Taverne"},69,76,{"$f":"VLOOKUP(E530,'2020'!$A$16:$G$150,2,FALSE)","v":"Babylon"},{"$f":"VLOOKUP(E530,'2020'!$A$16:$G$150,3,FALSE)","v":"Mathieu Leander + S."}]
["2020-07-23",{"$f":"VLOOKUP(D531,'2020'!$A$16:$G$150,3,FALSE)","v":"Zumofen / Gattlen"},{"$f":"VLOOKUP(D531,'2020'!$A$16:$G$150,2,FALSE)","v":"Fayola"},119,10,{"$f":"VLOOKUP(E531,'2020'!$A$16:$G$150,2,FALSE)","v":"Diabolo"},{"$f":"VLOOKUP(E531,'2020'!$A$16:$G$150,3,FALSE)","v":"Bregy Ralf + Adolf"}]
["2020-07-23",{"$f":"VLOOKUP(D532,'2020'!$A$16:$G$150,3,FALSE)","v":"Williner Anton"},{"$f":"VLOOKUP(D532,'2020'!$A$16:$G$150,2,FALSE)","v":"Vivana"},95,5,{"$f":"VLOOKUP(E532,'2020'!$A$16:$G$150,2,FALSE)","v":"Pandera"},{"$f":"VLOOKUP(E532,'2020'!$A$16:$G$150,3,FALSE)","v":"Bayard Medard + Gustav"}]
["2020-07-23",{"$f":"VLOOKUP(D533,'2020'!$A$16:$G$150,3,FALSE)","v":"Bregy Ralf + Adolf"},{"$f":"VLOOKUP(D533,'2020'!$A$16:$G$150,2,FALSE)","v":"Cashida"},15,4,{"$f":"VLOOKUP(E533,'2020'!$A$16:$G$150,2,FALSE)","v":"Vampir"},{"$f":"VLOOKUP(E533,'2020'!$A$16:$G$150,3,FALSE)","v":"Bayard Medard + Gustav"}]
["2020-07-23",{"$f":"VLOOKUP(D534,'2020'!$A$16:$G$150,3,FALSE)","v":"Fux W., J., + Wyer Piet"},{"$f":"VLOOKUP(D534,'2020'!$A$16:$G$150,2,FALSE)","v":"Toscana"},40,67,{"$f":"VLOOKUP(E534,'2020'!$A$16:$G$150,2,FALSE)","v":"Micabol"},{"$f":"VLOOKUP(E534,'2020'!$A$16:$G$150,3,FALSE)","v":"Jäger Carlo"}]
["2020-07-23",{"$f":"VLOOKUP(D535,'2020'!$A$16:$G$150,3,FALSE)","v":"Bregy Uli + Pascal"},{"$f":"VLOOKUP(D535,'2020'!$A$16:$G$150,2,FALSE)","v":"Caline"},20,57,{"$f":"VLOOKUP(E535,'2020'!$A$16:$G$150,2,FALSE)","v":"Promise"},{"$f":"VLOOKUP(E535,'2020'!$A$16:$G$150,3,FALSE)","v":"Jäger Carlo"}]
["2020-07-23",{"$f":"VLOOKUP(D536,'2020'!$A$16:$G$150,3,FALSE)","v":"Stallung Passeraub "},{"$f":"VLOOKUP(D536,'2020'!$A$16:$G$150,2,FALSE)","v":"Medusa"},81,39,{"$f":"VLOOKUP(E536,'2020'!$A$16:$G$150,2,FALSE)","v":"Bacardi"},{"$f":"VLOOKUP(E536,'2020'!$A$16:$G$150,3,FALSE)","v":"Fux W., J., + Wyer Piet"}]
["2020-07-23",{"$f":"VLOOKUP(D537,'2020'!$A$16:$G$150,3,FALSE)","v":"Stallung Passeraub "},{"$f":"VLOOKUP(D537,'2020'!$A$16:$G$150,2,FALSE)","v":"Bonita"},82,16,{"$f":"VLOOKUP(E537,'2020'!$A$16:$G$150,2,FALSE)","v":"Flacabre"},{"$f":"VLOOKUP(E537,'2020'!$A$16:$G$150,3,FALSE)","v":"Bregy Ralf + Adolf"}]
["2020-07-23",{"$f":"VLOOKUP(D538,'2020'!$A$16:$G$150,3,FALSE)","v":"Wyssen Diego u. Madlen"},{"$f":"VLOOKUP(D538,'2020'!$A$16:$G$150,2,FALSE)","v":"Xhyla"},105,63,{"$f":"VLOOKUP(E538,'2020'!$A$16:$G$150,2,FALSE)","v":"Pisa"},{"$f":"VLOOKUP(E538,'2020'!$A$16:$G$150,3,FALSE)","v":"Jäger Carlo"}]
["2020-07-23",{"$f":"VLOOKUP(D539,'2020'!$A$16:$G$150,3,FALSE)","v":"Stallung Passeraub "},{"$f":"VLOOKUP(D539,'2020'!$A$16:$G$150,2,FALSE)","v":"Bonita"},82,51,{"$f":"VLOOKUP(E539,'2020'!$A$16:$G$150,2,FALSE)","v":"Jamanda"},{"$f":"VLOOKUP(E539,'2020'!$A$16:$G$150,3,FALSE)","v":"Hischier H. + Bühlmann J."}]
["2020-07-22",{"$f":"VLOOKUP(D540,'2020'!$A$16:$G$150,3,FALSE)","v":"Jäger Carlo"},{"$f":"VLOOKUP(D540,'2020'!$A$16:$G$150,2,FALSE)","v":"Candice"},62,50,{"$f":"VLOOKUP(E540,'2020'!$A$16:$G$150,2,FALSE)","v":"Tanja"},{"$f":"VLOOKUP(E540,'2020'!$A$16:$G$150,3,FALSE)","v":"Gebr. Jäger"}]
["2020-07-22",{"$f":"VLOOKUP(D541,'2020'!$A$16:$G$150,3,FALSE)","v":"Zumofen / Gattlen"},{"$f":"VLOOKUP(D541,'2020'!$A$16:$G$150,2,FALSE)","v":"Violin"},107,62,{"$f":"VLOOKUP(E541,'2020'!$A$16:$G$150,2,FALSE)","v":"Candice"},{"$f":"VLOOKUP(E541,'2020'!$A$16:$G$150,3,FALSE)","v":"Jäger Carlo"}]
["2020-07-22",{"$f":"VLOOKUP(D542,'2020'!$A$16:$G$150,3,FALSE)","v":"Zumofen / Gattlen"},{"$f":"VLOOKUP(D542,'2020'!$A$16:$G$150,2,FALSE)","v":"Rigolo"},117,70,{"$f":"VLOOKUP(E542,'2020'!$A$16:$G$150,2,FALSE)","v":"Tokio"},{"$f":"VLOOKUP(E542,'2020'!$A$16:$G$150,3,FALSE)","v":"Jäger Carlo"}]
["2020-07-22",{"$f":"VLOOKUP(D543,'2020'!$A$16:$G$150,3,FALSE)","v":"Zumofen / Gattlen"},{"$f":"VLOOKUP(D543,'2020'!$A$16:$G$150,2,FALSE)","v":"Violette"},108,67,{"$f":"VLOOKUP(E543,'2020'!$A$16:$G$150,2,FALSE)","v":"Micabol"},{"$f":"VLOOKUP(E543,'2020'!$A$16:$G$150,3,FALSE)","v":"Jäger Carlo"}]
["2020-07-22",{"$f":"VLOOKUP(D544,'2020'!$A$16:$G$150,3,FALSE)","v":"Zumofen / Gattlen"},{"$f":"VLOOKUP(D544,'2020'!$A$16:$G$150,2,FALSE)","v":"Rigolo"},117,73,{"$f":"VLOOKUP(E544,'2020'!$A$16:$G$150,2,FALSE)","v":"Bavaria"},{"$f":"VLOOKUP(E544,'2020'!$A$16:$G$150,3,FALSE)","v":"Mathieu Leander + S."}]
["2020-07-22",{"$f":"VLOOKUP(D545,'2020'!$A$16:$G$150,3,FALSE)","v":"Zumofen / Gattlen"},{"$f":"VLOOKUP(D545,'2020'!$A$16:$G$150,2,FALSE)","v":"Violin"},107,64,{"$f":"VLOOKUP(E545,'2020'!$A$16:$G$150,2,FALSE)","v":"Sera"},{"$f":"VLOOKUP(E545,'2020'!$A$16:$G$150,3,FALSE)","v":"Jäger Carlo"}]
["2020-07-22",{"$f":"VLOOKUP(D546,'2020'!$A$16:$G$150,3,FALSE)","v":"Zumofen / Gattlen"},{"$f":"VLOOKUP(D546,'2020'!$A$16:$G$150,2,FALSE)","v":"Vidona"},111,65,{"$f":"VLOOKUP(E546,'2020'!$A$16:$G$150,2,FALSE)","v":"Megane"},{"$f":"VLOOKUP(E546,'2020'!$A$16:$G$150,3,FALSE)","v":"Jäger Carlo"}]
["2020-07-22",{"$f":"VLOOKUP(D547,'2020'!$A$16:$G$150,3,FALSE)","v":"Bayard Medard + Gustav"},{"$f":"VLOOKUP(D547,'2020'!$A$16:$G$150,2,FALSE)","v":"Pandera"},5,60,{"$f":"VLOOKUP(E547,'2020'!$A$16:$G$150,2,FALSE)","v":"Bayonne"},{"$f":"VLOOKUP(E547,'2020'!$A$16:$G$150,3,FALSE)","v":"Jäger Carlo"}]
["2020-07-22",{"$f":"VLOOKUP(D548,'2020'!$A$16:$G$150,3,FALSE)","v":"Bregy Ralf + Adolf"},{"$f":"VLOOKUP(D548,'2020'!$A$16:$G$150,2,FALSE)","v":"Canabis"},14,82,{"$f":"VLOOKUP(E548,'2020'!$A$16:$G$150,2,FALSE)","v":"Bonita"},{"$f":"VLOOKUP(E548,'2020'!$A$16:$G$150,3,FALSE)","v":"Stallung Passeraub "}]
["2020-07-22",{"$f":"VLOOKUP(D549,'2020'!$A$16:$G$150,3,FALSE)","v":"Zumofen / Gattlen"},{"$f":"VLOOKUP(D549,'2020'!$A$16:$G$150,2,FALSE)","v":"Rambo"},106,16,{"$f":"VLOOKUP(E549,'2020'!$A$16:$G$150,2,FALSE)","v":"Flacabre"},{"$f":"VLOOKUP(E549,'2020'!$A$16:$G$150,3,FALSE)","v":"Bregy Ralf + Adolf"}]
["2020-07-22",{"$f":"VLOOKUP(D550,'2020'!$A$16:$G$150,3,FALSE)","v":"Williner Anton"},{"$f":"VLOOKUP(D550,'2020'!$A$16:$G$150,2,FALSE)","v":"Vivana"},95,90,{"$f":"VLOOKUP(E550,'2020'!$A$16:$G$150,2,FALSE)","v":"Biscot"},{"$f":"VLOOKUP(E550,'2020'!$A$16:$G$150,3,FALSE)","v":"Sewer R. + Thommen S."}]
["2020-07-21",{"$f":"VLOOKUP(D551,'2020'!$A$16:$G$150,3,FALSE)","v":"Wyssen Diego u. Madlen"},{"$f":"VLOOKUP(D551,'2020'!$A$16:$G$150,2,FALSE)","v":"Xandria"},101,39,{"$f":"VLOOKUP(E551,'2020'!$A$16:$G$150,2,FALSE)","v":"Bacardi"},{"$f":"VLOOKUP(E551,'2020'!$A$16:$G$150,3,FALSE)","v":"Fux W., J., + Wyer Piet"}]
["2020-07-21",{"$f":"VLOOKUP(D552,'2020'!$A$16:$G$150,3,FALSE)","v":"Zumofen / Gattlen"},{"$f":"VLOOKUP(D552,'2020'!$A$16:$G$150,2,FALSE)","v":"Fayola"},119,96,{"$f":"VLOOKUP(E552,'2020'!$A$16:$G$150,2,FALSE)","v":"Tigra"},{"$f":"VLOOKUP(E552,'2020'!$A$16:$G$150,3,FALSE)","v":"Williner Anton"}]
["2020-07-21",{"$f":"VLOOKUP(D553,'2020'!$A$16:$G$150,3,FALSE)","v":"Wyssen Diego u. Madlen"},{"$f":"VLOOKUP(D553,'2020'!$A$16:$G$150,2,FALSE)","v":"Roxana"},103,106,{"$f":"VLOOKUP(E553,'2020'!$A$16:$G$150,2,FALSE)","v":"Rambo"},{"$f":"VLOOKUP(E553,'2020'!$A$16:$G$150,3,FALSE)","v":"Zumofen / Gattlen"}]
["2020-07-21",{"$f":"VLOOKUP(D554,'2020'!$A$16:$G$150,3,FALSE)","v":"Williner Anton"},{"$f":"VLOOKUP(D554,'2020'!$A$16:$G$150,2,FALSE)","v":"Vivana"},95,80,{"$f":"VLOOKUP(E554,'2020'!$A$16:$G$150,2,FALSE)","v":"Manou"},{"$f":"VLOOKUP(E554,'2020'!$A$16:$G$150,3,FALSE)","v":"Stallung Passeraub "}]
["2020-07-21",{"$f":"VLOOKUP(D555,'2020'!$A$16:$G$150,3,FALSE)","v":"Gebr. Jäger"},{"$f":"VLOOKUP(D555,'2020'!$A$16:$G$150,2,FALSE)","v":"Simba"},48,30,{"$f":"VLOOKUP(E555,'2020'!$A$16:$G$150,2,FALSE)","v":"Bulle"},{"$f":"VLOOKUP(E555,'2020'!$A$16:$G$150,3,FALSE)","v":"Fam. Leiggener"}]
["2020-07-21",{"$f":"VLOOKUP(D556,'2020'!$A$16:$G$150,3,FALSE)","v":"Jäger Carlo"},{"$f":"VLOOKUP(D556,'2020'!$A$16:$G$150,2,FALSE)","v":"Megane"},65,88,{"$f":"VLOOKUP(E556,'2020'!$A$16:$G$150,2,FALSE)","v":"Malice"},{"$f":"VLOOKUP(E556,'2020'!$A$16:$G$150,3,FALSE)","v":"Sewer R. + Thommen S."}]
["2020-07-21",{"$f":"VLOOKUP(D557,'2020'!$A$16:$G$150,3,FALSE)","v":"Zumofen / Gattlen"},{"$f":"VLOOKUP(D557,'2020'!$A$16:$G$150,2,FALSE)","v":"Violette"},108,101,{"$f":"VLOOKUP(E557,'2020'!$A$16:$G$150,2,FALSE)","v":"Xandria"},{"$f":"VLOOKUP(E557,'2020'!$A$16:$G$150,3,FALSE)","v":"Wyssen Diego u. Madlen"}]
["2020-07-21",{"$f":"VLOOKUP(D558,'2020'!$A$16:$G$150,3,FALSE)","v":"Bayard Medard + Gustav"},{"$f":"VLOOKUP(D558,'2020'!$A$16:$G$150,2,FALSE)","v":"Vampir"},4,76,{"$f":"VLOOKUP(E558,'2020'!$A$16:$G$150,2,FALSE)","v":"Babylon"},{"$f":"VLOOKUP(E558,'2020'!$A$16:$G$150,3,FALSE)","v":"Mathieu Leander + S."}]
["2020-07-21",{"$f":"VLOOKUP(D559,'2020'!$A$16:$G$150,3,FALSE)","v":"Bregy Uli + Pascal"},{"$f":"VLOOKUP(D559,'2020'!$A$16:$G$150,2,FALSE)","v":"Corona"},28,50,{"$f":"VLOOKUP(E559,'2020'!$A$16:$G$150,2,FALSE)","v":"Tanja"},{"$f":"VLOOKUP(E559,'2020'!$A$16:$G$150,3,FALSE)","v":"Gebr. Jäger"}]
["2020-07-21",{"$f":"VLOOKUP(D560,'2020'!$A$16:$G$150,3,FALSE)","v":"Sewer R. + Thommen S."},{"$f":"VLOOKUP(D560,'2020'!$A$16:$G$150,2,FALSE)","v":"Malice"},88,66,{"$f":"VLOOKUP(E560,'2020'!$A$16:$G$150,2,FALSE)","v":"Metis"},{"$f":"VLOOKUP(E560,'2020'!$A$16:$G$150,3,FALSE)","v":"Jäger Carlo"}]
["2020-07-21",{"$f":"VLOOKUP(D561,'2020'!$A$16:$G$150,3,FALSE)","v":"Jäger Carlo"},{"$f":"VLOOKUP(D561,'2020'!$A$16:$G$150,2,FALSE)","v":"Megane"},65,90,{"$f":"VLOOKUP(E561,'2020'!$A$16:$G$150,2,FALSE)","v":"Biscot"},{"$f":"VLOOKUP(E561,'2020'!$A$16:$G$150,3,FALSE)","v":"Sewer R. + Thommen S."}]
["2020-07-21",{"$f":"VLOOKUP(D562,'2020'!$A$16:$G$150,3,FALSE)","v":"Zumofen / Gattlen"},{"$f":"VLOOKUP(D562,'2020'!$A$16:$G$150,2,FALSE)","v":"Rambo"},106,107,{"$f":"VLOOKUP(E562,'2020'!$A$16:$G$150,2,FALSE)","v":"Violin"},{"$f":"VLOOKUP(E562,'2020'!$A$16:$G$150,3,FALSE)","v":"Zumofen / Gattlen"}]
["2020-07-21",{"$f":"VLOOKUP(D563,'2020'!$A$16:$G$150,3,FALSE)","v":"Zumofen / Gattlen"},{"$f":"VLOOKUP(D563,'2020'!$A$16:$G$150,2,FALSE)","v":"Rigolo"},117,57,{"$f":"VLOOKUP(E563,'2020'!$A$16:$G$150,2,FALSE)","v":"Promise"},{"$f":"VLOOKUP(E563,'2020'!$A$16:$G$150,3,FALSE)","v":"Jäger Carlo"}]
["2020-07-21",{"$f":"VLOOKUP(D564,'2020'!$A$16:$G$150,3,FALSE)","v":"Zumofen / Gattlen"},{"$f":"VLOOKUP(D564,'2020'!$A$16:$G$150,2,FALSE)","v":"Rigolo"},117,35,{"$f":"VLOOKUP(E564,'2020'!$A$16:$G$150,2,FALSE)","v":"Valaisanne"},{"$f":"VLOOKUP(E564,'2020'!$A$16:$G$150,3,FALSE)","v":"Fux W., J., + Wyer Piet"}]
["2020-07-20",{"$f":"VLOOKUP(D565,'2020'!$A$16:$G$150,3,FALSE)","v":"Wyssen Diego u. Madlen"},{"$f":"VLOOKUP(D565,'2020'!$A$16:$G$150,2,FALSE)","v":"Rasta"},102,16,{"$f":"VLOOKUP(E565,'2020'!$A$16:$G$150,2,FALSE)","v":"Flacabre"},{"$f":"VLOOKUP(E565,'2020'!$A$16:$G$150,3,FALSE)","v":"Bregy Ralf + Adolf"}]
["2020-07-20",{"$f":"VLOOKUP(D566,'2020'!$A$16:$G$150,3,FALSE)","v":"Bayard Medard + Gustav"},{"$f":"VLOOKUP(D566,'2020'!$A$16:$G$150,2,FALSE)","v":"Vampir"},4,71,{"$f":"VLOOKUP(E566,'2020'!$A$16:$G$150,2,FALSE)","v":"Baghira"},{"$f":"VLOOKUP(E566,'2020'!$A$16:$G$150,3,FALSE)","v":"Mathieu Leander + S."}]
["2020-07-20",{"$f":"VLOOKUP(D567,'2020'!$A$16:$G$150,3,FALSE)","v":"Zumofen / Gattlen"},{"$f":"VLOOKUP(D567,'2020'!$A$16:$G$150,2,FALSE)","v":"Fayola"},119,68,{"$f":"VLOOKUP(E567,'2020'!$A$16:$G$150,2,FALSE)","v":"Pivoine"},{"$f":"VLOOKUP(E567,'2020'!$A$16:$G$150,3,FALSE)","v":"Jäger Carlo"}]
["2020-07-20",{"$f":"VLOOKUP(D568,'2020'!$A$16:$G$150,3,FALSE)","v":"Bregy Ralf + Adolf"},{"$f":"VLOOKUP(D568,'2020'!$A$16:$G$150,2,FALSE)","v":"Canabis"},14,15,{"$f":"VLOOKUP(E568,'2020'!$A$16:$G$150,2,FALSE)","v":"Cashida"},{"$f":"VLOOKUP(E568,'2020'!$A$16:$G$150,3,FALSE)","v":"Bregy Ralf + Adolf"}]
["2020-07-20",{"$f":"VLOOKUP(D569,'2020'!$A$16:$G$150,3,FALSE)","v":"Zumofen / Gattlen"},{"$f":"VLOOKUP(D569,'2020'!$A$16:$G$150,2,FALSE)","v":"Vidona"},111,98,{"$f":"VLOOKUP(E569,'2020'!$A$16:$G$150,2,FALSE)","v":"Colonell"},{"$f":"VLOOKUP(E569,'2020'!$A$16:$G$150,3,FALSE)","v":"Williner Anton"}]
["2020-07-20",{"$f":"VLOOKUP(D570,'2020'!$A$16:$G$150,3,FALSE)","v":"Bregy Silvan + Patrick"},{"$f":"VLOOKUP(D570,'2020'!$A$16:$G$150,2,FALSE)","v":"Milow"},12,57,{"$f":"VLOOKUP(E570,'2020'!$A$16:$G$150,2,FALSE)","v":"Promise"},{"$f":"VLOOKUP(E570,'2020'!$A$16:$G$150,3,FALSE)","v":"Jäger Carlo"}]
["2020-07-20",{"$f":"VLOOKUP(D571,'2020'!$A$16:$G$150,3,FALSE)","v":"Jäger Carlo"},{"$f":"VLOOKUP(D571,'2020'!$A$16:$G$150,2,FALSE)","v":"Metis"},66,38,{"$f":"VLOOKUP(E571,'2020'!$A$16:$G$150,2,FALSE)","v":"Bresil"},{"$f":"VLOOKUP(E571,'2020'!$A$16:$G$150,3,FALSE)","v":"Fux W., J., + Wyer Piet"}]
["2020-07-20",{"$f":"VLOOKUP(D572,'2020'!$A$16:$G$150,3,FALSE)","v":"Fux W., J., + Wyer Piet"},{"$f":"VLOOKUP(D572,'2020'!$A$16:$G$150,2,FALSE)","v":"Toscana"},40,111,{"$f":"VLOOKUP(E572,'2020'!$A$16:$G$150,2,FALSE)","v":"Vidona"},{"$f":"VLOOKUP(E572,'2020'!$A$16:$G$150,3,FALSE)","v":"Zumofen / Gattlen"}]
["2020-07-20",{"$f":"VLOOKUP(D573,'2020'!$A$16:$G$150,3,FALSE)","v":"Fux W., J., + Wyer Piet"},{"$f":"VLOOKUP(D573,'2020'!$A$16:$G$150,2,FALSE)","v":"Souris"},34,20,{"$f":"VLOOKUP(E573,'2020'!$A$16:$G$150,2,FALSE)","v":"Caline"},{"$f":"VLOOKUP(E573,'2020'!$A$16:$G$150,3,FALSE)","v":"Bregy Uli + Pascal"}]
["2020-07-20",{"$f":"VLOOKUP(D574,'2020'!$A$16:$G$150,3,FALSE)","v":"Zumofen / Gattlen"},{"$f":"VLOOKUP(D574,'2020'!$A$16:$G$150,2,FALSE)","v":"Vesuv"},118,66,{"$f":"VLOOKUP(E574,'2020'!$A$16:$G$150,2,FALSE)","v":"Metis"},{"$f":"VLOOKUP(E574,'2020'!$A$16:$G$150,3,FALSE)","v":"Jäger Carlo"}]
["2020-07-20",{"$f":"VLOOKUP(D575,'2020'!$A$16:$G$150,3,FALSE)","v":"Williner Anton"},{"$f":"VLOOKUP(D575,'2020'!$A$16:$G$150,2,FALSE)","v":"Diva"},99,66,{"$f":"VLOOKUP(E575,'2020'!$A$16:$G$150,2,FALSE)","v":"Metis"},{"$f":"VLOOKUP(E575,'2020'!$A$16:$G$150,3,FALSE)","v":"Jäger Carlo"}]
["2020-07-20",{"$f":"VLOOKUP(D576,'2020'!$A$16:$G$150,3,FALSE)","v":"Williner Anton"},{"$f":"VLOOKUP(D576,'2020'!$A$16:$G$150,2,FALSE)","v":"Diva"},99,69,{"$f":"VLOOKUP(E576,'2020'!$A$16:$G$150,2,FALSE)","v":"Taverne"},{"$f":"VLOOKUP(E576,'2020'!$A$16:$G$150,3,FALSE)","v":"Jäger Carlo"}]
["2020-07-20",{"$f":"VLOOKUP(D577,'2020'!$A$16:$G$150,3,FALSE)","v":"Jäger Carlo"},{"$f":"VLOOKUP(D577,'2020'!$A$16:$G$150,2,FALSE)","v":"Metis"},66,61,{"$f":"VLOOKUP(E577,'2020'!$A$16:$G$150,2,FALSE)","v":"Grolla"},{"$f":"VLOOKUP(E577,'2020'!$A$16:$G$150,3,FALSE)","v":"Jäger Carlo"}]
["2020-07-20",{"$f":"VLOOKUP(D578,'2020'!$A$16:$G$150,3,FALSE)","v":"Jäger Carlo"},{"$f":"VLOOKUP(D578,'2020'!$A$16:$G$150,2,FALSE)","v":"Metis"},66,40,{"$f":"VLOOKUP(E578,'2020'!$A$16:$G$150,2,FALSE)","v":"Toscana"},{"$f":"VLOOKUP(E578,'2020'!$A$16:$G$150,3,FALSE)","v":"Fux W., J., + Wyer Piet"}]
["2020-07-20",{"$f":"VLOOKUP(D579,'2020'!$A$16:$G$150,3,FALSE)","v":"Bregy Ralf + Adolf"},{"$f":"VLOOKUP(D579,'2020'!$A$16:$G$150,2,FALSE)","v":"Coquette"},17,27,{"$f":"VLOOKUP(E579,'2020'!$A$16:$G$150,2,FALSE)","v":"Murphy"},{"$f":"VLOOKUP(E579,'2020'!$A$16:$G$150,3,FALSE)","v":"Bregy Uli + Pascal"}]
["2020-07-19",{"$f":"VLOOKUP(D580,'2020'!$A$16:$G$150,3,FALSE)","v":"Bregy Ralf + Adolf"},{"$f":"VLOOKUP(D580,'2020'!$A$16:$G$150,2,FALSE)","v":"Canabis"},14,116,{"$f":"VLOOKUP(E580,'2020'!$A$16:$G$150,2,FALSE)","v":"Pinoccio"},{"$f":"VLOOKUP(E580,'2020'!$A$16:$G$150,3,FALSE)","v":"Zumofen / Gattlen"}]
["2020-07-19",{"$f":"VLOOKUP(D581,'2020'!$A$16:$G$150,3,FALSE)","v":"Bayard Medard + Gustav"},{"$f":"VLOOKUP(D581,'2020'!$A$16:$G$150,2,FALSE)","v":"Venus"},6,88,{"$f":"VLOOKUP(E581,'2020'!$A$16:$G$150,2,FALSE)","v":"Malice"},{"$f":"VLOOKUP(E581,'2020'!$A$16:$G$150,3,FALSE)","v":"Sewer R. + Thommen S."}]
["2020-07-19",{"$f":"VLOOKUP(D582,'2020'!$A$16:$G$150,3,FALSE)","v":"Zumofen / Gattlen"},{"$f":"VLOOKUP(D582,'2020'!$A$16:$G$150,2,FALSE)","v":"Rigolo"},117,29,{"$f":"VLOOKUP(E582,'2020'!$A$16:$G$150,2,FALSE)","v":"Rebell"},{"$f":"VLOOKUP(E582,'2020'!$A$16:$G$150,3,FALSE)","v":"Fam. Leiggener"}]
["2020-07-19",{"$f":"VLOOKUP(D583,'2020'!$A$16:$G$150,3,FALSE)","v":"Bregy Ralf + Adolf"},{"$f":"VLOOKUP(D583,'2020'!$A$16:$G$150,2,FALSE)","v":"Canabis"},14,23,{"$f":"VLOOKUP(E583,'2020'!$A$16:$G$150,2,FALSE)","v":"Pandora"},{"$f":"VLOOKUP(E583,'2020'!$A$16:$G$150,3,FALSE)","v":"Bregy Uli + Pascal"}]
["2020-07-19",{"$f":"VLOOKUP(D584,'2020'!$A$16:$G$150,3,FALSE)","v":"Jäger Carlo"},{"$f":"VLOOKUP(D584,'2020'!$A$16:$G$150,2,FALSE)","v":"Maila"},59,16,{"$f":"VLOOKUP(E584,'2020'!$A$16:$G$150,2,FALSE)","v":"Flacabre"},{"$f":"VLOOKUP(E584,'2020'!$A$16:$G$150,3,FALSE)","v":"Bregy Ralf + Adolf"}]
["2020-07-19",{"$f":"VLOOKUP(D585,'2020'!$A$16:$G$150,3,FALSE)","v":"Fam. Leiggener"},{"$f":"VLOOKUP(D585,'2020'!$A$16:$G$150,2,FALSE)","v":"Rebell"},29,105,{"$f":"VLOOKUP(E585,'2020'!$A$16:$G$150,2,FALSE)","v":"Xhyla"},{"$f":"VLOOKUP(E585,'2020'!$A$16:$G$150,3,FALSE)","v":"Wyssen Diego u. Madlen"}]
["2020-07-19",{"$f":"VLOOKUP(D586,'2020'!$A$16:$G$150,3,FALSE)","v":"Mathieu Leander + S."},{"$f":"VLOOKUP(D586,'2020'!$A$16:$G$150,2,FALSE)","v":"Babylon"},76,88,{"$f":"VLOOKUP(E586,'2020'!$A$16:$G$150,2,FALSE)","v":"Malice"},{"$f":"VLOOKUP(E586,'2020'!$A$16:$G$150,3,FALSE)","v":"Sewer R. + Thommen S."}]
["2020-07-19",{"$f":"VLOOKUP(D587,'2020'!$A$16:$G$150,3,FALSE)","v":"Jäger Carlo"},{"$f":"VLOOKUP(D587,'2020'!$A$16:$G$150,2,FALSE)","v":"Megane"},65,87,{"$f":"VLOOKUP(E587,'2020'!$A$16:$G$150,2,FALSE)","v":"Benika"},{"$f":"VLOOKUP(E587,'2020'!$A$16:$G$150,3,FALSE)","v":"Stallung zum Stäg"}]
["2020-07-19",{"$f":"VLOOKUP(D588,'2020'!$A$16:$G$150,3,FALSE)","v":"Fux W., J., + Wyer Piet"},{"$f":"VLOOKUP(D588,'2020'!$A$16:$G$150,2,FALSE)","v":"Valaisanne"},35,47,{"$f":"VLOOKUP(E588,'2020'!$A$16:$G$150,2,FALSE)","v":"Tiara"},{"$f":"VLOOKUP(E588,'2020'!$A$16:$G$150,3,FALSE)","v":"Gebr. Jäger"}]
["2020-07-19",{"$f":"VLOOKUP(D589,'2020'!$A$16:$G$150,3,FALSE)","v":"Bayard Medard + Gustav"},{"$f":"VLOOKUP(D589,'2020'!$A$16:$G$150,2,FALSE)","v":"Vampir"},4,26,{"$f":"VLOOKUP(E589,'2020'!$A$16:$G$150,2,FALSE)","v":"Cataleya"},{"$f":"VLOOKUP(E589,'2020'!$A$16:$G$150,3,FALSE)","v":"Bregy Uli + Pascal"}]
["2020-07-19",{"$f":"VLOOKUP(D590,'2020'!$A$16:$G$150,3,FALSE)","v":"Bayard Medard + Gustav"},{"$f":"VLOOKUP(D590,'2020'!$A$16:$G$150,2,FALSE)","v":"Priska"},3,41,{"$f":"VLOOKUP(E590,'2020'!$A$16:$G$150,2,FALSE)","v":"Mystic"},{"$f":"VLOOKUP(E590,'2020'!$A$16:$G$150,3,FALSE)","v":"Fux W., J., + Wyer Piet"}]
["2020-07-19",{"$f":"VLOOKUP(D591,'2020'!$A$16:$G$150,3,FALSE)","v":"Zumofen / Gattlen"},{"$f":"VLOOKUP(D591,'2020'!$A$16:$G$150,2,FALSE)","v":"Rigolo"},117,41,{"$f":"VLOOKUP(E591,'2020'!$A$16:$G$150,2,FALSE)","v":"Mystic"},{"$f":"VLOOKUP(E591,'2020'!$A$16:$G$150,3,FALSE)","v":"Fux W., J., + Wyer Piet"}]
["2020-07-19",{"$f":"VLOOKUP(D592,'2020'!$A$16:$G$150,3,FALSE)","v":"Wyssen Diego u. Madlen"},{"$f":"VLOOKUP(D592,'2020'!$A$16:$G$150,2,FALSE)","v":"Xhyla"},105,104,{"$f":"VLOOKUP(E592,'2020'!$A$16:$G$150,2,FALSE)","v":"Xena"},{"$f":"VLOOKUP(E592,'2020'!$A$16:$G$150,3,FALSE)","v":"Wyssen Diego u. Madlen"}]
["2020-07-19",{"$f":"VLOOKUP(D593,'2020'!$A$16:$G$150,3,FALSE)","v":"Hischier Pius"},{"$f":"VLOOKUP(D593,'2020'!$A$16:$G$150,2,FALSE)","v":"Shakira"},56,90,{"$f":"VLOOKUP(E593,'2020'!$A$16:$G$150,2,FALSE)","v":"Biscot"},{"$f":"VLOOKUP(E593,'2020'!$A$16:$G$150,3,FALSE)","v":"Sewer R. + Thommen S."}]
["2020-07-19",{"$f":"VLOOKUP(D594,'2020'!$A$16:$G$150,3,FALSE)","v":"Sewer R. + Thommen S."},{"$f":"VLOOKUP(D594,'2020'!$A$16:$G$150,2,FALSE)","v":"Biscot"},90,53,{"$f":"VLOOKUP(E594,'2020'!$A$16:$G$150,2,FALSE)","v":"Safira"},{"$f":"VLOOKUP(E594,'2020'!$A$16:$G$150,3,FALSE)","v":"Hischier Pius"}]
["2020-07-19",{"$f":"VLOOKUP(D595,'2020'!$A$16:$G$150,3,FALSE)","v":"Bregy Ralf + Adolf"},{"$f":"VLOOKUP(D595,'2020'!$A$16:$G$150,2,FALSE)","v":"Canabis"},14,44,{"$f":"VLOOKUP(E595,'2020'!$A$16:$G$150,2,FALSE)","v":"Dorina"},{"$f":"VLOOKUP(E595,'2020'!$A$16:$G$150,3,FALSE)","v":"Gebr. Jäger"}]
["2020-07-19",{"$f":"VLOOKUP(D596,'2020'!$A$16:$G$150,3,FALSE)","v":"Mathieu Leander + S."},{"$f":"VLOOKUP(D596,'2020'!$A$16:$G$150,2,FALSE)","v":"Baghira"},71,109,{"$f":"VLOOKUP(E596,'2020'!$A$16:$G$150,2,FALSE)","v":"Rena"},{"$f":"VLOOKUP(E596,'2020'!$A$16:$G$150,3,FALSE)","v":"Zumofen / Gattlen"}]
["2020-07-19",{"$f":"VLOOKUP(D597,'2020'!$A$16:$G$150,3,FALSE)","v":"Zumofen / Gattlen"},{"$f":"VLOOKUP(D597,'2020'!$A$16:$G$150,2,FALSE)","v":"Rigolo"},117,15,{"$f":"VLOOKUP(E597,'2020'!$A$16:$G$150,2,FALSE)","v":"Cashida"},{"$f":"VLOOKUP(E597,'2020'!$A$16:$G$150,3,FALSE)","v":"Bregy Ralf + Adolf"}]
["2020-07-19",{"$f":"VLOOKUP(D598,'2020'!$A$16:$G$150,3,FALSE)","v":"Bregy Ralf + Adolf"},{"$f":"VLOOKUP(D598,'2020'!$A$16:$G$150,2,FALSE)","v":"Carcas"},11,10,{"$f":"VLOOKUP(E598,'2020'!$A$16:$G$150,2,FALSE)","v":"Diabolo"},{"$f":"VLOOKUP(E598,'2020'!$A$16:$G$150,3,FALSE)","v":"Bregy Ralf + Adolf"}]
["2020-07-19",{"$f":"VLOOKUP(D599,'2020'!$A$16:$G$150,3,FALSE)","v":"Zumofen / Gattlen"},{"$f":"VLOOKUP(D599,'2020'!$A$16:$G$150,2,FALSE)","v":"Vidona"},111,107,{"$f":"VLOOKUP(E599,'2020'!$A$16:$G$150,2,FALSE)","v":"Violin"},{"$f":"VLOOKUP(E599,'2020'!$A$16:$G$150,3,FALSE)","v":"Zumofen / Gattlen"}]
["2020-07-19",{"$f":"VLOOKUP(D600,'2020'!$A$16:$G$150,3,FALSE)","v":"Stallung Passeraub"},{"$f":"VLOOKUP(D600,'2020'!$A$16:$G$150,2,FALSE)","v":"Ballerine"},78,108,{"$f":"VLOOKUP(E600,'2020'!$A$16:$G$150,2,FALSE)","v":"Violette"},{"$f":"VLOOKUP(E600,'2020'!$A$16:$G$150,3,FALSE)","v":"Zumofen / Gattlen"}]
["2020-07-19",{"$f":"VLOOKUP(D601,'2020'!$A$16:$G$150,3,FALSE)","v":"Zumofen / Gattlen"},{"$f":"VLOOKUP(D601,'2020'!$A$16:$G$150,2,FALSE)","v":"Vanda"},113,82,{"$f":"VLOOKUP(E601,'2020'!$A$16:$G$150,2,FALSE)","v":"Bonita"},{"$f":"VLOOKUP(E601,'2020'!$A$16:$G$150,3,FALSE)","v":"Stallung Passeraub "}]
["2020-07-19",{"$f":"VLOOKUP(D602,'2020'!$A$16:$G$150,3,FALSE)","v":"Zumofen / Gattlen"},{"$f":"VLOOKUP(D602,'2020'!$A$16:$G$150,2,FALSE)","v":"Rigolo"},117,96,{"$f":"VLOOKUP(E602,'2020'!$A$16:$G$150,2,FALSE)","v":"Tigra"},{"$f":"VLOOKUP(E602,'2020'!$A$16:$G$150,3,FALSE)","v":"Williner Anton"}]
["2020-07-19",{"$f":"VLOOKUP(D603,'2020'!$A$16:$G$150,3,FALSE)","v":"Zumofen / Gattlen"},{"$f":"VLOOKUP(D603,'2020'!$A$16:$G$150,2,FALSE)","v":"Vidona"},111,40,{"$f":"VLOOKUP(E603,'2020'!$A$16:$G$150,2,FALSE)","v":"Toscana"},{"$f":"VLOOKUP(E603,'2020'!$A$16:$G$150,3,FALSE)","v":"Fux W., J., + Wyer Piet"}]
["2020-07-19",{"$f":"VLOOKUP(D604,'2020'!$A$16:$G$150,3,FALSE)","v":"Bayard Medard + Gustav"},{"$f":"VLOOKUP(D604,'2020'!$A$16:$G$150,2,FALSE)","v":"Venus"},6,103,{"$f":"VLOOKUP(E604,'2020'!$A$16:$G$150,2,FALSE)","v":"Roxana"},{"$f":"VLOOKUP(E604,'2020'!$A$16:$G$150,3,FALSE)","v":"Wyssen Diego u. Madlen"}]
["2020-07-19",{"$f":"VLOOKUP(D605,'2020'!$A$16:$G$150,3,FALSE)","v":"Zumofen / Gattlen"},{"$f":"VLOOKUP(D605,'2020'!$A$16:$G$150,2,FALSE)","v":"Maya"},114,35,{"$f":"VLOOKUP(E605,'2020'!$A$16:$G$150,2,FALSE)","v":"Valaisanne"},{"$f":"VLOOKUP(E605,'2020'!$A$16:$G$150,3,FALSE)","v":"Fux W., J., + Wyer Piet"}]
["2020-07-19",{"$f":"VLOOKUP(D606,'2020'!$A$16:$G$150,3,FALSE)","v":"Jäger Carlo"},{"$f":"VLOOKUP(D606,'2020'!$A$16:$G$150,2,FALSE)","v":"Tokio"},70,29,{"$f":"VLOOKUP(E606,'2020'!$A$16:$G$150,2,FALSE)","v":"Rebell"},{"$f":"VLOOKUP(E606,'2020'!$A$16:$G$150,3,FALSE)","v":"Fam. Leiggener"}]
["2020-07-18",{"$f":"VLOOKUP(D607,'2020'!$A$16:$G$150,3,FALSE)","v":"Sewer R. + Thommen S."},{"$f":"VLOOKUP(D607,'2020'!$A$16:$G$150,2,FALSE)","v":"Malice"},88,72,{"$f":"VLOOKUP(E607,'2020'!$A$16:$G$150,2,FALSE)","v":"Baronesse"},{"$f":"VLOOKUP(E607,'2020'!$A$16:$G$150,3,FALSE)","v":"Mathieu Leander + S."}]
["2020-07-18",{"$f":"VLOOKUP(D608,'2020'!$A$16:$G$150,3,FALSE)","v":"Zumofen / Gattlen"},{"$f":"VLOOKUP(D608,'2020'!$A$16:$G$150,2,FALSE)","v":"Vanda"},113,107,{"$f":"VLOOKUP(E608,'2020'!$A$16:$G$150,2,FALSE)","v":"Violin"},{"$f":"VLOOKUP(E608,'2020'!$A$16:$G$150,3,FALSE)","v":"Zumofen / Gattlen"}]
["2020-07-18",{"$f":"VLOOKUP(D609,'2020'!$A$16:$G$150,3,FALSE)","v":"Bayard Medard + Gustav"},{"$f":"VLOOKUP(D609,'2020'!$A$16:$G$150,2,FALSE)","v":"Vampir"},4,89,{"$f":"VLOOKUP(E609,'2020'!$A$16:$G$150,2,FALSE)","v":"Tiara"},{"$f":"VLOOKUP(E609,'2020'!$A$16:$G$150,3,FALSE)","v":"Sewer R. + Thommen S."}]
["2020-07-18",{"$f":"VLOOKUP(D610,'2020'!$A$16:$G$150,3,FALSE)","v":"Fam. Leiggener"},{"$f":"VLOOKUP(D610,'2020'!$A$16:$G$150,2,FALSE)","v":"Rebell"},29,85,{"$f":"VLOOKUP(E610,'2020'!$A$16:$G$150,2,FALSE)","v":"Bobino"},{"$f":"VLOOKUP(E610,'2020'!$A$16:$G$150,3,FALSE)","v":"Stallung Passeraub"}]
["2020-07-18",{"$f":"VLOOKUP(D611,'2020'!$A$16:$G$150,3,FALSE)","v":"Williner Anton"},{"$f":"VLOOKUP(D611,'2020'!$A$16:$G$150,2,FALSE)","v":"Vanessa"},97,81,{"$f":"VLOOKUP(E611,'2020'!$A$16:$G$150,2,FALSE)","v":"Medusa"},{"$f":"VLOOKUP(E611,'2020'!$A$16:$G$150,3,FALSE)","v":"Stallung Passeraub "}]
["2020-07-18",{"$f":"VLOOKUP(D612,'2020'!$A$16:$G$150,3,FALSE)","v":"Bayard Medard + Gustav"},{"$f":"VLOOKUP(D612,'2020'!$A$16:$G$150,2,FALSE)","v":"Fantastic"},2,87,{"$f":"VLOOKUP(E612,'2020'!$A$16:$G$150,2,FALSE)","v":"Benika"},{"$f":"VLOOKUP(E612,'2020'!$A$16:$G$150,3,FALSE)","v":"Stallung zum Stäg"}]
["2020-07-18",{"$f":"VLOOKUP(D613,'2020'!$A$16:$G$150,3,FALSE)","v":"Fux W., J., + Wyer Piet"},{"$f":"VLOOKUP(D613,'2020'!$A$16:$G$150,2,FALSE)","v":"Baquera"},33,89,{"$f":"VLOOKUP(E613,'2020'!$A$16:$G$150,2,FALSE)","v":"Tiara"},{"$f":"VLOOKUP(E613,'2020'!$A$16:$G$150,3,FALSE)","v":"Sewer R. + Thommen S."}]
["2020-07-18",{"$f":"VLOOKUP(D614,'2020'!$A$16:$G$150,3,FALSE)","v":"Sewer R. + Thommen S."},{"$f":"VLOOKUP(D614,'2020'!$A$16:$G$150,2,FALSE)","v":"Biscot"},90,43,{"$f":"VLOOKUP(E614,'2020'!$A$16:$G$150,2,FALSE)","v":"Pampère"},{"$f":"VLOOKUP(E614,'2020'!$A$16:$G$150,3,FALSE)","v":"Fux W., J., + Wyer Piet"}]
["2020-07-18",{"$f":"VLOOKUP(D615,'2020'!$A$16:$G$150,3,FALSE)","v":"Zumofen / Gattlen"},{"$f":"VLOOKUP(D615,'2020'!$A$16:$G$150,2,FALSE)","v":"Fayola"},119,62,{"$f":"VLOOKUP(E615,'2020'!$A$16:$G$150,2,FALSE)","v":"Candice"},{"$f":"VLOOKUP(E615,'2020'!$A$16:$G$150,3,FALSE)","v":"Jäger Carlo"}]
["2020-07-17",{"$f":"VLOOKUP(D616,'2020'!$A$16:$G$150,3,FALSE)","v":"Jäger Carlo"},{"$f":"VLOOKUP(D616,'2020'!$A$16:$G$150,2,FALSE)","v":"Maila"},59,58,{"$f":"VLOOKUP(E616,'2020'!$A$16:$G$150,2,FALSE)","v":"Bataille"},{"$f":"VLOOKUP(E616,'2020'!$A$16:$G$150,3,FALSE)","v":"Jäger Carlo"}]
["2020-07-17",{"$f":"VLOOKUP(D617,'2020'!$A$16:$G$150,3,FALSE)","v":"Wyssen Diego u. Madlen"},{"$f":"VLOOKUP(D617,'2020'!$A$16:$G$150,2,FALSE)","v":"Xhyla"},105,106,{"$f":"VLOOKUP(E617,'2020'!$A$16:$G$150,2,FALSE)","v":"Rambo"},{"$f":"VLOOKUP(E617,'2020'!$A$16:$G$150,3,FALSE)","v":"Zumofen / Gattlen"}]
["2020-07-17",{"$f":"VLOOKUP(D618,'2020'!$A$16:$G$150,3,FALSE)","v":"Fam. Leiggener"},{"$f":"VLOOKUP(D618,'2020'!$A$16:$G$150,2,FALSE)","v":"Bulle"},30,67,{"$f":"VLOOKUP(E618,'2020'!$A$16:$G$150,2,FALSE)","v":"Micabol"},{"$f":"VLOOKUP(E618,'2020'!$A$16:$G$150,3,FALSE)","v":"Jäger Carlo"}]
["2020-07-17",{"$f":"VLOOKUP(D619,'2020'!$A$16:$G$150,3,FALSE)","v":"Fux W., J., + Wyer Piet"},{"$f":"VLOOKUP(D619,'2020'!$A$16:$G$150,2,FALSE)","v":"Bacardi"},39,85,{"$f":"VLOOKUP(E619,'2020'!$A$16:$G$150,2,FALSE)","v":"Bobino"},{"$f":"VLOOKUP(E619,'2020'!$A$16:$G$150,3,FALSE)","v":"Stallung Passeraub"}]
["2020-07-17",{"$f":"VLOOKUP(D620,'2020'!$A$16:$G$150,3,FALSE)","v":"Fux W., J., + Wyer Piet"},{"$f":"VLOOKUP(D620,'2020'!$A$16:$G$150,2,FALSE)","v":"Toscana"},40,30,{"$f":"VLOOKUP(E620,'2020'!$A$16:$G$150,2,FALSE)","v":"Bulle"},{"$f":"VLOOKUP(E620,'2020'!$A$16:$G$150,3,FALSE)","v":"Fam. Leiggener"}]
["2020-07-17",{"$f":"VLOOKUP(D621,'2020'!$A$16:$G$150,3,FALSE)","v":"Fux W., J., + Wyer Piet"},{"$f":"VLOOKUP(D621,'2020'!$A$16:$G$150,2,FALSE)","v":"Toscana"},40,30,{"$f":"VLOOKUP(E621,'2020'!$A$16:$G$150,2,FALSE)","v":"Bulle"},{"$f":"VLOOKUP(E621,'2020'!$A$16:$G$150,3,FALSE)","v":"Fam. Leiggener"}]
["2020-07-17",{"$f":"VLOOKUP(D622,'2020'!$A$16:$G$150,3,FALSE)","v":"Bregy Ralf + Adolf"},{"$f":"VLOOKUP(D622,'2020'!$A$16:$G$150,2,FALSE)","v":"Flacabre"},16,40,{"$f":"VLOOKUP(E622,'2020'!$A$16:$G$150,2,FALSE)","v":"Toscana"},{"$f":"VLOOKUP(E622,'2020'!$A$16:$G$150,3,FALSE)","v":"Fux W., J., + Wyer Piet"}]
["2020-07-17",{"$f":"VLOOKUP(D623,'2020'!$A$16:$G$150,3,FALSE)","v":"Fam. Leiggener"},{"$f":"VLOOKUP(D623,'2020'!$A$16:$G$150,2,FALSE)","v":"Baron"},31,43,{"$f":"VLOOKUP(E623,'2020'!$A$16:$G$150,2,FALSE)","v":"Pampère"},{"$f":"VLOOKUP(E623,'2020'!$A$16:$G$150,3,FALSE)","v":"Fux W., J., + Wyer Piet"}]
["2020-07-17",{"$f":"VLOOKUP(D624,'2020'!$A$16:$G$150,3,FALSE)","v":"Bregy Uli + Pascal"},{"$f":"VLOOKUP(D624,'2020'!$A$16:$G$150,2,FALSE)","v":"Souki"},18,24,{"$f":"VLOOKUP(E624,'2020'!$A$16:$G$150,2,FALSE)","v":"Catalina"},{"$f":"VLOOKUP(E624,'2020'!$A$16:$G$150,3,FALSE)","v":"Bregy Uli + Pascal"}]
["2020-07-17",{"$f":"VLOOKUP(D625,'2020'!$A$16:$G$150,3,FALSE)","v":"Zumofen / Gattlen"},{"$f":"VLOOKUP(D625,'2020'!$A$16:$G$150,2,FALSE)","v":"Rigolo"},117,24,{"$f":"VLOOKUP(E625,'2020'!$A$16:$G$150,2,FALSE)","v":"Catalina"},{"$f":"VLOOKUP(E625,'2020'!$A$16:$G$150,3,FALSE)","v":"Bregy Uli + Pascal"}]
["2020-07-17",{"$f":"VLOOKUP(D626,'2020'!$A$16:$G$150,3,FALSE)","v":"Zumofen / Gattlen"},{"$f":"VLOOKUP(D626,'2020'!$A$16:$G$150,2,FALSE)","v":"Rigolo"},117,34,{"$f":"VLOOKUP(E626,'2020'!$A$16:$G$150,2,FALSE)","v":"Souris"},{"$f":"VLOOKUP(E626,'2020'!$A$16:$G$150,3,FALSE)","v":"Fux W., J., + Wyer Piet"}]
["2020-07-17",{"$f":"VLOOKUP(D627,'2020'!$A$16:$G$150,3,FALSE)","v":"Hischier Pius"},{"$f":"VLOOKUP(D627,'2020'!$A$16:$G$150,2,FALSE)","v":"Shakira"},56,53,{"$f":"VLOOKUP(E627,'2020'!$A$16:$G$150,2,FALSE)","v":"Safira"},{"$f":"VLOOKUP(E627,'2020'!$A$16:$G$150,3,FALSE)","v":"Hischier Pius"}]
["2020-07-17",{"$f":"VLOOKUP(D628,'2020'!$A$16:$G$150,3,FALSE)","v":"Jäger Carlo"},{"$f":"VLOOKUP(D628,'2020'!$A$16:$G$150,2,FALSE)","v":"Tokio"},70,97,{"$f":"VLOOKUP(E628,'2020'!$A$16:$G$150,2,FALSE)","v":"Vanessa"},{"$f":"VLOOKUP(E628,'2020'!$A$16:$G$150,3,FALSE)","v":"Williner Anton"}]
["2020-07-17",{"$f":"VLOOKUP(D629,'2020'!$A$16:$G$150,3,FALSE)","v":"Fam. Leiggener"},{"$f":"VLOOKUP(D629,'2020'!$A$16:$G$150,2,FALSE)","v":"Rebell"},29,88,{"$f":"VLOOKUP(E629,'2020'!$A$16:$G$150,2,FALSE)","v":"Malice"},{"$f":"VLOOKUP(E629,'2020'!$A$16:$G$150,3,FALSE)","v":"Sewer R. + Thommen S."}]
["2020-07-17",{"$f":"VLOOKUP(D630,'2020'!$A$16:$G$150,3,FALSE)","v":"Williner Anton"},{"$f":"VLOOKUP(D630,'2020'!$A$16:$G$150,2,FALSE)","v":"Colonell"},98,15,{"$f":"VLOOKUP(E630,'2020'!$A$16:$G$150,2,FALSE)","v":"Cashida"},{"$f":"VLOOKUP(E630,'2020'!$A$16:$G$150,3,FALSE)","v":"Bregy Ralf + Adolf"}]
["2020-07-17",{"$f":"VLOOKUP(D631,'2020'!$A$16:$G$150,3,FALSE)","v":"Tscherry E. + B."},{"$f":"VLOOKUP(D631,'2020'!$A$16:$G$150,2,FALSE)","v":"Cobra"},94,4,{"$f":"VLOOKUP(E631,'2020'!$A$16:$G$150,2,FALSE)","v":"Vampir"},{"$f":"VLOOKUP(E631,'2020'!$A$16:$G$150,3,FALSE)","v":"Bayard Medard + Gustav"}]
["2020-07-17",{"$f":"VLOOKUP(D632,'2020'!$A$16:$G$150,3,FALSE)","v":"Bayard Medard + Gustav"},{"$f":"VLOOKUP(D632,'2020'!$A$16:$G$150,2,FALSE)","v":"Pandera"},5,80,{"$f":"VLOOKUP(E632,'2020'!$A$16:$G$150,2,FALSE)","v":"Manou"},{"$f":"VLOOKUP(E632,'2020'!$A$16:$G$150,3,FALSE)","v":"Stallung Passeraub "}]
["2020-07-17",{"$f":"VLOOKUP(D633,'2020'!$A$16:$G$150,3,FALSE)","v":"Zumofen / Gattlen"},{"$f":"VLOOKUP(D633,'2020'!$A$16:$G$150,2,FALSE)","v":"Violette"},108,81,{"$f":"VLOOKUP(E633,'2020'!$A$16:$G$150,2,FALSE)","v":"Medusa"},{"$f":"VLOOKUP(E633,'2020'!$A$16:$G$150,3,FALSE)","v":"Stallung Passeraub "}]
["2020-07-17",{"$f":"VLOOKUP(D634,'2020'!$A$16:$G$150,3,FALSE)","v":"Jäger Carlo"},{"$f":"VLOOKUP(D634,'2020'!$A$16:$G$150,2,FALSE)","v":"Promise"},57,12,{"$f":"VLOOKUP(E634,'2020'!$A$16:$G$150,2,FALSE)","v":"Milow"},{"$f":"VLOOKUP(E634,'2020'!$A$16:$G$150,3,FALSE)","v":"Bregy Silvan + Patrick"}]
["2020-07-17",{"$f":"VLOOKUP(D635,'2020'!$A$16:$G$150,3,FALSE)","v":"Zumofen / Gattlen"},{"$f":"VLOOKUP(D635,'2020'!$A$16:$G$150,2,FALSE)","v":"Violette"},108,19,{"$f":"VLOOKUP(E635,'2020'!$A$16:$G$150,2,FALSE)","v":"Tiranie"},{"$f":"VLOOKUP(E635,'2020'!$A$16:$G$150,3,FALSE)","v":"Bregy Uli + Pascal"}]
["2020-07-17",{"$f":"VLOOKUP(D636,'2020'!$A$16:$G$150,3,FALSE)","v":"Bregy Ralf + Adolf"},{"$f":"VLOOKUP(D636,'2020'!$A$16:$G$150,2,FALSE)","v":"Diabolo"},10,29,{"$f":"VLOOKUP(E636,'2020'!$A$16:$G$150,2,FALSE)","v":"Rebell"},{"$f":"VLOOKUP(E636,'2020'!$A$16:$G$150,3,FALSE)","v":"Fam. Leiggener"}]
["2020-07-17",{"$f":"VLOOKUP(D637,'2020'!$A$16:$G$150,3,FALSE)","v":"Williner Anton"},{"$f":"VLOOKUP(D637,'2020'!$A$16:$G$150,2,FALSE)","v":"Tira"},100,24,{"$f":"VLOOKUP(E637,'2020'!$A$16:$G$150,2,FALSE)","v":"Catalina"},{"$f":"VLOOKUP(E637,'2020'!$A$16:$G$150,3,FALSE)","v":"Bregy Uli + Pascal"}]
["2020-07-17",{"$f":"VLOOKUP(D638,'2020'!$A$16:$G$150,3,FALSE)","v":"Zumofen / Gattlen"},{"$f":"VLOOKUP(D638,'2020'!$A$16:$G$150,2,FALSE)","v":"Rena"},109,103,{"$f":"VLOOKUP(E638,'2020'!$A$16:$G$150,2,FALSE)","v":"Roxana"},{"$f":"VLOOKUP(E638,'2020'!$A$16:$G$150,3,FALSE)","v":"Wyssen Diego u. Madlen"}]
["2020-07-17",{"$f":"VLOOKUP(D639,'2020'!$A$16:$G$150,3,FALSE)","v":"Gebr. Jäger"},{"$f":"VLOOKUP(D639,'2020'!$A$16:$G$150,2,FALSE)","v":"Simba"},48,94,{"$f":"VLOOKUP(E639,'2020'!$A$16:$G$150,2,FALSE)","v":"Cobra"},{"$f":"VLOOKUP(E639,'2020'!$A$16:$G$150,3,FALSE)","v":"Tscherry E. + B."}]
["2020-07-16",{"$f":"VLOOKUP(D640,'2020'!$A$16:$G$150,3,FALSE)","v":"Stallung Passeraub"},{"$f":"VLOOKUP(D640,'2020'!$A$16:$G$150,2,FALSE)","v":"Ballerine"},78,32,{"$f":"VLOOKUP(E640,'2020'!$A$16:$G$150,2,FALSE)","v":"Mira"},{"$f":"VLOOKUP(E640,'2020'!$A$16:$G$150,3,FALSE)","v":"Fam. Leiggener"}]
["2020-07-16",{"$f":"VLOOKUP(D641,'2020'!$A$16:$G$150,3,FALSE)","v":"Jäger Carlo"},{"$f":"VLOOKUP(D641,'2020'!$A$16:$G$150,2,FALSE)","v":"Megane"},65,75,{"$f":"VLOOKUP(E641,'2020'!$A$16:$G$150,2,FALSE)","v":"Bonita"},{"$f":"VLOOKUP(E641,'2020'!$A$16:$G$150,3,FALSE)","v":"Mathieu Leander + S."}]
["2020-07-16",{"$f":"VLOOKUP(D642,'2020'!$A$16:$G$150,3,FALSE)","v":"Zumofen / Gattlen"},{"$f":"VLOOKUP(D642,'2020'!$A$16:$G$150,2,FALSE)","v":"Rena"},109,16,{"$f":"VLOOKUP(E642,'2020'!$A$16:$G$150,2,FALSE)","v":"Flacabre"},{"$f":"VLOOKUP(E642,'2020'!$A$16:$G$150,3,FALSE)","v":"Bregy Ralf + Adolf"}]
["2020-07-16",{"$f":"VLOOKUP(D643,'2020'!$A$16:$G$150,3,FALSE)","v":"Williner Anton"},{"$f":"VLOOKUP(D643,'2020'!$A$16:$G$150,2,FALSE)","v":"Colonell"},98,16,{"$f":"VLOOKUP(E643,'2020'!$A$16:$G$150,2,FALSE)","v":"Flacabre"},{"$f":"VLOOKUP(E643,'2020'!$A$16:$G$150,3,FALSE)","v":"Bregy Ralf + Adolf"}]
["2020-07-16",{"$f":"VLOOKUP(D644,'2020'!$A$16:$G$150,3,FALSE)","v":"Williner Anton"},{"$f":"VLOOKUP(D644,'2020'!$A$16:$G$150,2,FALSE)","v":"Tigra"},96,119,{"$f":"VLOOKUP(E644,'2020'!$A$16:$G$150,2,FALSE)","v":"Fayola"},{"$f":"VLOOKUP(E644,'2020'!$A$16:$G$150,3,FALSE)","v":"Zumofen / Gattlen"}]
["2020-07-16",{"$f":"VLOOKUP(D645,'2020'!$A$16:$G$150,3,FALSE)","v":"Wyssen Diego u. Madlen"},{"$f":"VLOOKUP(D645,'2020'!$A$16:$G$150,2,FALSE)","v":"Rasta"},102,16,{"$f":"VLOOKUP(E645,'2020'!$A$16:$G$150,2,FALSE)","v":"Flacabre"},{"$f":"VLOOKUP(E645,'2020'!$A$16:$G$150,3,FALSE)","v":"Bregy Ralf + Adolf"}]
["2020-07-16",{"$f":"VLOOKUP(D646,'2020'!$A$16:$G$150,3,FALSE)","v":"Zumofen / Gattlen"},{"$f":"VLOOKUP(D646,'2020'!$A$16:$G$150,2,FALSE)","v":"Fayola"},119,46,{"$f":"VLOOKUP(E646,'2020'!$A$16:$G$150,2,FALSE)","v":"Lorens"},{"$f":"VLOOKUP(E646,'2020'!$A$16:$G$150,3,FALSE)","v":"Gebr. Jäger"}]
["2020-07-16",{"$f":"VLOOKUP(D647,'2020'!$A$16:$G$150,3,FALSE)","v":"Fux W., J., + Wyer Piet"},{"$f":"VLOOKUP(D647,'2020'!$A$16:$G$150,2,FALSE)","v":"Bacardi"},39,50,{"$f":"VLOOKUP(E647,'2020'!$A$16:$G$150,2,FALSE)","v":"Tanja"},{"$f":"VLOOKUP(E647,'2020'!$A$16:$G$150,3,FALSE)","v":"Gebr. Jäger"}]
["2020-07-16",{"$f":"VLOOKUP(D648,'2020'!$A$16:$G$150,3,FALSE)","v":"Bayard Medard + Gustav"},{"$f":"VLOOKUP(D648,'2020'!$A$16:$G$150,2,FALSE)","v":"Venus"},6,90,{"$f":"VLOOKUP(E648,'2020'!$A$16:$G$150,2,FALSE)","v":"Biscot"},{"$f":"VLOOKUP(E648,'2020'!$A$16:$G$150,3,FALSE)","v":"Sewer R. + Thommen S."}]
["2020-07-16",{"$f":"VLOOKUP(D649,'2020'!$A$16:$G$150,3,FALSE)","v":"Gebr. Jäger"},{"$f":"VLOOKUP(D649,'2020'!$A$16:$G$150,2,FALSE)","v":"Dorina"},44,47,{"$f":"VLOOKUP(E649,'2020'!$A$16:$G$150,2,FALSE)","v":"Tiara"},{"$f":"VLOOKUP(E649,'2020'!$A$16:$G$150,3,FALSE)","v":"Gebr. Jäger"}]
["2020-07-16",{"$f":"VLOOKUP(D650,'2020'!$A$16:$G$150,3,FALSE)","v":"Zumofen / Gattlen"},{"$f":"VLOOKUP(D650,'2020'!$A$16:$G$150,2,FALSE)","v":"Rigolo"},117,69,{"$f":"VLOOKUP(E650,'2020'!$A$16:$G$150,2,FALSE)","v":"Taverne"},{"$f":"VLOOKUP(E650,'2020'!$A$16:$G$150,3,FALSE)","v":"Jäger Carlo"}]
["2020-07-16",{"$f":"VLOOKUP(D651,'2020'!$A$16:$G$150,3,FALSE)","v":"Bregy Ralf + Adolf"},{"$f":"VLOOKUP(D651,'2020'!$A$16:$G$150,2,FALSE)","v":"Coquette"},17,71,{"$f":"VLOOKUP(E651,'2020'!$A$16:$G$150,2,FALSE)","v":"Baghira"},{"$f":"VLOOKUP(E651,'2020'!$A$16:$G$150,3,FALSE)","v":"Mathieu Leander + S."}]
["2020-07-15",{"$f":"VLOOKUP(D652,'2020'!$A$16:$G$150,3,FALSE)","v":"Zumofen / Gattlen"},{"$f":"VLOOKUP(D652,'2020'!$A$16:$G$150,2,FALSE)","v":"Vanda"},113,16,{"$f":"VLOOKUP(E652,'2020'!$A$16:$G$150,2,FALSE)","v":"Flacabre"},{"$f":"VLOOKUP(E652,'2020'!$A$16:$G$150,3,FALSE)","v":"Bregy Ralf + Adolf"}]
["2020-07-15",{"$f":"VLOOKUP(D653,'2020'!$A$16:$G$150,3,FALSE)","v":"Bregy Uli + Pascal"},{"$f":"VLOOKUP(D653,'2020'!$A$16:$G$150,2,FALSE)","v":"Bora"},21,11,{"$f":"VLOOKUP(E653,'2020'!$A$16:$G$150,2,FALSE)","v":"Carcas"},{"$f":"VLOOKUP(E653,'2020'!$A$16:$G$150,3,FALSE)","v":"Bregy Ralf + Adolf"}]
["2020-07-15",{"$f":"VLOOKUP(D654,'2020'!$A$16:$G$150,3,FALSE)","v":"Bregy Ralf + Adolf"},{"$f":"VLOOKUP(D654,'2020'!$A$16:$G$150,2,FALSE)","v":"Carcas"},11,56,{"$f":"VLOOKUP(E654,'2020'!$A$16:$G$150,2,FALSE)","v":"Shakira"},{"$f":"VLOOKUP(E654,'2020'!$A$16:$G$150,3,FALSE)","v":"Hischier Pius"}]
["2020-07-15",{"$f":"VLOOKUP(D655,'2020'!$A$16:$G$150,3,FALSE)","v":"Jäger Carlo"},{"$f":"VLOOKUP(D655,'2020'!$A$16:$G$150,2,FALSE)","v":"Taverne"},69,72,{"$f":"VLOOKUP(E655,'2020'!$A$16:$G$150,2,FALSE)","v":"Baronesse"},{"$f":"VLOOKUP(E655,'2020'!$A$16:$G$150,3,FALSE)","v":"Mathieu Leander + S."}]
["2020-07-15",{"$f":"VLOOKUP(D656,'2020'!$A$16:$G$150,3,FALSE)","v":"Bregy Ralf + Adolf"},{"$f":"VLOOKUP(D656,'2020'!$A$16:$G$150,2,FALSE)","v":"Creola"},8,117,{"$f":"VLOOKUP(E656,'2020'!$A$16:$G$150,2,FALSE)","v":"Rigolo"},{"$f":"VLOOKUP(E656,'2020'!$A$16:$G$150,3,FALSE)","v":"Zumofen / Gattlen"}]
["2020-07-15",{"$f":"VLOOKUP(D657,'2020'!$A$16:$G$150,3,FALSE)","v":"Zumofen / Gattlen"},{"$f":"VLOOKUP(D657,'2020'!$A$16:$G$150,2,FALSE)","v":"Pinoccio"},116,1,{"$f":"VLOOKUP(E657,'2020'!$A$16:$G$150,2,FALSE)","v":"Diabolo"},{"$f":"VLOOKUP(E657,'2020'!$A$16:$G$150,3,FALSE)","v":"Bayard Medard + Gustav"}]
["2020-07-15",{"$f":"VLOOKUP(D658,'2020'!$A$16:$G$150,3,FALSE)","v":"Jäger Carlo"},{"$f":"VLOOKUP(D658,'2020'!$A$16:$G$150,2,FALSE)","v":"Micabol"},67,39,{"$f":"VLOOKUP(E658,'2020'!$A$16:$G$150,2,FALSE)","v":"Bacardi"},{"$f":"VLOOKUP(E658,'2020'!$A$16:$G$150,3,FALSE)","v":"Fux W., J., + Wyer Piet"}]
["2020-07-15",{"$f":"VLOOKUP(D659,'2020'!$A$16:$G$150,3,FALSE)","v":"Stallung zum Stäg"},{"$f":"VLOOKUP(D659,'2020'!$A$16:$G$150,2,FALSE)","v":"Benika"},87,111,{"$f":"VLOOKUP(E659,'2020'!$A$16:$G$150,2,FALSE)","v":"Vidona"},{"$f":"VLOOKUP(E659,'2020'!$A$16:$G$150,3,FALSE)","v":"Zumofen / Gattlen"}]
["2020-07-15",{"$f":"VLOOKUP(D660,'2020'!$A$16:$G$150,3,FALSE)","v":"Hutter Richard"},{"$f":"VLOOKUP(D660,'2020'!$A$16:$G$150,2,FALSE)","v":"Fägär"},84,31,{"$f":"VLOOKUP(E660,'2020'!$A$16:$G$150,2,FALSE)","v":"Baron"},{"$f":"VLOOKUP(E660,'2020'!$A$16:$G$150,3,FALSE)","v":"Fam. Leiggener"}]
["2020-07-15",{"$f":"VLOOKUP(D661,'2020'!$A$16:$G$150,3,FALSE)","v":"Gebr. Jäger"},{"$f":"VLOOKUP(D661,'2020'!$A$16:$G$150,2,FALSE)","v":"Tanja"},50,84,{"$f":"VLOOKUP(E661,'2020'!$A$16:$G$150,2,FALSE)","v":"Fägär"},{"$f":"VLOOKUP(E661,'2020'!$A$16:$G$150,3,FALSE)","v":"Hutter Richard"}]
["2020-07-15",{"$f":"VLOOKUP(D662,'2020'!$A$16:$G$150,3,FALSE)","v":"Bregy Uli + Pascal"},{"$f":"VLOOKUP(D662,'2020'!$A$16:$G$150,2,FALSE)","v":"Pandora"},23,117,{"$f":"VLOOKUP(E662,'2020'!$A$16:$G$150,2,FALSE)","v":"Rigolo"},{"$f":"VLOOKUP(E662,'2020'!$A$16:$G$150,3,FALSE)","v":"Zumofen / Gattlen"}]
["2020-07-15",{"$f":"VLOOKUP(D663,'2020'!$A$16:$G$150,3,FALSE)","v":"Bregy Ralf + Adolf"},{"$f":"VLOOKUP(D663,'2020'!$A$16:$G$150,2,FALSE)","v":"Canaille"},7,3,{"$f":"VLOOKUP(E663,'2020'!$A$16:$G$150,2,FALSE)","v":"Priska"},{"$f":"VLOOKUP(E663,'2020'!$A$16:$G$150,3,FALSE)","v":"Bayard Medard + Gustav"}]
["2020-07-15",{"$f":"VLOOKUP(D664,'2020'!$A$16:$G$150,3,FALSE)","v":"Zumofen / Gattlen"},{"$f":"VLOOKUP(D664,'2020'!$A$16:$G$150,2,FALSE)","v":"Rigolo"},117,70,{"$f":"VLOOKUP(E664,'2020'!$A$16:$G$150,2,FALSE)","v":"Tokio"},{"$f":"VLOOKUP(E664,'2020'!$A$16:$G$150,3,FALSE)","v":"Jäger Carlo"}]
["2020-07-15",{"$f":"VLOOKUP(D665,'2020'!$A$16:$G$150,3,FALSE)","v":"Bayard Medard + Gustav"},{"$f":"VLOOKUP(D665,'2020'!$A$16:$G$150,2,FALSE)","v":"Vampir"},4,94,{"$f":"VLOOKUP(E665,'2020'!$A$16:$G$150,2,FALSE)","v":"Cobra"},{"$f":"VLOOKUP(E665,'2020'!$A$16:$G$150,3,FALSE)","v":"Tscherry E. + B."}]
["2020-07-15",{"$f":"VLOOKUP(D666,'2020'!$A$16:$G$150,3,FALSE)","v":"Bregy Uli + Pascal"},{"$f":"VLOOKUP(D666,'2020'!$A$16:$G$150,2,FALSE)","v":"Bora"},21,32,{"$f":"VLOOKUP(E666,'2020'!$A$16:$G$150,2,FALSE)","v":"Mira"},{"$f":"VLOOKUP(E666,'2020'!$A$16:$G$150,3,FALSE)","v":"Fam. Leiggener"}]
["2020-07-15",{"$f":"VLOOKUP(D667,'2020'!$A$16:$G$150,3,FALSE)","v":"Fux W., J., + Wyer Piet"},{"$f":"VLOOKUP(D667,'2020'!$A$16:$G$150,2,FALSE)","v":"Valaisanne"},35,114,{"$f":"VLOOKUP(E667,'2020'!$A$16:$G$150,2,FALSE)","v":"Maya"},{"$f":"VLOOKUP(E667,'2020'!$A$16:$G$150,3,FALSE)","v":"Zumofen / Gattlen"}]
["2020-07-15",{"$f":"VLOOKUP(D668,'2020'!$A$16:$G$150,3,FALSE)","v":"Zumofen / Gattlen"},{"$f":"VLOOKUP(D668,'2020'!$A$16:$G$150,2,FALSE)","v":"Rigolo"},117,8,{"$f":"VLOOKUP(E668,'2020'!$A$16:$G$150,2,FALSE)","v":"Creola"},{"$f":"VLOOKUP(E668,'2020'!$A$16:$G$150,3,FALSE)","v":"Bregy Ralf + Adolf"}]
["2020-07-15",{"$f":"VLOOKUP(D669,'2020'!$A$16:$G$150,3,FALSE)","v":"Zumofen / Gattlen"},{"$f":"VLOOKUP(D669,'2020'!$A$16:$G$150,2,FALSE)","v":"Xena"},110,13,{"$f":"VLOOKUP(E669,'2020'!$A$16:$G$150,2,FALSE)","v":"Tequilla"},{"$f":"VLOOKUP(E669,'2020'!$A$16:$G$150,3,FALSE)","v":"Bregy Silvan + Patrick"}]
["2020-07-15",{"$f":"VLOOKUP(D670,'2020'!$A$16:$G$150,3,FALSE)","v":"Bayard Medard + Gustav"},{"$f":"VLOOKUP(D670,'2020'!$A$16:$G$150,2,FALSE)","v":"Venus"},6,72,{"$f":"VLOOKUP(E670,'2020'!$A$16:$G$150,2,FALSE)","v":"Baronesse"},{"$f":"VLOOKUP(E670,'2020'!$A$16:$G$150,3,FALSE)","v":"Mathieu Leander + S."}]
["2020-07-14",{"$f":"VLOOKUP(D671,'2020'!$A$16:$G$150,3,FALSE)","v":"Hischier Pius"},{"$f":"VLOOKUP(D671,'2020'!$A$16:$G$150,2,FALSE)","v":"Shakira"},56,33,{"$f":"VLOOKUP(E671,'2020'!$A$16:$G$150,2,FALSE)","v":"Baquera"},{"$f":"VLOOKUP(E671,'2020'!$A$16:$G$150,3,FALSE)","v":"Fux W., J., + Wyer Piet"}]
["2020-07-14",{"$f":"VLOOKUP(D672,'2020'!$A$16:$G$150,3,FALSE)","v":"Wyssen Diego u. Madlen"},{"$f":"VLOOKUP(D672,'2020'!$A$16:$G$150,2,FALSE)","v":"Xhyla"},105,4,{"$f":"VLOOKUP(E672,'2020'!$A$16:$G$150,2,FALSE)","v":"Vampir"},{"$f":"VLOOKUP(E672,'2020'!$A$16:$G$150,3,FALSE)","v":"Bayard Medard + Gustav"}]
["2020-07-14",{"$f":"VLOOKUP(D673,'2020'!$A$16:$G$150,3,FALSE)","v":"Bregy Uli + Pascal"},{"$f":"VLOOKUP(D673,'2020'!$A$16:$G$150,2,FALSE)","v":"Cataleya"},26,84,{"$f":"VLOOKUP(E673,'2020'!$A$16:$G$150,2,FALSE)","v":"Fägär"},{"$f":"VLOOKUP(E673,'2020'!$A$16:$G$150,3,FALSE)","v":"Hutter Richard"}]
["2020-07-14",{"$f":"VLOOKUP(D674,'2020'!$A$16:$G$150,3,FALSE)","v":"Wyssen Diego u. Madlen"},{"$f":"VLOOKUP(D674,'2020'!$A$16:$G$150,2,FALSE)","v":"Xena"},104,36,{"$f":"VLOOKUP(E674,'2020'!$A$16:$G$150,2,FALSE)","v":"Calmy"},{"$f":"VLOOKUP(E674,'2020'!$A$16:$G$150,3,FALSE)","v":"Fux W., J., + Wyer Piet"}]
["2020-07-14",{"$f":"VLOOKUP(D675,'2020'!$A$16:$G$150,3,FALSE)","v":"Bregy Uli + Pascal"},{"$f":"VLOOKUP(D675,'2020'!$A$16:$G$150,2,FALSE)","v":"Corona"},28,32,{"$f":"VLOOKUP(E675,'2020'!$A$16:$G$150,2,FALSE)","v":"Mira"},{"$f":"VLOOKUP(E675,'2020'!$A$16:$G$150,3,FALSE)","v":"Fam. Leiggener"}]
["2020-07-14",{"$f":"VLOOKUP(D676,'2020'!$A$16:$G$150,3,FALSE)","v":"Mathieu Leander + S."},{"$f":"VLOOKUP(D676,'2020'!$A$16:$G$150,2,FALSE)","v":"Baghira"},71,53,{"$f":"VLOOKUP(E676,'2020'!$A$16:$G$150,2,FALSE)","v":"Safira"},{"$f":"VLOOKUP(E676,'2020'!$A$16:$G$150,3,FALSE)","v":"Hischier Pius"}]
["2020-07-14",{"$f":"VLOOKUP(D677,'2020'!$A$16:$G$150,3,FALSE)","v":"Bregy Ralf + Adolf"},{"$f":"VLOOKUP(D677,'2020'!$A$16:$G$150,2,FALSE)","v":"Flacabre"},16,48,{"$f":"VLOOKUP(E677,'2020'!$A$16:$G$150,2,FALSE)","v":"Simba"},{"$f":"VLOOKUP(E677,'2020'!$A$16:$G$150,3,FALSE)","v":"Gebr. Jäger"}]
["2020-07-14",{"$f":"VLOOKUP(D678,'2020'!$A$16:$G$150,3,FALSE)","v":"Zumofen / Gattlen"},{"$f":"VLOOKUP(D678,'2020'!$A$16:$G$150,2,FALSE)","v":"Rena"},109,66,{"$f":"VLOOKUP(E678,'2020'!$A$16:$G$150,2,FALSE)","v":"Metis"},{"$f":"VLOOKUP(E678,'2020'!$A$16:$G$150,3,FALSE)","v":"Jäger Carlo"}]
["2020-07-14",{"$f":"VLOOKUP(D679,'2020'!$A$16:$G$150,3,FALSE)","v":"Bregy Ralf + Adolf"},{"$f":"VLOOKUP(D679,'2020'!$A$16:$G$150,2,FALSE)","v":"Canabis"},14,77,{"$f":"VLOOKUP(E679,'2020'!$A$16:$G$150,2,FALSE)","v":"Beres"},{"$f":"VLOOKUP(E679,'2020'!$A$16:$G$150,3,FALSE)","v":"Stallung Passeraub"}]
["2020-07-14",{"$f":"VLOOKUP(D680,'2020'!$A$16:$G$150,3,FALSE)","v":"Gebr. Jäger"},{"$f":"VLOOKUP(D680,'2020'!$A$16:$G$150,2,FALSE)","v":"Lorens"},46,16,{"$f":"VLOOKUP(E680,'2020'!$A$16:$G$150,2,FALSE)","v":"Flacabre"},{"$f":"VLOOKUP(E680,'2020'!$A$16:$G$150,3,FALSE)","v":"Bregy Ralf + Adolf"}]
["2020-07-14",{"$f":"VLOOKUP(D681,'2020'!$A$16:$G$150,3,FALSE)","v":"Bregy Uli + Pascal"},{"$f":"VLOOKUP(D681,'2020'!$A$16:$G$150,2,FALSE)","v":"Cataleya"},26,53,{"$f":"VLOOKUP(E681,'2020'!$A$16:$G$150,2,FALSE)","v":"Safira"},{"$f":"VLOOKUP(E681,'2020'!$A$16:$G$150,3,FALSE)","v":"Hischier Pius"}]
["2020-07-14",{"$f":"VLOOKUP(D682,'2020'!$A$16:$G$150,3,FALSE)","v":"Jäger Carlo"},{"$f":"VLOOKUP(D682,'2020'!$A$16:$G$150,2,FALSE)","v":"Bayonne"},60,28,{"$f":"VLOOKUP(E682,'2020'!$A$16:$G$150,2,FALSE)","v":"Corona"},{"$f":"VLOOKUP(E682,'2020'!$A$16:$G$150,3,FALSE)","v":"Bregy Uli + Pascal"}]
["2020-07-14",{"$f":"VLOOKUP(D683,'2020'!$A$16:$G$150,3,FALSE)","v":"Bayard Medard + Gustav"},{"$f":"VLOOKUP(D683,'2020'!$A$16:$G$150,2,FALSE)","v":"Venus"},6,32,{"$f":"VLOOKUP(E683,'2020'!$A$16:$G$150,2,FALSE)","v":"Mira"},{"$f":"VLOOKUP(E683,'2020'!$A$16:$G$150,3,FALSE)","v":"Fam. Leiggener"}]
["2020-07-14",{"$f":"VLOOKUP(D684,'2020'!$A$16:$G$150,3,FALSE)","v":"Jäger Carlo"},{"$f":"VLOOKUP(D684,'2020'!$A$16:$G$150,2,FALSE)","v":"Maila"},59,112,{"$f":"VLOOKUP(E684,'2020'!$A$16:$G$150,2,FALSE)","v":"Riva "},{"$f":"VLOOKUP(E684,'2020'!$A$16:$G$150,3,FALSE)","v":"Zumofen / Gattlen"}]
["2020-07-14",{"$f":"VLOOKUP(D685,'2020'!$A$16:$G$150,3,FALSE)","v":"Bregy Ralf + Adolf"},{"$f":"VLOOKUP(D685,'2020'!$A$16:$G$150,2,FALSE)","v":"Flacabre"},16,109,{"$f":"VLOOKUP(E685,'2020'!$A$16:$G$150,2,FALSE)","v":"Rena"},{"$f":"VLOOKUP(E685,'2020'!$A$16:$G$150,3,FALSE)","v":"Zumofen / Gattlen"}]
["2020-07-14",{"$f":"VLOOKUP(D686,'2020'!$A$16:$G$150,3,FALSE)","v":"Gebr. Jäger"},{"$f":"VLOOKUP(D686,'2020'!$A$16:$G$150,2,FALSE)","v":"Dorina"},44,60,{"$f":"VLOOKUP(E686,'2020'!$A$16:$G$150,2,FALSE)","v":"Bayonne"},{"$f":"VLOOKUP(E686,'2020'!$A$16:$G$150,3,FALSE)","v":"Jäger Carlo"}]
["2020-07-14",{"$f":"VLOOKUP(D687,'2020'!$A$16:$G$150,3,FALSE)","v":"Fam. Leiggener"},{"$f":"VLOOKUP(D687,'2020'!$A$16:$G$150,2,FALSE)","v":"Bulle"},30,35,{"$f":"VLOOKUP(E687,'2020'!$A$16:$G$150,2,FALSE)","v":"Valaisanne"},{"$f":"VLOOKUP(E687,'2020'!$A$16:$G$150,3,FALSE)","v":"Fux W., J., + Wyer Piet"}]
["2020-07-14",{"$f":"VLOOKUP(D688,'2020'!$A$16:$G$150,3,FALSE)","v":"Jäger Carlo"},{"$f":"VLOOKUP(D688,'2020'!$A$16:$G$150,2,FALSE)","v":"Micabol"},67,40,{"$f":"VLOOKUP(E688,'2020'!$A$16:$G$150,2,FALSE)","v":"Toscana"},{"$f":"VLOOKUP(E688,'2020'!$A$16:$G$150,3,FALSE)","v":"Fux W., J., + Wyer Piet"}]
["2020-07-14",{"$f":"VLOOKUP(D689,'2020'!$A$16:$G$150,3,FALSE)","v":"Zumofen / Gattlen"},{"$f":"VLOOKUP(D689,'2020'!$A$16:$G$150,2,FALSE)","v":"Violette"},108,59,{"$f":"VLOOKUP(E689,'2020'!$A$16:$G$150,2,FALSE)","v":"Maila"},{"$f":"VLOOKUP(E689,'2020'!$A$16:$G$150,3,FALSE)","v":"Jäger Carlo"}]
["2020-07-14",{"$f":"VLOOKUP(D690,'2020'!$A$16:$G$150,3,FALSE)","v":"Zumofen / Gattlen"},{"$f":"VLOOKUP(D690,'2020'!$A$16:$G$150,2,FALSE)","v":"Violette"},108,22,{"$f":"VLOOKUP(E690,'2020'!$A$16:$G$150,2,FALSE)","v":"Xaphir"},{"$f":"VLOOKUP(E690,'2020'!$A$16:$G$150,3,FALSE)","v":"Bregy Uli + Pascal"}]
["2020-07-14",{"$f":"VLOOKUP(D691,'2020'!$A$16:$G$150,3,FALSE)","v":"Jäger Carlo"},{"$f":"VLOOKUP(D691,'2020'!$A$16:$G$150,2,FALSE)","v":"Maila"},59,113,{"$f":"VLOOKUP(E691,'2020'!$A$16:$G$150,2,FALSE)","v":"Vanda"},{"$f":"VLOOKUP(E691,'2020'!$A$16:$G$150,3,FALSE)","v":"Zumofen / Gattlen"}]
["2020-07-14",{"$f":"VLOOKUP(D692,'2020'!$A$16:$G$150,3,FALSE)","v":"Bregy Ralf + Adolf"},{"$f":"VLOOKUP(D692,'2020'!$A$16:$G$150,2,FALSE)","v":"Flacabre"},16,113,{"$f":"VLOOKUP(E692,'2020'!$A$16:$G$150,2,FALSE)","v":"Vanda"},{"$f":"VLOOKUP(E692,'2020'!$A$16:$G$150,3,FALSE)","v":"Zumofen / Gattlen"}]
["2020-07-14",{"$f":"VLOOKUP(D693,'2020'!$A$16:$G$150,3,FALSE)","v":"Zumofen / Gattlen"},{"$f":"VLOOKUP(D693,'2020'!$A$16:$G$150,2,FALSE)","v":"Vanda"},113,59,{"$f":"VLOOKUP(E693,'2020'!$A$16:$G$150,2,FALSE)","v":"Maila"},{"$f":"VLOOKUP(E693,'2020'!$A$16:$G$150,3,FALSE)","v":"Jäger Carlo"}]
["2020-07-14",{"$f":"VLOOKUP(D694,'2020'!$A$16:$G$150,3,FALSE)","v":"Mathieu Leander + S."},{"$f":"VLOOKUP(D694,'2020'!$A$16:$G$150,2,FALSE)","v":"Bavaria"},73,2,{"$f":"VLOOKUP(E694,'2020'!$A$16:$G$150,2,FALSE)","v":"Fantastic"},{"$f":"VLOOKUP(E694,'2020'!$A$16:$G$150,3,FALSE)","v":"Bayard Medard + Gustav"}]
["2020-07-13",{"$f":"VLOOKUP(D695,'2020'!$A$16:$G$150,3,FALSE)","v":"Bayard Medard + Gustav"},{"$f":"VLOOKUP(D695,'2020'!$A$16:$G$150,2,FALSE)","v":"Fantastic"},2,71,{"$f":"VLOOKUP(E695,'2020'!$A$16:$G$150,2,FALSE)","v":"Baghira"},{"$f":"VLOOKUP(E695,'2020'!$A$16:$G$150,3,FALSE)","v":"Mathieu Leander + S."}]
["2020-07-13",{"$f":"VLOOKUP(D696,'2020'!$A$16:$G$150,3,FALSE)","v":"Mathieu Leander + S."},{"$f":"VLOOKUP(D696,'2020'!$A$16:$G$150,2,FALSE)","v":"Bavaria"},73,84,{"$f":"VLOOKUP(E696,'2020'!$A$16:$G$150,2,FALSE)","v":"Fägär"},{"$f":"VLOOKUP(E696,'2020'!$A$16:$G$150,3,FALSE)","v":"Hutter Richard"}]
["2020-07-13",{"$f":"VLOOKUP(D697,'2020'!$A$16:$G$150,3,FALSE)","v":"Fux W., J., + Wyer Piet"},{"$f":"VLOOKUP(D697,'2020'!$A$16:$G$150,2,FALSE)","v":"Valaisanne"},35,114,{"$f":"VLOOKUP(E697,'2020'!$A$16:$G$150,2,FALSE)","v":"Maya"},{"$f":"VLOOKUP(E697,'2020'!$A$16:$G$150,3,FALSE)","v":"Zumofen / Gattlen"}]
["2020-07-13",{"$f":"VLOOKUP(D698,'2020'!$A$16:$G$150,3,FALSE)","v":"Zumofen / Gattlen"},{"$f":"VLOOKUP(D698,'2020'!$A$16:$G$150,2,FALSE)","v":"Fayola"},119,4,{"$f":"VLOOKUP(E698,'2020'!$A$16:$G$150,2,FALSE)","v":"Vampir"},{"$f":"VLOOKUP(E698,'2020'!$A$16:$G$150,3,FALSE)","v":"Bayard Medard + Gustav"}]
["2020-07-13",{"$f":"VLOOKUP(D699,'2020'!$A$16:$G$150,3,FALSE)","v":"Fam. Leiggener"},{"$f":"VLOOKUP(D699,'2020'!$A$16:$G$150,2,FALSE)","v":"Rebell"},29,11,{"$f":"VLOOKUP(E699,'2020'!$A$16:$G$150,2,FALSE)","v":"Carcas"},{"$f":"VLOOKUP(E699,'2020'!$A$16:$G$150,3,FALSE)","v":"Bregy Ralf + Adolf"}]
["2020-07-13",{"$f":"VLOOKUP(D700,'2020'!$A$16:$G$150,3,FALSE)","v":"Bayard Medard + Gustav"},{"$f":"VLOOKUP(D700,'2020'!$A$16:$G$150,2,FALSE)","v":"Priska"},3,90,{"$f":"VLOOKUP(E700,'2020'!$A$16:$G$150,2,FALSE)","v":"Biscot"},{"$f":"VLOOKUP(E700,'2020'!$A$16:$G$150,3,FALSE)","v":"Sewer R. + Thommen S."}]
["2020-07-13",{"$f":"VLOOKUP(D701,'2020'!$A$16:$G$150,3,FALSE)","v":"Bayard Medard + Gustav"},{"$f":"VLOOKUP(D701,'2020'!$A$16:$G$150,2,FALSE)","v":"Venus"},6,58,{"$f":"VLOOKUP(E701,'2020'!$A$16:$G$150,2,FALSE)","v":"Bataille"},{"$f":"VLOOKUP(E701,'2020'!$A$16:$G$150,3,FALSE)","v":"Jäger Carlo"}]
["2020-07-13",{"$f":"VLOOKUP(D702,'2020'!$A$16:$G$150,3,FALSE)","v":"Stallung Passeraub"},{"$f":"VLOOKUP(D702,'2020'!$A$16:$G$150,2,FALSE)","v":"Ballerine"},78,30,{"$f":"VLOOKUP(E702,'2020'!$A$16:$G$150,2,FALSE)","v":"Bulle"},{"$f":"VLOOKUP(E702,'2020'!$A$16:$G$150,3,FALSE)","v":"Fam. Leiggener"}]
["2020-07-13",{"$f":"VLOOKUP(D703,'2020'!$A$16:$G$150,3,FALSE)","v":"Wyssen Diego u. Madlen"},{"$f":"VLOOKUP(D703,'2020'!$A$16:$G$150,2,FALSE)","v":"Xena"},104,95,{"$f":"VLOOKUP(E703,'2020'!$A$16:$G$150,2,FALSE)","v":"Vivana"},{"$f":"VLOOKUP(E703,'2020'!$A$16:$G$150,3,FALSE)","v":"Williner Anton"}]
["2020-07-13",{"$f":"VLOOKUP(D704,'2020'!$A$16:$G$150,3,FALSE)","v":"Fam. Leiggener"},{"$f":"VLOOKUP(D704,'2020'!$A$16:$G$150,2,FALSE)","v":"Bulle"},30,73,{"$f":"VLOOKUP(E704,'2020'!$A$16:$G$150,2,FALSE)","v":"Bavaria"},{"$f":"VLOOKUP(E704,'2020'!$A$16:$G$150,3,FALSE)","v":"Mathieu Leander + S."}]
["2020-07-12",{"$f":"VLOOKUP(D705,'2020'!$A$16:$G$150,3,FALSE)","v":"Jäger Carlo"},{"$f":"VLOOKUP(D705,'2020'!$A$16:$G$150,2,FALSE)","v":"Tokio"},70,96,{"$f":"VLOOKUP(E705,'2020'!$A$16:$G$150,2,FALSE)","v":"Tigra"},{"$f":"VLOOKUP(E705,'2020'!$A$16:$G$150,3,FALSE)","v":"Williner Anton"}]
["2020-07-12",{"$f":"VLOOKUP(D706,'2020'!$A$16:$G$150,3,FALSE)","v":"Williner Anton"},{"$f":"VLOOKUP(D706,'2020'!$A$16:$G$150,2,FALSE)","v":"Tigra"},96,70,{"$f":"VLOOKUP(E706,'2020'!$A$16:$G$150,2,FALSE)","v":"Tokio"},{"$f":"VLOOKUP(E706,'2020'!$A$16:$G$150,3,FALSE)","v":"Jäger Carlo"}]
["2020-07-12",{"$f":"VLOOKUP(D707,'2020'!$A$16:$G$150,3,FALSE)","v":"Fux W., J., + Wyer Piet"},{"$f":"VLOOKUP(D707,'2020'!$A$16:$G$150,2,FALSE)","v":"Calmy"},36,17,{"$f":"VLOOKUP(E707,'2020'!$A$16:$G$150,2,FALSE)","v":"Coquette"},{"$f":"VLOOKUP(E707,'2020'!$A$16:$G$150,3,FALSE)","v":"Bregy Ralf + Adolf"}]
["2020-07-12",{"$f":"VLOOKUP(D708,'2020'!$A$16:$G$150,3,FALSE)","v":"Stallung Passeraub "},{"$f":"VLOOKUP(D708,'2020'!$A$16:$G$150,2,FALSE)","v":"Bonita"},82,30,{"$f":"VLOOKUP(E708,'2020'!$A$16:$G$150,2,FALSE)","v":"Bulle"},{"$f":"VLOOKUP(E708,'2020'!$A$16:$G$150,3,FALSE)","v":"Fam. Leiggener"}]
["2020-07-12",{"$f":"VLOOKUP(D709,'2020'!$A$16:$G$150,3,FALSE)","v":"Stallung Passeraub"},{"$f":"VLOOKUP(D709,'2020'!$A$16:$G$150,2,FALSE)","v":"Bobino"},85,4,{"$f":"VLOOKUP(E709,'2020'!$A$16:$G$150,2,FALSE)","v":"Vampir"},{"$f":"VLOOKUP(E709,'2020'!$A$16:$G$150,3,FALSE)","v":"Bayard Medard + Gustav"}]
["2020-07-12",{"$f":"VLOOKUP(D710,'2020'!$A$16:$G$150,3,FALSE)","v":"Fux W., J., + Wyer Piet"},{"$f":"VLOOKUP(D710,'2020'!$A$16:$G$150,2,FALSE)","v":"Souris"},34,60,{"$f":"VLOOKUP(E710,'2020'!$A$16:$G$150,2,FALSE)","v":"Bayonne"},{"$f":"VLOOKUP(E710,'2020'!$A$16:$G$150,3,FALSE)","v":"Jäger Carlo"}]
["2020-07-12",{"$f":"VLOOKUP(D711,'2020'!$A$16:$G$150,3,FALSE)","v":"Zumofen / Gattlen"},{"$f":"VLOOKUP(D711,'2020'!$A$16:$G$150,2,FALSE)","v":"Fayola"},119,81,{"$f":"VLOOKUP(E711,'2020'!$A$16:$G$150,2,FALSE)","v":"Medusa"},{"$f":"VLOOKUP(E711,'2020'!$A$16:$G$150,3,FALSE)","v":"Stallung Passeraub "}]
["2020-07-12",{"$f":"VLOOKUP(D712,'2020'!$A$16:$G$150,3,FALSE)","v":"Jäger Carlo"},{"$f":"VLOOKUP(D712,'2020'!$A$16:$G$150,2,FALSE)","v":"Bataille"},58,114,{"$f":"VLOOKUP(E712,'2020'!$A$16:$G$150,2,FALSE)","v":"Maya"},{"$f":"VLOOKUP(E712,'2020'!$A$16:$G$150,3,FALSE)","v":"Zumofen / Gattlen"}]
["2020-07-12",{"$f":"VLOOKUP(D713,'2020'!$A$16:$G$150,3,FALSE)","v":"Zumofen / Gattlen"},{"$f":"VLOOKUP(D713,'2020'!$A$16:$G$150,2,FALSE)","v":"Pepitta"},115,1,{"$f":"VLOOKUP(E713,'2020'!$A$16:$G$150,2,FALSE)","v":"Diabolo"},{"$f":"VLOOKUP(E713,'2020'!$A$16:$G$150,3,FALSE)","v":"Bayard Medard + Gustav"}]
["2020-07-12",{"$f":"VLOOKUP(D714,'2020'!$A$16:$G$150,3,FALSE)","v":"Gebr. Jäger"},{"$f":"VLOOKUP(D714,'2020'!$A$16:$G$150,2,FALSE)","v":"Lorens"},46,38,{"$f":"VLOOKUP(E714,'2020'!$A$16:$G$150,2,FALSE)","v":"Bresil"},{"$f":"VLOOKUP(E714,'2020'!$A$16:$G$150,3,FALSE)","v":"Fux W., J., + Wyer Piet"}]
["2020-07-12",{"$f":"VLOOKUP(D715,'2020'!$A$16:$G$150,3,FALSE)","v":"Zumofen / Gattlen"},{"$f":"VLOOKUP(D715,'2020'!$A$16:$G$150,2,FALSE)","v":"Xena"},110,12,{"$f":"VLOOKUP(E715,'2020'!$A$16:$G$150,2,FALSE)","v":"Milow"},{"$f":"VLOOKUP(E715,'2020'!$A$16:$G$150,3,FALSE)","v":"Bregy Silvan + Patrick"}]
["2020-07-12",{"$f":"VLOOKUP(D716,'2020'!$A$16:$G$150,3,FALSE)","v":"Stallung zum Stäg"},{"$f":"VLOOKUP(D716,'2020'!$A$16:$G$150,2,FALSE)","v":"Babylon"},86,6,{"$f":"VLOOKUP(E716,'2020'!$A$16:$G$150,2,FALSE)","v":"Venus"},{"$f":"VLOOKUP(E716,'2020'!$A$16:$G$150,3,FALSE)","v":"Bayard Medard + Gustav"}]
["2020-07-12",{"$f":"VLOOKUP(D717,'2020'!$A$16:$G$150,3,FALSE)","v":"Jäger Carlo"},{"$f":"VLOOKUP(D717,'2020'!$A$16:$G$150,2,FALSE)","v":"Bataille"},58,48,{"$f":"VLOOKUP(E717,'2020'!$A$16:$G$150,2,FALSE)","v":"Simba"},{"$f":"VLOOKUP(E717,'2020'!$A$16:$G$150,3,FALSE)","v":"Gebr. Jäger"}]
["2020-07-12",{"$f":"VLOOKUP(D718,'2020'!$A$16:$G$150,3,FALSE)","v":"Jäger Carlo"},{"$f":"VLOOKUP(D718,'2020'!$A$16:$G$150,2,FALSE)","v":"Micabol"},67,14,{"$f":"VLOOKUP(E718,'2020'!$A$16:$G$150,2,FALSE)","v":"Canabis"},{"$f":"VLOOKUP(E718,'2020'!$A$16:$G$150,3,FALSE)","v":"Bregy Ralf + Adolf"}]
["2020-07-12",{"$f":"VLOOKUP(D719,'2020'!$A$16:$G$150,3,FALSE)","v":"Gebr. Jäger"},{"$f":"VLOOKUP(D719,'2020'!$A$16:$G$150,2,FALSE)","v":"Tiara"},47,11,{"$f":"VLOOKUP(E719,'2020'!$A$16:$G$150,2,FALSE)","v":"Carcas"},{"$f":"VLOOKUP(E719,'2020'!$A$16:$G$150,3,FALSE)","v":"Bregy Ralf + Adolf"}]
["2020-07-12",{"$f":"VLOOKUP(D720,'2020'!$A$16:$G$150,3,FALSE)","v":"Wyssen Diego u. Madlen"},{"$f":"VLOOKUP(D720,'2020'!$A$16:$G$150,2,FALSE)","v":"Xhyla"},105,70,{"$f":"VLOOKUP(E720,'2020'!$A$16:$G$150,2,FALSE)","v":"Tokio"},{"$f":"VLOOKUP(E720,'2020'!$A$16:$G$150,3,FALSE)","v":"Jäger Carlo"}]
["2020-07-12",{"$f":"VLOOKUP(D721,'2020'!$A$16:$G$150,3,FALSE)","v":"Stallung Passeraub"},{"$f":"VLOOKUP(D721,'2020'!$A$16:$G$150,2,FALSE)","v":"Ballerine"},78,70,{"$f":"VLOOKUP(E721,'2020'!$A$16:$G$150,2,FALSE)","v":"Tokio"},{"$f":"VLOOKUP(E721,'2020'!$A$16:$G$150,3,FALSE)","v":"Jäger Carlo"}]
["2020-07-12",{"$f":"VLOOKUP(D722,'2020'!$A$16:$G$150,3,FALSE)","v":"Zumofen / Gattlen"},{"$f":"VLOOKUP(D722,'2020'!$A$16:$G$150,2,FALSE)","v":"Rena"},109,1,{"$f":"VLOOKUP(E722,'2020'!$A$16:$G$150,2,FALSE)","v":"Diabolo"},{"$f":"VLOOKUP(E722,'2020'!$A$16:$G$150,3,FALSE)","v":"Bayard Medard + Gustav"}]
["2020-07-12",{"$f":"VLOOKUP(D723,'2020'!$A$16:$G$150,3,FALSE)","v":"Zumofen / Gattlen"},{"$f":"VLOOKUP(D723,'2020'!$A$16:$G$150,2,FALSE)","v":"Pepitta"},115,15,{"$f":"VLOOKUP(E723,'2020'!$A$16:$G$150,2,FALSE)","v":"Cashida"},{"$f":"VLOOKUP(E723,'2020'!$A$16:$G$150,3,FALSE)","v":"Bregy Ralf + Adolf"}]
["2020-07-12",{"$f":"VLOOKUP(D724,'2020'!$A$16:$G$150,3,FALSE)","v":"Williner Anton"},{"$f":"VLOOKUP(D724,'2020'!$A$16:$G$150,2,FALSE)","v":"Colonell"},98,16,{"$f":"VLOOKUP(E724,'2020'!$A$16:$G$150,2,FALSE)","v":"Flacabre"},{"$f":"VLOOKUP(E724,'2020'!$A$16:$G$150,3,FALSE)","v":"Bregy Ralf + Adolf"}]
["2020-07-12",{"$f":"VLOOKUP(D725,'2020'!$A$16:$G$150,3,FALSE)","v":"Zumofen / Gattlen"},{"$f":"VLOOKUP(D725,'2020'!$A$16:$G$150,2,FALSE)","v":"Xena"},110,12,{"$f":"VLOOKUP(E725,'2020'!$A$16:$G$150,2,FALSE)","v":"Milow"},{"$f":"VLOOKUP(E725,'2020'!$A$16:$G$150,3,FALSE)","v":"Bregy Silvan + Patrick"}]
["2020-07-12",{"$f":"VLOOKUP(D726,'2020'!$A$16:$G$150,3,FALSE)","v":"Stallung Passeraub "},{"$f":"VLOOKUP(D726,'2020'!$A$16:$G$150,2,FALSE)","v":"Bonita"},82,113,{"$f":"VLOOKUP(E726,'2020'!$A$16:$G$150,2,FALSE)","v":"Vanda"},{"$f":"VLOOKUP(E726,'2020'!$A$16:$G$150,3,FALSE)","v":"Zumofen / Gattlen"}]
["2020-07-11",{"$f":"VLOOKUP(D727,'2020'!$A$16:$G$150,3,FALSE)","v":"Bregy Ralf + Adolf"},{"$f":"VLOOKUP(D727,'2020'!$A$16:$G$150,2,FALSE)","v":"Flacabre"},16,2,{"$f":"VLOOKUP(E727,'2020'!$A$16:$G$150,2,FALSE)","v":"Fantastic"},{"$f":"VLOOKUP(E727,'2020'!$A$16:$G$150,3,FALSE)","v":"Bayard Medard + Gustav"}]
["2020-07-11",{"$f":"VLOOKUP(D728,'2020'!$A$16:$G$150,3,FALSE)","v":"Williner Anton"},{"$f":"VLOOKUP(D728,'2020'!$A$16:$G$150,2,FALSE)","v":"Colonell"},98,11,{"$f":"VLOOKUP(E728,'2020'!$A$16:$G$150,2,FALSE)","v":"Carcas"},{"$f":"VLOOKUP(E728,'2020'!$A$16:$G$150,3,FALSE)","v":"Bregy Ralf + Adolf"}]
["2020-07-11",{"$f":"VLOOKUP(D729,'2020'!$A$16:$G$150,3,FALSE)","v":"Jäger Carlo"},{"$f":"VLOOKUP(D729,'2020'!$A$16:$G$150,2,FALSE)","v":"Sera"},64,4,{"$f":"VLOOKUP(E729,'2020'!$A$16:$G$150,2,FALSE)","v":"Vampir"},{"$f":"VLOOKUP(E729,'2020'!$A$16:$G$150,3,FALSE)","v":"Bayard Medard + Gustav"}]
["2020-07-11",{"$f":"VLOOKUP(D730,'2020'!$A$16:$G$150,3,FALSE)","v":"Stallung Passeraub "},{"$f":"VLOOKUP(D730,'2020'!$A$16:$G$150,2,FALSE)","v":"Bonita"},82,16,{"$f":"VLOOKUP(E730,'2020'!$A$16:$G$150,2,FALSE)","v":"Flacabre"},{"$f":"VLOOKUP(E730,'2020'!$A$16:$G$150,3,FALSE)","v":"Bregy Ralf + Adolf"}]
["2020-07-11",{"$f":"VLOOKUP(D731,'2020'!$A$16:$G$150,3,FALSE)","v":"Zumofen / Gattlen"},{"$f":"VLOOKUP(D731,'2020'!$A$16:$G$150,2,FALSE)","v":"Fayola"},119,57,{"$f":"VLOOKUP(E731,'2020'!$A$16:$G$150,2,FALSE)","v":"Promise"},{"$f":"VLOOKUP(E731,'2020'!$A$16:$G$150,3,FALSE)","v":"Jäger Carlo"}]
["2020-07-11",{"$f":"VLOOKUP(D732,'2020'!$A$16:$G$150,3,FALSE)","v":"Bregy Uli + Pascal"},{"$f":"VLOOKUP(D732,'2020'!$A$16:$G$150,2,FALSE)","v":"Xaphir"},22,17,{"$f":"VLOOKUP(E732,'2020'!$A$16:$G$150,2,FALSE)","v":"Coquette"},{"$f":"VLOOKUP(E732,'2020'!$A$16:$G$150,3,FALSE)","v":"Bregy Ralf + Adolf"}]
["2020-07-11",{"$f":"VLOOKUP(D733,'2020'!$A$16:$G$150,3,FALSE)","v":"Bregy Ralf + Adolf"},{"$f":"VLOOKUP(D733,'2020'!$A$16:$G$150,2,FALSE)","v":"Canabis"},14,103,{"$f":"VLOOKUP(E733,'2020'!$A$16:$G$150,2,FALSE)","v":"Roxana"},{"$f":"VLOOKUP(E733,'2020'!$A$16:$G$150,3,FALSE)","v":"Wyssen Diego u. Madlen"}]
["2020-07-11",{"$f":"VLOOKUP(D734,'2020'!$A$16:$G$150,3,FALSE)","v":"Gebr. Jäger"},{"$f":"VLOOKUP(D734,'2020'!$A$16:$G$150,2,FALSE)","v":"Dorina"},44,3,{"$f":"VLOOKUP(E734,'2020'!$A$16:$G$150,2,FALSE)","v":"Priska"},{"$f":"VLOOKUP(E734,'2020'!$A$16:$G$150,3,FALSE)","v":"Bayard Medard + Gustav"}]
["2020-07-11",{"$f":"VLOOKUP(D735,'2020'!$A$16:$G$150,3,FALSE)","v":"Jäger Carlo"},{"$f":"VLOOKUP(D735,'2020'!$A$16:$G$150,2,FALSE)","v":"Candice"},62,14,{"$f":"VLOOKUP(E735,'2020'!$A$16:$G$150,2,FALSE)","v":"Canabis"},{"$f":"VLOOKUP(E735,'2020'!$A$16:$G$150,3,FALSE)","v":"Bregy Ralf + Adolf"}]
["2020-07-10",{"$f":"VLOOKUP(D736,'2020'!$A$16:$G$150,3,FALSE)","v":"Williner Anton"},{"$f":"VLOOKUP(D736,'2020'!$A$16:$G$150,2,FALSE)","v":"Tira"},100,71,{"$f":"VLOOKUP(E736,'2020'!$A$16:$G$150,2,FALSE)","v":"Baghira"},{"$f":"VLOOKUP(E736,'2020'!$A$16:$G$150,3,FALSE)","v":"Mathieu Leander + S."}]
["2020-07-10",{"$f":"VLOOKUP(D737,'2020'!$A$16:$G$150,3,FALSE)","v":"Bregy Uli + Pascal"},{"$f":"VLOOKUP(D737,'2020'!$A$16:$G$150,2,FALSE)","v":"Pandora"},23,115,{"$f":"VLOOKUP(E737,'2020'!$A$16:$G$150,2,FALSE)","v":"Pepitta"},{"$f":"VLOOKUP(E737,'2020'!$A$16:$G$150,3,FALSE)","v":"Zumofen / Gattlen"}]
["2020-07-10",{"$f":"VLOOKUP(D738,'2020'!$A$16:$G$150,3,FALSE)","v":"Gebr. Jäger"},{"$f":"VLOOKUP(D738,'2020'!$A$16:$G$150,2,FALSE)","v":"Simba"},48,35,{"$f":"VLOOKUP(E738,'2020'!$A$16:$G$150,2,FALSE)","v":"Valaisanne"},{"$f":"VLOOKUP(E738,'2020'!$A$16:$G$150,3,FALSE)","v":"Fux W., J., + Wyer Piet"}]
["2020-07-10",{"$f":"VLOOKUP(D739,'2020'!$A$16:$G$150,3,FALSE)","v":"Bregy Ralf + Adolf"},{"$f":"VLOOKUP(D739,'2020'!$A$16:$G$150,2,FALSE)","v":"Canabis"},14,67,{"$f":"VLOOKUP(E739,'2020'!$A$16:$G$150,2,FALSE)","v":"Micabol"},{"$f":"VLOOKUP(E739,'2020'!$A$16:$G$150,3,FALSE)","v":"Jäger Carlo"}]
["2020-07-10",{"$f":"VLOOKUP(D740,'2020'!$A$16:$G$150,3,FALSE)","v":"Fam. Leiggener"},{"$f":"VLOOKUP(D740,'2020'!$A$16:$G$150,2,FALSE)","v":"Baron"},31,79,{"$f":"VLOOKUP(E740,'2020'!$A$16:$G$150,2,FALSE)","v":"Marla"},{"$f":"VLOOKUP(E740,'2020'!$A$16:$G$150,3,FALSE)","v":"Stallung Passeraub "}]
["2020-07-10",{"$f":"VLOOKUP(D741,'2020'!$A$16:$G$150,3,FALSE)","v":"Hischier Pius"},{"$f":"VLOOKUP(D741,'2020'!$A$16:$G$150,2,FALSE)","v":"Shakira"},56,14,{"$f":"VLOOKUP(E741,'2020'!$A$16:$G$150,2,FALSE)","v":"Canabis"},{"$f":"VLOOKUP(E741,'2020'!$A$16:$G$150,3,FALSE)","v":"Bregy Ralf + Adolf"}]
["2020-07-10",{"$f":"VLOOKUP(D742,'2020'!$A$16:$G$150,3,FALSE)","v":"Bregy Ralf + Adolf"},{"$f":"VLOOKUP(D742,'2020'!$A$16:$G$150,2,FALSE)","v":"Flacabre"},16,88,{"$f":"VLOOKUP(E742,'2020'!$A$16:$G$150,2,FALSE)","v":"Malice"},{"$f":"VLOOKUP(E742,'2020'!$A$16:$G$150,3,FALSE)","v":"Sewer R. + Thommen S."}]
["2020-07-09",{"$f":"VLOOKUP(D743,'2020'!$A$16:$G$150,3,FALSE)","v":"Fam. Leiggener"},{"$f":"VLOOKUP(D743,'2020'!$A$16:$G$150,2,FALSE)","v":"Rebell"},29,105,{"$f":"VLOOKUP(E743,'2020'!$A$16:$G$150,2,FALSE)","v":"Xhyla"},{"$f":"VLOOKUP(E743,'2020'!$A$16:$G$150,3,FALSE)","v":"Wyssen Diego u. Madlen"}]
["2020-07-09",{"$f":"VLOOKUP(D744,'2020'!$A$16:$G$150,3,FALSE)","v":"Jäger Carlo"},{"$f":"VLOOKUP(D744,'2020'!$A$16:$G$150,2,FALSE)","v":"Megane"},65,27,{"$f":"VLOOKUP(E744,'2020'!$A$16:$G$150,2,FALSE)","v":"Murphy"},{"$f":"VLOOKUP(E744,'2020'!$A$16:$G$150,3,FALSE)","v":"Bregy Uli + Pascal"}]
["2020-07-09",{"$f":"VLOOKUP(D745,'2020'!$A$16:$G$150,3,FALSE)","v":"Fux W., J., + Wyer Piet"},{"$f":"VLOOKUP(D745,'2020'!$A$16:$G$150,2,FALSE)","v":"Bacardi"},39,17,{"$f":"VLOOKUP(E745,'2020'!$A$16:$G$150,2,FALSE)","v":"Coquette"},{"$f":"VLOOKUP(E745,'2020'!$A$16:$G$150,3,FALSE)","v":"Bregy Ralf + Adolf"}]
["2020-07-09",{"$f":"VLOOKUP(D746,'2020'!$A$16:$G$150,3,FALSE)","v":"Fux W., J., + Wyer Piet"},{"$f":"VLOOKUP(D746,'2020'!$A$16:$G$150,2,FALSE)","v":"Mystic"},41,81,{"$f":"VLOOKUP(E746,'2020'!$A$16:$G$150,2,FALSE)","v":"Medusa"},{"$f":"VLOOKUP(E746,'2020'!$A$16:$G$150,3,FALSE)","v":"Stallung Passeraub "}]
["2020-07-09",{"$f":"VLOOKUP(D747,'2020'!$A$16:$G$150,3,FALSE)","v":"Gebr. Jäger"},{"$f":"VLOOKUP(D747,'2020'!$A$16:$G$150,2,FALSE)","v":"Lorens"},46,96,{"$f":"VLOOKUP(E747,'2020'!$A$16:$G$150,2,FALSE)","v":"Tigra"},{"$f":"VLOOKUP(E747,'2020'!$A$16:$G$150,3,FALSE)","v":"Williner Anton"}]
["2020-07-09",{"$f":"VLOOKUP(D748,'2020'!$A$16:$G$150,3,FALSE)","v":"Bregy Silvan + Patrick"},{"$f":"VLOOKUP(D748,'2020'!$A$16:$G$150,2,FALSE)","v":"Milow"},12,70,{"$f":"VLOOKUP(E748,'2020'!$A$16:$G$150,2,FALSE)","v":"Tokio"},{"$f":"VLOOKUP(E748,'2020'!$A$16:$G$150,3,FALSE)","v":"Jäger Carlo"}]
["2020-07-09",{"$f":"VLOOKUP(D749,'2020'!$A$16:$G$150,3,FALSE)","v":"Zumofen / Gattlen"},{"$f":"VLOOKUP(D749,'2020'!$A$16:$G$150,2,FALSE)","v":"Rigolo"},117,90,{"$f":"VLOOKUP(E749,'2020'!$A$16:$G$150,2,FALSE)","v":"Biscot"},{"$f":"VLOOKUP(E749,'2020'!$A$16:$G$150,3,FALSE)","v":"Sewer R. + Thommen S."}]
["2020-07-09",{"$f":"VLOOKUP(D750,'2020'!$A$16:$G$150,3,FALSE)","v":"Hutter Richard"},{"$f":"VLOOKUP(D750,'2020'!$A$16:$G$150,2,FALSE)","v":"Fägär"},84,35,{"$f":"VLOOKUP(E750,'2020'!$A$16:$G$150,2,FALSE)","v":"Valaisanne"},{"$f":"VLOOKUP(E750,'2020'!$A$16:$G$150,3,FALSE)","v":"Fux W., J., + Wyer Piet"}]
["2020-07-08",{"$f":"VLOOKUP(D751,'2020'!$A$16:$G$150,3,FALSE)","v":"Bregy Ralf + Adolf"},{"$f":"VLOOKUP(D751,'2020'!$A$16:$G$150,2,FALSE)","v":"Carcas"},11,30,{"$f":"VLOOKUP(E751,'2020'!$A$16:$G$150,2,FALSE)","v":"Bulle"},{"$f":"VLOOKUP(E751,'2020'!$A$16:$G$150,3,FALSE)","v":"Fam. Leiggener"}]
["2020-07-08",{"$f":"VLOOKUP(D752,'2020'!$A$16:$G$150,3,FALSE)","v":"Bayard Medard + Gustav"},{"$f":"VLOOKUP(D752,'2020'!$A$16:$G$150,2,FALSE)","v":"Pandera"},5,47,{"$f":"VLOOKUP(E752,'2020'!$A$16:$G$150,2,FALSE)","v":"Tiara"},{"$f":"VLOOKUP(E752,'2020'!$A$16:$G$150,3,FALSE)","v":"Gebr. Jäger"}]
["2020-07-08",{"$f":"VLOOKUP(D753,'2020'!$A$16:$G$150,3,FALSE)","v":"Jäger Carlo"},{"$f":"VLOOKUP(D753,'2020'!$A$16:$G$150,2,FALSE)","v":"Sera"},64,114,{"$f":"VLOOKUP(E753,'2020'!$A$16:$G$150,2,FALSE)","v":"Maya"},{"$f":"VLOOKUP(E753,'2020'!$A$16:$G$150,3,FALSE)","v":"Zumofen / Gattlen"}]
["2020-07-08",{"$f":"VLOOKUP(D754,'2020'!$A$16:$G$150,3,FALSE)","v":"Zumofen / Gattlen"},{"$f":"VLOOKUP(D754,'2020'!$A$16:$G$150,2,FALSE)","v":"Rambo"},106,6,{"$f":"VLOOKUP(E754,'2020'!$A$16:$G$150,2,FALSE)","v":"Venus"},{"$f":"VLOOKUP(E754,'2020'!$A$16:$G$150,3,FALSE)","v":"Bayard Medard + Gustav"}]
["2020-07-08",{"$f":"VLOOKUP(D755,'2020'!$A$16:$G$150,3,FALSE)","v":"Williner Anton"},{"$f":"VLOOKUP(D755,'2020'!$A$16:$G$150,2,FALSE)","v":"Tira"},100,21,{"$f":"VLOOKUP(E755,'2020'!$A$16:$G$150,2,FALSE)","v":"Bora"},{"$f":"VLOOKUP(E755,'2020'!$A$16:$G$150,3,FALSE)","v":"Bregy Uli + Pascal"}]
["2020-07-08",{"$f":"VLOOKUP(D756,'2020'!$A$16:$G$150,3,FALSE)","v":"Bregy Uli + Pascal"},{"$f":"VLOOKUP(D756,'2020'!$A$16:$G$150,2,FALSE)","v":"Bora"},21,97,{"$f":"VLOOKUP(E756,'2020'!$A$16:$G$150,2,FALSE)","v":"Vanessa"},{"$f":"VLOOKUP(E756,'2020'!$A$16:$G$150,3,FALSE)","v":"Williner Anton"}]
["2020-07-08",{"$f":"VLOOKUP(D757,'2020'!$A$16:$G$150,3,FALSE)","v":"Zumofen / Gattlen"},{"$f":"VLOOKUP(D757,'2020'!$A$16:$G$150,2,FALSE)","v":"Vidona"},111,98,{"$f":"VLOOKUP(E757,'2020'!$A$16:$G$150,2,FALSE)","v":"Colonell"},{"$f":"VLOOKUP(E757,'2020'!$A$16:$G$150,3,FALSE)","v":"Williner Anton"}]
["2020-07-08",{"$f":"VLOOKUP(D758,'2020'!$A$16:$G$150,3,FALSE)","v":"Fam. Leiggener"},{"$f":"VLOOKUP(D758,'2020'!$A$16:$G$150,2,FALSE)","v":"Bulle"},30,24,{"$f":"VLOOKUP(E758,'2020'!$A$16:$G$150,2,FALSE)","v":"Catalina"},{"$f":"VLOOKUP(E758,'2020'!$A$16:$G$150,3,FALSE)","v":"Bregy Uli + Pascal"}]
["2020-07-08",{"$f":"VLOOKUP(D759,'2020'!$A$16:$G$150,3,FALSE)","v":"Fux W., J., + Wyer Piet"},{"$f":"VLOOKUP(D759,'2020'!$A$16:$G$150,2,FALSE)","v":"Baquera"},33,35,{"$f":"VLOOKUP(E759,'2020'!$A$16:$G$150,2,FALSE)","v":"Valaisanne"},{"$f":"VLOOKUP(E759,'2020'!$A$16:$G$150,3,FALSE)","v":"Fux W., J., + Wyer Piet"}]
["2020-07-08",{"$f":"VLOOKUP(D760,'2020'!$A$16:$G$150,3,FALSE)","v":"Hutter Richard"},{"$f":"VLOOKUP(D760,'2020'!$A$16:$G$150,2,FALSE)","v":"Fägär"},84,62,{"$f":"VLOOKUP(E760,'2020'!$A$16:$G$150,2,FALSE)","v":"Candice"},{"$f":"VLOOKUP(E760,'2020'!$A$16:$G$150,3,FALSE)","v":"Jäger Carlo"}]
["2020-07-08",{"$f":"VLOOKUP(D761,'2020'!$A$16:$G$150,3,FALSE)","v":"Fux W., J., + Wyer Piet"},{"$f":"VLOOKUP(D761,'2020'!$A$16:$G$150,2,FALSE)","v":"Bacardi"},39,118,{"$f":"VLOOKUP(E761,'2020'!$A$16:$G$150,2,FALSE)","v":"Vesuv"},{"$f":"VLOOKUP(E761,'2020'!$A$16:$G$150,3,FALSE)","v":"Zumofen / Gattlen"}]
["2020-07-07",{"$f":"VLOOKUP(D762,'2020'!$A$16:$G$150,3,FALSE)","v":"Bregy Uli + Pascal"},{"$f":"VLOOKUP(D762,'2020'!$A$16:$G$150,2,FALSE)","v":"Murphy"},27,77,{"$f":"VLOOKUP(E762,'2020'!$A$16:$G$150,2,FALSE)","v":"Beres"},{"$f":"VLOOKUP(E762,'2020'!$A$16:$G$150,3,FALSE)","v":"Stallung Passeraub"}]
["2020-07-07",{"$f":"VLOOKUP(D763,'2020'!$A$16:$G$150,3,FALSE)","v":"Zumofen / Gattlen"},{"$f":"VLOOKUP(D763,'2020'!$A$16:$G$150,2,FALSE)","v":"Riva "},112,6,{"$f":"VLOOKUP(E763,'2020'!$A$16:$G$150,2,FALSE)","v":"Venus"},{"$f":"VLOOKUP(E763,'2020'!$A$16:$G$150,3,FALSE)","v":"Bayard Medard + Gustav"}]
["2020-07-07",{"$f":"VLOOKUP(D764,'2020'!$A$16:$G$150,3,FALSE)","v":"Jäger Carlo"},{"$f":"VLOOKUP(D764,'2020'!$A$16:$G$150,2,FALSE)","v":"Maila"},59,78,{"$f":"VLOOKUP(E764,'2020'!$A$16:$G$150,2,FALSE)","v":"Ballerine"},{"$f":"VLOOKUP(E764,'2020'!$A$16:$G$150,3,FALSE)","v":"Stallung Passeraub"}]
["2020-07-06",{"$f":"VLOOKUP(D765,'2020'!$A$16:$G$150,3,FALSE)","v":"Jäger Carlo"},{"$f":"VLOOKUP(D765,'2020'!$A$16:$G$150,2,FALSE)","v":"Tokio"},70,65,{"$f":"VLOOKUP(E765,'2020'!$A$16:$G$150,2,FALSE)","v":"Megane"},{"$f":"VLOOKUP(E765,'2020'!$A$16:$G$150,3,FALSE)","v":"Jäger Carlo"}]
["2020-07-06",{"$f":"VLOOKUP(D766,'2020'!$A$16:$G$150,3,FALSE)","v":"Bregy Uli + Pascal"},{"$f":"VLOOKUP(D766,'2020'!$A$16:$G$150,2,FALSE)","v":"Tiranie"},19,101,{"$f":"VLOOKUP(E766,'2020'!$A$16:$G$150,2,FALSE)","v":"Xandria"},{"$f":"VLOOKUP(E766,'2020'!$A$16:$G$150,3,FALSE)","v":"Wyssen Diego u. Madlen"}]
["2020-07-06",{"$f":"VLOOKUP(D767,'2020'!$A$16:$G$150,3,FALSE)","v":"Bayard Medard + Gustav"},{"$f":"VLOOKUP(D767,'2020'!$A$16:$G$150,2,FALSE)","v":"Fantastic"},2,117,{"$f":"VLOOKUP(E767,'2020'!$A$16:$G$150,2,FALSE)","v":"Rigolo"},{"$f":"VLOOKUP(E767,'2020'!$A$16:$G$150,3,FALSE)","v":"Zumofen / Gattlen"}]
["2020-07-06",{"$f":"VLOOKUP(D768,'2020'!$A$16:$G$150,3,FALSE)","v":"Fux W., J., + Wyer Piet"},{"$f":"VLOOKUP(D768,'2020'!$A$16:$G$150,2,FALSE)","v":"Bresil"},38,75,{"$f":"VLOOKUP(E768,'2020'!$A$16:$G$150,2,FALSE)","v":"Bonita"},{"$f":"VLOOKUP(E768,'2020'!$A$16:$G$150,3,FALSE)","v":"Mathieu Leander + S."}]
["2020-07-06",{"$f":"VLOOKUP(D769,'2020'!$A$16:$G$150,3,FALSE)","v":"Sewer R. + Thommen S."},{"$f":"VLOOKUP(D769,'2020'!$A$16:$G$150,2,FALSE)","v":"Biscot"},90,58,{"$f":"VLOOKUP(E769,'2020'!$A$16:$G$150,2,FALSE)","v":"Bataille"},{"$f":"VLOOKUP(E769,'2020'!$A$16:$G$150,3,FALSE)","v":"Jäger Carlo"}]
["2020-07-06",{"$f":"VLOOKUP(D770,'2020'!$A$16:$G$150,3,FALSE)","v":"Fam. Leiggener"},{"$f":"VLOOKUP(D770,'2020'!$A$16:$G$150,2,FALSE)","v":"Rebell"},29,115,{"$f":"VLOOKUP(E770,'2020'!$A$16:$G$150,2,FALSE)","v":"Pepitta"},{"$f":"VLOOKUP(E770,'2020'!$A$16:$G$150,3,FALSE)","v":"Zumofen / Gattlen"}]
["2020-07-06",{"$f":"VLOOKUP(D771,'2020'!$A$16:$G$150,3,FALSE)","v":"Bregy Uli + Pascal"},{"$f":"VLOOKUP(D771,'2020'!$A$16:$G$150,2,FALSE)","v":"Xaphir"},22,16,{"$f":"VLOOKUP(E771,'2020'!$A$16:$G$150,2,FALSE)","v":"Flacabre"},{"$f":"VLOOKUP(E771,'2020'!$A$16:$G$150,3,FALSE)","v":"Bregy Ralf + Adolf"}]
["2020-07-06",{"$f":"VLOOKUP(D772,'2020'!$A$16:$G$150,3,FALSE)","v":"Bregy Ralf + Adolf"},{"$f":"VLOOKUP(D772,'2020'!$A$16:$G$150,2,FALSE)","v":"Flacabre"},16,41,{"$f":"VLOOKUP(E772,'2020'!$A$16:$G$150,2,FALSE)","v":"Mystic"},{"$f":"VLOOKUP(E772,'2020'!$A$16:$G$150,3,FALSE)","v":"Fux W., J., + Wyer Piet"}]
["2020-07-06",{"$f":"VLOOKUP(D773,'2020'!$A$16:$G$150,3,FALSE)","v":"Hutter Richard"},{"$f":"VLOOKUP(D773,'2020'!$A$16:$G$150,2,FALSE)","v":"Fägär"},84,28,{"$f":"VLOOKUP(E773,'2020'!$A$16:$G$150,2,FALSE)","v":"Corona"},{"$f":"VLOOKUP(E773,'2020'!$A$16:$G$150,3,FALSE)","v":"Bregy Uli + Pascal"}]
["2020-07-06",{"$f":"VLOOKUP(D774,'2020'!$A$16:$G$150,3,FALSE)","v":"Gebr. Jäger"},{"$f":"VLOOKUP(D774,'2020'!$A$16:$G$150,2,FALSE)","v":"Dorina"},44,61,{"$f":"VLOOKUP(E774,'2020'!$A$16:$G$150,2,FALSE)","v":"Grolla"},{"$f":"VLOOKUP(E774,'2020'!$A$16:$G$150,3,FALSE)","v":"Jäger Carlo"}]
["2020-07-06",{"$f":"VLOOKUP(D775,'2020'!$A$16:$G$150,3,FALSE)","v":"Wyssen Diego u. Madlen"},{"$f":"VLOOKUP(D775,'2020'!$A$16:$G$150,2,FALSE)","v":"Rasta"},102,89,{"$f":"VLOOKUP(E775,'2020'!$A$16:$G$150,2,FALSE)","v":"Tiara"},{"$f":"VLOOKUP(E775,'2020'!$A$16:$G$150,3,FALSE)","v":"Sewer R. + Thommen S."}]
["2020-07-05",{"$f":"VLOOKUP(D776,'2020'!$A$16:$G$150,3,FALSE)","v":"Bregy Ralf + Adolf"},{"$f":"VLOOKUP(D776,'2020'!$A$16:$G$150,2,FALSE)","v":"Canabis"},14,91,{"$f":"VLOOKUP(E776,'2020'!$A$16:$G$150,2,FALSE)","v":"Bolera"},{"$f":"VLOOKUP(E776,'2020'!$A$16:$G$150,3,FALSE)","v":"Sewer R. + Thommen S."}]
["2020-07-05",{"$f":"VLOOKUP(D777,'2020'!$A$16:$G$150,3,FALSE)","v":"Bregy Ralf + Adolf"},{"$f":"VLOOKUP(D777,'2020'!$A$16:$G$150,2,FALSE)","v":"Coquette"},17,94,{"$f":"VLOOKUP(E777,'2020'!$A$16:$G$150,2,FALSE)","v":"Cobra"},{"$f":"VLOOKUP(E777,'2020'!$A$16:$G$150,3,FALSE)","v":"Tscherry E. + B."}]
["2020-07-05",{"$f":"VLOOKUP(D778,'2020'!$A$16:$G$150,3,FALSE)","v":"Zumofen / Gattlen"},{"$f":"VLOOKUP(D778,'2020'!$A$16:$G$150,2,FALSE)","v":"Rena"},109,86,{"$f":"VLOOKUP(E778,'2020'!$A$16:$G$150,2,FALSE)","v":"Babylon"},{"$f":"VLOOKUP(E778,'2020'!$A$16:$G$150,3,FALSE)","v":"Stallung zum Stäg"}]
["2020-07-05",{"$f":"VLOOKUP(D779,'2020'!$A$16:$G$150,3,FALSE)","v":"Williner Anton"},{"$f":"VLOOKUP(D779,'2020'!$A$16:$G$150,2,FALSE)","v":"Colonell"},98,32,{"$f":"VLOOKUP(E779,'2020'!$A$16:$G$150,2,FALSE)","v":"Mira"},{"$f":"VLOOKUP(E779,'2020'!$A$16:$G$150,3,FALSE)","v":"Fam. Leiggener"}]
["2020-07-05",{"$f":"VLOOKUP(D780,'2020'!$A$16:$G$150,3,FALSE)","v":"Williner Anton"},{"$f":"VLOOKUP(D780,'2020'!$A$16:$G$150,2,FALSE)","v":"Tigra"},96,11,{"$f":"VLOOKUP(E780,'2020'!$A$16:$G$150,2,FALSE)","v":"Carcas"},{"$f":"VLOOKUP(E780,'2020'!$A$16:$G$150,3,FALSE)","v":"Bregy Ralf + Adolf"}]
["2020-07-05",{"$f":"VLOOKUP(D781,'2020'!$A$16:$G$150,3,FALSE)","v":"Bregy Uli + Pascal"},{"$f":"VLOOKUP(D781,'2020'!$A$16:$G$150,2,FALSE)","v":"Souki"},18,70,{"$f":"VLOOKUP(E781,'2020'!$A$16:$G$150,2,FALSE)","v":"Tokio"},{"$f":"VLOOKUP(E781,'2020'!$A$16:$G$150,3,FALSE)","v":"Jäger Carlo"}]
["2020-07-05",{"$f":"VLOOKUP(D782,'2020'!$A$16:$G$150,3,FALSE)","v":"Bregy Uli + Pascal"},{"$f":"VLOOKUP(D782,'2020'!$A$16:$G$150,2,FALSE)","v":"Murphy"},27,88,{"$f":"VLOOKUP(E782,'2020'!$A$16:$G$150,2,FALSE)","v":"Malice"},{"$f":"VLOOKUP(E782,'2020'!$A$16:$G$150,3,FALSE)","v":"Sewer R. + Thommen S."}]
["2020-07-04",{"$f":"VLOOKUP(D783,'2020'!$A$16:$G$150,3,FALSE)","v":"Stallung Passeraub"},{"$f":"VLOOKUP(D783,'2020'!$A$16:$G$150,2,FALSE)","v":"Beres"},77,32,{"$f":"VLOOKUP(E783,'2020'!$A$16:$G$150,2,FALSE)","v":"Mira"},{"$f":"VLOOKUP(E783,'2020'!$A$16:$G$150,3,FALSE)","v":"Fam. Leiggener"}]
["2020-07-04",{"$f":"VLOOKUP(D784,'2020'!$A$16:$G$150,3,FALSE)","v":"Jäger Carlo"},{"$f":"VLOOKUP(D784,'2020'!$A$16:$G$150,2,FALSE)","v":"Micabol"},67,102,{"$f":"VLOOKUP(E784,'2020'!$A$16:$G$150,2,FALSE)","v":"Rasta"},{"$f":"VLOOKUP(E784,'2020'!$A$16:$G$150,3,FALSE)","v":"Wyssen Diego u. Madlen"}]
["2020-07-04",{"$f":"VLOOKUP(D785,'2020'!$A$16:$G$150,3,FALSE)","v":"Jäger Carlo"},{"$f":"VLOOKUP(D785,'2020'!$A$16:$G$150,2,FALSE)","v":"Bataille"},58,25,{"$f":"VLOOKUP(E785,'2020'!$A$16:$G$150,2,FALSE)","v":"Calette"},{"$f":"VLOOKUP(E785,'2020'!$A$16:$G$150,3,FALSE)","v":"Bregy Uli + Pascal"}]
["2020-07-04",{"$f":"VLOOKUP(D786,'2020'!$A$16:$G$150,3,FALSE)","v":"Fux W., J., + Wyer Piet"},{"$f":"VLOOKUP(D786,'2020'!$A$16:$G$150,2,FALSE)","v":"Calmy"},36,88,{"$f":"VLOOKUP(E786,'2020'!$A$16:$G$150,2,FALSE)","v":"Malice"},{"$f":"VLOOKUP(E786,'2020'!$A$16:$G$150,3,FALSE)","v":"Sewer R. + Thommen S."}]
["2020-07-04",{"$f":"VLOOKUP(D787,'2020'!$A$16:$G$150,3,FALSE)","v":"Bregy Uli + Pascal"},{"$f":"VLOOKUP(D787,'2020'!$A$16:$G$150,2,FALSE)","v":"Pandora"},23,14,{"$f":"VLOOKUP(E787,'2020'!$A$16:$G$150,2,FALSE)","v":"Canabis"},{"$f":"VLOOKUP(E787,'2020'!$A$16:$G$150,3,FALSE)","v":"Bregy Ralf + Adolf"}]
["2020-07-04",{"$f":"VLOOKUP(D788,'2020'!$A$16:$G$150,3,FALSE)","v":"Zumofen / Gattlen"},{"$f":"VLOOKUP(D788,'2020'!$A$16:$G$150,2,FALSE)","v":"Violin"},107,105,{"$f":"VLOOKUP(E788,'2020'!$A$16:$G$150,2,FALSE)","v":"Xhyla"},{"$f":"VLOOKUP(E788,'2020'!$A$16:$G$150,3,FALSE)","v":"Wyssen Diego u. Madlen"}]
["2020-07-04",{"$f":"VLOOKUP(D789,'2020'!$A$16:$G$150,3,FALSE)","v":"Wyssen Diego u. Madlen"},{"$f":"VLOOKUP(D789,'2020'!$A$16:$G$150,2,FALSE)","v":"Rasta"},102,48,{"$f":"VLOOKUP(E789,'2020'!$A$16:$G$150,2,FALSE)","v":"Simba"},{"$f":"VLOOKUP(E789,'2020'!$A$16:$G$150,3,FALSE)","v":"Gebr. Jäger"}]
["2020-07-04",{"$f":"VLOOKUP(D790,'2020'!$A$16:$G$150,3,FALSE)","v":"Sewer R. + Thommen S."},{"$f":"VLOOKUP(D790,'2020'!$A$16:$G$150,2,FALSE)","v":"Malice"},88,28,{"$f":"VLOOKUP(E790,'2020'!$A$16:$G$150,2,FALSE)","v":"Corona"},{"$f":"VLOOKUP(E790,'2020'!$A$16:$G$150,3,FALSE)","v":"Bregy Uli + Pascal"}]
["2020-07-04",{"$f":"VLOOKUP(D791,'2020'!$A$16:$G$150,3,FALSE)","v":"Mathieu Leander + S."},{"$f":"VLOOKUP(D791,'2020'!$A$16:$G$150,2,FALSE)","v":"Baronesse"},72,11,{"$f":"VLOOKUP(E791,'2020'!$A$16:$G$150,2,FALSE)","v":"Carcas"},{"$f":"VLOOKUP(E791,'2020'!$A$16:$G$150,3,FALSE)","v":"Bregy Ralf + Adolf"}]
["2020-07-03",{"$f":"VLOOKUP(D792,'2020'!$A$16:$G$150,3,FALSE)","v":"Wyssen Diego u. Madlen"},{"$f":"VLOOKUP(D792,'2020'!$A$16:$G$150,2,FALSE)","v":"Xhyla"},105,30,{"$f":"VLOOKUP(E792,'2020'!$A$16:$G$150,2,FALSE)","v":"Bulle"},{"$f":"VLOOKUP(E792,'2020'!$A$16:$G$150,3,FALSE)","v":"Fam. Leiggener"}]
["2020-07-03",{"$f":"VLOOKUP(D793,'2020'!$A$16:$G$150,3,FALSE)","v":"Gebr. Jäger"},{"$f":"VLOOKUP(D793,'2020'!$A$16:$G$150,2,FALSE)","v":"Simba"},48,69,{"$f":"VLOOKUP(E793,'2020'!$A$16:$G$150,2,FALSE)","v":"Taverne"},{"$f":"VLOOKUP(E793,'2020'!$A$16:$G$150,3,FALSE)","v":"Jäger Carlo"}]
["2020-07-03",{"$f":"VLOOKUP(D794,'2020'!$A$16:$G$150,3,FALSE)","v":"Bregy Uli + Pascal"},{"$f":"VLOOKUP(D794,'2020'!$A$16:$G$150,2,FALSE)","v":"Murphy"},27,65,{"$f":"VLOOKUP(E794,'2020'!$A$16:$G$150,2,FALSE)","v":"Megane"},{"$f":"VLOOKUP(E794,'2020'!$A$16:$G$150,3,FALSE)","v":"Jäger Carlo"}]
["2020-07-03",{"$f":"VLOOKUP(D795,'2020'!$A$16:$G$150,3,FALSE)","v":"Bregy Silvan + Patrick"},{"$f":"VLOOKUP(D795,'2020'!$A$16:$G$150,2,FALSE)","v":"Tequilla"},13,30,{"$f":"VLOOKUP(E795,'2020'!$A$16:$G$150,2,FALSE)","v":"Bulle"},{"$f":"VLOOKUP(E795,'2020'!$A$16:$G$150,3,FALSE)","v":"Fam. Leiggener"}]
["2020-07-03",{"$f":"VLOOKUP(D796,'2020'!$A$16:$G$150,3,FALSE)","v":"Jäger Carlo"},{"$f":"VLOOKUP(D796,'2020'!$A$16:$G$150,2,FALSE)","v":"Candice"},62,114,{"$f":"VLOOKUP(E796,'2020'!$A$16:$G$150,2,FALSE)","v":"Maya"},{"$f":"VLOOKUP(E796,'2020'!$A$16:$G$150,3,FALSE)","v":"Zumofen / Gattlen"}]
["2020-07-03",{"$f":"VLOOKUP(D797,'2020'!$A$16:$G$150,3,FALSE)","v":"Jäger Carlo"},{"$f":"VLOOKUP(D797,'2020'!$A$16:$G$150,2,FALSE)","v":"Sera"},64,96,{"$f":"VLOOKUP(E797,'2020'!$A$16:$G$150,2,FALSE)","v":"Tigra"},{"$f":"VLOOKUP(E797,'2020'!$A$16:$G$150,3,FALSE)","v":"Williner Anton"}]
["2020-07-03",{"$f":"VLOOKUP(D798,'2020'!$A$16:$G$150,3,FALSE)","v":"Bregy Ralf + Adolf"},{"$f":"VLOOKUP(D798,'2020'!$A$16:$G$150,2,FALSE)","v":"Creola"},8,96,{"$f":"VLOOKUP(E798,'2020'!$A$16:$G$150,2,FALSE)","v":"Tigra"},{"$f":"VLOOKUP(E798,'2020'!$A$16:$G$150,3,FALSE)","v":"Williner Anton"}]
["2020-07-03",{"$f":"VLOOKUP(D799,'2020'!$A$16:$G$150,3,FALSE)","v":"Wyssen Diego u. Madlen"},{"$f":"VLOOKUP(D799,'2020'!$A$16:$G$150,2,FALSE)","v":"Rasta"},102,86,{"$f":"VLOOKUP(E799,'2020'!$A$16:$G$150,2,FALSE)","v":"Babylon"},{"$f":"VLOOKUP(E799,'2020'!$A$16:$G$150,3,FALSE)","v":"Stallung zum Stäg"}]
["2020-07-03",{"$f":"VLOOKUP(D800,'2020'!$A$16:$G$150,3,FALSE)","v":"Stallung Passeraub"},{"$f":"VLOOKUP(D800,'2020'!$A$16:$G$150,2,FALSE)","v":"Beres"},77,115,{"$f":"VLOOKUP(E800,'2020'!$A$16:$G$150,2,FALSE)","v":"Pepitta"},{"$f":"VLOOKUP(E800,'2020'!$A$16:$G$150,3,FALSE)","v":"Zumofen / Gattlen"}]
["2020-07-02",{"$f":"VLOOKUP(D801,'2020'!$A$16:$G$150,3,FALSE)","v":"Wyssen Diego u. Madlen"},{"$f":"VLOOKUP(D801,'2020'!$A$16:$G$150,2,FALSE)","v":"Rasta"},102,65,{"$f":"VLOOKUP(E801,'2020'!$A$16:$G$150,2,FALSE)","v":"Megane"},{"$f":"VLOOKUP(E801,'2020'!$A$16:$G$150,3,FALSE)","v":"Jäger Carlo"}]
["2020-07-02",{"$f":"VLOOKUP(D802,'2020'!$A$16:$G$150,3,FALSE)","v":"Wyssen Diego u. Madlen"},{"$f":"VLOOKUP(D802,'2020'!$A$16:$G$150,2,FALSE)","v":"Rasta"},102,32,{"$f":"VLOOKUP(E802,'2020'!$A$16:$G$150,2,FALSE)","v":"Mira"},{"$f":"VLOOKUP(E802,'2020'!$A$16:$G$150,3,FALSE)","v":"Fam. Leiggener"}]
["2020-07-02",{"$f":"VLOOKUP(D803,'2020'!$A$16:$G$150,3,FALSE)","v":"Zumofen / Gattlen"},{"$f":"VLOOKUP(D803,'2020'!$A$16:$G$150,2,FALSE)","v":"Violin"},107,57,{"$f":"VLOOKUP(E803,'2020'!$A$16:$G$150,2,FALSE)","v":"Promise"},{"$f":"VLOOKUP(E803,'2020'!$A$16:$G$150,3,FALSE)","v":"Jäger Carlo"}]
["2020-07-02",{"$f":"VLOOKUP(D804,'2020'!$A$16:$G$150,3,FALSE)","v":"Fam. Leiggener"},{"$f":"VLOOKUP(D804,'2020'!$A$16:$G$150,2,FALSE)","v":"Bulle"},30,90,{"$f":"VLOOKUP(E804,'2020'!$A$16:$G$150,2,FALSE)","v":"Biscot"},{"$f":"VLOOKUP(E804,'2020'!$A$16:$G$150,3,FALSE)","v":"Sewer R. + Thommen S."}]
["2020-07-02",{"$f":"VLOOKUP(D805,'2020'!$A$16:$G$150,3,FALSE)","v":"Zumofen / Gattlen"},{"$f":"VLOOKUP(D805,'2020'!$A$16:$G$150,2,FALSE)","v":"Vidona"},111,3,{"$f":"VLOOKUP(E805,'2020'!$A$16:$G$150,2,FALSE)","v":"Priska"},{"$f":"VLOOKUP(E805,'2020'!$A$16:$G$150,3,FALSE)","v":"Bayard Medard + Gustav"}]
["2020-07-02",{"$f":"VLOOKUP(D806,'2020'!$A$16:$G$150,3,FALSE)","v":"Mathieu Leander + S."},{"$f":"VLOOKUP(D806,'2020'!$A$16:$G$150,2,FALSE)","v":"Baronesse"},72,61,{"$f":"VLOOKUP(E806,'2020'!$A$16:$G$150,2,FALSE)","v":"Grolla"},{"$f":"VLOOKUP(E806,'2020'!$A$16:$G$150,3,FALSE)","v":"Jäger Carlo"}]
["2020-07-02",{"$f":"VLOOKUP(D807,'2020'!$A$16:$G$150,3,FALSE)","v":"Bayard Medard + Gustav"},{"$f":"VLOOKUP(D807,'2020'!$A$16:$G$150,2,FALSE)","v":"Pandera"},5,30,{"$f":"VLOOKUP(E807,'2020'!$A$16:$G$150,2,FALSE)","v":"Bulle"},{"$f":"VLOOKUP(E807,'2020'!$A$16:$G$150,3,FALSE)","v":"Fam. Leiggener"}]
["2020-07-02",{"$f":"VLOOKUP(D808,'2020'!$A$16:$G$150,3,FALSE)","v":"Mathieu Leander + S."},{"$f":"VLOOKUP(D808,'2020'!$A$16:$G$150,2,FALSE)","v":"Bonita"},75,79,{"$f":"VLOOKUP(E808,'2020'!$A$16:$G$150,2,FALSE)","v":"Marla"},{"$f":"VLOOKUP(E808,'2020'!$A$16:$G$150,3,FALSE)","v":"Stallung Passeraub "}]
["2020-07-02",{"$f":"VLOOKUP(D809,'2020'!$A$16:$G$150,3,FALSE)","v":"Bregy Ralf + Adolf"},{"$f":"VLOOKUP(D809,'2020'!$A$16:$G$150,2,FALSE)","v":"Coquette"},17,90,{"$f":"VLOOKUP(E809,'2020'!$A$16:$G$150,2,FALSE)","v":"Biscot"},{"$f":"VLOOKUP(E809,'2020'!$A$16:$G$150,3,FALSE)","v":"Sewer R. + Thommen S."}]
["2020-07-02",{"$f":"VLOOKUP(D810,'2020'!$A$16:$G$150,3,FALSE)","v":"Bayard Medard + Gustav"},{"$f":"VLOOKUP(D810,'2020'!$A$16:$G$150,2,FALSE)","v":"Priska"},3,16,{"$f":"VLOOKUP(E810,'2020'!$A$16:$G$150,2,FALSE)","v":"Flacabre"},{"$f":"VLOOKUP(E810,'2020'!$A$16:$G$150,3,FALSE)","v":"Bregy Ralf + Adolf"}]
["2020-07-02",{"$f":"VLOOKUP(D811,'2020'!$A$16:$G$150,3,FALSE)","v":"Jäger Carlo"},{"$f":"VLOOKUP(D811,'2020'!$A$16:$G$150,2,FALSE)","v":"Candice"},62,80,{"$f":"VLOOKUP(E811,'2020'!$A$16:$G$150,2,FALSE)","v":"Manou"},{"$f":"VLOOKUP(E811,'2020'!$A$16:$G$150,3,FALSE)","v":"Stallung Passeraub "}]
["2020-07-01",{"$f":"VLOOKUP(D812,'2020'!$A$16:$G$150,3,FALSE)","v":"Gebr. Jäger"},{"$f":"VLOOKUP(D812,'2020'!$A$16:$G$150,2,FALSE)","v":"Dorina"},44,14,{"$f":"VLOOKUP(E812,'2020'!$A$16:$G$150,2,FALSE)","v":"Canabis"},{"$f":"VLOOKUP(E812,'2020'!$A$16:$G$150,3,FALSE)","v":"Bregy Ralf + Adolf"}]
["2020-07-01",{"$f":"VLOOKUP(D813,'2020'!$A$16:$G$150,3,FALSE)","v":"Jäger Carlo"},{"$f":"VLOOKUP(D813,'2020'!$A$16:$G$150,2,FALSE)","v":"Pisa"},63,44,{"$f":"VLOOKUP(E813,'2020'!$A$16:$G$150,2,FALSE)","v":"Dorina"},{"$f":"VLOOKUP(E813,'2020'!$A$16:$G$150,3,FALSE)","v":"Gebr. Jäger"}]
["2020-07-01",{"$f":"VLOOKUP(D814,'2020'!$A$16:$G$150,3,FALSE)","v":"Bregy Ralf + Adolf"},{"$f":"VLOOKUP(D814,'2020'!$A$16:$G$150,2,FALSE)","v":"Cashida"},15,44,{"$f":"VLOOKUP(E814,'2020'!$A$16:$G$150,2,FALSE)","v":"Dorina"},{"$f":"VLOOKUP(E814,'2020'!$A$16:$G$150,3,FALSE)","v":"Gebr. Jäger"}]
["2020-07-01",{"$f":"VLOOKUP(D815,'2020'!$A$16:$G$150,3,FALSE)","v":"Williner Anton"},{"$f":"VLOOKUP(D815,'2020'!$A$16:$G$150,2,FALSE)","v":"Tira"},100,91,{"$f":"VLOOKUP(E815,'2020'!$A$16:$G$150,2,FALSE)","v":"Bolera"},{"$f":"VLOOKUP(E815,'2020'!$A$16:$G$150,3,FALSE)","v":"Sewer R. + Thommen S."}]
["2020-07-01",{"$f":"VLOOKUP(D816,'2020'!$A$16:$G$150,3,FALSE)","v":"Bregy Ralf + Adolf"},{"$f":"VLOOKUP(D816,'2020'!$A$16:$G$150,2,FALSE)","v":"Coquette"},17,25,{"$f":"VLOOKUP(E816,'2020'!$A$16:$G$150,2,FALSE)","v":"Calette"},{"$f":"VLOOKUP(E816,'2020'!$A$16:$G$150,3,FALSE)","v":"Bregy Uli + Pascal"}]
["2020-07-01",{"$f":"VLOOKUP(D817,'2020'!$A$16:$G$150,3,FALSE)","v":"Hischier Pius"},{"$f":"VLOOKUP(D817,'2020'!$A$16:$G$150,2,FALSE)","v":"Safira"},53,61,{"$f":"VLOOKUP(E817,'2020'!$A$16:$G$150,2,FALSE)","v":"Grolla"},{"$f":"VLOOKUP(E817,'2020'!$A$16:$G$150,3,FALSE)","v":"Jäger Carlo"}]
["2020-07-01",{"$f":"VLOOKUP(D818,'2020'!$A$16:$G$150,3,FALSE)","v":"Fux W., J., + Wyer Piet"},{"$f":"VLOOKUP(D818,'2020'!$A$16:$G$150,2,FALSE)","v":"Toscana"},40,16,{"$f":"VLOOKUP(E818,'2020'!$A$16:$G$150,2,FALSE)","v":"Flacabre"},{"$f":"VLOOKUP(E818,'2020'!$A$16:$G$150,3,FALSE)","v":"Bregy Ralf + Adolf"}]
["2020-07-01",{"$f":"VLOOKUP(D819,'2020'!$A$16:$G$150,3,FALSE)","v":"Hischier Pius"},{"$f":"VLOOKUP(D819,'2020'!$A$16:$G$150,2,FALSE)","v":"Safira"},53,43,{"$f":"VLOOKUP(E819,'2020'!$A$16:$G$150,2,FALSE)","v":"Pampère"},{"$f":"VLOOKUP(E819,'2020'!$A$16:$G$150,3,FALSE)","v":"Fux W., J., + Wyer Piet"}]
["2020-07-01",{"$f":"VLOOKUP(D820,'2020'!$A$16:$G$150,3,FALSE)","v":"Mathieu Leander + S."},{"$f":"VLOOKUP(D820,'2020'!$A$16:$G$150,2,FALSE)","v":"Bavaria"},73,116,{"$f":"VLOOKUP(E820,'2020'!$A$16:$G$150,2,FALSE)","v":"Pinoccio"},{"$f":"VLOOKUP(E820,'2020'!$A$16:$G$150,3,FALSE)","v":"Zumofen / Gattlen"}]
["2020-07-01",{"$f":"VLOOKUP(D821,'2020'!$A$16:$G$150,3,FALSE)","v":"Bayard Medard + Gustav"},{"$f":"VLOOKUP(D821,'2020'!$A$16:$G$150,2,FALSE)","v":"Diabolo"},1,113,{"$f":"VLOOKUP(E821,'2020'!$A$16:$G$150,2,FALSE)","v":"Vanda"},{"$f":"VLOOKUP(E821,'2020'!$A$16:$G$150,3,FALSE)","v":"Zumofen / Gattlen"}]
["2020-06-30",{"$f":"VLOOKUP(D822,'2020'!$A$16:$G$150,3,FALSE)","v":"Wyssen Diego u. Madlen"},{"$f":"VLOOKUP(D822,'2020'!$A$16:$G$150,2,FALSE)","v":"Xena"},104,48,{"$f":"VLOOKUP(E822,'2020'!$A$16:$G$150,2,FALSE)","v":"Simba"},{"$f":"VLOOKUP(E822,'2020'!$A$16:$G$150,3,FALSE)","v":"Gebr. Jäger"}]
["2020-06-30",{"$f":"VLOOKUP(D823,'2020'!$A$16:$G$150,3,FALSE)","v":"Zumofen / Gattlen"},{"$f":"VLOOKUP(D823,'2020'!$A$16:$G$150,2,FALSE)","v":"Pinoccio"},116,32,{"$f":"VLOOKUP(E823,'2020'!$A$16:$G$150,2,FALSE)","v":"Mira"},{"$f":"VLOOKUP(E823,'2020'!$A$16:$G$150,3,FALSE)","v":"Fam. Leiggener"}]
["2020-06-30",{"$f":"VLOOKUP(D824,'2020'!$A$16:$G$150,3,FALSE)","v":"Stallung zum Stäg"},{"$f":"VLOOKUP(D824,'2020'!$A$16:$G$150,2,FALSE)","v":"Babylon"},86,109,{"$f":"VLOOKUP(E824,'2020'!$A$16:$G$150,2,FALSE)","v":"Rena"},{"$f":"VLOOKUP(E824,'2020'!$A$16:$G$150,3,FALSE)","v":"Zumofen / Gattlen"}]
["2020-06-30",{"$f":"VLOOKUP(D825,'2020'!$A$16:$G$150,3,FALSE)","v":"Bayard Medard + Gustav"},{"$f":"VLOOKUP(D825,'2020'!$A$16:$G$150,2,FALSE)","v":"Fantastic"},2,114,{"$f":"VLOOKUP(E825,'2020'!$A$16:$G$150,2,FALSE)","v":"Maya"},{"$f":"VLOOKUP(E825,'2020'!$A$16:$G$150,3,FALSE)","v":"Zumofen / Gattlen"}]
["2020-06-30",{"$f":"VLOOKUP(D826,'2020'!$A$16:$G$150,3,FALSE)","v":"Mathieu Leander + S."},{"$f":"VLOOKUP(D826,'2020'!$A$16:$G$150,2,FALSE)","v":"Baronesse"},72,38,{"$f":"VLOOKUP(E826,'2020'!$A$16:$G$150,2,FALSE)","v":"Bresil"},{"$f":"VLOOKUP(E826,'2020'!$A$16:$G$150,3,FALSE)","v":"Fux W., J., + Wyer Piet"}]
["2020-06-30",{"$f":"VLOOKUP(D827,'2020'!$A$16:$G$150,3,FALSE)","v":"Williner Anton"},{"$f":"VLOOKUP(D827,'2020'!$A$16:$G$150,2,FALSE)","v":"Tigra"},96,15,{"$f":"VLOOKUP(E827,'2020'!$A$16:$G$150,2,FALSE)","v":"Cashida"},{"$f":"VLOOKUP(E827,'2020'!$A$16:$G$150,3,FALSE)","v":"Bregy Ralf + Adolf"}]
["2020-06-30",{"$f":"VLOOKUP(D828,'2020'!$A$16:$G$150,3,FALSE)","v":"Stallung zum Stäg"},{"$f":"VLOOKUP(D828,'2020'!$A$16:$G$150,2,FALSE)","v":"Benika"},87,11,{"$f":"VLOOKUP(E828,'2020'!$A$16:$G$150,2,FALSE)","v":"Carcas"},{"$f":"VLOOKUP(E828,'2020'!$A$16:$G$150,3,FALSE)","v":"Bregy Ralf + Adolf"}]
["2020-06-30",{"$f":"VLOOKUP(D829,'2020'!$A$16:$G$150,3,FALSE)","v":"Fam. Leiggener"},{"$f":"VLOOKUP(D829,'2020'!$A$16:$G$150,2,FALSE)","v":"Baron"},31,4,{"$f":"VLOOKUP(E829,'2020'!$A$16:$G$150,2,FALSE)","v":"Vampir"},{"$f":"VLOOKUP(E829,'2020'!$A$16:$G$150,3,FALSE)","v":"Bayard Medard + Gustav"}]
["2020-06-30",{"$f":"VLOOKUP(D830,'2020'!$A$16:$G$150,3,FALSE)","v":"Williner Anton"},{"$f":"VLOOKUP(D830,'2020'!$A$16:$G$150,2,FALSE)","v":"Tigra"},96,63,{"$f":"VLOOKUP(E830,'2020'!$A$16:$G$150,2,FALSE)","v":"Pisa"},{"$f":"VLOOKUP(E830,'2020'!$A$16:$G$150,3,FALSE)","v":"Jäger Carlo"}]
["2020-06-30",{"$f":"VLOOKUP(D831,'2020'!$A$16:$G$150,3,FALSE)","v":"Williner Anton"},{"$f":"VLOOKUP(D831,'2020'!$A$16:$G$150,2,FALSE)","v":"Colonell"},98,17,{"$f":"VLOOKUP(E831,'2020'!$A$16:$G$150,2,FALSE)","v":"Coquette"},{"$f":"VLOOKUP(E831,'2020'!$A$16:$G$150,3,FALSE)","v":"Bregy Ralf + Adolf"}]
["2020-06-29",{"$f":"VLOOKUP(D832,'2020'!$A$16:$G$150,3,FALSE)","v":"Wyssen Diego u. Madlen"},{"$f":"VLOOKUP(D832,'2020'!$A$16:$G$150,2,FALSE)","v":"Xhyla"},105,107,{"$f":"VLOOKUP(E832,'2020'!$A$16:$G$150,2,FALSE)","v":"Violin"},{"$f":"VLOOKUP(E832,'2020'!$A$16:$G$150,3,FALSE)","v":"Zumofen / Gattlen"}]
["2020-06-29",{"$f":"VLOOKUP(D833,'2020'!$A$16:$G$150,3,FALSE)","v":"Williner Anton"},{"$f":"VLOOKUP(D833,'2020'!$A$16:$G$150,2,FALSE)","v":"Tigra"},96,82,{"$f":"VLOOKUP(E833,'2020'!$A$16:$G$150,2,FALSE)","v":"Bonita"},{"$f":"VLOOKUP(E833,'2020'!$A$16:$G$150,3,FALSE)","v":"Stallung Passeraub "}]
["2020-06-29",{"$f":"VLOOKUP(D834,'2020'!$A$16:$G$150,3,FALSE)","v":"Bregy Ralf + Adolf"},{"$f":"VLOOKUP(D834,'2020'!$A$16:$G$150,2,FALSE)","v":"Flacabre"},16,40,{"$f":"VLOOKUP(E834,'2020'!$A$16:$G$150,2,FALSE)","v":"Toscana"},{"$f":"VLOOKUP(E834,'2020'!$A$16:$G$150,3,FALSE)","v":"Fux W., J., + Wyer Piet"}]
["2020-06-29",{"$f":"VLOOKUP(D835,'2020'!$A$16:$G$150,3,FALSE)","v":"Wyssen Diego u. Madlen"},{"$f":"VLOOKUP(D835,'2020'!$A$16:$G$150,2,FALSE)","v":"Rasta"},102,14,{"$f":"VLOOKUP(E835,'2020'!$A$16:$G$150,2,FALSE)","v":"Canabis"},{"$f":"VLOOKUP(E835,'2020'!$A$16:$G$150,3,FALSE)","v":"Bregy Ralf + Adolf"}]
["2020-06-29",{"$f":"VLOOKUP(D836,'2020'!$A$16:$G$150,3,FALSE)","v":"Bregy Uli + Pascal"},{"$f":"VLOOKUP(D836,'2020'!$A$16:$G$150,2,FALSE)","v":"Souki"},18,97,{"$f":"VLOOKUP(E836,'2020'!$A$16:$G$150,2,FALSE)","v":"Vanessa"},{"$f":"VLOOKUP(E836,'2020'!$A$16:$G$150,3,FALSE)","v":"Williner Anton"}]
["2020-06-29",{"$f":"VLOOKUP(D837,'2020'!$A$16:$G$150,3,FALSE)","v":"Bregy Silvan + Patrick"},{"$f":"VLOOKUP(D837,'2020'!$A$16:$G$150,2,FALSE)","v":"Tequilla"},13,5,{"$f":"VLOOKUP(E837,'2020'!$A$16:$G$150,2,FALSE)","v":"Pandera"},{"$f":"VLOOKUP(E837,'2020'!$A$16:$G$150,3,FALSE)","v":"Bayard Medard + Gustav"}]
["2020-06-29",{"$f":"VLOOKUP(D838,'2020'!$A$16:$G$150,3,FALSE)","v":"Bregy Ralf + Adolf"},{"$f":"VLOOKUP(D838,'2020'!$A$16:$G$150,2,FALSE)","v":"Flacabre"},16,50,{"$f":"VLOOKUP(E838,'2020'!$A$16:$G$150,2,FALSE)","v":"Tanja"},{"$f":"VLOOKUP(E838,'2020'!$A$16:$G$150,3,FALSE)","v":"Gebr. Jäger"}]
["2020-06-29",{"$f":"VLOOKUP(D839,'2020'!$A$16:$G$150,3,FALSE)","v":"Jäger Carlo"},{"$f":"VLOOKUP(D839,'2020'!$A$16:$G$150,2,FALSE)","v":"Bataille"},58,91,{"$f":"VLOOKUP(E839,'2020'!$A$16:$G$150,2,FALSE)","v":"Bolera"},{"$f":"VLOOKUP(E839,'2020'!$A$16:$G$150,3,FALSE)","v":"Sewer R. + Thommen S."}]
["2020-06-28",{"$f":"VLOOKUP(D840,'2020'!$A$16:$G$150,3,FALSE)","v":"Bregy Ralf + Adolf"},{"$f":"VLOOKUP(D840,'2020'!$A$16:$G$150,2,FALSE)","v":"Carcas"},11,116,{"$f":"VLOOKUP(E840,'2020'!$A$16:$G$150,2,FALSE)","v":"Pinoccio"},{"$f":"VLOOKUP(E840,'2020'!$A$16:$G$150,3,FALSE)","v":"Zumofen / Gattlen"}]
["2020-06-28",{"$f":"VLOOKUP(D841,'2020'!$A$16:$G$150,3,FALSE)","v":"Wyssen Diego u. Madlen"},{"$f":"VLOOKUP(D841,'2020'!$A$16:$G$150,2,FALSE)","v":"Rasta"},102,111,{"$f":"VLOOKUP(E841,'2020'!$A$16:$G$150,2,FALSE)","v":"Vidona"},{"$f":"VLOOKUP(E841,'2020'!$A$16:$G$150,3,FALSE)","v":"Zumofen / Gattlen"}]
["2020-06-28",{"$f":"VLOOKUP(D842,'2020'!$A$16:$G$150,3,FALSE)","v":"Wyssen Diego u. Madlen"},{"$f":"VLOOKUP(D842,'2020'!$A$16:$G$150,2,FALSE)","v":"Rasta"},102,75,{"$f":"VLOOKUP(E842,'2020'!$A$16:$G$150,2,FALSE)","v":"Bonita"},{"$f":"VLOOKUP(E842,'2020'!$A$16:$G$150,3,FALSE)","v":"Mathieu Leander + S."}]
["2020-06-28",{"$f":"VLOOKUP(D843,'2020'!$A$16:$G$150,3,FALSE)","v":"Bregy Ralf + Adolf"},{"$f":"VLOOKUP(D843,'2020'!$A$16:$G$150,2,FALSE)","v":"Flacari"},9,30,{"$f":"VLOOKUP(E843,'2020'!$A$16:$G$150,2,FALSE)","v":"Bulle"},{"$f":"VLOOKUP(E843,'2020'!$A$16:$G$150,3,FALSE)","v":"Fam. Leiggener"}]
["2020-06-28",{"$f":"VLOOKUP(D844,'2020'!$A$16:$G$150,3,FALSE)","v":"Bregy Uli + Pascal"},{"$f":"VLOOKUP(D844,'2020'!$A$16:$G$150,2,FALSE)","v":"Cataleya"},26,33,{"$f":"VLOOKUP(E844,'2020'!$A$16:$G$150,2,FALSE)","v":"Baquera"},{"$f":"VLOOKUP(E844,'2020'!$A$16:$G$150,3,FALSE)","v":"Fux W., J., + Wyer Piet"}]
["2020-06-28",{"$f":"VLOOKUP(D845,'2020'!$A$16:$G$150,3,FALSE)","v":"Bregy Uli + Pascal"},{"$f":"VLOOKUP(D845,'2020'!$A$16:$G$150,2,FALSE)","v":"Souki"},18,41,{"$f":"VLOOKUP(E845,'2020'!$A$16:$G$150,2,FALSE)","v":"Mystic"},{"$f":"VLOOKUP(E845,'2020'!$A$16:$G$150,3,FALSE)","v":"Fux W., J., + Wyer Piet"}]
["2020-06-28",{"$f":"VLOOKUP(D846,'2020'!$A$16:$G$150,3,FALSE)","v":"Stallung Passeraub"},{"$f":"VLOOKUP(D846,'2020'!$A$16:$G$150,2,FALSE)","v":"Ballerine"},78,66,{"$f":"VLOOKUP(E846,'2020'!$A$16:$G$150,2,FALSE)","v":"Metis"},{"$f":"VLOOKUP(E846,'2020'!$A$16:$G$150,3,FALSE)","v":"Jäger Carlo"}]
["2020-06-28",{"$f":"VLOOKUP(D847,'2020'!$A$16:$G$150,3,FALSE)","v":"Bregy Ralf + Adolf"},{"$f":"VLOOKUP(D847,'2020'!$A$16:$G$150,2,FALSE)","v":"Flacari"},9,16,{"$f":"VLOOKUP(E847,'2020'!$A$16:$G$150,2,FALSE)","v":"Flacabre"},{"$f":"VLOOKUP(E847,'2020'!$A$16:$G$150,3,FALSE)","v":"Bregy Ralf + Adolf"}]
["2020-06-28",{"$f":"VLOOKUP(D848,'2020'!$A$16:$G$150,3,FALSE)","v":"Bregy Silvan + Patrick"},{"$f":"VLOOKUP(D848,'2020'!$A$16:$G$150,2,FALSE)","v":"Tequilla"},13,5,{"$f":"VLOOKUP(E848,'2020'!$A$16:$G$150,2,FALSE)","v":"Pandera"},{"$f":"VLOOKUP(E848,'2020'!$A$16:$G$150,3,FALSE)","v":"Bayard Medard + Gustav"}]
["2020-06-28",{"$f":"VLOOKUP(D849,'2020'!$A$16:$G$150,3,FALSE)","v":"Wyssen Diego u. Madlen"},{"$f":"VLOOKUP(D849,'2020'!$A$16:$G$150,2,FALSE)","v":"Rasta"},102,89,{"$f":"VLOOKUP(E849,'2020'!$A$16:$G$150,2,FALSE)","v":"Tiara"},{"$f":"VLOOKUP(E849,'2020'!$A$16:$G$150,3,FALSE)","v":"Sewer R. + Thommen S."}]
["2020-06-28",{"$f":"VLOOKUP(D850,'2020'!$A$16:$G$150,3,FALSE)","v":"Bregy Ralf + Adolf"},{"$f":"VLOOKUP(D850,'2020'!$A$16:$G$150,2,FALSE)","v":"Cashida"},15,51,{"$f":"VLOOKUP(E850,'2020'!$A$16:$G$150,2,FALSE)","v":"Jamanda"},{"$f":"VLOOKUP(E850,'2020'!$A$16:$G$150,3,FALSE)","v":"Hischier H. + Bühlmann J."}]
["2020-06-28",{"$f":"VLOOKUP(D851,'2020'!$A$16:$G$150,3,FALSE)","v":"Wyssen Diego u. Madlen"},{"$f":"VLOOKUP(D851,'2020'!$A$16:$G$150,2,FALSE)","v":"Xandria"},101,5,{"$f":"VLOOKUP(E851,'2020'!$A$16:$G$150,2,FALSE)","v":"Pandera"},{"$f":"VLOOKUP(E851,'2020'!$A$16:$G$150,3,FALSE)","v":"Bayard Medard + Gustav"}]
["2020-06-28",{"$f":"VLOOKUP(D852,'2020'!$A$16:$G$150,3,FALSE)","v":"Tscherry E. + B."},{"$f":"VLOOKUP(D852,'2020'!$A$16:$G$150,2,FALSE)","v":"Cobra"},94,77,{"$f":"VLOOKUP(E852,'2020'!$A$16:$G$150,2,FALSE)","v":"Beres"},{"$f":"VLOOKUP(E852,'2020'!$A$16:$G$150,3,FALSE)","v":"Stallung Passeraub"}]
["2020-06-28",{"$f":"VLOOKUP(D853,'2020'!$A$16:$G$150,3,FALSE)","v":"Bregy Uli + Pascal"},{"$f":"VLOOKUP(D853,'2020'!$A$16:$G$150,2,FALSE)","v":"Cataleya"},26,32,{"$f":"VLOOKUP(E853,'2020'!$A$16:$G$150,2,FALSE)","v":"Mira"},{"$f":"VLOOKUP(E853,'2020'!$A$16:$G$150,3,FALSE)","v":"Fam. Leiggener"}]
["2020-06-28",{"$f":"VLOOKUP(D854,'2020'!$A$16:$G$150,3,FALSE)","v":"Bregy Uli + Pascal"},{"$f":"VLOOKUP(D854,'2020'!$A$16:$G$150,2,FALSE)","v":"Pandora"},23,77,{"$f":"VLOOKUP(E854,'2020'!$A$16:$G$150,2,FALSE)","v":"Beres"},{"$f":"VLOOKUP(E854,'2020'!$A$16:$G$150,3,FALSE)","v":"Stallung Passeraub"}]
["2020-06-28",{"$f":"VLOOKUP(D855,'2020'!$A$16:$G$150,3,FALSE)","v":"Stallung Passeraub"},{"$f":"VLOOKUP(D855,'2020'!$A$16:$G$150,2,FALSE)","v":"Beres"},77,50,{"$f":"VLOOKUP(E855,'2020'!$A$16:$G$150,2,FALSE)","v":"Tanja"},{"$f":"VLOOKUP(E855,'2020'!$A$16:$G$150,3,FALSE)","v":"Gebr. Jäger"}]
["2020-06-28",{"$f":"VLOOKUP(D856,'2020'!$A$16:$G$150,3,FALSE)","v":"Jäger Carlo"},{"$f":"VLOOKUP(D856,'2020'!$A$16:$G$150,2,FALSE)","v":"Sera"},64,96,{"$f":"VLOOKUP(E856,'2020'!$A$16:$G$150,2,FALSE)","v":"Tigra"},{"$f":"VLOOKUP(E856,'2020'!$A$16:$G$150,3,FALSE)","v":"Williner Anton"}]
["2020-06-28",{"$f":"VLOOKUP(D857,'2020'!$A$16:$G$150,3,FALSE)","v":"Jäger Carlo"},{"$f":"VLOOKUP(D857,'2020'!$A$16:$G$150,2,FALSE)","v":"Maila"},59,3,{"$f":"VLOOKUP(E857,'2020'!$A$16:$G$150,2,FALSE)","v":"Priska"},{"$f":"VLOOKUP(E857,'2020'!$A$16:$G$150,3,FALSE)","v":"Bayard Medard + Gustav"}]
["2020-06-27",{"$f":"VLOOKUP(D858,'2020'!$A$16:$G$150,3,FALSE)","v":"Jäger Carlo"},{"$f":"VLOOKUP(D858,'2020'!$A$16:$G$150,2,FALSE)","v":"Metis"},66,35,{"$f":"VLOOKUP(E858,'2020'!$A$16:$G$150,2,FALSE)","v":"Valaisanne"},{"$f":"VLOOKUP(E858,'2020'!$A$16:$G$150,3,FALSE)","v":"Fux W., J., + Wyer Piet"}]
["2020-06-27",{"$f":"VLOOKUP(D859,'2020'!$A$16:$G$150,3,FALSE)","v":"Williner Anton"},{"$f":"VLOOKUP(D859,'2020'!$A$16:$G$150,2,FALSE)","v":"Tira"},100,48,{"$f":"VLOOKUP(E859,'2020'!$A$16:$G$150,2,FALSE)","v":"Simba"},{"$f":"VLOOKUP(E859,'2020'!$A$16:$G$150,3,FALSE)","v":"Gebr. Jäger"}]
["2020-06-27",{"$f":"VLOOKUP(D860,'2020'!$A$16:$G$150,3,FALSE)","v":"Stallung Passeraub "},{"$f":"VLOOKUP(D860,'2020'!$A$16:$G$150,2,FALSE)","v":"Bonita"},82,106,{"$f":"VLOOKUP(E860,'2020'!$A$16:$G$150,2,FALSE)","v":"Rambo"},{"$f":"VLOOKUP(E860,'2020'!$A$16:$G$150,3,FALSE)","v":"Zumofen / Gattlen"}]
["2020-06-27",{"$f":"VLOOKUP(D861,'2020'!$A$16:$G$150,3,FALSE)","v":"Zumofen / Gattlen"},{"$f":"VLOOKUP(D861,'2020'!$A$16:$G$150,2,FALSE)","v":"Rigolo"},117,68,{"$f":"VLOOKUP(E861,'2020'!$A$16:$G$150,2,FALSE)","v":"Pivoine"},{"$f":"VLOOKUP(E861,'2020'!$A$16:$G$150,3,FALSE)","v":"Jäger Carlo"}]
["2020-06-27",{"$f":"VLOOKUP(D862,'2020'!$A$16:$G$150,3,FALSE)","v":"Stallung Passeraub "},{"$f":"VLOOKUP(D862,'2020'!$A$16:$G$150,2,FALSE)","v":"Bonita"},82,98,{"$f":"VLOOKUP(E862,'2020'!$A$16:$G$150,2,FALSE)","v":"Colonell"},{"$f":"VLOOKUP(E862,'2020'!$A$16:$G$150,3,FALSE)","v":"Williner Anton"}]
["2020-06-27",{"$f":"VLOOKUP(D863,'2020'!$A$16:$G$150,3,FALSE)","v":"Wyssen Diego u. Madlen"},{"$f":"VLOOKUP(D863,'2020'!$A$16:$G$150,2,FALSE)","v":"Xandria"},101,17,{"$f":"VLOOKUP(E863,'2020'!$A$16:$G$150,2,FALSE)","v":"Coquette"},{"$f":"VLOOKUP(E863,'2020'!$A$16:$G$150,3,FALSE)","v":"Bregy Ralf + Adolf"}]
["2020-06-27",{"$f":"VLOOKUP(D864,'2020'!$A$16:$G$150,3,FALSE)","v":"Jäger Carlo"},{"$f":"VLOOKUP(D864,'2020'!$A$16:$G$150,2,FALSE)","v":"Megane"},65,88,{"$f":"VLOOKUP(E864,'2020'!$A$16:$G$150,2,FALSE)","v":"Malice"},{"$f":"VLOOKUP(E864,'2020'!$A$16:$G$150,3,FALSE)","v":"Sewer R. + Thommen S."}]
["2020-06-27",{"$f":"VLOOKUP(D865,'2020'!$A$16:$G$150,3,FALSE)","v":"Hischier Pius"},{"$f":"VLOOKUP(D865,'2020'!$A$16:$G$150,2,FALSE)","v":"Shakira"},56,113,{"$f":"VLOOKUP(E865,'2020'!$A$16:$G$150,2,FALSE)","v":"Vanda"},{"$f":"VLOOKUP(E865,'2020'!$A$16:$G$150,3,FALSE)","v":"Zumofen / Gattlen"}]
["2020-06-27",{"$f":"VLOOKUP(D866,'2020'!$A$16:$G$150,3,FALSE)","v":"Stallung Passeraub "},{"$f":"VLOOKUP(D866,'2020'!$A$16:$G$150,2,FALSE)","v":"Manou"},80,14,{"$f":"VLOOKUP(E866,'2020'!$A$16:$G$150,2,FALSE)","v":"Canabis"},{"$f":"VLOOKUP(E866,'2020'!$A$16:$G$150,3,FALSE)","v":"Bregy Ralf + Adolf"}]
["2020-06-27",{"$f":"VLOOKUP(D867,'2020'!$A$16:$G$150,3,FALSE)","v":"Tscherry E. + B."},{"$f":"VLOOKUP(D867,'2020'!$A$16:$G$150,2,FALSE)","v":"Carolin"},93,50,{"$f":"VLOOKUP(E867,'2020'!$A$16:$G$150,2,FALSE)","v":"Tanja"},{"$f":"VLOOKUP(E867,'2020'!$A$16:$G$150,3,FALSE)","v":"Gebr. Jäger"}]
["2020-06-27",{"$f":"VLOOKUP(D868,'2020'!$A$16:$G$150,3,FALSE)","v":"Bregy Ralf + Adolf"},{"$f":"VLOOKUP(D868,'2020'!$A$16:$G$150,2,FALSE)","v":"Canabis"},14,114,{"$f":"VLOOKUP(E868,'2020'!$A$16:$G$150,2,FALSE)","v":"Maya"},{"$f":"VLOOKUP(E868,'2020'!$A$16:$G$150,3,FALSE)","v":"Zumofen / Gattlen"}]
["2020-06-27",{"$f":"VLOOKUP(D869,'2020'!$A$16:$G$150,3,FALSE)","v":"Wyssen Diego u. Madlen"},{"$f":"VLOOKUP(D869,'2020'!$A$16:$G$150,2,FALSE)","v":"Rasta"},102,75,{"$f":"VLOOKUP(E869,'2020'!$A$16:$G$150,2,FALSE)","v":"Bonita"},{"$f":"VLOOKUP(E869,'2020'!$A$16:$G$150,3,FALSE)","v":"Mathieu Leander + S."}]
["2020-06-27",{"$f":"VLOOKUP(D870,'2020'!$A$16:$G$150,3,FALSE)","v":"Bregy Ralf + Adolf"},{"$f":"VLOOKUP(D870,'2020'!$A$16:$G$150,2,FALSE)","v":"Flacabre"},16,89,{"$f":"VLOOKUP(E870,'2020'!$A$16:$G$150,2,FALSE)","v":"Tiara"},{"$f":"VLOOKUP(E870,'2020'!$A$16:$G$150,3,FALSE)","v":"Sewer R. + Thommen S."}]
["2020-06-27",{"$f":"VLOOKUP(D871,'2020'!$A$16:$G$150,3,FALSE)","v":"Bregy Silvan + Patrick"},{"$f":"VLOOKUP(D871,'2020'!$A$16:$G$150,2,FALSE)","v":"Tequilla"},13,108,{"$f":"VLOOKUP(E871,'2020'!$A$16:$G$150,2,FALSE)","v":"Violette"},{"$f":"VLOOKUP(E871,'2020'!$A$16:$G$150,3,FALSE)","v":"Zumofen / Gattlen"}]
["2020-06-27",{"$f":"VLOOKUP(D872,'2020'!$A$16:$G$150,3,FALSE)","v":"Gebr. Jäger"},{"$f":"VLOOKUP(D872,'2020'!$A$16:$G$150,2,FALSE)","v":"Simba"},48,52,{"$f":"VLOOKUP(E872,'2020'!$A$16:$G$150,2,FALSE)","v":"Lenja"},{"$f":"VLOOKUP(E872,'2020'!$A$16:$G$150,3,FALSE)","v":"Hischier H. + Bühlmann J."}]
["2020-06-27",{"$f":"VLOOKUP(D873,'2020'!$A$16:$G$150,3,FALSE)","v":"Hischier Pius"},{"$f":"VLOOKUP(D873,'2020'!$A$16:$G$150,2,FALSE)","v":"Safira"},53,11,{"$f":"VLOOKUP(E873,'2020'!$A$16:$G$150,2,FALSE)","v":"Carcas"},{"$f":"VLOOKUP(E873,'2020'!$A$16:$G$150,3,FALSE)","v":"Bregy Ralf + Adolf"}]
["2020-06-26",{"$f":"VLOOKUP(D874,'2020'!$A$16:$G$150,3,FALSE)","v":"Williner Anton"},{"$f":"VLOOKUP(D874,'2020'!$A$16:$G$150,2,FALSE)","v":"Vivana"},95,44,{"$f":"VLOOKUP(E874,'2020'!$A$16:$G$150,2,FALSE)","v":"Dorina"},{"$f":"VLOOKUP(E874,'2020'!$A$16:$G$150,3,FALSE)","v":"Gebr. Jäger"}]
["2020-06-26",{"$f":"VLOOKUP(D875,'2020'!$A$16:$G$150,3,FALSE)","v":"Bayard Medard + Gustav"},{"$f":"VLOOKUP(D875,'2020'!$A$16:$G$150,2,FALSE)","v":"Venus"},6,89,{"$f":"VLOOKUP(E875,'2020'!$A$16:$G$150,2,FALSE)","v":"Tiara"},{"$f":"VLOOKUP(E875,'2020'!$A$16:$G$150,3,FALSE)","v":"Sewer R. + Thommen S."}]
["2020-06-26",{"$f":"VLOOKUP(D876,'2020'!$A$16:$G$150,3,FALSE)","v":"Fux W., J., + Wyer Piet"},{"$f":"VLOOKUP(D876,'2020'!$A$16:$G$150,2,FALSE)","v":"Toscana"},40,88,{"$f":"VLOOKUP(E876,'2020'!$A$16:$G$150,2,FALSE)","v":"Malice"},{"$f":"VLOOKUP(E876,'2020'!$A$16:$G$150,3,FALSE)","v":"Sewer R. + Thommen S."}]
["2020-06-26",{"$f":"VLOOKUP(D877,'2020'!$A$16:$G$150,3,FALSE)","v":"Wyssen Diego u. Madlen"},{"$f":"VLOOKUP(D877,'2020'!$A$16:$G$150,2,FALSE)","v":"Xhyla"},105,17,{"$f":"VLOOKUP(E877,'2020'!$A$16:$G$150,2,FALSE)","v":"Coquette"},{"$f":"VLOOKUP(E877,'2020'!$A$16:$G$150,3,FALSE)","v":"Bregy Ralf + Adolf"}]
["2020-06-26",{"$f":"VLOOKUP(D878,'2020'!$A$16:$G$150,3,FALSE)","v":"Bayard Medard + Gustav"},{"$f":"VLOOKUP(D878,'2020'!$A$16:$G$150,2,FALSE)","v":"Pandera"},5,81,{"$f":"VLOOKUP(E878,'2020'!$A$16:$G$150,2,FALSE)","v":"Medusa"},{"$f":"VLOOKUP(E878,'2020'!$A$16:$G$150,3,FALSE)","v":"Stallung Passeraub "}]
["2020-06-26",{"$f":"VLOOKUP(D879,'2020'!$A$16:$G$150,3,FALSE)","v":"Stallung Passeraub"},{"$f":"VLOOKUP(D879,'2020'!$A$16:$G$150,2,FALSE)","v":"Bobino"},85,64,{"$f":"VLOOKUP(E879,'2020'!$A$16:$G$150,2,FALSE)","v":"Sera"},{"$f":"VLOOKUP(E879,'2020'!$A$16:$G$150,3,FALSE)","v":"Jäger Carlo"}]
["2020-06-26",{"$f":"VLOOKUP(D880,'2020'!$A$16:$G$150,3,FALSE)","v":"Bregy Ralf + Adolf"},{"$f":"VLOOKUP(D880,'2020'!$A$16:$G$150,2,FALSE)","v":"Canaille"},7,82,{"$f":"VLOOKUP(E880,'2020'!$A$16:$G$150,2,FALSE)","v":"Bonita"},{"$f":"VLOOKUP(E880,'2020'!$A$16:$G$150,3,FALSE)","v":"Stallung Passeraub "}]
["2020-06-26",{"$f":"VLOOKUP(D881,'2020'!$A$16:$G$150,3,FALSE)","v":"Sewer R. + Thommen S."},{"$f":"VLOOKUP(D881,'2020'!$A$16:$G$150,2,FALSE)","v":"Tiara"},89,53,{"$f":"VLOOKUP(E881,'2020'!$A$16:$G$150,2,FALSE)","v":"Safira"},{"$f":"VLOOKUP(E881,'2020'!$A$16:$G$150,3,FALSE)","v":"Hischier Pius"}]
["2020-06-26",{"$f":"VLOOKUP(D882,'2020'!$A$16:$G$150,3,FALSE)","v":"Amacker Joelle u. Sven"},{"$f":"VLOOKUP(D882,'2020'!$A$16:$G$150,2,FALSE)","v":"Lijuba"},83,53,{"$f":"VLOOKUP(E882,'2020'!$A$16:$G$150,2,FALSE)","v":"Safira"},{"$f":"VLOOKUP(E882,'2020'!$A$16:$G$150,3,FALSE)","v":"Hischier Pius"}]
["2020-06-26",{"$f":"VLOOKUP(D883,'2020'!$A$16:$G$150,3,FALSE)","v":"Bregy Ralf + Adolf"},{"$f":"VLOOKUP(D883,'2020'!$A$16:$G$150,2,FALSE)","v":"Coquette"},17,52,{"$f":"VLOOKUP(E883,'2020'!$A$16:$G$150,2,FALSE)","v":"Lenja"},{"$f":"VLOOKUP(E883,'2020'!$A$16:$G$150,3,FALSE)","v":"Hischier H. + Bühlmann J."}]
["2020-06-26",{"$f":"VLOOKUP(D884,'2020'!$A$16:$G$150,3,FALSE)","v":"Hutter Richard"},{"$f":"VLOOKUP(D884,'2020'!$A$16:$G$150,2,FALSE)","v":"Fägär"},84,50,{"$f":"VLOOKUP(E884,'2020'!$A$16:$G$150,2,FALSE)","v":"Tanja"},{"$f":"VLOOKUP(E884,'2020'!$A$16:$G$150,3,FALSE)","v":"Gebr. Jäger"}]
["2020-06-26",{"$f":"VLOOKUP(D885,'2020'!$A$16:$G$150,3,FALSE)","v":"Bayard Medard + Gustav"},{"$f":"VLOOKUP(D885,'2020'!$A$16:$G$150,2,FALSE)","v":"Pandera"},5,13,{"$f":"VLOOKUP(E885,'2020'!$A$16:$G$150,2,FALSE)","v":"Tequilla"},{"$f":"VLOOKUP(E885,'2020'!$A$16:$G$150,3,FALSE)","v":"Bregy Silvan + Patrick"}]
["2020-06-26",{"$f":"VLOOKUP(D886,'2020'!$A$16:$G$150,3,FALSE)","v":"Bregy Uli + Pascal"},{"$f":"VLOOKUP(D886,'2020'!$A$16:$G$150,2,FALSE)","v":"Tiranie"},19,95,{"$f":"VLOOKUP(E886,'2020'!$A$16:$G$150,2,FALSE)","v":"Vivana"},{"$f":"VLOOKUP(E886,'2020'!$A$16:$G$150,3,FALSE)","v":"Williner Anton"}]
["2020-06-26",{"$f":"VLOOKUP(D887,'2020'!$A$16:$G$150,3,FALSE)","v":"Bregy Ralf + Adolf"},{"$f":"VLOOKUP(D887,'2020'!$A$16:$G$150,2,FALSE)","v":"Carcas"},11,10,{"$f":"VLOOKUP(E887,'2020'!$A$16:$G$150,2,FALSE)","v":"Diabolo"},{"$f":"VLOOKUP(E887,'2020'!$A$16:$G$150,3,FALSE)","v":"Bregy Ralf + Adolf"}]
["2020-06-26",{"$f":"VLOOKUP(D888,'2020'!$A$16:$G$150,3,FALSE)","v":"Zumofen / Gattlen"},{"$f":"VLOOKUP(D888,'2020'!$A$16:$G$150,2,FALSE)","v":"Pinoccio"},116,72,{"$f":"VLOOKUP(E888,'2020'!$A$16:$G$150,2,FALSE)","v":"Baronesse"},{"$f":"VLOOKUP(E888,'2020'!$A$16:$G$150,3,FALSE)","v":"Mathieu Leander + S."}]
["2020-06-26",{"$f":"VLOOKUP(D889,'2020'!$A$16:$G$150,3,FALSE)","v":"Bregy Uli + Pascal"},{"$f":"VLOOKUP(D889,'2020'!$A$16:$G$150,2,FALSE)","v":"Tiranie"},19,27,{"$f":"VLOOKUP(E889,'2020'!$A$16:$G$150,2,FALSE)","v":"Murphy"},{"$f":"VLOOKUP(E889,'2020'!$A$16:$G$150,3,FALSE)","v":"Bregy Uli + Pascal"}]
["2020-06-26",{"$f":"VLOOKUP(D890,'2020'!$A$16:$G$150,3,FALSE)","v":"Bregy Uli + Pascal"},{"$f":"VLOOKUP(D890,'2020'!$A$16:$G$150,2,FALSE)","v":"Caline"},20,55,{"$f":"VLOOKUP(E890,'2020'!$A$16:$G$150,2,FALSE)","v":"Pelila"},{"$f":"VLOOKUP(E890,'2020'!$A$16:$G$150,3,FALSE)","v":"Hischier Pius"}]
["2020-06-26",{"$f":"VLOOKUP(D891,'2020'!$A$16:$G$150,3,FALSE)","v":"Hischier Pius"},{"$f":"VLOOKUP(D891,'2020'!$A$16:$G$150,2,FALSE)","v":"Pelila"},55,118,{"$f":"VLOOKUP(E891,'2020'!$A$16:$G$150,2,FALSE)","v":"Vesuv"},{"$f":"VLOOKUP(E891,'2020'!$A$16:$G$150,3,FALSE)","v":"Zumofen / Gattlen"}]
["2020-06-26",{"$f":"VLOOKUP(D892,'2020'!$A$16:$G$150,3,FALSE)","v":"Bayard Medard + Gustav"},{"$f":"VLOOKUP(D892,'2020'!$A$16:$G$150,2,FALSE)","v":"Diabolo"},1,114,{"$f":"VLOOKUP(E892,'2020'!$A$16:$G$150,2,FALSE)","v":"Maya"},{"$f":"VLOOKUP(E892,'2020'!$A$16:$G$150,3,FALSE)","v":"Zumofen / Gattlen"}]
["2020-06-26",{"$f":"VLOOKUP(D893,'2020'!$A$16:$G$150,3,FALSE)","v":"Bayard Medard + Gustav"},{"$f":"VLOOKUP(D893,'2020'!$A$16:$G$150,2,FALSE)","v":"Fantastic"},2,75,{"$f":"VLOOKUP(E893,'2020'!$A$16:$G$150,2,FALSE)","v":"Bonita"},{"$f":"VLOOKUP(E893,'2020'!$A$16:$G$150,3,FALSE)","v":"Mathieu Leander + S."}]
["2020-06-26",{"$f":"VLOOKUP(D894,'2020'!$A$16:$G$150,3,FALSE)","v":"Bregy Uli + Pascal"},{"$f":"VLOOKUP(D894,'2020'!$A$16:$G$150,2,FALSE)","v":"Calette"},25,60,{"$f":"VLOOKUP(E894,'2020'!$A$16:$G$150,2,FALSE)","v":"Bayonne"},{"$f":"VLOOKUP(E894,'2020'!$A$16:$G$150,3,FALSE)","v":"Jäger Carlo"}]
["2020-06-25",{"$f":"VLOOKUP(D895,'2020'!$A$16:$G$150,3,FALSE)","v":"Hischier Pius"},{"$f":"VLOOKUP(D895,'2020'!$A$16:$G$150,2,FALSE)","v":"Shakira"},56,3,{"$f":"VLOOKUP(E895,'2020'!$A$16:$G$150,2,FALSE)","v":"Priska"},{"$f":"VLOOKUP(E895,'2020'!$A$16:$G$150,3,FALSE)","v":"Bayard Medard + Gustav"}]
["2020-06-25",{"$f":"VLOOKUP(D896,'2020'!$A$16:$G$150,3,FALSE)","v":"Stallung zum Stäg"},{"$f":"VLOOKUP(D896,'2020'!$A$16:$G$150,2,FALSE)","v":"Babylon"},86,90,{"$f":"VLOOKUP(E896,'2020'!$A$16:$G$150,2,FALSE)","v":"Biscot"},{"$f":"VLOOKUP(E896,'2020'!$A$16:$G$150,3,FALSE)","v":"Sewer R. + Thommen S."}]
["2020-06-25",{"$f":"VLOOKUP(D897,'2020'!$A$16:$G$150,3,FALSE)","v":"Mathieu Leander + S."},{"$f":"VLOOKUP(D897,'2020'!$A$16:$G$150,2,FALSE)","v":"Babylon"},76,84,{"$f":"VLOOKUP(E897,'2020'!$A$16:$G$150,2,FALSE)","v":"Fägär"},{"$f":"VLOOKUP(E897,'2020'!$A$16:$G$150,3,FALSE)","v":"Hutter Richard"}]
["2020-06-25",{"$f":"VLOOKUP(D898,'2020'!$A$16:$G$150,3,FALSE)","v":"Bregy Ralf + Adolf"},{"$f":"VLOOKUP(D898,'2020'!$A$16:$G$150,2,FALSE)","v":"Canabis"},14,58,{"$f":"VLOOKUP(E898,'2020'!$A$16:$G$150,2,FALSE)","v":"Bataille"},{"$f":"VLOOKUP(E898,'2020'!$A$16:$G$150,3,FALSE)","v":"Jäger Carlo"}]
["2020-06-25",{"$f":"VLOOKUP(D899,'2020'!$A$16:$G$150,3,FALSE)","v":"Jäger Carlo"},{"$f":"VLOOKUP(D899,'2020'!$A$16:$G$150,2,FALSE)","v":"Sera"},64,73,{"$f":"VLOOKUP(E899,'2020'!$A$16:$G$150,2,FALSE)","v":"Bavaria"},{"$f":"VLOOKUP(E899,'2020'!$A$16:$G$150,3,FALSE)","v":"Mathieu Leander + S."}]
["2020-06-25",{"$f":"VLOOKUP(D900,'2020'!$A$16:$G$150,3,FALSE)","v":"Zumofen / Gattlen"},{"$f":"VLOOKUP(D900,'2020'!$A$16:$G$150,2,FALSE)","v":"Violin"},107,104,{"$f":"VLOOKUP(E900,'2020'!$A$16:$G$150,2,FALSE)","v":"Xena"},{"$f":"VLOOKUP(E900,'2020'!$A$16:$G$150,3,FALSE)","v":"Wyssen Diego u. Madlen"}]
["2020-06-25",{"$f":"VLOOKUP(D901,'2020'!$A$16:$G$150,3,FALSE)","v":"Bregy Ralf + Adolf"},{"$f":"VLOOKUP(D901,'2020'!$A$16:$G$150,2,FALSE)","v":"Diabolo"},10,44,{"$f":"VLOOKUP(E901,'2020'!$A$16:$G$150,2,FALSE)","v":"Dorina"},{"$f":"VLOOKUP(E901,'2020'!$A$16:$G$150,3,FALSE)","v":"Gebr. Jäger"}]
["2020-06-25",{"$f":"VLOOKUP(D902,'2020'!$A$16:$G$150,3,FALSE)","v":"Stallung Passeraub "},{"$f":"VLOOKUP(D902,'2020'!$A$16:$G$150,2,FALSE)","v":"Medusa"},81,88,{"$f":"VLOOKUP(E902,'2020'!$A$16:$G$150,2,FALSE)","v":"Malice"},{"$f":"VLOOKUP(E902,'2020'!$A$16:$G$150,3,FALSE)","v":"Sewer R. + Thommen S."}]
["2020-06-25",{"$f":"VLOOKUP(D903,'2020'!$A$16:$G$150,3,FALSE)","v":"Bayard Medard + Gustav"},{"$f":"VLOOKUP(D903,'2020'!$A$16:$G$150,2,FALSE)","v":"Pandera"},5,81,{"$f":"VLOOKUP(E903,'2020'!$A$16:$G$150,2,FALSE)","v":"Medusa"},{"$f":"VLOOKUP(E903,'2020'!$A$16:$G$150,3,FALSE)","v":"Stallung Passeraub "}]
["2020-06-25",{"$f":"VLOOKUP(D904,'2020'!$A$16:$G$150,3,FALSE)","v":"Jäger Carlo"},{"$f":"VLOOKUP(D904,'2020'!$A$16:$G$150,2,FALSE)","v":"Megane"},65,35,{"$f":"VLOOKUP(E904,'2020'!$A$16:$G$150,2,FALSE)","v":"Valaisanne"},{"$f":"VLOOKUP(E904,'2020'!$A$16:$G$150,3,FALSE)","v":"Fux W., J., + Wyer Piet"}]
["2020-06-25",{"$f":"VLOOKUP(D905,'2020'!$A$16:$G$150,3,FALSE)","v":"Zumofen / Gattlen"},{"$f":"VLOOKUP(D905,'2020'!$A$16:$G$150,2,FALSE)","v":"Violin"},107,70,{"$f":"VLOOKUP(E905,'2020'!$A$16:$G$150,2,FALSE)","v":"Tokio"},{"$f":"VLOOKUP(E905,'2020'!$A$16:$G$150,3,FALSE)","v":"Jäger Carlo"}]
["2020-06-25",{"$f":"VLOOKUP(D906,'2020'!$A$16:$G$150,3,FALSE)","v":"Sewer R. + Thommen S."},{"$f":"VLOOKUP(D906,'2020'!$A$16:$G$150,2,FALSE)","v":"Malice"},88,68,{"$f":"VLOOKUP(E906,'2020'!$A$16:$G$150,2,FALSE)","v":"Pivoine"},{"$f":"VLOOKUP(E906,'2020'!$A$16:$G$150,3,FALSE)","v":"Jäger Carlo"}]
["2020-06-25",{"$f":"VLOOKUP(D907,'2020'!$A$16:$G$150,3,FALSE)","v":"Zumofen / Gattlen"},{"$f":"VLOOKUP(D907,'2020'!$A$16:$G$150,2,FALSE)","v":"Rena"},109,44,{"$f":"VLOOKUP(E907,'2020'!$A$16:$G$150,2,FALSE)","v":"Dorina"},{"$f":"VLOOKUP(E907,'2020'!$A$16:$G$150,3,FALSE)","v":"Gebr. Jäger"}]
["2020-06-25",{"$f":"VLOOKUP(D908,'2020'!$A$16:$G$150,3,FALSE)","v":"Bayard Medard + Gustav"},{"$f":"VLOOKUP(D908,'2020'!$A$16:$G$150,2,FALSE)","v":"Fantastic"},2,88,{"$f":"VLOOKUP(E908,'2020'!$A$16:$G$150,2,FALSE)","v":"Malice"},{"$f":"VLOOKUP(E908,'2020'!$A$16:$G$150,3,FALSE)","v":"Sewer R. + Thommen S."}]
["2020-06-25",{"$f":"VLOOKUP(D909,'2020'!$A$16:$G$150,3,FALSE)","v":"Bregy Ralf + Adolf"},{"$f":"VLOOKUP(D909,'2020'!$A$16:$G$150,2,FALSE)","v":"Diabolo"},10,95,{"$f":"VLOOKUP(E909,'2020'!$A$16:$G$150,2,FALSE)","v":"Vivana"},{"$f":"VLOOKUP(E909,'2020'!$A$16:$G$150,3,FALSE)","v":"Williner Anton"}]
["2020-06-25",{"$f":"VLOOKUP(D910,'2020'!$A$16:$G$150,3,FALSE)","v":"Stallung Passeraub"},{"$f":"VLOOKUP(D910,'2020'!$A$16:$G$150,2,FALSE)","v":"Ballerine"},78,14,{"$f":"VLOOKUP(E910,'2020'!$A$16:$G$150,2,FALSE)","v":"Canabis"},{"$f":"VLOOKUP(E910,'2020'!$A$16:$G$150,3,FALSE)","v":"Bregy Ralf + Adolf"}]
["2020-06-25",{"$f":"VLOOKUP(D911,'2020'!$A$16:$G$150,3,FALSE)","v":"Bregy Uli + Pascal"},{"$f":"VLOOKUP(D911,'2020'!$A$16:$G$150,2,FALSE)","v":"Calette"},25,52,{"$f":"VLOOKUP(E911,'2020'!$A$16:$G$150,2,FALSE)","v":"Lenja"},{"$f":"VLOOKUP(E911,'2020'!$A$16:$G$150,3,FALSE)","v":"Hischier H. + Bühlmann J."}]
["2020-06-25",{"$f":"VLOOKUP(D912,'2020'!$A$16:$G$150,3,FALSE)","v":"Bayard Medard + Gustav"},{"$f":"VLOOKUP(D912,'2020'!$A$16:$G$150,2,FALSE)","v":"Fantastic"},2,91,{"$f":"VLOOKUP(E912,'2020'!$A$16:$G$150,2,FALSE)","v":"Bolera"},{"$f":"VLOOKUP(E912,'2020'!$A$16:$G$150,3,FALSE)","v":"Sewer R. + Thommen S."}]
["2020-06-25",{"$f":"VLOOKUP(D913,'2020'!$A$16:$G$150,3,FALSE)","v":"Stallung Passeraub "},{"$f":"VLOOKUP(D913,'2020'!$A$16:$G$150,2,FALSE)","v":"Manou"},80,63,{"$f":"VLOOKUP(E913,'2020'!$A$16:$G$150,2,FALSE)","v":"Pisa"},{"$f":"VLOOKUP(E913,'2020'!$A$16:$G$150,3,FALSE)","v":"Jäger Carlo"}]
["2020-06-25",{"$f":"VLOOKUP(D914,'2020'!$A$16:$G$150,3,FALSE)","v":"Jäger Carlo"},{"$f":"VLOOKUP(D914,'2020'!$A$16:$G$150,2,FALSE)","v":"Candice"},62,88,{"$f":"VLOOKUP(E914,'2020'!$A$16:$G$150,2,FALSE)","v":"Malice"},{"$f":"VLOOKUP(E914,'2020'!$A$16:$G$150,3,FALSE)","v":"Sewer R. + Thommen S."}]
["2020-06-24",{"$f":"VLOOKUP(D915,'2020'!$A$16:$G$150,3,FALSE)","v":"Williner Anton"},{"$f":"VLOOKUP(D915,'2020'!$A$16:$G$150,2,FALSE)","v":"Tira"},100,119,{"$f":"VLOOKUP(E915,'2020'!$A$16:$G$150,2,FALSE)","v":"Fayola"},{"$f":"VLOOKUP(E915,'2020'!$A$16:$G$150,3,FALSE)","v":"Zumofen / Gattlen"}]
["2020-06-24",{"$f":"VLOOKUP(D916,'2020'!$A$16:$G$150,3,FALSE)","v":"Fux W., J., + Wyer Piet"},{"$f":"VLOOKUP(D916,'2020'!$A$16:$G$150,2,FALSE)","v":"Mystic"},41,34,{"$f":"VLOOKUP(E916,'2020'!$A$16:$G$150,2,FALSE)","v":"Souris"},{"$f":"VLOOKUP(E916,'2020'!$A$16:$G$150,3,FALSE)","v":"Fux W., J., + Wyer Piet"}]
["2020-06-24",{"$f":"VLOOKUP(D917,'2020'!$A$16:$G$150,3,FALSE)","v":"Hischier Pius"},{"$f":"VLOOKUP(D917,'2020'!$A$16:$G$150,2,FALSE)","v":"Shakira"},56,65,{"$f":"VLOOKUP(E917,'2020'!$A$16:$G$150,2,FALSE)","v":"Megane"},{"$f":"VLOOKUP(E917,'2020'!$A$16:$G$150,3,FALSE)","v":"Jäger Carlo"}]
["2020-06-24",{"$f":"VLOOKUP(D918,'2020'!$A$16:$G$150,3,FALSE)","v":"Zumofen / Gattlen"},{"$f":"VLOOKUP(D918,'2020'!$A$16:$G$150,2,FALSE)","v":"Vidona"},111,70,{"$f":"VLOOKUP(E918,'2020'!$A$16:$G$150,2,FALSE)","v":"Tokio"},{"$f":"VLOOKUP(E918,'2020'!$A$16:$G$150,3,FALSE)","v":"Jäger Carlo"}]
["2020-06-24",{"$f":"VLOOKUP(D919,'2020'!$A$16:$G$150,3,FALSE)","v":"Jäger Carlo"},{"$f":"VLOOKUP(D919,'2020'!$A$16:$G$150,2,FALSE)","v":"Pivoine"},68,114,{"$f":"VLOOKUP(E919,'2020'!$A$16:$G$150,2,FALSE)","v":"Maya"},{"$f":"VLOOKUP(E919,'2020'!$A$16:$G$150,3,FALSE)","v":"Zumofen / Gattlen"}]
["2020-06-24",{"$f":"VLOOKUP(D920,'2020'!$A$16:$G$150,3,FALSE)","v":"Tscherry E. + B."},{"$f":"VLOOKUP(D920,'2020'!$A$16:$G$150,2,FALSE)","v":"Carolin"},93,17,{"$f":"VLOOKUP(E920,'2020'!$A$16:$G$150,2,FALSE)","v":"Coquette"},{"$f":"VLOOKUP(E920,'2020'!$A$16:$G$150,3,FALSE)","v":"Bregy Ralf + Adolf"}]
["2020-06-24",{"$f":"VLOOKUP(D921,'2020'!$A$16:$G$150,3,FALSE)","v":"Zumofen / Gattlen"},{"$f":"VLOOKUP(D921,'2020'!$A$16:$G$150,2,FALSE)","v":"Violette"},108,34,{"$f":"VLOOKUP(E921,'2020'!$A$16:$G$150,2,FALSE)","v":"Souris"},{"$f":"VLOOKUP(E921,'2020'!$A$16:$G$150,3,FALSE)","v":"Fux W., J., + Wyer Piet"}]
["2020-06-24",{"$f":"VLOOKUP(D922,'2020'!$A$16:$G$150,3,FALSE)","v":"Williner Anton"},{"$f":"VLOOKUP(D922,'2020'!$A$16:$G$150,2,FALSE)","v":"Vivana"},95,9,{"$f":"VLOOKUP(E922,'2020'!$A$16:$G$150,2,FALSE)","v":"Flacari"},{"$f":"VLOOKUP(E922,'2020'!$A$16:$G$150,3,FALSE)","v":"Bregy Ralf + Adolf"}]
["2020-06-24",{"$f":"VLOOKUP(D923,'2020'!$A$16:$G$150,3,FALSE)","v":"Zumofen / Gattlen"},{"$f":"VLOOKUP(D923,'2020'!$A$16:$G$150,2,FALSE)","v":"Vidona"},111,65,{"$f":"VLOOKUP(E923,'2020'!$A$16:$G$150,2,FALSE)","v":"Megane"},{"$f":"VLOOKUP(E923,'2020'!$A$16:$G$150,3,FALSE)","v":"Jäger Carlo"}]
["2020-06-24",{"$f":"VLOOKUP(D924,'2020'!$A$16:$G$150,3,FALSE)","v":"Tscherry E. + B."},{"$f":"VLOOKUP(D924,'2020'!$A$16:$G$150,2,FALSE)","v":"Cobra"},94,84,{"$f":"VLOOKUP(E924,'2020'!$A$16:$G$150,2,FALSE)","v":"Fägär"},{"$f":"VLOOKUP(E924,'2020'!$A$16:$G$150,3,FALSE)","v":"Hutter Richard"}]
["2020-06-24",{"$f":"VLOOKUP(D925,'2020'!$A$16:$G$150,3,FALSE)","v":"Jäger Carlo"},{"$f":"VLOOKUP(D925,'2020'!$A$16:$G$150,2,FALSE)","v":"Maila"},59,11,{"$f":"VLOOKUP(E925,'2020'!$A$16:$G$150,2,FALSE)","v":"Carcas"},{"$f":"VLOOKUP(E925,'2020'!$A$16:$G$150,3,FALSE)","v":"Bregy Ralf + Adolf"}]
["2020-06-24",{"$f":"VLOOKUP(D926,'2020'!$A$16:$G$150,3,FALSE)","v":"Bregy Ralf + Adolf"},{"$f":"VLOOKUP(D926,'2020'!$A$16:$G$150,2,FALSE)","v":"Carcas"},11,38,{"$f":"VLOOKUP(E926,'2020'!$A$16:$G$150,2,FALSE)","v":"Bresil"},{"$f":"VLOOKUP(E926,'2020'!$A$16:$G$150,3,FALSE)","v":"Fux W., J., + Wyer Piet"}]
["2020-06-24",{"$f":"VLOOKUP(D927,'2020'!$A$16:$G$150,3,FALSE)","v":"Bregy Silvan + Patrick"},{"$f":"VLOOKUP(D927,'2020'!$A$16:$G$150,2,FALSE)","v":"Tequilla"},13,51,{"$f":"VLOOKUP(E927,'2020'!$A$16:$G$150,2,FALSE)","v":"Jamanda"},{"$f":"VLOOKUP(E927,'2020'!$A$16:$G$150,3,FALSE)","v":"Hischier H. + Bühlmann J."}]
["2020-06-24",{"$f":"VLOOKUP(D928,'2020'!$A$16:$G$150,3,FALSE)","v":"Jäger Carlo"},{"$f":"VLOOKUP(D928,'2020'!$A$16:$G$150,2,FALSE)","v":"Pivoine"},68,118,{"$f":"VLOOKUP(E928,'2020'!$A$16:$G$150,2,FALSE)","v":"Vesuv"},{"$f":"VLOOKUP(E928,'2020'!$A$16:$G$150,3,FALSE)","v":"Zumofen / Gattlen"}]
["2020-06-24",{"$f":"VLOOKUP(D929,'2020'!$A$16:$G$150,3,FALSE)","v":"Bregy Silvan + Patrick"},{"$f":"VLOOKUP(D929,'2020'!$A$16:$G$150,2,FALSE)","v":"Milow"},12,78,{"$f":"VLOOKUP(E929,'2020'!$A$16:$G$150,2,FALSE)","v":"Ballerine"},{"$f":"VLOOKUP(E929,'2020'!$A$16:$G$150,3,FALSE)","v":"Stallung Passeraub"}]
["2020-06-24",{"$f":"VLOOKUP(D930,'2020'!$A$16:$G$150,3,FALSE)","v":"Jäger Carlo"},{"$f":"VLOOKUP(D930,'2020'!$A$16:$G$150,2,FALSE)","v":"Pisa"},63,108,{"$f":"VLOOKUP(E930,'2020'!$A$16:$G$150,2,FALSE)","v":"Violette"},{"$f":"VLOOKUP(E930,'2020'!$A$16:$G$150,3,FALSE)","v":"Zumofen / Gattlen"}]
["2020-06-24",{"$f":"VLOOKUP(D931,'2020'!$A$16:$G$150,3,FALSE)","v":"Fam. Leiggener"},{"$f":"VLOOKUP(D931,'2020'!$A$16:$G$150,2,FALSE)","v":"Baron"},31,3,{"$f":"VLOOKUP(E931,'2020'!$A$16:$G$150,2,FALSE)","v":"Priska"},{"$f":"VLOOKUP(E931,'2020'!$A$16:$G$150,3,FALSE)","v":"Bayard Medard + Gustav"}]
["2020-06-24",{"$f":"VLOOKUP(D932,'2020'!$A$16:$G$150,3,FALSE)","v":"Hischier Pius"},{"$f":"VLOOKUP(D932,'2020'!$A$16:$G$150,2,FALSE)","v":"Pablo"},54,112,{"$f":"VLOOKUP(E932,'2020'!$A$16:$G$150,2,FALSE)","v":"Riva "},{"$f":"VLOOKUP(E932,'2020'!$A$16:$G$150,3,FALSE)","v":"Zumofen / Gattlen"}]
["2020-06-24",{"$f":"VLOOKUP(D933,'2020'!$A$16:$G$150,3,FALSE)","v":"Hischier Pius"},{"$f":"VLOOKUP(D933,'2020'!$A$16:$G$150,2,FALSE)","v":"Pelila"},55,101,{"$f":"VLOOKUP(E933,'2020'!$A$16:$G$150,2,FALSE)","v":"Xandria"},{"$f":"VLOOKUP(E933,'2020'!$A$16:$G$150,3,FALSE)","v":"Wyssen Diego u. Madlen"}]
["2020-06-24",{"$f":"VLOOKUP(D934,'2020'!$A$16:$G$150,3,FALSE)","v":"Jäger Carlo"},{"$f":"VLOOKUP(D934,'2020'!$A$16:$G$150,2,FALSE)","v":"Megane"},65,43,{"$f":"VLOOKUP(E934,'2020'!$A$16:$G$150,2,FALSE)","v":"Pampère"},{"$f":"VLOOKUP(E934,'2020'!$A$16:$G$150,3,FALSE)","v":"Fux W., J., + Wyer Piet"}]
["2020-06-24",{"$f":"VLOOKUP(D935,'2020'!$A$16:$G$150,3,FALSE)","v":"Zumofen / Gattlen"},{"$f":"VLOOKUP(D935,'2020'!$A$16:$G$150,2,FALSE)","v":"Rigolo"},117,71,{"$f":"VLOOKUP(E935,'2020'!$A$16:$G$150,2,FALSE)","v":"Baghira"},{"$f":"VLOOKUP(E935,'2020'!$A$16:$G$150,3,FALSE)","v":"Mathieu Leander + S."}]
["2020-06-24",{"$f":"VLOOKUP(D936,'2020'!$A$16:$G$150,3,FALSE)","v":"Hischier Pius"},{"$f":"VLOOKUP(D936,'2020'!$A$16:$G$150,2,FALSE)","v":"Pelila"},55,16,{"$f":"VLOOKUP(E936,'2020'!$A$16:$G$150,2,FALSE)","v":"Flacabre"},{"$f":"VLOOKUP(E936,'2020'!$A$16:$G$150,3,FALSE)","v":"Bregy Ralf + Adolf"}]
["2020-06-24",{"$f":"VLOOKUP(D937,'2020'!$A$16:$G$150,3,FALSE)","v":"Jäger Carlo"},{"$f":"VLOOKUP(D937,'2020'!$A$16:$G$150,2,FALSE)","v":"Taverne"},69,11,{"$f":"VLOOKUP(E937,'2020'!$A$16:$G$150,2,FALSE)","v":"Carcas"},{"$f":"VLOOKUP(E937,'2020'!$A$16:$G$150,3,FALSE)","v":"Bregy Ralf + Adolf"}]
["2020-06-24",{"$f":"VLOOKUP(D938,'2020'!$A$16:$G$150,3,FALSE)","v":"Zumofen / Gattlen"},{"$f":"VLOOKUP(D938,'2020'!$A$16:$G$150,2,FALSE)","v":"Fayola"},119,55,{"$f":"VLOOKUP(E938,'2020'!$A$16:$G$150,2,FALSE)","v":"Pelila"},{"$f":"VLOOKUP(E938,'2020'!$A$16:$G$150,3,FALSE)","v":"Hischier Pius"}]
["2020-06-24",{"$f":"VLOOKUP(D939,'2020'!$A$16:$G$150,3,FALSE)","v":"Mathieu Leander + S."},{"$f":"VLOOKUP(D939,'2020'!$A$16:$G$150,2,FALSE)","v":"Bavaria"},73,35,{"$f":"VLOOKUP(E939,'2020'!$A$16:$G$150,2,FALSE)","v":"Valaisanne"},{"$f":"VLOOKUP(E939,'2020'!$A$16:$G$150,3,FALSE)","v":"Fux W., J., + Wyer Piet"}]
["2020-06-23",{"$f":"VLOOKUP(D940,'2020'!$A$16:$G$150,3,FALSE)","v":"Sewer R. + Thommen S."},{"$f":"VLOOKUP(D940,'2020'!$A$16:$G$150,2,FALSE)","v":"Bolera"},91,79,{"$f":"VLOOKUP(E940,'2020'!$A$16:$G$150,2,FALSE)","v":"Marla"},{"$f":"VLOOKUP(E940,'2020'!$A$16:$G$150,3,FALSE)","v":"Stallung Passeraub "}]
["2020-06-23",{"$f":"VLOOKUP(D941,'2020'!$A$16:$G$150,3,FALSE)","v":"Zumofen / Gattlen"},{"$f":"VLOOKUP(D941,'2020'!$A$16:$G$150,2,FALSE)","v":"Rambo"},106,75,{"$f":"VLOOKUP(E941,'2020'!$A$16:$G$150,2,FALSE)","v":"Bonita"},{"$f":"VLOOKUP(E941,'2020'!$A$16:$G$150,3,FALSE)","v":"Mathieu Leander + S."}]
["2020-06-23",{"$f":"VLOOKUP(D942,'2020'!$A$16:$G$150,3,FALSE)","v":"Sewer R. + Thommen S."},{"$f":"VLOOKUP(D942,'2020'!$A$16:$G$150,2,FALSE)","v":"Malice"},88,66,{"$f":"VLOOKUP(E942,'2020'!$A$16:$G$150,2,FALSE)","v":"Metis"},{"$f":"VLOOKUP(E942,'2020'!$A$16:$G$150,3,FALSE)","v":"Jäger Carlo"}]
["2020-06-23",{"$f":"VLOOKUP(D943,'2020'!$A$16:$G$150,3,FALSE)","v":"Bregy Ralf + Adolf"},{"$f":"VLOOKUP(D943,'2020'!$A$16:$G$150,2,FALSE)","v":"Canabis"},14,79,{"$f":"VLOOKUP(E943,'2020'!$A$16:$G$150,2,FALSE)","v":"Marla"},{"$f":"VLOOKUP(E943,'2020'!$A$16:$G$150,3,FALSE)","v":"Stallung Passeraub "}]
["2020-06-23",{"$f":"VLOOKUP(D944,'2020'!$A$16:$G$150,3,FALSE)","v":"Stallung Passeraub "},{"$f":"VLOOKUP(D944,'2020'!$A$16:$G$150,2,FALSE)","v":"Manou"},80,67,{"$f":"VLOOKUP(E944,'2020'!$A$16:$G$150,2,FALSE)","v":"Micabol"},{"$f":"VLOOKUP(E944,'2020'!$A$16:$G$150,3,FALSE)","v":"Jäger Carlo"}]
["2020-06-23",{"$f":"VLOOKUP(D945,'2020'!$A$16:$G$150,3,FALSE)","v":"Sewer R. + Thommen S."},{"$f":"VLOOKUP(D945,'2020'!$A$16:$G$150,2,FALSE)","v":"Malice"},88,32,{"$f":"VLOOKUP(E945,'2020'!$A$16:$G$150,2,FALSE)","v":"Mira"},{"$f":"VLOOKUP(E945,'2020'!$A$16:$G$150,3,FALSE)","v":"Fam. Leiggener"}]
["2020-06-23",{"$f":"VLOOKUP(D946,'2020'!$A$16:$G$150,3,FALSE)","v":"Sewer R. + Thommen S."},{"$f":"VLOOKUP(D946,'2020'!$A$16:$G$150,2,FALSE)","v":"Malice"},88,50,{"$f":"VLOOKUP(E946,'2020'!$A$16:$G$150,2,FALSE)","v":"Tanja"},{"$f":"VLOOKUP(E946,'2020'!$A$16:$G$150,3,FALSE)","v":"Gebr. Jäger"}]
["2020-06-23",{"$f":"VLOOKUP(D947,'2020'!$A$16:$G$150,3,FALSE)","v":"Williner Anton"},{"$f":"VLOOKUP(D947,'2020'!$A$16:$G$150,2,FALSE)","v":"Tira"},100,16,{"$f":"VLOOKUP(E947,'2020'!$A$16:$G$150,2,FALSE)","v":"Flacabre"},{"$f":"VLOOKUP(E947,'2020'!$A$16:$G$150,3,FALSE)","v":"Bregy Ralf + Adolf"}]
["2020-06-23",{"$f":"VLOOKUP(D948,'2020'!$A$16:$G$150,3,FALSE)","v":"Stallung Passeraub "},{"$f":"VLOOKUP(D948,'2020'!$A$16:$G$150,2,FALSE)","v":"Medusa"},81,11,{"$f":"VLOOKUP(E948,'2020'!$A$16:$G$150,2,FALSE)","v":"Carcas"},{"$f":"VLOOKUP(E948,'2020'!$A$16:$G$150,3,FALSE)","v":"Bregy Ralf + Adolf"}]
["2020-06-23",{"$f":"VLOOKUP(D949,'2020'!$A$16:$G$150,3,FALSE)","v":"Wyssen Diego u. Madlen"},{"$f":"VLOOKUP(D949,'2020'!$A$16:$G$150,2,FALSE)","v":"Xena"},104,10,{"$f":"VLOOKUP(E949,'2020'!$A$16:$G$150,2,FALSE)","v":"Diabolo"},{"$f":"VLOOKUP(E949,'2020'!$A$16:$G$150,3,FALSE)","v":"Bregy Ralf + Adolf"}]
["2020-06-23",{"$f":"VLOOKUP(D950,'2020'!$A$16:$G$150,3,FALSE)","v":"Bregy Ralf + Adolf"},{"$f":"VLOOKUP(D950,'2020'!$A$16:$G$150,2,FALSE)","v":"Canaille"},7,50,{"$f":"VLOOKUP(E950,'2020'!$A$16:$G$150,2,FALSE)","v":"Tanja"},{"$f":"VLOOKUP(E950,'2020'!$A$16:$G$150,3,FALSE)","v":"Gebr. Jäger"}]
["2020-06-23",{"$f":"VLOOKUP(D951,'2020'!$A$16:$G$150,3,FALSE)","v":"Mathieu Leander + S."},{"$f":"VLOOKUP(D951,'2020'!$A$16:$G$150,2,FALSE)","v":"Babylon"},76,22,{"$f":"VLOOKUP(E951,'2020'!$A$16:$G$150,2,FALSE)","v":"Xaphir"},{"$f":"VLOOKUP(E951,'2020'!$A$16:$G$150,3,FALSE)","v":"Bregy Uli + Pascal"}]
["2020-06-23",{"$f":"VLOOKUP(D952,'2020'!$A$16:$G$150,3,FALSE)","v":"Jäger Carlo"},{"$f":"VLOOKUP(D952,'2020'!$A$16:$G$150,2,FALSE)","v":"Tokio"},70,98,{"$f":"VLOOKUP(E952,'2020'!$A$16:$G$150,2,FALSE)","v":"Colonell"},{"$f":"VLOOKUP(E952,'2020'!$A$16:$G$150,3,FALSE)","v":"Williner Anton"}]
["2020-06-23",{"$f":"VLOOKUP(D953,'2020'!$A$16:$G$150,3,FALSE)","v":"Hischier H. + Bühlmann J."},{"$f":"VLOOKUP(D953,'2020'!$A$16:$G$150,2,FALSE)","v":"Lenja"},52,15,{"$f":"VLOOKUP(E953,'2020'!$A$16:$G$150,2,FALSE)","v":"Cashida"},{"$f":"VLOOKUP(E953,'2020'!$A$16:$G$150,3,FALSE)","v":"Bregy Ralf + Adolf"}]
["2020-06-23",{"$f":"VLOOKUP(D954,'2020'!$A$16:$G$150,3,FALSE)","v":"Gebr. Jäger"},{"$f":"VLOOKUP(D954,'2020'!$A$16:$G$150,2,FALSE)","v":"Simba"},48,117,{"$f":"VLOOKUP(E954,'2020'!$A$16:$G$150,2,FALSE)","v":"Rigolo"},{"$f":"VLOOKUP(E954,'2020'!$A$16:$G$150,3,FALSE)","v":"Zumofen / Gattlen"}]
["2020-06-23",{"$f":"VLOOKUP(D955,'2020'!$A$16:$G$150,3,FALSE)","v":"Zumofen / Gattlen"},{"$f":"VLOOKUP(D955,'2020'!$A$16:$G$150,2,FALSE)","v":"Vanda"},113,56,{"$f":"VLOOKUP(E955,'2020'!$A$16:$G$150,2,FALSE)","v":"Shakira"},{"$f":"VLOOKUP(E955,'2020'!$A$16:$G$150,3,FALSE)","v":"Hischier Pius"}]
["2020-06-23",{"$f":"VLOOKUP(D956,'2020'!$A$16:$G$150,3,FALSE)","v":"Hischier Pius"},{"$f":"VLOOKUP(D956,'2020'!$A$16:$G$150,2,FALSE)","v":"Shakira"},56,38,{"$f":"VLOOKUP(E956,'2020'!$A$16:$G$150,2,FALSE)","v":"Bresil"},{"$f":"VLOOKUP(E956,'2020'!$A$16:$G$150,3,FALSE)","v":"Fux W., J., + Wyer Piet"}]
["2020-06-23",{"$f":"VLOOKUP(D957,'2020'!$A$16:$G$150,3,FALSE)","v":"Mathieu Leander + S."},{"$f":"VLOOKUP(D957,'2020'!$A$16:$G$150,2,FALSE)","v":"Baronesse"},72,114,{"$f":"VLOOKUP(E957,'2020'!$A$16:$G$150,2,FALSE)","v":"Maya"},{"$f":"VLOOKUP(E957,'2020'!$A$16:$G$150,3,FALSE)","v":"Zumofen / Gattlen"}]
["2020-06-23",{"$f":"VLOOKUP(D958,'2020'!$A$16:$G$150,3,FALSE)","v":"Bayard Medard + Gustav"},{"$f":"VLOOKUP(D958,'2020'!$A$16:$G$150,2,FALSE)","v":"Priska"},3,15,{"$f":"VLOOKUP(E958,'2020'!$A$16:$G$150,2,FALSE)","v":"Cashida"},{"$f":"VLOOKUP(E958,'2020'!$A$16:$G$150,3,FALSE)","v":"Bregy Ralf + Adolf"}]
["2020-06-23",{"$f":"VLOOKUP(D959,'2020'!$A$16:$G$150,3,FALSE)","v":"Jäger Carlo"},{"$f":"VLOOKUP(D959,'2020'!$A$16:$G$150,2,FALSE)","v":"Maila"},59,17,{"$f":"VLOOKUP(E959,'2020'!$A$16:$G$150,2,FALSE)","v":"Coquette"},{"$f":"VLOOKUP(E959,'2020'!$A$16:$G$150,3,FALSE)","v":"Bregy Ralf + Adolf"}]
["2020-06-23",{"$f":"VLOOKUP(D960,'2020'!$A$16:$G$150,3,FALSE)","v":"Bregy Uli + Pascal"},{"$f":"VLOOKUP(D960,'2020'!$A$16:$G$150,2,FALSE)","v":"Xaphir"},22,53,{"$f":"VLOOKUP(E960,'2020'!$A$16:$G$150,2,FALSE)","v":"Safira"},{"$f":"VLOOKUP(E960,'2020'!$A$16:$G$150,3,FALSE)","v":"Hischier Pius"}]
["2020-06-23",{"$f":"VLOOKUP(D961,'2020'!$A$16:$G$150,3,FALSE)","v":"Bregy Ralf + Adolf"},{"$f":"VLOOKUP(D961,'2020'!$A$16:$G$150,2,FALSE)","v":"Carcas"},11,76,{"$f":"VLOOKUP(E961,'2020'!$A$16:$G$150,2,FALSE)","v":"Babylon"},{"$f":"VLOOKUP(E961,'2020'!$A$16:$G$150,3,FALSE)","v":"Mathieu Leander + S."}]
["2020-06-23",{"$f":"VLOOKUP(D962,'2020'!$A$16:$G$150,3,FALSE)","v":"Bregy Ralf + Adolf"},{"$f":"VLOOKUP(D962,'2020'!$A$16:$G$150,2,FALSE)","v":"Canabis"},14,61,{"$f":"VLOOKUP(E962,'2020'!$A$16:$G$150,2,FALSE)","v":"Grolla"},{"$f":"VLOOKUP(E962,'2020'!$A$16:$G$150,3,FALSE)","v":"Jäger Carlo"}]
["2020-06-23",{"$f":"VLOOKUP(D963,'2020'!$A$16:$G$150,3,FALSE)","v":"Gebr. Jäger"},{"$f":"VLOOKUP(D963,'2020'!$A$16:$G$150,2,FALSE)","v":"Dorina"},44,25,{"$f":"VLOOKUP(E963,'2020'!$A$16:$G$150,2,FALSE)","v":"Calette"},{"$f":"VLOOKUP(E963,'2020'!$A$16:$G$150,3,FALSE)","v":"Bregy Uli + Pascal"}]
["2020-06-23",{"$f":"VLOOKUP(D964,'2020'!$A$16:$G$150,3,FALSE)","v":"Fux W., J., + Wyer Piet"},{"$f":"VLOOKUP(D964,'2020'!$A$16:$G$150,2,FALSE)","v":"Bresil"},38,44,{"$f":"VLOOKUP(E964,'2020'!$A$16:$G$150,2,FALSE)","v":"Dorina"},{"$f":"VLOOKUP(E964,'2020'!$A$16:$G$150,3,FALSE)","v":"Gebr. Jäger"}]
["2020-06-23",{"$f":"VLOOKUP(D965,'2020'!$A$16:$G$150,3,FALSE)","v":"Sewer R. + Thommen S."},{"$f":"VLOOKUP(D965,'2020'!$A$16:$G$150,2,FALSE)","v":"Biscot"},90,15,{"$f":"VLOOKUP(E965,'2020'!$A$16:$G$150,2,FALSE)","v":"Cashida"},{"$f":"VLOOKUP(E965,'2020'!$A$16:$G$150,3,FALSE)","v":"Bregy Ralf + Adolf"}]
["2020-06-23",{"$f":"VLOOKUP(D966,'2020'!$A$16:$G$150,3,FALSE)","v":"Williner Anton"},{"$f":"VLOOKUP(D966,'2020'!$A$16:$G$150,2,FALSE)","v":"Colonell"},98,35,{"$f":"VLOOKUP(E966,'2020'!$A$16:$G$150,2,FALSE)","v":"Valaisanne"},{"$f":"VLOOKUP(E966,'2020'!$A$16:$G$150,3,FALSE)","v":"Fux W., J., + Wyer Piet"}]
["2020-06-23",{"$f":"VLOOKUP(D967,'2020'!$A$16:$G$150,3,FALSE)","v":"Wyssen Diego u. Madlen"},{"$f":"VLOOKUP(D967,'2020'!$A$16:$G$150,2,FALSE)","v":"Xandria"},101,19,{"$f":"VLOOKUP(E967,'2020'!$A$16:$G$150,2,FALSE)","v":"Tiranie"},{"$f":"VLOOKUP(E967,'2020'!$A$16:$G$150,3,FALSE)","v":"Bregy Uli + Pascal"}]
["2020-06-23",{"$f":"VLOOKUP(D968,'2020'!$A$16:$G$150,3,FALSE)","v":"Wyssen Diego u. Madlen"},{"$f":"VLOOKUP(D968,'2020'!$A$16:$G$150,2,FALSE)","v":"Xhyla"},105,73,{"$f":"VLOOKUP(E968,'2020'!$A$16:$G$150,2,FALSE)","v":"Bavaria"},{"$f":"VLOOKUP(E968,'2020'!$A$16:$G$150,3,FALSE)","v":"Mathieu Leander + S."}]
["2020-06-23",{"$f":"VLOOKUP(D969,'2020'!$A$16:$G$150,3,FALSE)","v":"Bregy Ralf + Adolf"},{"$f":"VLOOKUP(D969,'2020'!$A$16:$G$150,2,FALSE)","v":"Flacabre"},16,102,{"$f":"VLOOKUP(E969,'2020'!$A$16:$G$150,2,FALSE)","v":"Rasta"},{"$f":"VLOOKUP(E969,'2020'!$A$16:$G$150,3,FALSE)","v":"Wyssen Diego u. Madlen"}]
["2020-06-23",{"$f":"VLOOKUP(D970,'2020'!$A$16:$G$150,3,FALSE)","v":"Wyssen Diego u. Madlen"},{"$f":"VLOOKUP(D970,'2020'!$A$16:$G$150,2,FALSE)","v":"Roxana"},103,43,{"$f":"VLOOKUP(E970,'2020'!$A$16:$G$150,2,FALSE)","v":"Pampère"},{"$f":"VLOOKUP(E970,'2020'!$A$16:$G$150,3,FALSE)","v":"Fux W., J., + Wyer Piet"}]
["2020-06-23",{"$f":"VLOOKUP(D971,'2020'!$A$16:$G$150,3,FALSE)","v":"Jäger Carlo"},{"$f":"VLOOKUP(D971,'2020'!$A$16:$G$150,2,FALSE)","v":"Pisa"},63,78,{"$f":"VLOOKUP(E971,'2020'!$A$16:$G$150,2,FALSE)","v":"Ballerine"},{"$f":"VLOOKUP(E971,'2020'!$A$16:$G$150,3,FALSE)","v":"Stallung Passeraub"}]
["2020-06-23",{"$f":"VLOOKUP(D972,'2020'!$A$16:$G$150,3,FALSE)","v":"Bregy Ralf + Adolf"},{"$f":"VLOOKUP(D972,'2020'!$A$16:$G$150,2,FALSE)","v":"Diabolo"},10,73,{"$f":"VLOOKUP(E972,'2020'!$A$16:$G$150,2,FALSE)","v":"Bavaria"},{"$f":"VLOOKUP(E972,'2020'!$A$16:$G$150,3,FALSE)","v":"Mathieu Leander + S."}]
["2020-06-23",{"$f":"VLOOKUP(D973,'2020'!$A$16:$G$150,3,FALSE)","v":"Hischier Pius"},{"$f":"VLOOKUP(D973,'2020'!$A$16:$G$150,2,FALSE)","v":"Pablo"},54,19,{"$f":"VLOOKUP(E973,'2020'!$A$16:$G$150,2,FALSE)","v":"Tiranie"},{"$f":"VLOOKUP(E973,'2020'!$A$16:$G$150,3,FALSE)","v":"Bregy Uli + Pascal"}]
["2020-06-23",{"$f":"VLOOKUP(D974,'2020'!$A$16:$G$150,3,FALSE)","v":"Bregy Ralf + Adolf"},{"$f":"VLOOKUP(D974,'2020'!$A$16:$G$150,2,FALSE)","v":"Coquette"},17,34,{"$f":"VLOOKUP(E974,'2020'!$A$16:$G$150,2,FALSE)","v":"Souris"},{"$f":"VLOOKUP(E974,'2020'!$A$16:$G$150,3,FALSE)","v":"Fux W., J., + Wyer Piet"}]
["2020-06-23",{"$f":"VLOOKUP(D975,'2020'!$A$16:$G$150,3,FALSE)","v":"Wyssen Diego u. Madlen"},{"$f":"VLOOKUP(D975,'2020'!$A$16:$G$150,2,FALSE)","v":"Xhyla"},105,35,{"$f":"VLOOKUP(E975,'2020'!$A$16:$G$150,2,FALSE)","v":"Valaisanne"},{"$f":"VLOOKUP(E975,'2020'!$A$16:$G$150,3,FALSE)","v":"Fux W., J., + Wyer Piet"}]
["2020-06-23",{"$f":"VLOOKUP(D976,'2020'!$A$16:$G$150,3,FALSE)","v":"Bregy Uli + Pascal"},{"$f":"VLOOKUP(D976,'2020'!$A$16:$G$150,2,FALSE)","v":"Calette"},25,91,{"$f":"VLOOKUP(E976,'2020'!$A$16:$G$150,2,FALSE)","v":"Bolera"},{"$f":"VLOOKUP(E976,'2020'!$A$16:$G$150,3,FALSE)","v":"Sewer R. + Thommen S."}]
["2020-06-23",{"$f":"VLOOKUP(D977,'2020'!$A$16:$G$150,3,FALSE)","v":"Zumofen / Gattlen"},{"$f":"VLOOKUP(D977,'2020'!$A$16:$G$150,2,FALSE)","v":"Rena"},109,36,{"$f":"VLOOKUP(E977,'2020'!$A$16:$G$150,2,FALSE)","v":"Calmy"},{"$f":"VLOOKUP(E977,'2020'!$A$16:$G$150,3,FALSE)","v":"Fux W., J., + Wyer Piet"}]
["2020-06-23",{"$f":"VLOOKUP(D978,'2020'!$A$16:$G$150,3,FALSE)","v":"Hischier Pius"},{"$f":"VLOOKUP(D978,'2020'!$A$16:$G$150,2,FALSE)","v":"Shakira"},56,32,{"$f":"VLOOKUP(E978,'2020'!$A$16:$G$150,2,FALSE)","v":"Mira"},{"$f":"VLOOKUP(E978,'2020'!$A$16:$G$150,3,FALSE)","v":"Fam. Leiggener"}]
["2020-06-23",{"$f":"VLOOKUP(D979,'2020'!$A$16:$G$150,3,FALSE)","v":"Fux W., J., + Wyer Piet"},{"$f":"VLOOKUP(D979,'2020'!$A$16:$G$150,2,FALSE)","v":"Bresil"},38,61,{"$f":"VLOOKUP(E979,'2020'!$A$16:$G$150,2,FALSE)","v":"Grolla"},{"$f":"VLOOKUP(E979,'2020'!$A$16:$G$150,3,FALSE)","v":"Jäger Carlo"}]
["2020-06-23",{"$f":"VLOOKUP(D980,'2020'!$A$16:$G$150,3,FALSE)","v":"Jäger Carlo"},{"$f":"VLOOKUP(D980,'2020'!$A$16:$G$150,2,FALSE)","v":"Grolla"},61,96,{"$f":"VLOOKUP(E980,'2020'!$A$16:$G$150,2,FALSE)","v":"Tigra"},{"$f":"VLOOKUP(E980,'2020'!$A$16:$G$150,3,FALSE)","v":"Williner Anton"}]
["2020-06-23",{"$f":"VLOOKUP(D981,'2020'!$A$16:$G$150,3,FALSE)","v":"Fux W., J., + Wyer Piet"},{"$f":"VLOOKUP(D981,'2020'!$A$16:$G$150,2,FALSE)","v":"Bresil"},38,2,{"$f":"VLOOKUP(E981,'2020'!$A$16:$G$150,2,FALSE)","v":"Fantastic"},{"$f":"VLOOKUP(E981,'2020'!$A$16:$G$150,3,FALSE)","v":"Bayard Medard + Gustav"}]
["2020-06-23",{"$f":"VLOOKUP(D982,'2020'!$A$16:$G$150,3,FALSE)","v":"Stallung Passeraub "},{"$f":"VLOOKUP(D982,'2020'!$A$16:$G$150,2,FALSE)","v":"Medusa"},81,24,{"$f":"VLOOKUP(E982,'2020'!$A$16:$G$150,2,FALSE)","v":"Catalina"},{"$f":"VLOOKUP(E982,'2020'!$A$16:$G$150,3,FALSE)","v":"Bregy Uli + Pascal"}]
["2020-06-23",{"$f":"VLOOKUP(D983,'2020'!$A$16:$G$150,3,FALSE)","v":"Bregy Ralf + Adolf"},{"$f":"VLOOKUP(D983,'2020'!$A$16:$G$150,2,FALSE)","v":"Carcas"},11,76,{"$f":"VLOOKUP(E983,'2020'!$A$16:$G$150,2,FALSE)","v":"Babylon"},{"$f":"VLOOKUP(E983,'2020'!$A$16:$G$150,3,FALSE)","v":"Mathieu Leander + S."}]
["2020-06-23",{"$f":"VLOOKUP(D984,'2020'!$A$16:$G$150,3,FALSE)","v":"Hischier Pius"},{"$f":"VLOOKUP(D984,'2020'!$A$16:$G$150,2,FALSE)","v":"Shakira"},56,79,{"$f":"VLOOKUP(E984,'2020'!$A$16:$G$150,2,FALSE)","v":"Marla"},{"$f":"VLOOKUP(E984,'2020'!$A$16:$G$150,3,FALSE)","v":"Stallung Passeraub "}]
["2020-06-23",{"$f":"VLOOKUP(D985,'2020'!$A$16:$G$150,3,FALSE)","v":"Williner Anton"},{"$f":"VLOOKUP(D985,'2020'!$A$16:$G$150,2,FALSE)","v":"Tira"},100,104,{"$f":"VLOOKUP(E985,'2020'!$A$16:$G$150,2,FALSE)","v":"Xena"},{"$f":"VLOOKUP(E985,'2020'!$A$16:$G$150,3,FALSE)","v":"Wyssen Diego u. Madlen"}]
["2020-06-23",{"$f":"VLOOKUP(D986,'2020'!$A$16:$G$150,3,FALSE)","v":"Stallung Passeraub"},{"$f":"VLOOKUP(D986,'2020'!$A$16:$G$150,2,FALSE)","v":"Ballerine"},78,103,{"$f":"VLOOKUP(E986,'2020'!$A$16:$G$150,2,FALSE)","v":"Roxana"},{"$f":"VLOOKUP(E986,'2020'!$A$16:$G$150,3,FALSE)","v":"Wyssen Diego u. Madlen"}]
["2020-06-23",{"$f":"VLOOKUP(D987,'2020'!$A$16:$G$150,3,FALSE)","v":"Mathieu Leander + S."},{"$f":"VLOOKUP(D987,'2020'!$A$16:$G$150,2,FALSE)","v":"Babylon"},76,11,{"$f":"VLOOKUP(E987,'2020'!$A$16:$G$150,2,FALSE)","v":"Carcas"},{"$f":"VLOOKUP(E987,'2020'!$A$16:$G$150,3,FALSE)","v":"Bregy Ralf + Adolf"}]
["2020-06-23",{"$f":"VLOOKUP(D988,'2020'!$A$16:$G$150,3,FALSE)","v":"Fux W., J., + Wyer Piet"},{"$f":"VLOOKUP(D988,'2020'!$A$16:$G$150,2,FALSE)","v":"Bresil"},38,63,{"$f":"VLOOKUP(E988,'2020'!$A$16:$G$150,2,FALSE)","v":"Pisa"},{"$f":"VLOOKUP(E988,'2020'!$A$16:$G$150,3,FALSE)","v":"Jäger Carlo"}]
["2020-06-23",{"$f":"VLOOKUP(D989,'2020'!$A$16:$G$150,3,FALSE)","v":"Fux W., J., + Wyer Piet"},{"$f":"VLOOKUP(D989,'2020'!$A$16:$G$150,2,FALSE)","v":"Bresil"},38,66,{"$f":"VLOOKUP(E989,'2020'!$A$16:$G$150,2,FALSE)","v":"Metis"},{"$f":"VLOOKUP(E989,'2020'!$A$16:$G$150,3,FALSE)","v":"Jäger Carlo"}]
["2020-06-23",{"$f":"VLOOKUP(D990,'2020'!$A$16:$G$150,3,FALSE)","v":"Jäger Carlo"},{"$f":"VLOOKUP(D990,'2020'!$A$16:$G$150,2,FALSE)","v":"Tokio"},70,54,{"$f":"VLOOKUP(E990,'2020'!$A$16:$G$150,2,FALSE)","v":"Pablo"},{"$f":"VLOOKUP(E990,'2020'!$A$16:$G$150,3,FALSE)","v":"Hischier Pius"}]
["2020-06-23",{"$f":"VLOOKUP(D991,'2020'!$A$16:$G$150,3,FALSE)","v":"Bregy Ralf + Adolf"},{"$f":"VLOOKUP(D991,'2020'!$A$16:$G$150,2,FALSE)","v":"Cashida"},15,38,{"$f":"VLOOKUP(E991,'2020'!$A$16:$G$150,2,FALSE)","v":"Bresil"},{"$f":"VLOOKUP(E991,'2020'!$A$16:$G$150,3,FALSE)","v":"Fux W., J., + Wyer Piet"}]
["2020-06-23",{"$f":"VLOOKUP(D992,'2020'!$A$16:$G$150,3,FALSE)","v":"Bregy Uli + Pascal"},{"$f":"VLOOKUP(D992,'2020'!$A$16:$G$150,2,FALSE)","v":"Pandora"},23,1,{"$f":"VLOOKUP(E992,'2020'!$A$16:$G$150,2,FALSE)","v":"Diabolo"},{"$f":"VLOOKUP(E992,'2020'!$A$16:$G$150,3,FALSE)","v":"Bayard Medard + Gustav"}]
["2020-06-23",{"$f":"VLOOKUP(D993,'2020'!$A$16:$G$150,3,FALSE)","v":"Bayard Medard + Gustav"},{"$f":"VLOOKUP(D993,'2020'!$A$16:$G$150,2,FALSE)","v":"Venus"},6,84,{"$f":"VLOOKUP(E993,'2020'!$A$16:$G$150,2,FALSE)","v":"Fägär"},{"$f":"VLOOKUP(E993,'2020'!$A$16:$G$150,3,FALSE)","v":"Hutter Richard"}]
["2020-06-23",{"$f":"VLOOKUP(D994,'2020'!$A$16:$G$150,3,FALSE)","v":"Gebr. Jäger"},{"$f":"VLOOKUP(D994,'2020'!$A$16:$G$150,2,FALSE)","v":"Simba"},48,118,{"$f":"VLOOKUP(E994,'2020'!$A$16:$G$150,2,FALSE)","v":"Vesuv"},{"$f":"VLOOKUP(E994,'2020'!$A$16:$G$150,3,FALSE)","v":"Zumofen / Gattlen"}]
["2020-06-23",{"$f":"VLOOKUP(D995,'2020'!$A$16:$G$150,3,FALSE)","v":"Zumofen / Gattlen"},{"$f":"VLOOKUP(D995,'2020'!$A$16:$G$150,2,FALSE)","v":"Rena"},109,69,{"$f":"VLOOKUP(E995,'2020'!$A$16:$G$150,2,FALSE)","v":"Taverne"},{"$f":"VLOOKUP(E995,'2020'!$A$16:$G$150,3,FALSE)","v":"Jäger Carlo"}]
["2020-06-23",{"$f":"VLOOKUP(D996,'2020'!$A$16:$G$150,3,FALSE)","v":"Stallung Passeraub "},{"$f":"VLOOKUP(D996,'2020'!$A$16:$G$150,2,FALSE)","v":"Medusa"},81,53,{"$f":"VLOOKUP(E996,'2020'!$A$16:$G$150,2,FALSE)","v":"Safira"},{"$f":"VLOOKUP(E996,'2020'!$A$16:$G$150,3,FALSE)","v":"Hischier Pius"}]
["2020-06-23",{"$f":"VLOOKUP(D997,'2020'!$A$16:$G$150,3,FALSE)","v":"Sewer R. + Thommen S."},{"$f":"VLOOKUP(D997,'2020'!$A$16:$G$150,2,FALSE)","v":"Malice"},88,32,{"$f":"VLOOKUP(E997,'2020'!$A$16:$G$150,2,FALSE)","v":"Mira"},{"$f":"VLOOKUP(E997,'2020'!$A$16:$G$150,3,FALSE)","v":"Fam. Leiggener"}]
["2020-06-23",{"$f":"VLOOKUP(D998,'2020'!$A$16:$G$150,3,FALSE)","v":"Jäger Carlo"},{"$f":"VLOOKUP(D998,'2020'!$A$16:$G$150,2,FALSE)","v":"Sera"},64,78,{"$f":"VLOOKUP(E998,'2020'!$A$16:$G$150,2,FALSE)","v":"Ballerine"},{"$f":"VLOOKUP(E998,'2020'!$A$16:$G$150,3,FALSE)","v":"Stallung Passeraub"}]
["2020-06-23",{"$f":"VLOOKUP(D999,'2020'!$A$16:$G$150,3,FALSE)","v":"Jäger Carlo"},{"$f":"VLOOKUP(D999,'2020'!$A$16:$G$150,2,FALSE)","v":"Bayonne"},60,33,{"$f":"VLOOKUP(E999,'2020'!$A$16:$G$150,2,FALSE)","v":"Baquera"},{"$f":"VLOOKUP(E999,'2020'!$A$16:$G$150,3,FALSE)","v":"Fux W., J., + Wyer Piet"}]
["2020-06-23",{"$f":"VLOOKUP(D1000,'2020'!$A$16:$G$150,3,FALSE)","v":"Hischier Pius"},{"$f":"VLOOKUP(D1000,'2020'!$A$16:$G$150,2,FALSE)","v":"Shakira"},56,26,{"$f":"VLOOKUP(E1000,'2020'!$A$16:$G$150,2,FALSE)","v":"Cataleya"},{"$f":"VLOOKUP(E1000,'2020'!$A$16:$G$150,3,FALSE)","v":"Bregy Uli + Pascal"}]
["2020-06-23",{"$f":"VLOOKUP(D1001,'2020'!$A$16:$G$150,3,FALSE)","v":"Mathieu Leander + S."},{"$f":"VLOOKUP(D1001,'2020'!$A$16:$G$150,2,FALSE)","v":"Bavaria"},73,69,{"$f":"VLOOKUP(E1001,'2020'!$A$16:$G$150,2,FALSE)","v":"Taverne"},{"$f":"VLOOKUP(E1001,'2020'!$A$16:$G$150,3,FALSE)","v":"Jäger Carlo"}]
["2020-06-23",{"$f":"VLOOKUP(D1002,'2020'!$A$16:$G$150,3,FALSE)","v":"Bregy Uli + Pascal"},{"$f":"VLOOKUP(D1002,'2020'!$A$16:$G$150,2,FALSE)","v":"Pandora"},23,16,{"$f":"VLOOKUP(E1002,'2020'!$A$16:$G$150,2,FALSE)","v":"Flacabre"},{"$f":"VLOOKUP(E1002,'2020'!$A$16:$G$150,3,FALSE)","v":"Bregy Ralf + Adolf"}]
["2020-06-23",{"$f":"VLOOKUP(D1003,'2020'!$A$16:$G$150,3,FALSE)","v":"Stallung zum Stäg"},{"$f":"VLOOKUP(D1003,'2020'!$A$16:$G$150,2,FALSE)","v":"Babylon"},86,36,{"$f":"VLOOKUP(E1003,'2020'!$A$16:$G$150,2,FALSE)","v":"Calmy"},{"$f":"VLOOKUP(E1003,'2020'!$A$16:$G$150,3,FALSE)","v":"Fux W., J., + Wyer Piet"}]
["2020-06-23",{"$f":"VLOOKUP(D1004,'2020'!$A$16:$G$150,3,FALSE)","v":"Bregy Ralf + Adolf"},{"$f":"VLOOKUP(D1004,'2020'!$A$16:$G$150,2,FALSE)","v":"Cashida"},15,38,{"$f":"VLOOKUP(E1004,'2020'!$A$16:$G$150,2,FALSE)","v":"Bresil"},{"$f":"VLOOKUP(E1004,'2020'!$A$16:$G$150,3,FALSE)","v":"Fux W., J., + Wyer Piet"}]
["2020-06-23",{"$f":"VLOOKUP(D1005,'2020'!$A$16:$G$150,3,FALSE)","v":"Williner Anton"},{"$f":"VLOOKUP(D1005,'2020'!$A$16:$G$150,2,FALSE)","v":"Tigra"},96,4,{"$f":"VLOOKUP(E1005,'2020'!$A$16:$G$150,2,FALSE)","v":"Vampir"},{"$f":"VLOOKUP(E1005,'2020'!$A$16:$G$150,3,FALSE)","v":"Bayard Medard + Gustav"}]
["2020-06-23",{"$f":"VLOOKUP(D1006,'2020'!$A$16:$G$150,3,FALSE)","v":"Fux W., J., + Wyer Piet"},{"$f":"VLOOKUP(D1006,'2020'!$A$16:$G$150,2,FALSE)","v":"Mystic"},41,99,{"$f":"VLOOKUP(E1006,'2020'!$A$16:$G$150,2,FALSE)","v":"Diva"},{"$f":"VLOOKUP(E1006,'2020'!$A$16:$G$150,3,FALSE)","v":"Williner Anton"}]
["2020-06-22",{"$f":"VLOOKUP(D1007,'2020'!$A$16:$G$150,3,FALSE)","v":"Zumofen / Gattlen"},{"$f":"VLOOKUP(D1007,'2020'!$A$16:$G$150,2,FALSE)","v":"Rena"},109,65,{"$f":"VLOOKUP(E1007,'2020'!$A$16:$G$150,2,FALSE)","v":"Megane"},{"$f":"VLOOKUP(E1007,'2020'!$A$16:$G$150,3,FALSE)","v":"Jäger Carlo"}]
["2020-06-22",{"$f":"VLOOKUP(D1008,'2020'!$A$16:$G$150,3,FALSE)","v":"Jäger Carlo"},{"$f":"VLOOKUP(D1008,'2020'!$A$16:$G$150,2,FALSE)","v":"Maila"},59,119,{"$f":"VLOOKUP(E1008,'2020'!$A$16:$G$150,2,FALSE)","v":"Fayola"},{"$f":"VLOOKUP(E1008,'2020'!$A$16:$G$150,3,FALSE)","v":"Zumofen / Gattlen"}]
["2020-06-22",{"$f":"VLOOKUP(D1009,'2020'!$A$16:$G$150,3,FALSE)","v":"Mathieu Leander + S."},{"$f":"VLOOKUP(D1009,'2020'!$A$16:$G$150,2,FALSE)","v":"Baronesse"},72,89,{"$f":"VLOOKUP(E1009,'2020'!$A$16:$G$150,2,FALSE)","v":"Tiara"},{"$f":"VLOOKUP(E1009,'2020'!$A$16:$G$150,3,FALSE)","v":"Sewer R. + Thommen S."}]
["2020-06-22",{"$f":"VLOOKUP(D1010,'2020'!$A$16:$G$150,3,FALSE)","v":"Williner Anton"},{"$f":"VLOOKUP(D1010,'2020'!$A$16:$G$150,2,FALSE)","v":"Tira"},100,62,{"$f":"VLOOKUP(E1010,'2020'!$A$16:$G$150,2,FALSE)","v":"Candice"},{"$f":"VLOOKUP(E1010,'2020'!$A$16:$G$150,3,FALSE)","v":"Jäger Carlo"}]
["2020-06-22",{"$f":"VLOOKUP(D1011,'2020'!$A$16:$G$150,3,FALSE)","v":"Hischier Pius"},{"$f":"VLOOKUP(D1011,'2020'!$A$16:$G$150,2,FALSE)","v":"Pablo"},54,71,{"$f":"VLOOKUP(E1011,'2020'!$A$16:$G$150,2,FALSE)","v":"Baghira"},{"$f":"VLOOKUP(E1011,'2020'!$A$16:$G$150,3,FALSE)","v":"Mathieu Leander + S."}]
["2020-06-22",{"$f":"VLOOKUP(D1012,'2020'!$A$16:$G$150,3,FALSE)","v":"Sewer R. + Thommen S."},{"$f":"VLOOKUP(D1012,'2020'!$A$16:$G$150,2,FALSE)","v":"Tiara"},89,79,{"$f":"VLOOKUP(E1012,'2020'!$A$16:$G$150,2,FALSE)","v":"Marla"},{"$f":"VLOOKUP(E1012,'2020'!$A$16:$G$150,3,FALSE)","v":"Stallung Passeraub "}]
["2020-06-22",{"$f":"VLOOKUP(D1013,'2020'!$A$16:$G$150,3,FALSE)","v":"Wyssen Diego u. Madlen"},{"$f":"VLOOKUP(D1013,'2020'!$A$16:$G$150,2,FALSE)","v":"Roxana"},103,32,{"$f":"VLOOKUP(E1013,'2020'!$A$16:$G$150,2,FALSE)","v":"Mira"},{"$f":"VLOOKUP(E1013,'2020'!$A$16:$G$150,3,FALSE)","v":"Fam. Leiggener"}]
["2020-06-22",{"$f":"VLOOKUP(D1014,'2020'!$A$16:$G$150,3,FALSE)","v":"Wyssen Diego u. Madlen"},{"$f":"VLOOKUP(D1014,'2020'!$A$16:$G$150,2,FALSE)","v":"Xandria"},101,71,{"$f":"VLOOKUP(E1014,'2020'!$A$16:$G$150,2,FALSE)","v":"Baghira"},{"$f":"VLOOKUP(E1014,'2020'!$A$16:$G$150,3,FALSE)","v":"Mathieu Leander + S."}]
["2020-06-22",{"$f":"VLOOKUP(D1015,'2020'!$A$16:$G$150,3,FALSE)","v":"Bregy Ralf + Adolf"},{"$f":"VLOOKUP(D1015,'2020'!$A$16:$G$150,2,FALSE)","v":"Canabis"},14,69,{"$f":"VLOOKUP(E1015,'2020'!$A$16:$G$150,2,FALSE)","v":"Taverne"},{"$f":"VLOOKUP(E1015,'2020'!$A$16:$G$150,3,FALSE)","v":"Jäger Carlo"}]
["2020-06-22",{"$f":"VLOOKUP(D1016,'2020'!$A$16:$G$150,3,FALSE)","v":"Jäger Carlo"},{"$f":"VLOOKUP(D1016,'2020'!$A$16:$G$150,2,FALSE)","v":"Bayonne"},60,33,{"$f":"VLOOKUP(E1016,'2020'!$A$16:$G$150,2,FALSE)","v":"Baquera"},{"$f":"VLOOKUP(E1016,'2020'!$A$16:$G$150,3,FALSE)","v":"Fux W., J., + Wyer Piet"}]
["2020-06-22",{"$f":"VLOOKUP(D1017,'2020'!$A$16:$G$150,3,FALSE)","v":"Zumofen / Gattlen"},{"$f":"VLOOKUP(D1017,'2020'!$A$16:$G$150,2,FALSE)","v":"Vidona"},111,60,{"$f":"VLOOKUP(E1017,'2020'!$A$16:$G$150,2,FALSE)","v":"Bayonne"},{"$f":"VLOOKUP(E1017,'2020'!$A$16:$G$150,3,FALSE)","v":"Jäger Carlo"}]
["2020-06-22",{"$f":"VLOOKUP(D1018,'2020'!$A$16:$G$150,3,FALSE)","v":"Zumofen / Gattlen"},{"$f":"VLOOKUP(D1018,'2020'!$A$16:$G$150,2,FALSE)","v":"Vanda"},113,67,{"$f":"VLOOKUP(E1018,'2020'!$A$16:$G$150,2,FALSE)","v":"Micabol"},{"$f":"VLOOKUP(E1018,'2020'!$A$16:$G$150,3,FALSE)","v":"Jäger Carlo"}]
["2020-06-22",{"$f":"VLOOKUP(D1019,'2020'!$A$16:$G$150,3,FALSE)","v":"Bregy Uli + Pascal"},{"$f":"VLOOKUP(D1019,'2020'!$A$16:$G$150,2,FALSE)","v":"Bora"},21,66,{"$f":"VLOOKUP(E1019,'2020'!$A$16:$G$150,2,FALSE)","v":"Metis"},{"$f":"VLOOKUP(E1019,'2020'!$A$16:$G$150,3,FALSE)","v":"Jäger Carlo"}]
["2020-06-22",{"$f":"VLOOKUP(D1020,'2020'!$A$16:$G$150,3,FALSE)","v":"Jäger Carlo"},{"$f":"VLOOKUP(D1020,'2020'!$A$16:$G$150,2,FALSE)","v":"Metis"},66,14,{"$f":"VLOOKUP(E1020,'2020'!$A$16:$G$150,2,FALSE)","v":"Canabis"},{"$f":"VLOOKUP(E1020,'2020'!$A$16:$G$150,3,FALSE)","v":"Bregy Ralf + Adolf"}]
["2020-06-22",{"$f":"VLOOKUP(D1021,'2020'!$A$16:$G$150,3,FALSE)","v":"Fux W., J., + Wyer Piet"},{"$f":"VLOOKUP(D1021,'2020'!$A$16:$G$150,2,FALSE)","v":"Souris"},34,66,{"$f":"VLOOKUP(E1021,'2020'!$A$16:$G$150,2,FALSE)","v":"Metis"},{"$f":"VLOOKUP(E1021,'2020'!$A$16:$G$150,3,FALSE)","v":"Jäger Carlo"}]
["2020-06-22",{"$f":"VLOOKUP(D1022,'2020'!$A$16:$G$150,3,FALSE)","v":"Fux W., J., + Wyer Piet"},{"$f":"VLOOKUP(D1022,'2020'!$A$16:$G$150,2,FALSE)","v":"Valaisanne"},35,60,{"$f":"VLOOKUP(E1022,'2020'!$A$16:$G$150,2,FALSE)","v":"Bayonne"},{"$f":"VLOOKUP(E1022,'2020'!$A$16:$G$150,3,FALSE)","v":"Jäger Carlo"}]
["2020-06-22",{"$f":"VLOOKUP(D1023,'2020'!$A$16:$G$150,3,FALSE)","v":"Williner Anton"},{"$f":"VLOOKUP(D1023,'2020'!$A$16:$G$150,2,FALSE)","v":"Tigra"},96,66,{"$f":"VLOOKUP(E1023,'2020'!$A$16:$G$150,2,FALSE)","v":"Metis"},{"$f":"VLOOKUP(E1023,'2020'!$A$16:$G$150,3,FALSE)","v":"Jäger Carlo"}]
["2020-06-22",{"$f":"VLOOKUP(D1024,'2020'!$A$16:$G$150,3,FALSE)","v":"Williner Anton"},{"$f":"VLOOKUP(D1024,'2020'!$A$16:$G$150,2,FALSE)","v":"Vivana"},95,1,{"$f":"VLOOKUP(E1024,'2020'!$A$16:$G$150,2,FALSE)","v":"Diabolo"},{"$f":"VLOOKUP(E1024,'2020'!$A$16:$G$150,3,FALSE)","v":"Bayard Medard + Gustav"}]
["2020-06-22",{"$f":"VLOOKUP(D1025,'2020'!$A$16:$G$150,3,FALSE)","v":"Hischier Pius"},{"$f":"VLOOKUP(D1025,'2020'!$A$16:$G$150,2,FALSE)","v":"Pelila"},55,75,{"$f":"VLOOKUP(E1025,'2020'!$A$16:$G$150,2,FALSE)","v":"Bonita"},{"$f":"VLOOKUP(E1025,'2020'!$A$16:$G$150,3,FALSE)","v":"Mathieu Leander + S."}]
["2020-06-22",{"$f":"VLOOKUP(D1026,'2020'!$A$16:$G$150,3,FALSE)","v":"Zumofen / Gattlen"},{"$f":"VLOOKUP(D1026,'2020'!$A$16:$G$150,2,FALSE)","v":"Rigolo"},117,73,{"$f":"VLOOKUP(E1026,'2020'!$A$16:$G$150,2,FALSE)","v":"Bavaria"},{"$f":"VLOOKUP(E1026,'2020'!$A$16:$G$150,3,FALSE)","v":"Mathieu Leander + S."}]
["2020-06-22",{"$f":"VLOOKUP(D1027,'2020'!$A$16:$G$150,3,FALSE)","v":"Bregy Uli + Pascal"},{"$f":"VLOOKUP(D1027,'2020'!$A$16:$G$150,2,FALSE)","v":"Xaphir"},22,86,{"$f":"VLOOKUP(E1027,'2020'!$A$16:$G$150,2,FALSE)","v":"Babylon"},{"$f":"VLOOKUP(E1027,'2020'!$A$16:$G$150,3,FALSE)","v":"Stallung zum Stäg"}]
["2020-06-22",{"$f":"VLOOKUP(D1028,'2020'!$A$16:$G$150,3,FALSE)","v":"Bregy Uli + Pascal"},{"$f":"VLOOKUP(D1028,'2020'!$A$16:$G$150,2,FALSE)","v":"Pandora"},23,75,{"$f":"VLOOKUP(E1028,'2020'!$A$16:$G$150,2,FALSE)","v":"Bonita"},{"$f":"VLOOKUP(E1028,'2020'!$A$16:$G$150,3,FALSE)","v":"Mathieu Leander + S."}]
["2020-06-22",{"$f":"VLOOKUP(D1029,'2020'!$A$16:$G$150,3,FALSE)","v":"Williner Anton"},{"$f":"VLOOKUP(D1029,'2020'!$A$16:$G$150,2,FALSE)","v":"Tira"},100,62,{"$f":"VLOOKUP(E1029,'2020'!$A$16:$G$150,2,FALSE)","v":"Candice"},{"$f":"VLOOKUP(E1029,'2020'!$A$16:$G$150,3,FALSE)","v":"Jäger Carlo"}]
["2020-06-22",{"$f":"VLOOKUP(D1030,'2020'!$A$16:$G$150,3,FALSE)","v":"Bregy Silvan + Patrick"},{"$f":"VLOOKUP(D1030,'2020'!$A$16:$G$150,2,FALSE)","v":"Milow"},12,59,{"$f":"VLOOKUP(E1030,'2020'!$A$16:$G$150,2,FALSE)","v":"Maila"},{"$f":"VLOOKUP(E1030,'2020'!$A$16:$G$150,3,FALSE)","v":"Jäger Carlo"}]
["2020-06-22",{"$f":"VLOOKUP(D1031,'2020'!$A$16:$G$150,3,FALSE)","v":"Fux W., J., + Wyer Piet"},{"$f":"VLOOKUP(D1031,'2020'!$A$16:$G$150,2,FALSE)","v":"Mystic"},41,5,{"$f":"VLOOKUP(E1031,'2020'!$A$16:$G$150,2,FALSE)","v":"Pandera"},{"$f":"VLOOKUP(E1031,'2020'!$A$16:$G$150,3,FALSE)","v":"Bayard Medard + Gustav"}]
["2020-06-22",{"$f":"VLOOKUP(D1032,'2020'!$A$16:$G$150,3,FALSE)","v":"Fam. Leiggener"},{"$f":"VLOOKUP(D1032,'2020'!$A$16:$G$150,2,FALSE)","v":"Rebell"},29,116,{"$f":"VLOOKUP(E1032,'2020'!$A$16:$G$150,2,FALSE)","v":"Pinoccio"},{"$f":"VLOOKUP(E1032,'2020'!$A$16:$G$150,3,FALSE)","v":"Zumofen / Gattlen"}]
["2020-06-22",{"$f":"VLOOKUP(D1033,'2020'!$A$16:$G$150,3,FALSE)","v":"Wyssen Diego u. Madlen"},{"$f":"VLOOKUP(D1033,'2020'!$A$16:$G$150,2,FALSE)","v":"Xhyla"},105,40,{"$f":"VLOOKUP(E1033,'2020'!$A$16:$G$150,2,FALSE)","v":"Toscana"},{"$f":"VLOOKUP(E1033,'2020'!$A$16:$G$150,3,FALSE)","v":"Fux W., J., + Wyer Piet"}]
["2020-06-22",{"$f":"VLOOKUP(D1034,'2020'!$A$16:$G$150,3,FALSE)","v":"Bregy Ralf + Adolf"},{"$f":"VLOOKUP(D1034,'2020'!$A$16:$G$150,2,FALSE)","v":"Canaille"},7,46,{"$f":"VLOOKUP(E1034,'2020'!$A$16:$G$150,2,FALSE)","v":"Lorens"},{"$f":"VLOOKUP(E1034,'2020'!$A$16:$G$150,3,FALSE)","v":"Gebr. Jäger"}]
["2020-06-22",{"$f":"VLOOKUP(D1035,'2020'!$A$16:$G$150,3,FALSE)","v":"Bregy Uli + Pascal"},{"$f":"VLOOKUP(D1035,'2020'!$A$16:$G$150,2,FALSE)","v":"Catalina"},24,57,{"$f":"VLOOKUP(E1035,'2020'!$A$16:$G$150,2,FALSE)","v":"Promise"},{"$f":"VLOOKUP(E1035,'2020'!$A$16:$G$150,3,FALSE)","v":"Jäger Carlo"}]
["2020-06-22",{"$f":"VLOOKUP(D1036,'2020'!$A$16:$G$150,3,FALSE)","v":"Bregy Uli + Pascal"},{"$f":"VLOOKUP(D1036,'2020'!$A$16:$G$150,2,FALSE)","v":"Corona"},28,33,{"$f":"VLOOKUP(E1036,'2020'!$A$16:$G$150,2,FALSE)","v":"Baquera"},{"$f":"VLOOKUP(E1036,'2020'!$A$16:$G$150,3,FALSE)","v":"Fux W., J., + Wyer Piet"}]
["2020-06-22",{"$f":"VLOOKUP(D1037,'2020'!$A$16:$G$150,3,FALSE)","v":"Wyssen Diego u. Madlen"},{"$f":"VLOOKUP(D1037,'2020'!$A$16:$G$150,2,FALSE)","v":"Rasta"},102,111,{"$f":"VLOOKUP(E1037,'2020'!$A$16:$G$150,2,FALSE)","v":"Vidona"},{"$f":"VLOOKUP(E1037,'2020'!$A$16:$G$150,3,FALSE)","v":"Zumofen / Gattlen"}]
["2020-06-22",{"$f":"VLOOKUP(D1038,'2020'!$A$16:$G$150,3,FALSE)","v":"Jäger Carlo"},{"$f":"VLOOKUP(D1038,'2020'!$A$16:$G$150,2,FALSE)","v":"Micabol"},67,16,{"$f":"VLOOKUP(E1038,'2020'!$A$16:$G$150,2,FALSE)","v":"Flacabre"},{"$f":"VLOOKUP(E1038,'2020'!$A$16:$G$150,3,FALSE)","v":"Bregy Ralf + Adolf"}]
["2020-06-22",{"$f":"VLOOKUP(D1039,'2020'!$A$16:$G$150,3,FALSE)","v":"Zumofen / Gattlen"},{"$f":"VLOOKUP(D1039,'2020'!$A$16:$G$150,2,FALSE)","v":"Fayola"},119,62,{"$f":"VLOOKUP(E1039,'2020'!$A$16:$G$150,2,FALSE)","v":"Candice"},{"$f":"VLOOKUP(E1039,'2020'!$A$16:$G$150,3,FALSE)","v":"Jäger Carlo"}]
["2020-06-21",{"$f":"VLOOKUP(D1040,'2020'!$A$16:$G$150,3,FALSE)","v":"Jäger Carlo"},{"$f":"VLOOKUP(D1040,'2020'!$A$16:$G$150,2,FALSE)","v":"Sera"},64,60,{"$f":"VLOOKUP(E1040,'2020'!$A$16:$G$150,2,FALSE)","v":"Bayonne"},{"$f":"VLOOKUP(E1040,'2020'!$A$16:$G$150,3,FALSE)","v":"Jäger Carlo"}]
["2020-06-21",{"$f":"VLOOKUP(D1041,'2020'!$A$16:$G$150,3,FALSE)","v":"Jäger Carlo"},{"$f":"VLOOKUP(D1041,'2020'!$A$16:$G$150,2,FALSE)","v":"Candice"},62,33,{"$f":"VLOOKUP(E1041,'2020'!$A$16:$G$150,2,FALSE)","v":"Baquera"},{"$f":"VLOOKUP(E1041,'2020'!$A$16:$G$150,3,FALSE)","v":"Fux W., J., + Wyer Piet"}]
["2020-06-21",{"$f":"VLOOKUP(D1042,'2020'!$A$16:$G$150,3,FALSE)","v":"Bregy Uli + Pascal"},{"$f":"VLOOKUP(D1042,'2020'!$A$16:$G$150,2,FALSE)","v":"Catalina"},24,58,{"$f":"VLOOKUP(E1042,'2020'!$A$16:$G$150,2,FALSE)","v":"Bataille"},{"$f":"VLOOKUP(E1042,'2020'!$A$16:$G$150,3,FALSE)","v":"Jäger Carlo"}]
["2020-06-21",{"$f":"VLOOKUP(D1043,'2020'!$A$16:$G$150,3,FALSE)","v":"Zumofen / Gattlen"},{"$f":"VLOOKUP(D1043,'2020'!$A$16:$G$150,2,FALSE)","v":"Xena"},110,24,{"$f":"VLOOKUP(E1043,'2020'!$A$16:$G$150,2,FALSE)","v":"Catalina"},{"$f":"VLOOKUP(E1043,'2020'!$A$16:$G$150,3,FALSE)","v":"Bregy Uli + Pascal"}]
["2020-06-21",{"$f":"VLOOKUP(D1044,'2020'!$A$16:$G$150,3,FALSE)","v":"Jäger Carlo"},{"$f":"VLOOKUP(D1044,'2020'!$A$16:$G$150,2,FALSE)","v":"Candice"},62,19,{"$f":"VLOOKUP(E1044,'2020'!$A$16:$G$150,2,FALSE)","v":"Tiranie"},{"$f":"VLOOKUP(E1044,'2020'!$A$16:$G$150,3,FALSE)","v":"Bregy Uli + Pascal"}]
["2020-06-21",{"$f":"VLOOKUP(D1045,'2020'!$A$16:$G$150,3,FALSE)","v":"Bregy Uli + Pascal"},{"$f":"VLOOKUP(D1045,'2020'!$A$16:$G$150,2,FALSE)","v":"Pandora"},23,22,{"$f":"VLOOKUP(E1045,'2020'!$A$16:$G$150,2,FALSE)","v":"Xaphir"},{"$f":"VLOOKUP(E1045,'2020'!$A$16:$G$150,3,FALSE)","v":"Bregy Uli + Pascal"}]
["2020-06-21",{"$f":"VLOOKUP(D1046,'2020'!$A$16:$G$150,3,FALSE)","v":"Bregy Uli + Pascal"},{"$f":"VLOOKUP(D1046,'2020'!$A$16:$G$150,2,FALSE)","v":"Tiranie"},19,67,{"$f":"VLOOKUP(E1046,'2020'!$A$16:$G$150,2,FALSE)","v":"Micabol"},{"$f":"VLOOKUP(E1046,'2020'!$A$16:$G$150,3,FALSE)","v":"Jäger Carlo"}]
["2020-06-21",{"$f":"VLOOKUP(D1047,'2020'!$A$16:$G$150,3,FALSE)","v":"Stallung Passeraub "},{"$f":"VLOOKUP(D1047,'2020'!$A$16:$G$150,2,FALSE)","v":"Bonita"},82,106,{"$f":"VLOOKUP(E1047,'2020'!$A$16:$G$150,2,FALSE)","v":"Rambo"},{"$f":"VLOOKUP(E1047,'2020'!$A$16:$G$150,3,FALSE)","v":"Zumofen / Gattlen"}]
["2020-06-21",{"$f":"VLOOKUP(D1048,'2020'!$A$16:$G$150,3,FALSE)","v":"Wyssen Diego u. Madlen"},{"$f":"VLOOKUP(D1048,'2020'!$A$16:$G$150,2,FALSE)","v":"Rasta"},102,112,{"$f":"VLOOKUP(E1048,'2020'!$A$16:$G$150,2,FALSE)","v":"Riva "},{"$f":"VLOOKUP(E1048,'2020'!$A$16:$G$150,3,FALSE)","v":"Zumofen / Gattlen"}]
["2020-06-21",{"$f":"VLOOKUP(D1049,'2020'!$A$16:$G$150,3,FALSE)","v":"Stallung Passeraub "},{"$f":"VLOOKUP(D1049,'2020'!$A$16:$G$150,2,FALSE)","v":"Bonita"},82,89,{"$f":"VLOOKUP(E1049,'2020'!$A$16:$G$150,2,FALSE)","v":"Tiara"},{"$f":"VLOOKUP(E1049,'2020'!$A$16:$G$150,3,FALSE)","v":"Sewer R. + Thommen S."}]
["2020-06-21",{"$f":"VLOOKUP(D1050,'2020'!$A$16:$G$150,3,FALSE)","v":"Jäger Carlo"},{"$f":"VLOOKUP(D1050,'2020'!$A$16:$G$150,2,FALSE)","v":"Sera"},64,81,{"$f":"VLOOKUP(E1050,'2020'!$A$16:$G$150,2,FALSE)","v":"Medusa"},{"$f":"VLOOKUP(E1050,'2020'!$A$16:$G$150,3,FALSE)","v":"Stallung Passeraub "}]
["2020-06-21",{"$f":"VLOOKUP(D1051,'2020'!$A$16:$G$150,3,FALSE)","v":"Bregy Uli + Pascal"},{"$f":"VLOOKUP(D1051,'2020'!$A$16:$G$150,2,FALSE)","v":"Xaphir"},22,89,{"$f":"VLOOKUP(E1051,'2020'!$A$16:$G$150,2,FALSE)","v":"Tiara"},{"$f":"VLOOKUP(E1051,'2020'!$A$16:$G$150,3,FALSE)","v":"Sewer R. + Thommen S."}]
["2020-06-21",{"$f":"VLOOKUP(D1052,'2020'!$A$16:$G$150,3,FALSE)","v":"Sewer R. + Thommen S."},{"$f":"VLOOKUP(D1052,'2020'!$A$16:$G$150,2,FALSE)","v":"Malice"},88,78,{"$f":"VLOOKUP(E1052,'2020'!$A$16:$G$150,2,FALSE)","v":"Ballerine"},{"$f":"VLOOKUP(E1052,'2020'!$A$16:$G$150,3,FALSE)","v":"Stallung Passeraub"}]
["2020-06-21",{"$f":"VLOOKUP(D1053,'2020'!$A$16:$G$150,3,FALSE)","v":"Stallung Passeraub "},{"$f":"VLOOKUP(D1053,'2020'!$A$16:$G$150,2,FALSE)","v":"Manou"},80,99,{"$f":"VLOOKUP(E1053,'2020'!$A$16:$G$150,2,FALSE)","v":"Diva"},{"$f":"VLOOKUP(E1053,'2020'!$A$16:$G$150,3,FALSE)","v":"Williner Anton"}]
["2020-06-21",{"$f":"VLOOKUP(D1054,'2020'!$A$16:$G$150,3,FALSE)","v":"Jäger Carlo"},{"$f":"VLOOKUP(D1054,'2020'!$A$16:$G$150,2,FALSE)","v":"Tokio"},70,95,{"$f":"VLOOKUP(E1054,'2020'!$A$16:$G$150,2,FALSE)","v":"Vivana"},{"$f":"VLOOKUP(E1054,'2020'!$A$16:$G$150,3,FALSE)","v":"Williner Anton"}]
["2020-06-21",{"$f":"VLOOKUP(D1055,'2020'!$A$16:$G$150,3,FALSE)","v":"Zumofen / Gattlen"},{"$f":"VLOOKUP(D1055,'2020'!$A$16:$G$150,2,FALSE)","v":"Violin"},107,70,{"$f":"VLOOKUP(E1055,'2020'!$A$16:$G$150,2,FALSE)","v":"Tokio"},{"$f":"VLOOKUP(E1055,'2020'!$A$16:$G$150,3,FALSE)","v":"Jäger Carlo"}]
["2020-06-21",{"$f":"VLOOKUP(D1056,'2020'!$A$16:$G$150,3,FALSE)","v":"Zumofen / Gattlen"},{"$f":"VLOOKUP(D1056,'2020'!$A$16:$G$150,2,FALSE)","v":"Xena"},110,70,{"$f":"VLOOKUP(E1056,'2020'!$A$16:$G$150,2,FALSE)","v":"Tokio"},{"$f":"VLOOKUP(E1056,'2020'!$A$16:$G$150,3,FALSE)","v":"Jäger Carlo"}]
["2020-06-21",{"$f":"VLOOKUP(D1057,'2020'!$A$16:$G$150,3,FALSE)","v":"Bregy Uli + Pascal"},{"$f":"VLOOKUP(D1057,'2020'!$A$16:$G$150,2,FALSE)","v":"Catalina"},24,22,{"$f":"VLOOKUP(E1057,'2020'!$A$16:$G$150,2,FALSE)","v":"Xaphir"},{"$f":"VLOOKUP(E1057,'2020'!$A$16:$G$150,3,FALSE)","v":"Bregy Uli + Pascal"}]
["2020-06-21",{"$f":"VLOOKUP(D1058,'2020'!$A$16:$G$150,3,FALSE)","v":"Sewer R. + Thommen S."},{"$f":"VLOOKUP(D1058,'2020'!$A$16:$G$150,2,FALSE)","v":"Bolera"},91,22,{"$f":"VLOOKUP(E1058,'2020'!$A$16:$G$150,2,FALSE)","v":"Xaphir"},{"$f":"VLOOKUP(E1058,'2020'!$A$16:$G$150,3,FALSE)","v":"Bregy Uli + Pascal"}]
["2020-06-21",{"$f":"VLOOKUP(D1059,'2020'!$A$16:$G$150,3,FALSE)","v":"Bregy Ralf + Adolf"},{"$f":"VLOOKUP(D1059,'2020'!$A$16:$G$150,2,FALSE)","v":"Canabis"},14,47,{"$f":"VLOOKUP(E1059,'2020'!$A$16:$G$150,2,FALSE)","v":"Tiara"},{"$f":"VLOOKUP(E1059,'2020'!$A$16:$G$150,3,FALSE)","v":"Gebr. Jäger"}]
["2020-06-21",{"$f":"VLOOKUP(D1060,'2020'!$A$16:$G$150,3,FALSE)","v":"Jäger Carlo"},{"$f":"VLOOKUP(D1060,'2020'!$A$16:$G$150,2,FALSE)","v":"Promise"},57,97,{"$f":"VLOOKUP(E1060,'2020'!$A$16:$G$150,2,FALSE)","v":"Vanessa"},{"$f":"VLOOKUP(E1060,'2020'!$A$16:$G$150,3,FALSE)","v":"Williner Anton"}]
["2020-06-21",{"$f":"VLOOKUP(D1061,'2020'!$A$16:$G$150,3,FALSE)","v":"Bayard Medard + Gustav"},{"$f":"VLOOKUP(D1061,'2020'!$A$16:$G$150,2,FALSE)","v":"Priska"},3,114,{"$f":"VLOOKUP(E1061,'2020'!$A$16:$G$150,2,FALSE)","v":"Maya"},{"$f":"VLOOKUP(E1061,'2020'!$A$16:$G$150,3,FALSE)","v":"Zumofen / Gattlen"}]
["2020-06-21",{"$f":"VLOOKUP(D1062,'2020'!$A$16:$G$150,3,FALSE)","v":"Hischier Pius"},{"$f":"VLOOKUP(D1062,'2020'!$A$16:$G$150,2,FALSE)","v":"Pablo"},54,23,{"$f":"VLOOKUP(E1062,'2020'!$A$16:$G$150,2,FALSE)","v":"Pandora"},{"$f":"VLOOKUP(E1062,'2020'!$A$16:$G$150,3,FALSE)","v":"Bregy Uli + Pascal"}]
["2020-06-21",{"$f":"VLOOKUP(D1063,'2020'!$A$16:$G$150,3,FALSE)","v":"Bayard Medard + Gustav"},{"$f":"VLOOKUP(D1063,'2020'!$A$16:$G$150,2,FALSE)","v":"Pandera"},5,63,{"$f":"VLOOKUP(E1063,'2020'!$A$16:$G$150,2,FALSE)","v":"Pisa"},{"$f":"VLOOKUP(E1063,'2020'!$A$16:$G$150,3,FALSE)","v":"Jäger Carlo"}]
["2020-06-21",{"$f":"VLOOKUP(D1064,'2020'!$A$16:$G$150,3,FALSE)","v":"Jäger Carlo"},{"$f":"VLOOKUP(D1064,'2020'!$A$16:$G$150,2,FALSE)","v":"Maila"},59,18,{"$f":"VLOOKUP(E1064,'2020'!$A$16:$G$150,2,FALSE)","v":"Souki"},{"$f":"VLOOKUP(E1064,'2020'!$A$16:$G$150,3,FALSE)","v":"Bregy Uli + Pascal"}]
["2020-06-21",{"$f":"VLOOKUP(D1065,'2020'!$A$16:$G$150,3,FALSE)","v":"Jäger Carlo"},{"$f":"VLOOKUP(D1065,'2020'!$A$16:$G$150,2,FALSE)","v":"Tokio"},70,97,{"$f":"VLOOKUP(E1065,'2020'!$A$16:$G$150,2,FALSE)","v":"Vanessa"},{"$f":"VLOOKUP(E1065,'2020'!$A$16:$G$150,3,FALSE)","v":"Williner Anton"}]
["2020-06-21",{"$f":"VLOOKUP(D1066,'2020'!$A$16:$G$150,3,FALSE)","v":"Sewer R. + Thommen S."},{"$f":"VLOOKUP(D1066,'2020'!$A$16:$G$150,2,FALSE)","v":"Bolera"},91,66,{"$f":"VLOOKUP(E1066,'2020'!$A$16:$G$150,2,FALSE)","v":"Metis"},{"$f":"VLOOKUP(E1066,'2020'!$A$16:$G$150,3,FALSE)","v":"Jäger Carlo"}]
["2020-06-21",{"$f":"VLOOKUP(D1067,'2020'!$A$16:$G$150,3,FALSE)","v":"Wyssen Diego u. Madlen"},{"$f":"VLOOKUP(D1067,'2020'!$A$16:$G$150,2,FALSE)","v":"Rasta"},102,11,{"$f":"VLOOKUP(E1067,'2020'!$A$16:$G$150,2,FALSE)","v":"Carcas"},{"$f":"VLOOKUP(E1067,'2020'!$A$16:$G$150,3,FALSE)","v":"Bregy Ralf + Adolf"}]
["2020-06-21",{"$f":"VLOOKUP(D1068,'2020'!$A$16:$G$150,3,FALSE)","v":"Bregy Uli + Pascal"},{"$f":"VLOOKUP(D1068,'2020'!$A$16:$G$150,2,FALSE)","v":"Bora"},21,70,{"$f":"VLOOKUP(E1068,'2020'!$A$16:$G$150,2,FALSE)","v":"Tokio"},{"$f":"VLOOKUP(E1068,'2020'!$A$16:$G$150,3,FALSE)","v":"Jäger Carlo"}]
["2020-06-21",{"$f":"VLOOKUP(D1069,'2020'!$A$16:$G$150,3,FALSE)","v":"Jäger Carlo"},{"$f":"VLOOKUP(D1069,'2020'!$A$16:$G$150,2,FALSE)","v":"Metis"},66,22,{"$f":"VLOOKUP(E1069,'2020'!$A$16:$G$150,2,FALSE)","v":"Xaphir"},{"$f":"VLOOKUP(E1069,'2020'!$A$16:$G$150,3,FALSE)","v":"Bregy Uli + Pascal"}]
["2020-06-21",{"$f":"VLOOKUP(D1070,'2020'!$A$16:$G$150,3,FALSE)","v":"Jäger Carlo"},{"$f":"VLOOKUP(D1070,'2020'!$A$16:$G$150,2,FALSE)","v":"Metis"},66,15,{"$f":"VLOOKUP(E1070,'2020'!$A$16:$G$150,2,FALSE)","v":"Cashida"},{"$f":"VLOOKUP(E1070,'2020'!$A$16:$G$150,3,FALSE)","v":"Bregy Ralf + Adolf"}]
["2020-06-21",{"$f":"VLOOKUP(D1071,'2020'!$A$16:$G$150,3,FALSE)","v":"Bregy Ralf + Adolf"},{"$f":"VLOOKUP(D1071,'2020'!$A$16:$G$150,2,FALSE)","v":"Diabolo"},10,58,{"$f":"VLOOKUP(E1071,'2020'!$A$16:$G$150,2,FALSE)","v":"Bataille"},{"$f":"VLOOKUP(E1071,'2020'!$A$16:$G$150,3,FALSE)","v":"Jäger Carlo"}]
["2020-06-21",{"$f":"VLOOKUP(D1072,'2020'!$A$16:$G$150,3,FALSE)","v":"Bregy Uli + Pascal"},{"$f":"VLOOKUP(D1072,'2020'!$A$16:$G$150,2,FALSE)","v":"Calette"},25,47,{"$f":"VLOOKUP(E1072,'2020'!$A$16:$G$150,2,FALSE)","v":"Tiara"},{"$f":"VLOOKUP(E1072,'2020'!$A$16:$G$150,3,FALSE)","v":"Gebr. Jäger"}]
["2020-06-21",{"$f":"VLOOKUP(D1073,'2020'!$A$16:$G$150,3,FALSE)","v":"Bregy Uli + Pascal"},{"$f":"VLOOKUP(D1073,'2020'!$A$16:$G$150,2,FALSE)","v":"Xaphir"},22,69,{"$f":"VLOOKUP(E1073,'2020'!$A$16:$G$150,2,FALSE)","v":"Taverne"},{"$f":"VLOOKUP(E1073,'2020'!$A$16:$G$150,3,FALSE)","v":"Jäger Carlo"}]
["2020-06-21",{"$f":"VLOOKUP(D1074,'2020'!$A$16:$G$150,3,FALSE)","v":"Hischier Pius"},{"$f":"VLOOKUP(D1074,'2020'!$A$16:$G$150,2,FALSE)","v":"Pablo"},54,23,{"$f":"VLOOKUP(E1074,'2020'!$A$16:$G$150,2,FALSE)","v":"Pandora"},{"$f":"VLOOKUP(E1074,'2020'!$A$16:$G$150,3,FALSE)","v":"Bregy Uli + Pascal"}]
["2020-06-21",{"$f":"VLOOKUP(D1075,'2020'!$A$16:$G$150,3,FALSE)","v":"Bayard Medard + Gustav"},{"$f":"VLOOKUP(D1075,'2020'!$A$16:$G$150,2,FALSE)","v":"Pandera"},5,63,{"$f":"VLOOKUP(E1075,'2020'!$A$16:$G$150,2,FALSE)","v":"Pisa"},{"$f":"VLOOKUP(E1075,'2020'!$A$16:$G$150,3,FALSE)","v":"Jäger Carlo"}]
["2020-06-21",{"$f":"VLOOKUP(D1076,'2020'!$A$16:$G$150,3,FALSE)","v":"Jäger Carlo"},{"$f":"VLOOKUP(D1076,'2020'!$A$16:$G$150,2,FALSE)","v":"Grolla"},61,52,{"$f":"VLOOKUP(E1076,'2020'!$A$16:$G$150,2,FALSE)","v":"Lenja"},{"$f":"VLOOKUP(E1076,'2020'!$A$16:$G$150,3,FALSE)","v":"Hischier H. + Bühlmann J."}]
["2020-06-21",{"$f":"VLOOKUP(D1077,'2020'!$A$16:$G$150,3,FALSE)","v":"Wyssen Diego u. Madlen"},{"$f":"VLOOKUP(D1077,'2020'!$A$16:$G$150,2,FALSE)","v":"Xhyla"},105,100,{"$f":"VLOOKUP(E1077,'2020'!$A$16:$G$150,2,FALSE)","v":"Tira"},{"$f":"VLOOKUP(E1077,'2020'!$A$16:$G$150,3,FALSE)","v":"Williner Anton"}]
["2020-06-21",{"$f":"VLOOKUP(D1078,'2020'!$A$16:$G$150,3,FALSE)","v":"Bregy Uli + Pascal"},{"$f":"VLOOKUP(D1078,'2020'!$A$16:$G$150,2,FALSE)","v":"Xaphir"},22,31,{"$f":"VLOOKUP(E1078,'2020'!$A$16:$G$150,2,FALSE)","v":"Baron"},{"$f":"VLOOKUP(E1078,'2020'!$A$16:$G$150,3,FALSE)","v":"Fam. Leiggener"}]
["2020-06-21",{"$f":"VLOOKUP(D1079,'2020'!$A$16:$G$150,3,FALSE)","v":"Stallung Passeraub"},{"$f":"VLOOKUP(D1079,'2020'!$A$16:$G$150,2,FALSE)","v":"Ballerine"},78,30,{"$f":"VLOOKUP(E1079,'2020'!$A$16:$G$150,2,FALSE)","v":"Bulle"},{"$f":"VLOOKUP(E1079,'2020'!$A$16:$G$150,3,FALSE)","v":"Fam. Leiggener"}]
["2020-06-21",{"$f":"VLOOKUP(D1080,'2020'!$A$16:$G$150,3,FALSE)","v":"Bregy Silvan + Patrick"},{"$f":"VLOOKUP(D1080,'2020'!$A$16:$G$150,2,FALSE)","v":"Tequilla"},13,21,{"$f":"VLOOKUP(E1080,'2020'!$A$16:$G$150,2,FALSE)","v":"Bora"},{"$f":"VLOOKUP(E1080,'2020'!$A$16:$G$150,3,FALSE)","v":"Bregy Uli + Pascal"}]
["2020-06-21",{"$f":"VLOOKUP(D1081,'2020'!$A$16:$G$150,3,FALSE)","v":"Bregy Silvan + Patrick"},{"$f":"VLOOKUP(D1081,'2020'!$A$16:$G$150,2,FALSE)","v":"Tequilla"},13,23,{"$f":"VLOOKUP(E1081,'2020'!$A$16:$G$150,2,FALSE)","v":"Pandora"},{"$f":"VLOOKUP(E1081,'2020'!$A$16:$G$150,3,FALSE)","v":"Bregy Uli + Pascal"}]
["2020-06-21",{"$f":"VLOOKUP(D1082,'2020'!$A$16:$G$150,3,FALSE)","v":"Bregy Uli + Pascal"},{"$f":"VLOOKUP(D1082,'2020'!$A$16:$G$150,2,FALSE)","v":"Xaphir"},22,44,{"$f":"VLOOKUP(E1082,'2020'!$A$16:$G$150,2,FALSE)","v":"Dorina"},{"$f":"VLOOKUP(E1082,'2020'!$A$16:$G$150,3,FALSE)","v":"Gebr. Jäger"}]
["2020-06-21",{"$f":"VLOOKUP(D1083,'2020'!$A$16:$G$150,3,FALSE)","v":"Jäger Carlo"},{"$f":"VLOOKUP(D1083,'2020'!$A$16:$G$150,2,FALSE)","v":"Bayonne"},60,11,{"$f":"VLOOKUP(E1083,'2020'!$A$16:$G$150,2,FALSE)","v":"Carcas"},{"$f":"VLOOKUP(E1083,'2020'!$A$16:$G$150,3,FALSE)","v":"Bregy Ralf + Adolf"}]
["2020-06-21",{"$f":"VLOOKUP(D1084,'2020'!$A$16:$G$150,3,FALSE)","v":"Bregy Uli + Pascal"},{"$f":"VLOOKUP(D1084,'2020'!$A$16:$G$150,2,FALSE)","v":"Xaphir"},22,69,{"$f":"VLOOKUP(E1084,'2020'!$A$16:$G$150,2,FALSE)","v":"Taverne"},{"$f":"VLOOKUP(E1084,'2020'!$A$16:$G$150,3,FALSE)","v":"Jäger Carlo"}]
["2020-06-21",{"$f":"VLOOKUP(D1085,'2020'!$A$16:$G$150,3,FALSE)","v":"Bregy Ralf + Adolf"},{"$f":"VLOOKUP(D1085,'2020'!$A$16:$G$150,2,FALSE)","v":"Carcas"},11,22,{"$f":"VLOOKUP(E1085,'2020'!$A$16:$G$150,2,FALSE)","v":"Xaphir"},{"$f":"VLOOKUP(E1085,'2020'!$A$16:$G$150,3,FALSE)","v":"Bregy Uli + Pascal"}]
["2020-06-21",{"$f":"VLOOKUP(D1086,'2020'!$A$16:$G$150,3,FALSE)","v":"Zumofen / Gattlen"},{"$f":"VLOOKUP(D1086,'2020'!$A$16:$G$150,2,FALSE)","v":"Rigolo"},117,82,{"$f":"VLOOKUP(E1086,'2020'!$A$16:$G$150,2,FALSE)","v":"Bonita"},{"$f":"VLOOKUP(E1086,'2020'!$A$16:$G$150,3,FALSE)","v":"Stallung Passeraub "}]
["2020-06-21",{"$f":"VLOOKUP(D1087,'2020'!$A$16:$G$150,3,FALSE)","v":"Gebr. Jäger"},{"$f":"VLOOKUP(D1087,'2020'!$A$16:$G$150,2,FALSE)","v":"Dorina"},44,89,{"$f":"VLOOKUP(E1087,'2020'!$A$16:$G$150,2,FALSE)","v":"Tiara"},{"$f":"VLOOKUP(E1087,'2020'!$A$16:$G$150,3,FALSE)","v":"Sewer R. + Thommen S."}]
["2020-06-21",{"$f":"VLOOKUP(D1088,'2020'!$A$16:$G$150,3,FALSE)","v":"Bregy Uli + Pascal"},{"$f":"VLOOKUP(D1088,'2020'!$A$16:$G$150,2,FALSE)","v":"Xaphir"},22,47,{"$f":"VLOOKUP(E1088,'2020'!$A$16:$G$150,2,FALSE)","v":"Tiara"},{"$f":"VLOOKUP(E1088,'2020'!$A$16:$G$150,3,FALSE)","v":"Gebr. Jäger"}]
["2020-06-21",{"$f":"VLOOKUP(D1089,'2020'!$A$16:$G$150,3,FALSE)","v":"Fam. Leiggener"},{"$f":"VLOOKUP(D1089,'2020'!$A$16:$G$150,2,FALSE)","v":"Bulle"},30,81,{"$f":"VLOOKUP(E1089,'2020'!$A$16:$G$150,2,FALSE)","v":"Medusa"},{"$f":"VLOOKUP(E1089,'2020'!$A$16:$G$150,3,FALSE)","v":"Stallung Passeraub "}]
["2020-06-21",{"$f":"VLOOKUP(D1090,'2020'!$A$16:$G$150,3,FALSE)","v":"Sewer R. + Thommen S."},{"$f":"VLOOKUP(D1090,'2020'!$A$16:$G$150,2,FALSE)","v":"Tiara"},89,115,{"$f":"VLOOKUP(E1090,'2020'!$A$16:$G$150,2,FALSE)","v":"Pepitta"},{"$f":"VLOOKUP(E1090,'2020'!$A$16:$G$150,3,FALSE)","v":"Zumofen / Gattlen"}]
["2020-06-21",{"$f":"VLOOKUP(D1091,'2020'!$A$16:$G$150,3,FALSE)","v":"Stallung Passeraub"},{"$f":"VLOOKUP(D1091,'2020'!$A$16:$G$150,2,FALSE)","v":"Ballerine"},78,118,{"$f":"VLOOKUP(E1091,'2020'!$A$16:$G$150,2,FALSE)","v":"Vesuv"},{"$f":"VLOOKUP(E1091,'2020'!$A$16:$G$150,3,FALSE)","v":"Zumofen / Gattlen"}]
["2020-06-21",{"$f":"VLOOKUP(D1092,'2020'!$A$16:$G$150,3,FALSE)","v":"Jäger Carlo"},{"$f":"VLOOKUP(D1092,'2020'!$A$16:$G$150,2,FALSE)","v":"Candice"},62,109,{"$f":"VLOOKUP(E1092,'2020'!$A$16:$G$150,2,FALSE)","v":"Rena"},{"$f":"VLOOKUP(E1092,'2020'!$A$16:$G$150,3,FALSE)","v":"Zumofen / Gattlen"}]
["2020-06-21",{"$f":"VLOOKUP(D1093,'2020'!$A$16:$G$150,3,FALSE)","v":"Stallung Passeraub"},{"$f":"VLOOKUP(D1093,'2020'!$A$16:$G$150,2,FALSE)","v":"Ballerine"},78,118,{"$f":"VLOOKUP(E1093,'2020'!$A$16:$G$150,2,FALSE)","v":"Vesuv"},{"$f":"VLOOKUP(E1093,'2020'!$A$16:$G$150,3,FALSE)","v":"Zumofen / Gattlen"}]
["2020-06-21",{"$f":"VLOOKUP(D1094,'2020'!$A$16:$G$150,3,FALSE)","v":"Stallung Passeraub "},{"$f":"VLOOKUP(D1094,'2020'!$A$16:$G$150,2,FALSE)","v":"Medusa"},81,114,{"$f":"VLOOKUP(E1094,'2020'!$A$16:$G$150,2,FALSE)","v":"Maya"},{"$f":"VLOOKUP(E1094,'2020'!$A$16:$G$150,3,FALSE)","v":"Zumofen / Gattlen"}]
["2020-06-21",{"$f":"VLOOKUP(D1095,'2020'!$A$16:$G$150,3,FALSE)","v":"Wyssen Diego u. Madlen"},{"$f":"VLOOKUP(D1095,'2020'!$A$16:$G$150,2,FALSE)","v":"Rasta"},102,114,{"$f":"VLOOKUP(E1095,'2020'!$A$16:$G$150,2,FALSE)","v":"Maya"},{"$f":"VLOOKUP(E1095,'2020'!$A$16:$G$150,3,FALSE)","v":"Zumofen / Gattlen"}]
["2020-06-21",{"$f":"VLOOKUP(D1096,'2020'!$A$16:$G$150,3,FALSE)","v":"Fux W., J., + Wyer Piet"},{"$f":"VLOOKUP(D1096,'2020'!$A$16:$G$150,2,FALSE)","v":"Toscana"},40,3,{"$f":"VLOOKUP(E1096,'2020'!$A$16:$G$150,2,FALSE)","v":"Priska"},{"$f":"VLOOKUP(E1096,'2020'!$A$16:$G$150,3,FALSE)","v":"Bayard Medard + Gustav"}]
["2020-06-21",{"$f":"VLOOKUP(D1097,'2020'!$A$16:$G$150,3,FALSE)","v":"Bregy Uli + Pascal"},{"$f":"VLOOKUP(D1097,'2020'!$A$16:$G$150,2,FALSE)","v":"Xaphir"},22,56,{"$f":"VLOOKUP(E1097,'2020'!$A$16:$G$150,2,FALSE)","v":"Shakira"},{"$f":"VLOOKUP(E1097,'2020'!$A$16:$G$150,3,FALSE)","v":"Hischier Pius"}]
["2020-06-21",{"$f":"VLOOKUP(D1098,'2020'!$A$16:$G$150,3,FALSE)","v":"Wyssen Diego u. Madlen"},{"$f":"VLOOKUP(D1098,'2020'!$A$16:$G$150,2,FALSE)","v":"Rasta"},102,113,{"$f":"VLOOKUP(E1098,'2020'!$A$16:$G$150,2,FALSE)","v":"Vanda"},{"$f":"VLOOKUP(E1098,'2020'!$A$16:$G$150,3,FALSE)","v":"Zumofen / Gattlen"}]
["2020-06-20",{"$f":"VLOOKUP(D1099,'2020'!$A$16:$G$150,3,FALSE)","v":"Mathieu Leander + S."},{"$f":"VLOOKUP(D1099,'2020'!$A$16:$G$150,2,FALSE)","v":"Bavaria"},73,43,{"$f":"VLOOKUP(E1099,'2020'!$A$16:$G$150,2,FALSE)","v":"Pampère"},{"$f":"VLOOKUP(E1099,'2020'!$A$16:$G$150,3,FALSE)","v":"Fux W., J., + Wyer Piet"}]
["2020-06-20",{"$f":"VLOOKUP(D1100,'2020'!$A$16:$G$150,3,FALSE)","v":"Jäger Carlo"},{"$f":"VLOOKUP(D1100,'2020'!$A$16:$G$150,2,FALSE)","v":"Maila"},59,113,{"$f":"VLOOKUP(E1100,'2020'!$A$16:$G$150,2,FALSE)","v":"Vanda"},{"$f":"VLOOKUP(E1100,'2020'!$A$16:$G$150,3,FALSE)","v":"Zumofen / Gattlen"}]
["2020-06-20",{"$f":"VLOOKUP(D1101,'2020'!$A$16:$G$150,3,FALSE)","v":"Zumofen / Gattlen"},{"$f":"VLOOKUP(D1101,'2020'!$A$16:$G$150,2,FALSE)","v":"Vidona"},111,23,{"$f":"VLOOKUP(E1101,'2020'!$A$16:$G$150,2,FALSE)","v":"Pandora"},{"$f":"VLOOKUP(E1101,'2020'!$A$16:$G$150,3,FALSE)","v":"Bregy Uli + Pascal"}]
["2020-06-20",{"$f":"VLOOKUP(D1102,'2020'!$A$16:$G$150,3,FALSE)","v":"Bregy Uli + Pascal"},{"$f":"VLOOKUP(D1102,'2020'!$A$16:$G$150,2,FALSE)","v":"Pandora"},23,16,{"$f":"VLOOKUP(E1102,'2020'!$A$16:$G$150,2,FALSE)","v":"Flacabre"},{"$f":"VLOOKUP(E1102,'2020'!$A$16:$G$150,3,FALSE)","v":"Bregy Ralf + Adolf"}]
["2020-06-20",{"$f":"VLOOKUP(D1103,'2020'!$A$16:$G$150,3,FALSE)","v":"Sewer R. + Thommen S."},{"$f":"VLOOKUP(D1103,'2020'!$A$16:$G$150,2,FALSE)","v":"Tiara"},89,114,{"$f":"VLOOKUP(E1103,'2020'!$A$16:$G$150,2,FALSE)","v":"Maya"},{"$f":"VLOOKUP(E1103,'2020'!$A$16:$G$150,3,FALSE)","v":"Zumofen / Gattlen"}]
["2020-06-20",{"$f":"VLOOKUP(D1104,'2020'!$A$16:$G$150,3,FALSE)","v":"Mathieu Leander + S."},{"$f":"VLOOKUP(D1104,'2020'!$A$16:$G$150,2,FALSE)","v":"Bavaria"},73,109,{"$f":"VLOOKUP(E1104,'2020'!$A$16:$G$150,2,FALSE)","v":"Rena"},{"$f":"VLOOKUP(E1104,'2020'!$A$16:$G$150,3,FALSE)","v":"Zumofen / Gattlen"}]
["2020-06-20",{"$f":"VLOOKUP(D1105,'2020'!$A$16:$G$150,3,FALSE)","v":"Williner Anton"},{"$f":"VLOOKUP(D1105,'2020'!$A$16:$G$150,2,FALSE)","v":"Tira"},100,104,{"$f":"VLOOKUP(E1105,'2020'!$A$16:$G$150,2,FALSE)","v":"Xena"},{"$f":"VLOOKUP(E1105,'2020'!$A$16:$G$150,3,FALSE)","v":"Wyssen Diego u. Madlen"}]
["2020-06-20",{"$f":"VLOOKUP(D1106,'2020'!$A$16:$G$150,3,FALSE)","v":"Zumofen / Gattlen"},{"$f":"VLOOKUP(D1106,'2020'!$A$16:$G$150,2,FALSE)","v":"Vidona"},111,30,{"$f":"VLOOKUP(E1106,'2020'!$A$16:$G$150,2,FALSE)","v":"Bulle"},{"$f":"VLOOKUP(E1106,'2020'!$A$16:$G$150,3,FALSE)","v":"Fam. Leiggener"}]
["2020-06-20",{"$f":"VLOOKUP(D1107,'2020'!$A$16:$G$150,3,FALSE)","v":"Bregy Uli + Pascal"},{"$f":"VLOOKUP(D1107,'2020'!$A$16:$G$150,2,FALSE)","v":"Corona"},28,2,{"$f":"VLOOKUP(E1107,'2020'!$A$16:$G$150,2,FALSE)","v":"Fantastic"},{"$f":"VLOOKUP(E1107,'2020'!$A$16:$G$150,3,FALSE)","v":"Bayard Medard + Gustav"}]
["2020-06-20",{"$f":"VLOOKUP(D1108,'2020'!$A$16:$G$150,3,FALSE)","v":"Zumofen / Gattlen"},{"$f":"VLOOKUP(D1108,'2020'!$A$16:$G$150,2,FALSE)","v":"Violette"},108,97,{"$f":"VLOOKUP(E1108,'2020'!$A$16:$G$150,2,FALSE)","v":"Vanessa"},{"$f":"VLOOKUP(E1108,'2020'!$A$16:$G$150,3,FALSE)","v":"Williner Anton"}]
["2020-06-20",{"$f":"VLOOKUP(D1109,'2020'!$A$16:$G$150,3,FALSE)","v":"Fam. Leiggener"},{"$f":"VLOOKUP(D1109,'2020'!$A$16:$G$150,2,FALSE)","v":"Bulle"},30,3,{"$f":"VLOOKUP(E1109,'2020'!$A$16:$G$150,2,FALSE)","v":"Priska"},{"$f":"VLOOKUP(E1109,'2020'!$A$16:$G$150,3,FALSE)","v":"Bayard Medard + Gustav"}]
["2020-06-20",{"$f":"VLOOKUP(D1110,'2020'!$A$16:$G$150,3,FALSE)","v":"Sewer R. + Thommen S."},{"$f":"VLOOKUP(D1110,'2020'!$A$16:$G$150,2,FALSE)","v":"Tiara"},89,16,{"$f":"VLOOKUP(E1110,'2020'!$A$16:$G$150,2,FALSE)","v":"Flacabre"},{"$f":"VLOOKUP(E1110,'2020'!$A$16:$G$150,3,FALSE)","v":"Bregy Ralf + Adolf"}]
["2020-06-20",{"$f":"VLOOKUP(D1111,'2020'!$A$16:$G$150,3,FALSE)","v":"Zumofen / Gattlen"},{"$f":"VLOOKUP(D1111,'2020'!$A$16:$G$150,2,FALSE)","v":"Vanda"},113,16,{"$f":"VLOOKUP(E1111,'2020'!$A$16:$G$150,2,FALSE)","v":"Flacabre"},{"$f":"VLOOKUP(E1111,'2020'!$A$16:$G$150,3,FALSE)","v":"Bregy Ralf + Adolf"}]
["2020-06-20",{"$f":"VLOOKUP(D1112,'2020'!$A$16:$G$150,3,FALSE)","v":"Jäger Carlo"},{"$f":"VLOOKUP(D1112,'2020'!$A$16:$G$150,2,FALSE)","v":"Maila"},59,95,{"$f":"VLOOKUP(E1112,'2020'!$A$16:$G$150,2,FALSE)","v":"Vivana"},{"$f":"VLOOKUP(E1112,'2020'!$A$16:$G$150,3,FALSE)","v":"Williner Anton"}]
["2020-06-20",{"$f":"VLOOKUP(D1113,'2020'!$A$16:$G$150,3,FALSE)","v":"Williner Anton"},{"$f":"VLOOKUP(D1113,'2020'!$A$16:$G$150,2,FALSE)","v":"Vivana"},95,3,{"$f":"VLOOKUP(E1113,'2020'!$A$16:$G$150,2,FALSE)","v":"Priska"},{"$f":"VLOOKUP(E1113,'2020'!$A$16:$G$150,3,FALSE)","v":"Bayard Medard + Gustav"}]
["2020-06-20",{"$f":"VLOOKUP(D1114,'2020'!$A$16:$G$150,3,FALSE)","v":"Fux W., J., + Wyer Piet"},{"$f":"VLOOKUP(D1114,'2020'!$A$16:$G$150,2,FALSE)","v":"Baquera"},33,69,{"$f":"VLOOKUP(E1114,'2020'!$A$16:$G$150,2,FALSE)","v":"Taverne"},{"$f":"VLOOKUP(E1114,'2020'!$A$16:$G$150,3,FALSE)","v":"Jäger Carlo"}]
["2020-06-20",{"$f":"VLOOKUP(D1115,'2020'!$A$16:$G$150,3,FALSE)","v":"Zumofen / Gattlen"},{"$f":"VLOOKUP(D1115,'2020'!$A$16:$G$150,2,FALSE)","v":"Pepitta"},115,72,{"$f":"VLOOKUP(E1115,'2020'!$A$16:$G$150,2,FALSE)","v":"Baronesse"},{"$f":"VLOOKUP(E1115,'2020'!$A$16:$G$150,3,FALSE)","v":"Mathieu Leander + S."}]
["2020-06-20",{"$f":"VLOOKUP(D1116,'2020'!$A$16:$G$150,3,FALSE)","v":"Fux W., J., + Wyer Piet"},{"$f":"VLOOKUP(D1116,'2020'!$A$16:$G$150,2,FALSE)","v":"Toscana"},40,111,{"$f":"VLOOKUP(E1116,'2020'!$A$16:$G$150,2,FALSE)","v":"Vidona"},{"$f":"VLOOKUP(E1116,'2020'!$A$16:$G$150,3,FALSE)","v":"Zumofen / Gattlen"}]
["2020-06-20",{"$f":"VLOOKUP(D1117,'2020'!$A$16:$G$150,3,FALSE)","v":"Fux W., J., + Wyer Piet"},{"$f":"VLOOKUP(D1117,'2020'!$A$16:$G$150,2,FALSE)","v":"Bacardi"},39,70,{"$f":"VLOOKUP(E1117,'2020'!$A$16:$G$150,2,FALSE)","v":"Tokio"},{"$f":"VLOOKUP(E1117,'2020'!$A$16:$G$150,3,FALSE)","v":"Jäger Carlo"}]
["2020-06-20",{"$f":"VLOOKUP(D1118,'2020'!$A$16:$G$150,3,FALSE)","v":"Hutter Richard"},{"$f":"VLOOKUP(D1118,'2020'!$A$16:$G$150,2,FALSE)","v":"Fägär"},84,61,{"$f":"VLOOKUP(E1118,'2020'!$A$16:$G$150,2,FALSE)","v":"Grolla"},{"$f":"VLOOKUP(E1118,'2020'!$A$16:$G$150,3,FALSE)","v":"Jäger Carlo"}]
["2020-06-20",{"$f":"VLOOKUP(D1119,'2020'!$A$16:$G$150,3,FALSE)","v":"Fux W., J., + Wyer Piet"},{"$f":"VLOOKUP(D1119,'2020'!$A$16:$G$150,2,FALSE)","v":"Bacardi"},39,47,{"$f":"VLOOKUP(E1119,'2020'!$A$16:$G$150,2,FALSE)","v":"Tiara"},{"$f":"VLOOKUP(E1119,'2020'!$A$16:$G$150,3,FALSE)","v":"Gebr. Jäger"}]
["2020-06-20",{"$f":"VLOOKUP(D1120,'2020'!$A$16:$G$150,3,FALSE)","v":"Bregy Ralf + Adolf"},{"$f":"VLOOKUP(D1120,'2020'!$A$16:$G$150,2,FALSE)","v":"Canabis"},14,43,{"$f":"VLOOKUP(E1120,'2020'!$A$16:$G$150,2,FALSE)","v":"Pampère"},{"$f":"VLOOKUP(E1120,'2020'!$A$16:$G$150,3,FALSE)","v":"Fux W., J., + Wyer Piet"}]
["2020-06-20",{"$f":"VLOOKUP(D1121,'2020'!$A$16:$G$150,3,FALSE)","v":"Bregy Ralf + Adolf"},{"$f":"VLOOKUP(D1121,'2020'!$A$16:$G$150,2,FALSE)","v":"Canabis"},14,33,{"$f":"VLOOKUP(E1121,'2020'!$A$16:$G$150,2,FALSE)","v":"Baquera"},{"$f":"VLOOKUP(E1121,'2020'!$A$16:$G$150,3,FALSE)","v":"Fux W., J., + Wyer Piet"}]
["2020-06-20",{"$f":"VLOOKUP(D1122,'2020'!$A$16:$G$150,3,FALSE)","v":"Bregy Uli + Pascal"},{"$f":"VLOOKUP(D1122,'2020'!$A$16:$G$150,2,FALSE)","v":"Pandora"},23,14,{"$f":"VLOOKUP(E1122,'2020'!$A$16:$G$150,2,FALSE)","v":"Canabis"},{"$f":"VLOOKUP(E1122,'2020'!$A$16:$G$150,3,FALSE)","v":"Bregy Ralf + Adolf"}]
["2020-06-20",{"$f":"VLOOKUP(D1123,'2020'!$A$16:$G$150,3,FALSE)","v":"Amacker Joelle u. Sven"},{"$f":"VLOOKUP(D1123,'2020'!$A$16:$G$150,2,FALSE)","v":"Lijuba"},83,117,{"$f":"VLOOKUP(E1123,'2020'!$A$16:$G$150,2,FALSE)","v":"Rigolo"},{"$f":"VLOOKUP(E1123,'2020'!$A$16:$G$150,3,FALSE)","v":"Zumofen / Gattlen"}]
["2020-06-20",{"$f":"VLOOKUP(D1124,'2020'!$A$16:$G$150,3,FALSE)","v":"Williner Anton"},{"$f":"VLOOKUP(D1124,'2020'!$A$16:$G$150,2,FALSE)","v":"Vivana"},95,106,{"$f":"VLOOKUP(E1124,'2020'!$A$16:$G$150,2,FALSE)","v":"Rambo"},{"$f":"VLOOKUP(E1124,'2020'!$A$16:$G$150,3,FALSE)","v":"Zumofen / Gattlen"}]
["2020-06-20",{"$f":"VLOOKUP(D1125,'2020'!$A$16:$G$150,3,FALSE)","v":"Zumofen / Gattlen"},{"$f":"VLOOKUP(D1125,'2020'!$A$16:$G$150,2,FALSE)","v":"Pepitta"},115,3,{"$f":"VLOOKUP(E1125,'2020'!$A$16:$G$150,2,FALSE)","v":"Priska"},{"$f":"VLOOKUP(E1125,'2020'!$A$16:$G$150,3,FALSE)","v":"Bayard Medard + Gustav"}]
["2020-06-20",{"$f":"VLOOKUP(D1126,'2020'!$A$16:$G$150,3,FALSE)","v":"Bayard Medard + Gustav"},{"$f":"VLOOKUP(D1126,'2020'!$A$16:$G$150,2,FALSE)","v":"Priska"},3,114,{"$f":"VLOOKUP(E1126,'2020'!$A$16:$G$150,2,FALSE)","v":"Maya"},{"$f":"VLOOKUP(E1126,'2020'!$A$16:$G$150,3,FALSE)","v":"Zumofen / Gattlen"}]
["2020-06-20",{"$f":"VLOOKUP(D1127,'2020'!$A$16:$G$150,3,FALSE)","v":"Bayard Medard + Gustav"},{"$f":"VLOOKUP(D1127,'2020'!$A$16:$G$150,2,FALSE)","v":"Diabolo"},1,114,{"$f":"VLOOKUP(E1127,'2020'!$A$16:$G$150,2,FALSE)","v":"Maya"},{"$f":"VLOOKUP(E1127,'2020'!$A$16:$G$150,3,FALSE)","v":"Zumofen / Gattlen"}]
["2020-06-20",{"$f":"VLOOKUP(D1128,'2020'!$A$16:$G$150,3,FALSE)","v":"Fux W., J., + Wyer Piet"},{"$f":"VLOOKUP(D1128,'2020'!$A$16:$G$150,2,FALSE)","v":"Bacardi"},39,117,{"$f":"VLOOKUP(E1128,'2020'!$A$16:$G$150,2,FALSE)","v":"Rigolo"},{"$f":"VLOOKUP(E1128,'2020'!$A$16:$G$150,3,FALSE)","v":"Zumofen / Gattlen"}]
["2020-06-20",{"$f":"VLOOKUP(D1129,'2020'!$A$16:$G$150,3,FALSE)","v":"Williner Anton"},{"$f":"VLOOKUP(D1129,'2020'!$A$16:$G$150,2,FALSE)","v":"Colonell"},98,25,{"$f":"VLOOKUP(E1129,'2020'!$A$16:$G$150,2,FALSE)","v":"Calette"},{"$f":"VLOOKUP(E1129,'2020'!$A$16:$G$150,3,FALSE)","v":"Bregy Uli + Pascal"}]
["2020-06-19",{"$f":"VLOOKUP(D1130,'2020'!$A$16:$G$150,3,FALSE)","v":"Bregy Ralf + Adolf"},{"$f":"VLOOKUP(D1130,'2020'!$A$16:$G$150,2,FALSE)","v":"Canaille"},7,95,{"$f":"VLOOKUP(E1130,'2020'!$A$16:$G$150,2,FALSE)","v":"Vivana"},{"$f":"VLOOKUP(E1130,'2020'!$A$16:$G$150,3,FALSE)","v":"Williner Anton"}]
["2020-06-19",{"$f":"VLOOKUP(D1131,'2020'!$A$16:$G$150,3,FALSE)","v":"Gebr. Jäger"},{"$f":"VLOOKUP(D1131,'2020'!$A$16:$G$150,2,FALSE)","v":"Lorens"},46,70,{"$f":"VLOOKUP(E1131,'2020'!$A$16:$G$150,2,FALSE)","v":"Tokio"},{"$f":"VLOOKUP(E1131,'2020'!$A$16:$G$150,3,FALSE)","v":"Jäger Carlo"}]
["2020-06-19",{"$f":"VLOOKUP(D1132,'2020'!$A$16:$G$150,3,FALSE)","v":"Jäger Carlo"},{"$f":"VLOOKUP(D1132,'2020'!$A$16:$G$150,2,FALSE)","v":"Tokio"},70,97,{"$f":"VLOOKUP(E1132,'2020'!$A$16:$G$150,2,FALSE)","v":"Vanessa"},{"$f":"VLOOKUP(E1132,'2020'!$A$16:$G$150,3,FALSE)","v":"Williner Anton"}]
["2020-06-19",{"$f":"VLOOKUP(D1133,'2020'!$A$16:$G$150,3,FALSE)","v":"Hischier Pius"},{"$f":"VLOOKUP(D1133,'2020'!$A$16:$G$150,2,FALSE)","v":"Pelila"},55,25,{"$f":"VLOOKUP(E1133,'2020'!$A$16:$G$150,2,FALSE)","v":"Calette"},{"$f":"VLOOKUP(E1133,'2020'!$A$16:$G$150,3,FALSE)","v":"Bregy Uli + Pascal"}]
["2020-06-19",{"$f":"VLOOKUP(D1134,'2020'!$A$16:$G$150,3,FALSE)","v":"Stallung zum Stäg"},{"$f":"VLOOKUP(D1134,'2020'!$A$16:$G$150,2,FALSE)","v":"Benika"},87,16,{"$f":"VLOOKUP(E1134,'2020'!$A$16:$G$150,2,FALSE)","v":"Flacabre"},{"$f":"VLOOKUP(E1134,'2020'!$A$16:$G$150,3,FALSE)","v":"Bregy Ralf + Adolf"}]
["2020-06-19",{"$f":"VLOOKUP(D1135,'2020'!$A$16:$G$150,3,FALSE)","v":"Fam. Leiggener"},{"$f":"VLOOKUP(D1135,'2020'!$A$16:$G$150,2,FALSE)","v":"Bulle"},30,70,{"$f":"VLOOKUP(E1135,'2020'!$A$16:$G$150,2,FALSE)","v":"Tokio"},{"$f":"VLOOKUP(E1135,'2020'!$A$16:$G$150,3,FALSE)","v":"Jäger Carlo"}]
["2020-06-19",{"$f":"VLOOKUP(D1136,'2020'!$A$16:$G$150,3,FALSE)","v":"Gebr. Jäger"},{"$f":"VLOOKUP(D1136,'2020'!$A$16:$G$150,2,FALSE)","v":"Simba"},48,1,{"$f":"VLOOKUP(E1136,'2020'!$A$16:$G$150,2,FALSE)","v":"Diabolo"},{"$f":"VLOOKUP(E1136,'2020'!$A$16:$G$150,3,FALSE)","v":"Bayard Medard + Gustav"}]
["2020-06-19",{"$f":"VLOOKUP(D1137,'2020'!$A$16:$G$150,3,FALSE)","v":"Bregy Uli + Pascal"},{"$f":"VLOOKUP(D1137,'2020'!$A$16:$G$150,2,FALSE)","v":"Caline"},20,109,{"$f":"VLOOKUP(E1137,'2020'!$A$16:$G$150,2,FALSE)","v":"Rena"},{"$f":"VLOOKUP(E1137,'2020'!$A$16:$G$150,3,FALSE)","v":"Zumofen / Gattlen"}]
["2020-06-19",{"$f":"VLOOKUP(D1138,'2020'!$A$16:$G$150,3,FALSE)","v":"Gebr. Jäger"},{"$f":"VLOOKUP(D1138,'2020'!$A$16:$G$150,2,FALSE)","v":"Dorina"},44,6,{"$f":"VLOOKUP(E1138,'2020'!$A$16:$G$150,2,FALSE)","v":"Venus"},{"$f":"VLOOKUP(E1138,'2020'!$A$16:$G$150,3,FALSE)","v":"Bayard Medard + Gustav"}]
["2020-06-19",{"$f":"VLOOKUP(D1139,'2020'!$A$16:$G$150,3,FALSE)","v":"Bregy Ralf + Adolf"},{"$f":"VLOOKUP(D1139,'2020'!$A$16:$G$150,2,FALSE)","v":"Creola"},8,19,{"$f":"VLOOKUP(E1139,'2020'!$A$16:$G$150,2,FALSE)","v":"Tiranie"},{"$f":"VLOOKUP(E1139,'2020'!$A$16:$G$150,3,FALSE)","v":"Bregy Uli + Pascal"}]
["2020-06-19",{"$f":"VLOOKUP(D1140,'2020'!$A$16:$G$150,3,FALSE)","v":"Williner Anton"},{"$f":"VLOOKUP(D1140,'2020'!$A$16:$G$150,2,FALSE)","v":"Diva"},99,53,{"$f":"VLOOKUP(E1140,'2020'!$A$16:$G$150,2,FALSE)","v":"Safira"},{"$f":"VLOOKUP(E1140,'2020'!$A$16:$G$150,3,FALSE)","v":"Hischier Pius"}]
["2020-06-19",{"$f":"VLOOKUP(D1141,'2020'!$A$16:$G$150,3,FALSE)","v":"Williner Anton"},{"$f":"VLOOKUP(D1141,'2020'!$A$16:$G$150,2,FALSE)","v":"Tira"},100,2,{"$f":"VLOOKUP(E1141,'2020'!$A$16:$G$150,2,FALSE)","v":"Fantastic"},{"$f":"VLOOKUP(E1141,'2020'!$A$16:$G$150,3,FALSE)","v":"Bayard Medard + Gustav"}]
["2020-06-19",{"$f":"VLOOKUP(D1142,'2020'!$A$16:$G$150,3,FALSE)","v":"Bayard Medard + Gustav"},{"$f":"VLOOKUP(D1142,'2020'!$A$16:$G$150,2,FALSE)","v":"Vampir"},4,33,{"$f":"VLOOKUP(E1142,'2020'!$A$16:$G$150,2,FALSE)","v":"Baquera"},{"$f":"VLOOKUP(E1142,'2020'!$A$16:$G$150,3,FALSE)","v":"Fux W., J., + Wyer Piet"}]
["2020-06-19",{"$f":"VLOOKUP(D1143,'2020'!$A$16:$G$150,3,FALSE)","v":"Jäger Carlo"},{"$f":"VLOOKUP(D1143,'2020'!$A$16:$G$150,2,FALSE)","v":"Tokio"},70,113,{"$f":"VLOOKUP(E1143,'2020'!$A$16:$G$150,2,FALSE)","v":"Vanda"},{"$f":"VLOOKUP(E1143,'2020'!$A$16:$G$150,3,FALSE)","v":"Zumofen / Gattlen"}]
["2020-06-19",{"$f":"VLOOKUP(D1144,'2020'!$A$16:$G$150,3,FALSE)","v":"Fux W., J., + Wyer Piet"},{"$f":"VLOOKUP(D1144,'2020'!$A$16:$G$150,2,FALSE)","v":"Bresil"},38,15,{"$f":"VLOOKUP(E1144,'2020'!$A$16:$G$150,2,FALSE)","v":"Cashida"},{"$f":"VLOOKUP(E1144,'2020'!$A$16:$G$150,3,FALSE)","v":"Bregy Ralf + Adolf"}]
["2020-06-19",{"$f":"VLOOKUP(D1145,'2020'!$A$16:$G$150,3,FALSE)","v":"Jäger Carlo"},{"$f":"VLOOKUP(D1145,'2020'!$A$16:$G$150,2,FALSE)","v":"Tokio"},70,119,{"$f":"VLOOKUP(E1145,'2020'!$A$16:$G$150,2,FALSE)","v":"Fayola"},{"$f":"VLOOKUP(E1145,'2020'!$A$16:$G$150,3,FALSE)","v":"Zumofen / Gattlen"}]
["2020-06-19",{"$f":"VLOOKUP(D1146,'2020'!$A$16:$G$150,3,FALSE)","v":"Fux W., J., + Wyer Piet"},{"$f":"VLOOKUP(D1146,'2020'!$A$16:$G$150,2,FALSE)","v":"Mystic"},41,25,{"$f":"VLOOKUP(E1146,'2020'!$A$16:$G$150,2,FALSE)","v":"Calette"},{"$f":"VLOOKUP(E1146,'2020'!$A$16:$G$150,3,FALSE)","v":"Bregy Uli + Pascal"}]
["2020-06-19",{"$f":"VLOOKUP(D1147,'2020'!$A$16:$G$150,3,FALSE)","v":"Stallung zum Stäg"},{"$f":"VLOOKUP(D1147,'2020'!$A$16:$G$150,2,FALSE)","v":"Benika"},87,25,{"$f":"VLOOKUP(E1147,'2020'!$A$16:$G$150,2,FALSE)","v":"Calette"},{"$f":"VLOOKUP(E1147,'2020'!$A$16:$G$150,3,FALSE)","v":"Bregy Uli + Pascal"}]
["2020-06-19",{"$f":"VLOOKUP(D1148,'2020'!$A$16:$G$150,3,FALSE)","v":"Jäger Carlo"},{"$f":"VLOOKUP(D1148,'2020'!$A$16:$G$150,2,FALSE)","v":"Tokio"},70,21,{"$f":"VLOOKUP(E1148,'2020'!$A$16:$G$150,2,FALSE)","v":"Bora"},{"$f":"VLOOKUP(E1148,'2020'!$A$16:$G$150,3,FALSE)","v":"Bregy Uli + Pascal"}]
["2020-06-19",{"$f":"VLOOKUP(D1149,'2020'!$A$16:$G$150,3,FALSE)","v":"Sewer R. + Thommen S."},{"$f":"VLOOKUP(D1149,'2020'!$A$16:$G$150,2,FALSE)","v":"Tiara"},89,16,{"$f":"VLOOKUP(E1149,'2020'!$A$16:$G$150,2,FALSE)","v":"Flacabre"},{"$f":"VLOOKUP(E1149,'2020'!$A$16:$G$150,3,FALSE)","v":"Bregy Ralf + Adolf"}]
["2020-06-19",{"$f":"VLOOKUP(D1150,'2020'!$A$16:$G$150,3,FALSE)","v":"Zumofen / Gattlen"},{"$f":"VLOOKUP(D1150,'2020'!$A$16:$G$150,2,FALSE)","v":"Violette"},108,98,{"$f":"VLOOKUP(E1150,'2020'!$A$16:$G$150,2,FALSE)","v":"Colonell"},{"$f":"VLOOKUP(E1150,'2020'!$A$16:$G$150,3,FALSE)","v":"Williner Anton"}]
["2020-06-19",{"$f":"VLOOKUP(D1151,'2020'!$A$16:$G$150,3,FALSE)","v":"Zumofen / Gattlen"},{"$f":"VLOOKUP(D1151,'2020'!$A$16:$G$150,2,FALSE)","v":"Violin"},107,55,{"$f":"VLOOKUP(E1151,'2020'!$A$16:$G$150,2,FALSE)","v":"Pelila"},{"$f":"VLOOKUP(E1151,'2020'!$A$16:$G$150,3,FALSE)","v":"Hischier Pius"}]
["2020-06-19",{"$f":"VLOOKUP(D1152,'2020'!$A$16:$G$150,3,FALSE)","v":"Bregy Uli + Pascal"},{"$f":"VLOOKUP(D1152,'2020'!$A$16:$G$150,2,FALSE)","v":"Pandora"},23,103,{"$f":"VLOOKUP(E1152,'2020'!$A$16:$G$150,2,FALSE)","v":"Roxana"},{"$f":"VLOOKUP(E1152,'2020'!$A$16:$G$150,3,FALSE)","v":"Wyssen Diego u. Madlen"}]
["2020-06-19",{"$f":"VLOOKUP(D1153,'2020'!$A$16:$G$150,3,FALSE)","v":"Jäger Carlo"},{"$f":"VLOOKUP(D1153,'2020'!$A$16:$G$150,2,FALSE)","v":"Candice"},62,83,{"$f":"VLOOKUP(E1153,'2020'!$A$16:$G$150,2,FALSE)","v":"Lijuba"},{"$f":"VLOOKUP(E1153,'2020'!$A$16:$G$150,3,FALSE)","v":"Amacker Joelle u. Sven"}]
["2020-06-19",{"$f":"VLOOKUP(D1154,'2020'!$A$16:$G$150,3,FALSE)","v":"Bregy Ralf + Adolf"},{"$f":"VLOOKUP(D1154,'2020'!$A$16:$G$150,2,FALSE)","v":"Canaille"},7,64,{"$f":"VLOOKUP(E1154,'2020'!$A$16:$G$150,2,FALSE)","v":"Sera"},{"$f":"VLOOKUP(E1154,'2020'!$A$16:$G$150,3,FALSE)","v":"Jäger Carlo"}]
["2020-06-19",{"$f":"VLOOKUP(D1155,'2020'!$A$16:$G$150,3,FALSE)","v":"Williner Anton"},{"$f":"VLOOKUP(D1155,'2020'!$A$16:$G$150,2,FALSE)","v":"Colonell"},98,9,{"$f":"VLOOKUP(E1155,'2020'!$A$16:$G$150,2,FALSE)","v":"Flacari"},{"$f":"VLOOKUP(E1155,'2020'!$A$16:$G$150,3,FALSE)","v":"Bregy Ralf + Adolf"}]
["2020-06-19",{"$f":"VLOOKUP(D1156,'2020'!$A$16:$G$150,3,FALSE)","v":"Williner Anton"},{"$f":"VLOOKUP(D1156,'2020'!$A$16:$G$150,2,FALSE)","v":"Tigra"},96,88,{"$f":"VLOOKUP(E1156,'2020'!$A$16:$G$150,2,FALSE)","v":"Malice"},{"$f":"VLOOKUP(E1156,'2020'!$A$16:$G$150,3,FALSE)","v":"Sewer R. + Thommen S."}]
["2020-06-19",{"$f":"VLOOKUP(D1157,'2020'!$A$16:$G$150,3,FALSE)","v":"Wyssen Diego u. Madlen"},{"$f":"VLOOKUP(D1157,'2020'!$A$16:$G$150,2,FALSE)","v":"Xhyla"},105,59,{"$f":"VLOOKUP(E1157,'2020'!$A$16:$G$150,2,FALSE)","v":"Maila"},{"$f":"VLOOKUP(E1157,'2020'!$A$16:$G$150,3,FALSE)","v":"Jäger Carlo"}]
["2020-06-19",{"$f":"VLOOKUP(D1158,'2020'!$A$16:$G$150,3,FALSE)","v":"Zumofen / Gattlen"},{"$f":"VLOOKUP(D1158,'2020'!$A$16:$G$150,2,FALSE)","v":"Riva "},112,19,{"$f":"VLOOKUP(E1158,'2020'!$A$16:$G$150,2,FALSE)","v":"Tiranie"},{"$f":"VLOOKUP(E1158,'2020'!$A$16:$G$150,3,FALSE)","v":"Bregy Uli + Pascal"}]
["2020-06-19",{"$f":"VLOOKUP(D1159,'2020'!$A$16:$G$150,3,FALSE)","v":"Jäger Carlo"},{"$f":"VLOOKUP(D1159,'2020'!$A$16:$G$150,2,FALSE)","v":"Maila"},59,13,{"$f":"VLOOKUP(E1159,'2020'!$A$16:$G$150,2,FALSE)","v":"Tequilla"},{"$f":"VLOOKUP(E1159,'2020'!$A$16:$G$150,3,FALSE)","v":"Bregy Silvan + Patrick"}]
["2020-06-19",{"$f":"VLOOKUP(D1160,'2020'!$A$16:$G$150,3,FALSE)","v":"Zumofen / Gattlen"},{"$f":"VLOOKUP(D1160,'2020'!$A$16:$G$150,2,FALSE)","v":"Riva "},112,25,{"$f":"VLOOKUP(E1160,'2020'!$A$16:$G$150,2,FALSE)","v":"Calette"},{"$f":"VLOOKUP(E1160,'2020'!$A$16:$G$150,3,FALSE)","v":"Bregy Uli + Pascal"}]
["2020-06-19",{"$f":"VLOOKUP(D1161,'2020'!$A$16:$G$150,3,FALSE)","v":"Gebr. Jäger"},{"$f":"VLOOKUP(D1161,'2020'!$A$16:$G$150,2,FALSE)","v":"Dorina"},44,112,{"$f":"VLOOKUP(E1161,'2020'!$A$16:$G$150,2,FALSE)","v":"Riva "},{"$f":"VLOOKUP(E1161,'2020'!$A$16:$G$150,3,FALSE)","v":"Zumofen / Gattlen"}]
["2020-06-19",{"$f":"VLOOKUP(D1162,'2020'!$A$16:$G$150,3,FALSE)","v":"Bayard Medard + Gustav"},{"$f":"VLOOKUP(D1162,'2020'!$A$16:$G$150,2,FALSE)","v":"Pandera"},5,40,{"$f":"VLOOKUP(E1162,'2020'!$A$16:$G$150,2,FALSE)","v":"Toscana"},{"$f":"VLOOKUP(E1162,'2020'!$A$16:$G$150,3,FALSE)","v":"Fux W., J., + Wyer Piet"}]
["2020-06-19",{"$f":"VLOOKUP(D1163,'2020'!$A$16:$G$150,3,FALSE)","v":"Zumofen / Gattlen"},{"$f":"VLOOKUP(D1163,'2020'!$A$16:$G$150,2,FALSE)","v":"Violin"},107,82,{"$f":"VLOOKUP(E1163,'2020'!$A$16:$G$150,2,FALSE)","v":"Bonita"},{"$f":"VLOOKUP(E1163,'2020'!$A$16:$G$150,3,FALSE)","v":"Stallung Passeraub "}]
["2020-06-19",{"$f":"VLOOKUP(D1164,'2020'!$A$16:$G$150,3,FALSE)","v":"Jäger Carlo"},{"$f":"VLOOKUP(D1164,'2020'!$A$16:$G$150,2,FALSE)","v":"Pisa"},63,19,{"$f":"VLOOKUP(E1164,'2020'!$A$16:$G$150,2,FALSE)","v":"Tiranie"},{"$f":"VLOOKUP(E1164,'2020'!$A$16:$G$150,3,FALSE)","v":"Bregy Uli + Pascal"}]
["2020-06-19",{"$f":"VLOOKUP(D1165,'2020'!$A$16:$G$150,3,FALSE)","v":"Sewer R. + Thommen S."},{"$f":"VLOOKUP(D1165,'2020'!$A$16:$G$150,2,FALSE)","v":"Bolera"},91,14,{"$f":"VLOOKUP(E1165,'2020'!$A$16:$G$150,2,FALSE)","v":"Canabis"},{"$f":"VLOOKUP(E1165,'2020'!$A$16:$G$150,3,FALSE)","v":"Bregy Ralf + Adolf"}]
["2020-06-19",{"$f":"VLOOKUP(D1166,'2020'!$A$16:$G$150,3,FALSE)","v":"Jäger Carlo"},{"$f":"VLOOKUP(D1166,'2020'!$A$16:$G$150,2,FALSE)","v":"Promise"},57,21,{"$f":"VLOOKUP(E1166,'2020'!$A$16:$G$150,2,FALSE)","v":"Bora"},{"$f":"VLOOKUP(E1166,'2020'!$A$16:$G$150,3,FALSE)","v":"Bregy Uli + Pascal"}]
["2020-06-19",{"$f":"VLOOKUP(D1167,'2020'!$A$16:$G$150,3,FALSE)","v":"Bayard Medard + Gustav"},{"$f":"VLOOKUP(D1167,'2020'!$A$16:$G$150,2,FALSE)","v":"Venus"},6,35,{"$f":"VLOOKUP(E1167,'2020'!$A$16:$G$150,2,FALSE)","v":"Valaisanne"},{"$f":"VLOOKUP(E1167,'2020'!$A$16:$G$150,3,FALSE)","v":"Fux W., J., + Wyer Piet"}]
["2020-06-19",{"$f":"VLOOKUP(D1168,'2020'!$A$16:$G$150,3,FALSE)","v":"Fux W., J., + Wyer Piet"},{"$f":"VLOOKUP(D1168,'2020'!$A$16:$G$150,2,FALSE)","v":"Baquera"},33,89,{"$f":"VLOOKUP(E1168,'2020'!$A$16:$G$150,2,FALSE)","v":"Tiara"},{"$f":"VLOOKUP(E1168,'2020'!$A$16:$G$150,3,FALSE)","v":"Sewer R. + Thommen S."}]
["2020-06-19",{"$f":"VLOOKUP(D1169,'2020'!$A$16:$G$150,3,FALSE)","v":"Stallung zum Stäg"},{"$f":"VLOOKUP(D1169,'2020'!$A$16:$G$150,2,FALSE)","v":"Benika"},87,15,{"$f":"VLOOKUP(E1169,'2020'!$A$16:$G$150,2,FALSE)","v":"Cashida"},{"$f":"VLOOKUP(E1169,'2020'!$A$16:$G$150,3,FALSE)","v":"Bregy Ralf + Adolf"}]
["2020-06-19",{"$f":"VLOOKUP(D1170,'2020'!$A$16:$G$150,3,FALSE)","v":"Bregy Silvan + Patrick"},{"$f":"VLOOKUP(D1170,'2020'!$A$16:$G$150,2,FALSE)","v":"Tequilla"},13,20,{"$f":"VLOOKUP(E1170,'2020'!$A$16:$G$150,2,FALSE)","v":"Caline"},{"$f":"VLOOKUP(E1170,'2020'!$A$16:$G$150,3,FALSE)","v":"Bregy Uli + Pascal"}]
["2020-06-19",{"$f":"VLOOKUP(D1171,'2020'!$A$16:$G$150,3,FALSE)","v":"Jäger Carlo"},{"$f":"VLOOKUP(D1171,'2020'!$A$16:$G$150,2,FALSE)","v":"Tokio"},70,19,{"$f":"VLOOKUP(E1171,'2020'!$A$16:$G$150,2,FALSE)","v":"Tiranie"},{"$f":"VLOOKUP(E1171,'2020'!$A$16:$G$150,3,FALSE)","v":"Bregy Uli + Pascal"}]
["2020-06-19",{"$f":"VLOOKUP(D1172,'2020'!$A$16:$G$150,3,FALSE)","v":"Hischier Pius"},{"$f":"VLOOKUP(D1172,'2020'!$A$16:$G$150,2,FALSE)","v":"Pelila"},55,89,{"$f":"VLOOKUP(E1172,'2020'!$A$16:$G$150,2,FALSE)","v":"Tiara"},{"$f":"VLOOKUP(E1172,'2020'!$A$16:$G$150,3,FALSE)","v":"Sewer R. + Thommen S."}]
["2020-06-19",{"$f":"VLOOKUP(D1173,'2020'!$A$16:$G$150,3,FALSE)","v":"Zumofen / Gattlen"},{"$f":"VLOOKUP(D1173,'2020'!$A$16:$G$150,2,FALSE)","v":"Pinoccio"},116,44,{"$f":"VLOOKUP(E1173,'2020'!$A$16:$G$150,2,FALSE)","v":"Dorina"},{"$f":"VLOOKUP(E1173,'2020'!$A$16:$G$150,3,FALSE)","v":"Gebr. Jäger"}]
["2020-06-19",{"$f":"VLOOKUP(D1174,'2020'!$A$16:$G$150,3,FALSE)","v":"Zumofen / Gattlen"},{"$f":"VLOOKUP(D1174,'2020'!$A$16:$G$150,2,FALSE)","v":"Pinoccio"},116,47,{"$f":"VLOOKUP(E1174,'2020'!$A$16:$G$150,2,FALSE)","v":"Tiara"},{"$f":"VLOOKUP(E1174,'2020'!$A$16:$G$150,3,FALSE)","v":"Gebr. Jäger"}]
["2020-06-18",{"$f":"VLOOKUP(D1175,'2020'!$A$16:$G$150,3,FALSE)","v":"Jäger Carlo"},{"$f":"VLOOKUP(D1175,'2020'!$A$16:$G$150,2,FALSE)","v":"Sera"},64,41,{"$f":"VLOOKUP(E1175,'2020'!$A$16:$G$150,2,FALSE)","v":"Mystic"},{"$f":"VLOOKUP(E1175,'2020'!$A$16:$G$150,3,FALSE)","v":"Fux W., J., + Wyer Piet"}]
["2020-06-18",{"$f":"VLOOKUP(D1176,'2020'!$A$16:$G$150,3,FALSE)","v":"Mathieu Leander + S."},{"$f":"VLOOKUP(D1176,'2020'!$A$16:$G$150,2,FALSE)","v":"Bavaria"},73,77,{"$f":"VLOOKUP(E1176,'2020'!$A$16:$G$150,2,FALSE)","v":"Beres"},{"$f":"VLOOKUP(E1176,'2020'!$A$16:$G$150,3,FALSE)","v":"Stallung Passeraub"}]
["2020-06-18",{"$f":"VLOOKUP(D1177,'2020'!$A$16:$G$150,3,FALSE)","v":"Wyssen Diego u. Madlen"},{"$f":"VLOOKUP(D1177,'2020'!$A$16:$G$150,2,FALSE)","v":"Rasta"},102,25,{"$f":"VLOOKUP(E1177,'2020'!$A$16:$G$150,2,FALSE)","v":"Calette"},{"$f":"VLOOKUP(E1177,'2020'!$A$16:$G$150,3,FALSE)","v":"Bregy Uli + Pascal"}]
["2020-06-18",{"$f":"VLOOKUP(D1178,'2020'!$A$16:$G$150,3,FALSE)","v":"Mathieu Leander + S."},{"$f":"VLOOKUP(D1178,'2020'!$A$16:$G$150,2,FALSE)","v":"Baghira"},71,62,{"$f":"VLOOKUP(E1178,'2020'!$A$16:$G$150,2,FALSE)","v":"Candice"},{"$f":"VLOOKUP(E1178,'2020'!$A$16:$G$150,3,FALSE)","v":"Jäger Carlo"}]
["2020-06-18",{"$f":"VLOOKUP(D1179,'2020'!$A$16:$G$150,3,FALSE)","v":"Bregy Ralf + Adolf"},{"$f":"VLOOKUP(D1179,'2020'!$A$16:$G$150,2,FALSE)","v":"Cashida"},15,43,{"$f":"VLOOKUP(E1179,'2020'!$A$16:$G$150,2,FALSE)","v":"Pampère"},{"$f":"VLOOKUP(E1179,'2020'!$A$16:$G$150,3,FALSE)","v":"Fux W., J., + Wyer Piet"}]
["2020-06-18",{"$f":"VLOOKUP(D1180,'2020'!$A$16:$G$150,3,FALSE)","v":"Fux W., J., + Wyer Piet"},{"$f":"VLOOKUP(D1180,'2020'!$A$16:$G$150,2,FALSE)","v":"Pampère"},43,2,{"$f":"VLOOKUP(E1180,'2020'!$A$16:$G$150,2,FALSE)","v":"Fantastic"},{"$f":"VLOOKUP(E1180,'2020'!$A$16:$G$150,3,FALSE)","v":"Bayard Medard + Gustav"}]
["2020-06-18",{"$f":"VLOOKUP(D1181,'2020'!$A$16:$G$150,3,FALSE)","v":"Bayard Medard + Gustav"},{"$f":"VLOOKUP(D1181,'2020'!$A$16:$G$150,2,FALSE)","v":"Venus"},6,43,{"$f":"VLOOKUP(E1181,'2020'!$A$16:$G$150,2,FALSE)","v":"Pampère"},{"$f":"VLOOKUP(E1181,'2020'!$A$16:$G$150,3,FALSE)","v":"Fux W., J., + Wyer Piet"}]
["2020-06-18",{"$f":"VLOOKUP(D1182,'2020'!$A$16:$G$150,3,FALSE)","v":"Fux W., J., + Wyer Piet"},{"$f":"VLOOKUP(D1182,'2020'!$A$16:$G$150,2,FALSE)","v":"Bresil"},38,69,{"$f":"VLOOKUP(E1182,'2020'!$A$16:$G$150,2,FALSE)","v":"Taverne"},{"$f":"VLOOKUP(E1182,'2020'!$A$16:$G$150,3,FALSE)","v":"Jäger Carlo"}]
["2020-06-18",{"$f":"VLOOKUP(D1183,'2020'!$A$16:$G$150,3,FALSE)","v":"Fux W., J., + Wyer Piet"},{"$f":"VLOOKUP(D1183,'2020'!$A$16:$G$150,2,FALSE)","v":"Baquera"},33,93,{"$f":"VLOOKUP(E1183,'2020'!$A$16:$G$150,2,FALSE)","v":"Carolin"},{"$f":"VLOOKUP(E1183,'2020'!$A$16:$G$150,3,FALSE)","v":"Tscherry E. + B."}]
["2020-06-18",{"$f":"VLOOKUP(D1184,'2020'!$A$16:$G$150,3,FALSE)","v":"Fam. Leiggener"},{"$f":"VLOOKUP(D1184,'2020'!$A$16:$G$150,2,FALSE)","v":"Baron"},31,90,{"$f":"VLOOKUP(E1184,'2020'!$A$16:$G$150,2,FALSE)","v":"Biscot"},{"$f":"VLOOKUP(E1184,'2020'!$A$16:$G$150,3,FALSE)","v":"Sewer R. + Thommen S."}]
["2020-06-18",{"$f":"VLOOKUP(D1185,'2020'!$A$16:$G$150,3,FALSE)","v":"Bregy Silvan + Patrick"},{"$f":"VLOOKUP(D1185,'2020'!$A$16:$G$150,2,FALSE)","v":"Tequilla"},13,81,{"$f":"VLOOKUP(E1185,'2020'!$A$16:$G$150,2,FALSE)","v":"Medusa"},{"$f":"VLOOKUP(E1185,'2020'!$A$16:$G$150,3,FALSE)","v":"Stallung Passeraub "}]
["2020-06-18",{"$f":"VLOOKUP(D1186,'2020'!$A$16:$G$150,3,FALSE)","v":"Bregy Ralf + Adolf"},{"$f":"VLOOKUP(D1186,'2020'!$A$16:$G$150,2,FALSE)","v":"Canaille"},7,109,{"$f":"VLOOKUP(E1186,'2020'!$A$16:$G$150,2,FALSE)","v":"Rena"},{"$f":"VLOOKUP(E1186,'2020'!$A$16:$G$150,3,FALSE)","v":"Zumofen / Gattlen"}]
["2020-06-18",{"$f":"VLOOKUP(D1187,'2020'!$A$16:$G$150,3,FALSE)","v":"Bregy Uli + Pascal"},{"$f":"VLOOKUP(D1187,'2020'!$A$16:$G$150,2,FALSE)","v":"Tiranie"},19,114,{"$f":"VLOOKUP(E1187,'2020'!$A$16:$G$150,2,FALSE)","v":"Maya"},{"$f":"VLOOKUP(E1187,'2020'!$A$16:$G$150,3,FALSE)","v":"Zumofen / Gattlen"}]
["2020-06-18",{"$f":"VLOOKUP(D1188,'2020'!$A$16:$G$150,3,FALSE)","v":"Jäger Carlo"},{"$f":"VLOOKUP(D1188,'2020'!$A$16:$G$150,2,FALSE)","v":"Bayonne"},60,79,{"$f":"VLOOKUP(E1188,'2020'!$A$16:$G$150,2,FALSE)","v":"Marla"},{"$f":"VLOOKUP(E1188,'2020'!$A$16:$G$150,3,FALSE)","v":"Stallung Passeraub "}]
["2020-06-18",{"$f":"VLOOKUP(D1189,'2020'!$A$16:$G$150,3,FALSE)","v":"Bregy Ralf + Adolf"},{"$f":"VLOOKUP(D1189,'2020'!$A$16:$G$150,2,FALSE)","v":"Canaille"},7,33,{"$f":"VLOOKUP(E1189,'2020'!$A$16:$G$150,2,FALSE)","v":"Baquera"},{"$f":"VLOOKUP(E1189,'2020'!$A$16:$G$150,3,FALSE)","v":"Fux W., J., + Wyer Piet"}]
["2020-06-18",{"$f":"VLOOKUP(D1190,'2020'!$A$16:$G$150,3,FALSE)","v":"Bregy Ralf + Adolf"},{"$f":"VLOOKUP(D1190,'2020'!$A$16:$G$150,2,FALSE)","v":"Diabolo"},10,111,{"$f":"VLOOKUP(E1190,'2020'!$A$16:$G$150,2,FALSE)","v":"Vidona"},{"$f":"VLOOKUP(E1190,'2020'!$A$16:$G$150,3,FALSE)","v":"Zumofen / Gattlen"}]
["2020-06-18",{"$f":"VLOOKUP(D1191,'2020'!$A$16:$G$150,3,FALSE)","v":"Bregy Uli + Pascal"},{"$f":"VLOOKUP(D1191,'2020'!$A$16:$G$150,2,FALSE)","v":"Bora"},21,64,{"$f":"VLOOKUP(E1191,'2020'!$A$16:$G$150,2,FALSE)","v":"Sera"},{"$f":"VLOOKUP(E1191,'2020'!$A$16:$G$150,3,FALSE)","v":"Jäger Carlo"}]
["2020-06-18",{"$f":"VLOOKUP(D1192,'2020'!$A$16:$G$150,3,FALSE)","v":"Zumofen / Gattlen"},{"$f":"VLOOKUP(D1192,'2020'!$A$16:$G$150,2,FALSE)","v":"Vanda"},113,29,{"$f":"VLOOKUP(E1192,'2020'!$A$16:$G$150,2,FALSE)","v":"Rebell"},{"$f":"VLOOKUP(E1192,'2020'!$A$16:$G$150,3,FALSE)","v":"Fam. Leiggener"}]
["2020-06-18",{"$f":"VLOOKUP(D1193,'2020'!$A$16:$G$150,3,FALSE)","v":"Jäger Carlo"},{"$f":"VLOOKUP(D1193,'2020'!$A$16:$G$150,2,FALSE)","v":"Bayonne"},60,94,{"$f":"VLOOKUP(E1193,'2020'!$A$16:$G$150,2,FALSE)","v":"Cobra"},{"$f":"VLOOKUP(E1193,'2020'!$A$16:$G$150,3,FALSE)","v":"Tscherry E. + B."}]
["2020-06-18",{"$f":"VLOOKUP(D1194,'2020'!$A$16:$G$150,3,FALSE)","v":"Fam. Leiggener"},{"$f":"VLOOKUP(D1194,'2020'!$A$16:$G$150,2,FALSE)","v":"Bulle"},30,35,{"$f":"VLOOKUP(E1194,'2020'!$A$16:$G$150,2,FALSE)","v":"Valaisanne"},{"$f":"VLOOKUP(E1194,'2020'!$A$16:$G$150,3,FALSE)","v":"Fux W., J., + Wyer Piet"}]
["2020-06-18",{"$f":"VLOOKUP(D1195,'2020'!$A$16:$G$150,3,FALSE)","v":"Tscherry E. + B."},{"$f":"VLOOKUP(D1195,'2020'!$A$16:$G$150,2,FALSE)","v":"Cobra"},94,64,{"$f":"VLOOKUP(E1195,'2020'!$A$16:$G$150,2,FALSE)","v":"Sera"},{"$f":"VLOOKUP(E1195,'2020'!$A$16:$G$150,3,FALSE)","v":"Jäger Carlo"}]
["2020-06-18",{"$f":"VLOOKUP(D1196,'2020'!$A$16:$G$150,3,FALSE)","v":"Bayard Medard + Gustav"},{"$f":"VLOOKUP(D1196,'2020'!$A$16:$G$150,2,FALSE)","v":"Priska"},3,28,{"$f":"VLOOKUP(E1196,'2020'!$A$16:$G$150,2,FALSE)","v":"Corona"},{"$f":"VLOOKUP(E1196,'2020'!$A$16:$G$150,3,FALSE)","v":"Bregy Uli + Pascal"}]
["2020-06-18",{"$f":"VLOOKUP(D1197,'2020'!$A$16:$G$150,3,FALSE)","v":"Bregy Ralf + Adolf"},{"$f":"VLOOKUP(D1197,'2020'!$A$16:$G$150,2,FALSE)","v":"Canabis"},14,86,{"$f":"VLOOKUP(E1197,'2020'!$A$16:$G$150,2,FALSE)","v":"Babylon"},{"$f":"VLOOKUP(E1197,'2020'!$A$16:$G$150,3,FALSE)","v":"Stallung zum Stäg"}]
["2020-06-18",{"$f":"VLOOKUP(D1198,'2020'!$A$16:$G$150,3,FALSE)","v":"Fux W., J., + Wyer Piet"},{"$f":"VLOOKUP(D1198,'2020'!$A$16:$G$150,2,FALSE)","v":"Bresil"},38,60,{"$f":"VLOOKUP(E1198,'2020'!$A$16:$G$150,2,FALSE)","v":"Bayonne"},{"$f":"VLOOKUP(E1198,'2020'!$A$16:$G$150,3,FALSE)","v":"Jäger Carlo"}]
["2020-06-18",{"$f":"VLOOKUP(D1199,'2020'!$A$16:$G$150,3,FALSE)","v":"Stallung Passeraub "},{"$f":"VLOOKUP(D1199,'2020'!$A$16:$G$150,2,FALSE)","v":"Bonita"},82,35,{"$f":"VLOOKUP(E1199,'2020'!$A$16:$G$150,2,FALSE)","v":"Valaisanne"},{"$f":"VLOOKUP(E1199,'2020'!$A$16:$G$150,3,FALSE)","v":"Fux W., J., + Wyer Piet"}]
["2020-06-18",{"$f":"VLOOKUP(D1200,'2020'!$A$16:$G$150,3,FALSE)","v":"Williner Anton"},{"$f":"VLOOKUP(D1200,'2020'!$A$16:$G$150,2,FALSE)","v":"Vivana"},95,44,{"$f":"VLOOKUP(E1200,'2020'!$A$16:$G$150,2,FALSE)","v":"Dorina"},{"$f":"VLOOKUP(E1200,'2020'!$A$16:$G$150,3,FALSE)","v":"Gebr. Jäger"}]
["2020-06-18",{"$f":"VLOOKUP(D1201,'2020'!$A$16:$G$150,3,FALSE)","v":"Bregy Uli + Pascal"},{"$f":"VLOOKUP(D1201,'2020'!$A$16:$G$150,2,FALSE)","v":"Pandora"},23,11,{"$f":"VLOOKUP(E1201,'2020'!$A$16:$G$150,2,FALSE)","v":"Carcas"},{"$f":"VLOOKUP(E1201,'2020'!$A$16:$G$150,3,FALSE)","v":"Bregy Ralf + Adolf"}]
["2020-06-18",{"$f":"VLOOKUP(D1202,'2020'!$A$16:$G$150,3,FALSE)","v":"Wyssen Diego u. Madlen"},{"$f":"VLOOKUP(D1202,'2020'!$A$16:$G$150,2,FALSE)","v":"Xandria"},101,40,{"$f":"VLOOKUP(E1202,'2020'!$A$16:$G$150,2,FALSE)","v":"Toscana"},{"$f":"VLOOKUP(E1202,'2020'!$A$16:$G$150,3,FALSE)","v":"Fux W., J., + Wyer Piet"}]
["2020-06-18",{"$f":"VLOOKUP(D1203,'2020'!$A$16:$G$150,3,FALSE)","v":"Jäger Carlo"},{"$f":"VLOOKUP(D1203,'2020'!$A$16:$G$150,2,FALSE)","v":"Sera"},64,39,{"$f":"VLOOKUP(E1203,'2020'!$A$16:$G$150,2,FALSE)","v":"Bacardi"},{"$f":"VLOOKUP(E1203,'2020'!$A$16:$G$150,3,FALSE)","v":"Fux W., J., + Wyer Piet"}]
["2020-06-18",{"$f":"VLOOKUP(D1204,'2020'!$A$16:$G$150,3,FALSE)","v":"Jäger Carlo"},{"$f":"VLOOKUP(D1204,'2020'!$A$16:$G$150,2,FALSE)","v":"Pivoine"},68,52,{"$f":"VLOOKUP(E1204,'2020'!$A$16:$G$150,2,FALSE)","v":"Lenja"},{"$f":"VLOOKUP(E1204,'2020'!$A$16:$G$150,3,FALSE)","v":"Hischier H. + Bühlmann J."}]
["2020-06-18",{"$f":"VLOOKUP(D1205,'2020'!$A$16:$G$150,3,FALSE)","v":"Fux W., J., + Wyer Piet"},{"$f":"VLOOKUP(D1205,'2020'!$A$16:$G$150,2,FALSE)","v":"Toscana"},40,15,{"$f":"VLOOKUP(E1205,'2020'!$A$16:$G$150,2,FALSE)","v":"Cashida"},{"$f":"VLOOKUP(E1205,'2020'!$A$16:$G$150,3,FALSE)","v":"Bregy Ralf + Adolf"}]
["2020-06-18",{"$f":"VLOOKUP(D1206,'2020'!$A$16:$G$150,3,FALSE)","v":"Jäger Carlo"},{"$f":"VLOOKUP(D1206,'2020'!$A$16:$G$150,2,FALSE)","v":"Candice"},62,56,{"$f":"VLOOKUP(E1206,'2020'!$A$16:$G$150,2,FALSE)","v":"Shakira"},{"$f":"VLOOKUP(E1206,'2020'!$A$16:$G$150,3,FALSE)","v":"Hischier Pius"}]
["2020-06-18",{"$f":"VLOOKUP(D1207,'2020'!$A$16:$G$150,3,FALSE)","v":"Bregy Ralf + Adolf"},{"$f":"VLOOKUP(D1207,'2020'!$A$16:$G$150,2,FALSE)","v":"Canabis"},14,72,{"$f":"VLOOKUP(E1207,'2020'!$A$16:$G$150,2,FALSE)","v":"Baronesse"},{"$f":"VLOOKUP(E1207,'2020'!$A$16:$G$150,3,FALSE)","v":"Mathieu Leander + S."}]
["2020-06-18",{"$f":"VLOOKUP(D1208,'2020'!$A$16:$G$150,3,FALSE)","v":"Bregy Ralf + Adolf"},{"$f":"VLOOKUP(D1208,'2020'!$A$16:$G$150,2,FALSE)","v":"Canabis"},14,114,{"$f":"VLOOKUP(E1208,'2020'!$A$16:$G$150,2,FALSE)","v":"Maya"},{"$f":"VLOOKUP(E1208,'2020'!$A$16:$G$150,3,FALSE)","v":"Zumofen / Gattlen"}]
["2020-06-18",{"$f":"VLOOKUP(D1209,'2020'!$A$16:$G$150,3,FALSE)","v":"Bayard Medard + Gustav"},{"$f":"VLOOKUP(D1209,'2020'!$A$16:$G$150,2,FALSE)","v":"Diabolo"},1,16,{"$f":"VLOOKUP(E1209,'2020'!$A$16:$G$150,2,FALSE)","v":"Flacabre"},{"$f":"VLOOKUP(E1209,'2020'!$A$16:$G$150,3,FALSE)","v":"Bregy Ralf + Adolf"}]
["2020-06-18",{"$f":"VLOOKUP(D1210,'2020'!$A$16:$G$150,3,FALSE)","v":"Wyssen Diego u. Madlen"},{"$f":"VLOOKUP(D1210,'2020'!$A$16:$G$150,2,FALSE)","v":"Xhyla"},105,99,{"$f":"VLOOKUP(E1210,'2020'!$A$16:$G$150,2,FALSE)","v":"Diva"},{"$f":"VLOOKUP(E1210,'2020'!$A$16:$G$150,3,FALSE)","v":"Williner Anton"}]
["2020-06-18",{"$f":"VLOOKUP(D1211,'2020'!$A$16:$G$150,3,FALSE)","v":"Jäger Carlo"},{"$f":"VLOOKUP(D1211,'2020'!$A$16:$G$150,2,FALSE)","v":"Candice"},62,114,{"$f":"VLOOKUP(E1211,'2020'!$A$16:$G$150,2,FALSE)","v":"Maya"},{"$f":"VLOOKUP(E1211,'2020'!$A$16:$G$150,3,FALSE)","v":"Zumofen / Gattlen"}]
["2020-06-18",{"$f":"VLOOKUP(D1212,'2020'!$A$16:$G$150,3,FALSE)","v":"Wyssen Diego u. Madlen"},{"$f":"VLOOKUP(D1212,'2020'!$A$16:$G$150,2,FALSE)","v":"Xhyla"},105,2,{"$f":"VLOOKUP(E1212,'2020'!$A$16:$G$150,2,FALSE)","v":"Fantastic"},{"$f":"VLOOKUP(E1212,'2020'!$A$16:$G$150,3,FALSE)","v":"Bayard Medard + Gustav"}]
["2020-06-18",{"$f":"VLOOKUP(D1213,'2020'!$A$16:$G$150,3,FALSE)","v":"Bregy Uli + Pascal"},{"$f":"VLOOKUP(D1213,'2020'!$A$16:$G$150,2,FALSE)","v":"Pandora"},23,14,{"$f":"VLOOKUP(E1213,'2020'!$A$16:$G$150,2,FALSE)","v":"Canabis"},{"$f":"VLOOKUP(E1213,'2020'!$A$16:$G$150,3,FALSE)","v":"Bregy Ralf + Adolf"}]
["2020-06-18",{"$f":"VLOOKUP(D1214,'2020'!$A$16:$G$150,3,FALSE)","v":"Wyssen Diego u. Madlen"},{"$f":"VLOOKUP(D1214,'2020'!$A$16:$G$150,2,FALSE)","v":"Rasta"},102,114,{"$f":"VLOOKUP(E1214,'2020'!$A$16:$G$150,2,FALSE)","v":"Maya"},{"$f":"VLOOKUP(E1214,'2020'!$A$16:$G$150,3,FALSE)","v":"Zumofen / Gattlen"}]
["2020-06-18",{"$f":"VLOOKUP(D1215,'2020'!$A$16:$G$150,3,FALSE)","v":"Jäger Carlo"},{"$f":"VLOOKUP(D1215,'2020'!$A$16:$G$150,2,FALSE)","v":"Sera"},64,16,{"$f":"VLOOKUP(E1215,'2020'!$A$16:$G$150,2,FALSE)","v":"Flacabre"},{"$f":"VLOOKUP(E1215,'2020'!$A$16:$G$150,3,FALSE)","v":"Bregy Ralf + Adolf"}]
["2020-06-18",{"$f":"VLOOKUP(D1216,'2020'!$A$16:$G$150,3,FALSE)","v":"Williner Anton"},{"$f":"VLOOKUP(D1216,'2020'!$A$16:$G$150,2,FALSE)","v":"Tira"},100,75,{"$f":"VLOOKUP(E1216,'2020'!$A$16:$G$150,2,FALSE)","v":"Bonita"},{"$f":"VLOOKUP(E1216,'2020'!$A$16:$G$150,3,FALSE)","v":"Mathieu Leander + S."}]
["2020-06-18",{"$f":"VLOOKUP(D1217,'2020'!$A$16:$G$150,3,FALSE)","v":"Wyssen Diego u. Madlen"},{"$f":"VLOOKUP(D1217,'2020'!$A$16:$G$150,2,FALSE)","v":"Rasta"},102,23,{"$f":"VLOOKUP(E1217,'2020'!$A$16:$G$150,2,FALSE)","v":"Pandora"},{"$f":"VLOOKUP(E1217,'2020'!$A$16:$G$150,3,FALSE)","v":"Bregy Uli + Pascal"}]
["2020-06-18",{"$f":"VLOOKUP(D1218,'2020'!$A$16:$G$150,3,FALSE)","v":"Wyssen Diego u. Madlen"},{"$f":"VLOOKUP(D1218,'2020'!$A$16:$G$150,2,FALSE)","v":"Xena"},104,41,{"$f":"VLOOKUP(E1218,'2020'!$A$16:$G$150,2,FALSE)","v":"Mystic"},{"$f":"VLOOKUP(E1218,'2020'!$A$16:$G$150,3,FALSE)","v":"Fux W., J., + Wyer Piet"}]
["2020-06-18",{"$f":"VLOOKUP(D1219,'2020'!$A$16:$G$150,3,FALSE)","v":"Wyssen Diego u. Madlen"},{"$f":"VLOOKUP(D1219,'2020'!$A$16:$G$150,2,FALSE)","v":"Xhyla"},105,10,{"$f":"VLOOKUP(E1219,'2020'!$A$16:$G$150,2,FALSE)","v":"Diabolo"},{"$f":"VLOOKUP(E1219,'2020'!$A$16:$G$150,3,FALSE)","v":"Bregy Ralf + Adolf"}]
["2020-06-18",{"$f":"VLOOKUP(D1220,'2020'!$A$16:$G$150,3,FALSE)","v":"Jäger Carlo"},{"$f":"VLOOKUP(D1220,'2020'!$A$16:$G$150,2,FALSE)","v":"Pivoine"},68,62,{"$f":"VLOOKUP(E1220,'2020'!$A$16:$G$150,2,FALSE)","v":"Candice"},{"$f":"VLOOKUP(E1220,'2020'!$A$16:$G$150,3,FALSE)","v":"Jäger Carlo"}]
["2020-06-17",{"$f":"VLOOKUP(D1221,'2020'!$A$16:$G$150,3,FALSE)","v":"Bregy Uli + Pascal"},{"$f":"VLOOKUP(D1221,'2020'!$A$16:$G$150,2,FALSE)","v":"Murphy"},27,33,{"$f":"VLOOKUP(E1221,'2020'!$A$16:$G$150,2,FALSE)","v":"Baquera"},{"$f":"VLOOKUP(E1221,'2020'!$A$16:$G$150,3,FALSE)","v":"Fux W., J., + Wyer Piet"}]
["2020-06-17",{"$f":"VLOOKUP(D1222,'2020'!$A$16:$G$150,3,FALSE)","v":"Jäger Carlo"},{"$f":"VLOOKUP(D1222,'2020'!$A$16:$G$150,2,FALSE)","v":"Sera"},64,80,{"$f":"VLOOKUP(E1222,'2020'!$A$16:$G$150,2,FALSE)","v":"Manou"},{"$f":"VLOOKUP(E1222,'2020'!$A$16:$G$150,3,FALSE)","v":"Stallung Passeraub "}]
["2020-06-17",{"$f":"VLOOKUP(D1223,'2020'!$A$16:$G$150,3,FALSE)","v":"Fux W., J., + Wyer Piet"},{"$f":"VLOOKUP(D1223,'2020'!$A$16:$G$150,2,FALSE)","v":"Pampère"},43,2,{"$f":"VLOOKUP(E1223,'2020'!$A$16:$G$150,2,FALSE)","v":"Fantastic"},{"$f":"VLOOKUP(E1223,'2020'!$A$16:$G$150,3,FALSE)","v":"Bayard Medard + Gustav"}]
["2020-06-17",{"$f":"VLOOKUP(D1224,'2020'!$A$16:$G$150,3,FALSE)","v":"Hischier Pius"},{"$f":"VLOOKUP(D1224,'2020'!$A$16:$G$150,2,FALSE)","v":"Pablo"},54,34,{"$f":"VLOOKUP(E1224,'2020'!$A$16:$G$150,2,FALSE)","v":"Souris"},{"$f":"VLOOKUP(E1224,'2020'!$A$16:$G$150,3,FALSE)","v":"Fux W., J., + Wyer Piet"}]
["2020-06-17",{"$f":"VLOOKUP(D1225,'2020'!$A$16:$G$150,3,FALSE)","v":"Stallung Passeraub"},{"$f":"VLOOKUP(D1225,'2020'!$A$16:$G$150,2,FALSE)","v":"Beres"},77,60,{"$f":"VLOOKUP(E1225,'2020'!$A$16:$G$150,2,FALSE)","v":"Bayonne"},{"$f":"VLOOKUP(E1225,'2020'!$A$16:$G$150,3,FALSE)","v":"Jäger Carlo"}]
["2020-06-17",{"$f":"VLOOKUP(D1226,'2020'!$A$16:$G$150,3,FALSE)","v":"Wyssen Diego u. Madlen"},{"$f":"VLOOKUP(D1226,'2020'!$A$16:$G$150,2,FALSE)","v":"Xandria"},101,76,{"$f":"VLOOKUP(E1226,'2020'!$A$16:$G$150,2,FALSE)","v":"Babylon"},{"$f":"VLOOKUP(E1226,'2020'!$A$16:$G$150,3,FALSE)","v":"Mathieu Leander + S."}]
["2020-06-17",{"$f":"VLOOKUP(D1227,'2020'!$A$16:$G$150,3,FALSE)","v":"Zumofen / Gattlen"},{"$f":"VLOOKUP(D1227,'2020'!$A$16:$G$150,2,FALSE)","v":"Violette"},108,67,{"$f":"VLOOKUP(E1227,'2020'!$A$16:$G$150,2,FALSE)","v":"Micabol"},{"$f":"VLOOKUP(E1227,'2020'!$A$16:$G$150,3,FALSE)","v":"Jäger Carlo"}]
["2020-06-17",{"$f":"VLOOKUP(D1228,'2020'!$A$16:$G$150,3,FALSE)","v":"Fux W., J., + Wyer Piet"},{"$f":"VLOOKUP(D1228,'2020'!$A$16:$G$150,2,FALSE)","v":"Pampère"},43,15,{"$f":"VLOOKUP(E1228,'2020'!$A$16:$G$150,2,FALSE)","v":"Cashida"},{"$f":"VLOOKUP(E1228,'2020'!$A$16:$G$150,3,FALSE)","v":"Bregy Ralf + Adolf"}]
["2020-06-17",{"$f":"VLOOKUP(D1229,'2020'!$A$16:$G$150,3,FALSE)","v":"Bayard Medard + Gustav"},{"$f":"VLOOKUP(D1229,'2020'!$A$16:$G$150,2,FALSE)","v":"Vampir"},4,61,{"$f":"VLOOKUP(E1229,'2020'!$A$16:$G$150,2,FALSE)","v":"Grolla"},{"$f":"VLOOKUP(E1229,'2020'!$A$16:$G$150,3,FALSE)","v":"Jäger Carlo"}]
["2020-06-17",{"$f":"VLOOKUP(D1230,'2020'!$A$16:$G$150,3,FALSE)","v":"Zumofen / Gattlen"},{"$f":"VLOOKUP(D1230,'2020'!$A$16:$G$150,2,FALSE)","v":"Riva "},112,25,{"$f":"VLOOKUP(E1230,'2020'!$A$16:$G$150,2,FALSE)","v":"Calette"},{"$f":"VLOOKUP(E1230,'2020'!$A$16:$G$150,3,FALSE)","v":"Bregy Uli + Pascal"}]
["2020-06-17",{"$f":"VLOOKUP(D1231,'2020'!$A$16:$G$150,3,FALSE)","v":"Williner Anton"},{"$f":"VLOOKUP(D1231,'2020'!$A$16:$G$150,2,FALSE)","v":"Colonell"},98,112,{"$f":"VLOOKUP(E1231,'2020'!$A$16:$G$150,2,FALSE)","v":"Riva "},{"$f":"VLOOKUP(E1231,'2020'!$A$16:$G$150,3,FALSE)","v":"Zumofen / Gattlen"}]
["2020-06-17",{"$f":"VLOOKUP(D1232,'2020'!$A$16:$G$150,3,FALSE)","v":"Bregy Ralf + Adolf"},{"$f":"VLOOKUP(D1232,'2020'!$A$16:$G$150,2,FALSE)","v":"Canaille"},7,110,{"$f":"VLOOKUP(E1232,'2020'!$A$16:$G$150,2,FALSE)","v":"Xena"},{"$f":"VLOOKUP(E1232,'2020'!$A$16:$G$150,3,FALSE)","v":"Zumofen / Gattlen"}]
["2020-06-17",{"$f":"VLOOKUP(D1233,'2020'!$A$16:$G$150,3,FALSE)","v":"Zumofen / Gattlen"},{"$f":"VLOOKUP(D1233,'2020'!$A$16:$G$150,2,FALSE)","v":"Violin"},107,113,{"$f":"VLOOKUP(E1233,'2020'!$A$16:$G$150,2,FALSE)","v":"Vanda"},{"$f":"VLOOKUP(E1233,'2020'!$A$16:$G$150,3,FALSE)","v":"Zumofen / Gattlen"}]
["2020-06-17",{"$f":"VLOOKUP(D1234,'2020'!$A$16:$G$150,3,FALSE)","v":"Sewer R. + Thommen S."},{"$f":"VLOOKUP(D1234,'2020'!$A$16:$G$150,2,FALSE)","v":"Malice"},88,79,{"$f":"VLOOKUP(E1234,'2020'!$A$16:$G$150,2,FALSE)","v":"Marla"},{"$f":"VLOOKUP(E1234,'2020'!$A$16:$G$150,3,FALSE)","v":"Stallung Passeraub "}]
["2020-06-17",{"$f":"VLOOKUP(D1235,'2020'!$A$16:$G$150,3,FALSE)","v":"Zumofen / Gattlen"},{"$f":"VLOOKUP(D1235,'2020'!$A$16:$G$150,2,FALSE)","v":"Rena"},109,17,{"$f":"VLOOKUP(E1235,'2020'!$A$16:$G$150,2,FALSE)","v":"Coquette"},{"$f":"VLOOKUP(E1235,'2020'!$A$16:$G$150,3,FALSE)","v":"Bregy Ralf + Adolf"}]
["2020-06-17",{"$f":"VLOOKUP(D1236,'2020'!$A$16:$G$150,3,FALSE)","v":"Zumofen / Gattlen"},{"$f":"VLOOKUP(D1236,'2020'!$A$16:$G$150,2,FALSE)","v":"Rena"},109,117,{"$f":"VLOOKUP(E1236,'2020'!$A$16:$G$150,2,FALSE)","v":"Rigolo"},{"$f":"VLOOKUP(E1236,'2020'!$A$16:$G$150,3,FALSE)","v":"Zumofen / Gattlen"}]
["2020-06-17",{"$f":"VLOOKUP(D1237,'2020'!$A$16:$G$150,3,FALSE)","v":"Hutter Richard"},{"$f":"VLOOKUP(D1237,'2020'!$A$16:$G$150,2,FALSE)","v":"Fägär"},84,102,{"$f":"VLOOKUP(E1237,'2020'!$A$16:$G$150,2,FALSE)","v":"Rasta"},{"$f":"VLOOKUP(E1237,'2020'!$A$16:$G$150,3,FALSE)","v":"Wyssen Diego u. Madlen"}]
["2020-06-17",{"$f":"VLOOKUP(D1238,'2020'!$A$16:$G$150,3,FALSE)","v":"Bayard Medard + Gustav"},{"$f":"VLOOKUP(D1238,'2020'!$A$16:$G$150,2,FALSE)","v":"Vampir"},4,14,{"$f":"VLOOKUP(E1238,'2020'!$A$16:$G$150,2,FALSE)","v":"Canabis"},{"$f":"VLOOKUP(E1238,'2020'!$A$16:$G$150,3,FALSE)","v":"Bregy Ralf + Adolf"}]
["2020-06-17",{"$f":"VLOOKUP(D1239,'2020'!$A$16:$G$150,3,FALSE)","v":"Bregy Silvan + Patrick"},{"$f":"VLOOKUP(D1239,'2020'!$A$16:$G$150,2,FALSE)","v":"Milow"},12,78,{"$f":"VLOOKUP(E1239,'2020'!$A$16:$G$150,2,FALSE)","v":"Ballerine"},{"$f":"VLOOKUP(E1239,'2020'!$A$16:$G$150,3,FALSE)","v":"Stallung Passeraub"}]
["2020-06-17",{"$f":"VLOOKUP(D1240,'2020'!$A$16:$G$150,3,FALSE)","v":"Zumofen / Gattlen"},{"$f":"VLOOKUP(D1240,'2020'!$A$16:$G$150,2,FALSE)","v":"Rigolo"},117,83,{"$f":"VLOOKUP(E1240,'2020'!$A$16:$G$150,2,FALSE)","v":"Lijuba"},{"$f":"VLOOKUP(E1240,'2020'!$A$16:$G$150,3,FALSE)","v":"Amacker Joelle u. Sven"}]
["2020-06-17",{"$f":"VLOOKUP(D1241,'2020'!$A$16:$G$150,3,FALSE)","v":"Williner Anton"},{"$f":"VLOOKUP(D1241,'2020'!$A$16:$G$150,2,FALSE)","v":"Vivana"},95,25,{"$f":"VLOOKUP(E1241,'2020'!$A$16:$G$150,2,FALSE)","v":"Calette"},{"$f":"VLOOKUP(E1241,'2020'!$A$16:$G$150,3,FALSE)","v":"Bregy Uli + Pascal"}]
["2020-06-17",{"$f":"VLOOKUP(D1242,'2020'!$A$16:$G$150,3,FALSE)","v":"Fux W., J., + Wyer Piet"},{"$f":"VLOOKUP(D1242,'2020'!$A$16:$G$150,2,FALSE)","v":"Bresil"},38,109,{"$f":"VLOOKUP(E1242,'2020'!$A$16:$G$150,2,FALSE)","v":"Rena"},{"$f":"VLOOKUP(E1242,'2020'!$A$16:$G$150,3,FALSE)","v":"Zumofen / Gattlen"}]
["2020-06-17",{"$f":"VLOOKUP(D1243,'2020'!$A$16:$G$150,3,FALSE)","v":"Bayard Medard + Gustav"},{"$f":"VLOOKUP(D1243,'2020'!$A$16:$G$150,2,FALSE)","v":"Diabolo"},1,73,{"$f":"VLOOKUP(E1243,'2020'!$A$16:$G$150,2,FALSE)","v":"Bavaria"},{"$f":"VLOOKUP(E1243,'2020'!$A$16:$G$150,3,FALSE)","v":"Mathieu Leander + S."}]
["2020-06-17",{"$f":"VLOOKUP(D1244,'2020'!$A$16:$G$150,3,FALSE)","v":"Bayard Medard + Gustav"},{"$f":"VLOOKUP(D1244,'2020'!$A$16:$G$150,2,FALSE)","v":"Priska"},3,109,{"$f":"VLOOKUP(E1244,'2020'!$A$16:$G$150,2,FALSE)","v":"Rena"},{"$f":"VLOOKUP(E1244,'2020'!$A$16:$G$150,3,FALSE)","v":"Zumofen / Gattlen"}]
["2020-06-17",{"$f":"VLOOKUP(D1245,'2020'!$A$16:$G$150,3,FALSE)","v":"Wyssen Diego u. Madlen"},{"$f":"VLOOKUP(D1245,'2020'!$A$16:$G$150,2,FALSE)","v":"Xandria"},101,84,{"$f":"VLOOKUP(E1245,'2020'!$A$16:$G$150,2,FALSE)","v":"Fägär"},{"$f":"VLOOKUP(E1245,'2020'!$A$16:$G$150,3,FALSE)","v":"Hutter Richard"}]
["2020-06-17",{"$f":"VLOOKUP(D1246,'2020'!$A$16:$G$150,3,FALSE)","v":"Bregy Ralf + Adolf"},{"$f":"VLOOKUP(D1246,'2020'!$A$16:$G$150,2,FALSE)","v":"Canabis"},14,50,{"$f":"VLOOKUP(E1246,'2020'!$A$16:$G$150,2,FALSE)","v":"Tanja"},{"$f":"VLOOKUP(E1246,'2020'!$A$16:$G$150,3,FALSE)","v":"Gebr. Jäger"}]
["2020-06-17",{"$f":"VLOOKUP(D1247,'2020'!$A$16:$G$150,3,FALSE)","v":"Fux W., J., + Wyer Piet"},{"$f":"VLOOKUP(D1247,'2020'!$A$16:$G$150,2,FALSE)","v":"Valaisanne"},35,73,{"$f":"VLOOKUP(E1247,'2020'!$A$16:$G$150,2,FALSE)","v":"Bavaria"},{"$f":"VLOOKUP(E1247,'2020'!$A$16:$G$150,3,FALSE)","v":"Mathieu Leander + S."}]
["2020-06-17",{"$f":"VLOOKUP(D1248,'2020'!$A$16:$G$150,3,FALSE)","v":"Jäger Carlo"},{"$f":"VLOOKUP(D1248,'2020'!$A$16:$G$150,2,FALSE)","v":"Megane"},65,33,{"$f":"VLOOKUP(E1248,'2020'!$A$16:$G$150,2,FALSE)","v":"Baquera"},{"$f":"VLOOKUP(E1248,'2020'!$A$16:$G$150,3,FALSE)","v":"Fux W., J., + Wyer Piet"}]
["2020-06-17",{"$f":"VLOOKUP(D1249,'2020'!$A$16:$G$150,3,FALSE)","v":"Fux W., J., + Wyer Piet"},{"$f":"VLOOKUP(D1249,'2020'!$A$16:$G$150,2,FALSE)","v":"Bacardi"},39,4,{"$f":"VLOOKUP(E1249,'2020'!$A$16:$G$150,2,FALSE)","v":"Vampir"},{"$f":"VLOOKUP(E1249,'2020'!$A$16:$G$150,3,FALSE)","v":"Bayard Medard + Gustav"}]
["2020-06-17",{"$f":"VLOOKUP(D1250,'2020'!$A$16:$G$150,3,FALSE)","v":"Bregy Ralf + Adolf"},{"$f":"VLOOKUP(D1250,'2020'!$A$16:$G$150,2,FALSE)","v":"Carcas"},11,43,{"$f":"VLOOKUP(E1250,'2020'!$A$16:$G$150,2,FALSE)","v":"Pampère"},{"$f":"VLOOKUP(E1250,'2020'!$A$16:$G$150,3,FALSE)","v":"Fux W., J., + Wyer Piet"}]
["2020-06-17",{"$f":"VLOOKUP(D1251,'2020'!$A$16:$G$150,3,FALSE)","v":"Stallung Passeraub "},{"$f":"VLOOKUP(D1251,'2020'!$A$16:$G$150,2,FALSE)","v":"Medusa"},81,73,{"$f":"VLOOKUP(E1251,'2020'!$A$16:$G$150,2,FALSE)","v":"Bavaria"},{"$f":"VLOOKUP(E1251,'2020'!$A$16:$G$150,3,FALSE)","v":"Mathieu Leander + S."}]
["2020-06-17",{"$f":"VLOOKUP(D1252,'2020'!$A$16:$G$150,3,FALSE)","v":"Jäger Carlo"},{"$f":"VLOOKUP(D1252,'2020'!$A$16:$G$150,2,FALSE)","v":"Maila"},59,9,{"$f":"VLOOKUP(E1252,'2020'!$A$16:$G$150,2,FALSE)","v":"Flacari"},{"$f":"VLOOKUP(E1252,'2020'!$A$16:$G$150,3,FALSE)","v":"Bregy Ralf + Adolf"}]
["2020-06-17",{"$f":"VLOOKUP(D1253,'2020'!$A$16:$G$150,3,FALSE)","v":"Fux W., J., + Wyer Piet"},{"$f":"VLOOKUP(D1253,'2020'!$A$16:$G$150,2,FALSE)","v":"Bresil"},38,27,{"$f":"VLOOKUP(E1253,'2020'!$A$16:$G$150,2,FALSE)","v":"Murphy"},{"$f":"VLOOKUP(E1253,'2020'!$A$16:$G$150,3,FALSE)","v":"Bregy Uli + Pascal"}]
["2020-06-17",{"$f":"VLOOKUP(D1254,'2020'!$A$16:$G$150,3,FALSE)","v":"Bayard Medard + Gustav"},{"$f":"VLOOKUP(D1254,'2020'!$A$16:$G$150,2,FALSE)","v":"Pandera"},5,40,{"$f":"VLOOKUP(E1254,'2020'!$A$16:$G$150,2,FALSE)","v":"Toscana"},{"$f":"VLOOKUP(E1254,'2020'!$A$16:$G$150,3,FALSE)","v":"Fux W., J., + Wyer Piet"}]
["2020-06-17",{"$f":"VLOOKUP(D1255,'2020'!$A$16:$G$150,3,FALSE)","v":"Zumofen / Gattlen"},{"$f":"VLOOKUP(D1255,'2020'!$A$16:$G$150,2,FALSE)","v":"Violette"},108,54,{"$f":"VLOOKUP(E1255,'2020'!$A$16:$G$150,2,FALSE)","v":"Pablo"},{"$f":"VLOOKUP(E1255,'2020'!$A$16:$G$150,3,FALSE)","v":"Hischier Pius"}]
["2020-06-17",{"$f":"VLOOKUP(D1256,'2020'!$A$16:$G$150,3,FALSE)","v":"Bregy Ralf + Adolf"},{"$f":"VLOOKUP(D1256,'2020'!$A$16:$G$150,2,FALSE)","v":"Canabis"},14,2,{"$f":"VLOOKUP(E1256,'2020'!$A$16:$G$150,2,FALSE)","v":"Fantastic"},{"$f":"VLOOKUP(E1256,'2020'!$A$16:$G$150,3,FALSE)","v":"Bayard Medard + Gustav"}]
["2020-06-17",{"$f":"VLOOKUP(D1257,'2020'!$A$16:$G$150,3,FALSE)","v":"Bayard Medard + Gustav"},{"$f":"VLOOKUP(D1257,'2020'!$A$16:$G$150,2,FALSE)","v":"Pandera"},5,26,{"$f":"VLOOKUP(E1257,'2020'!$A$16:$G$150,2,FALSE)","v":"Cataleya"},{"$f":"VLOOKUP(E1257,'2020'!$A$16:$G$150,3,FALSE)","v":"Bregy Uli + Pascal"}]
["2020-06-17",{"$f":"VLOOKUP(D1258,'2020'!$A$16:$G$150,3,FALSE)","v":"Bregy Ralf + Adolf"},{"$f":"VLOOKUP(D1258,'2020'!$A$16:$G$150,2,FALSE)","v":"Carcas"},11,43,{"$f":"VLOOKUP(E1258,'2020'!$A$16:$G$150,2,FALSE)","v":"Pampère"},{"$f":"VLOOKUP(E1258,'2020'!$A$16:$G$150,3,FALSE)","v":"Fux W., J., + Wyer Piet"}]
["2020-06-17",{"$f":"VLOOKUP(D1259,'2020'!$A$16:$G$150,3,FALSE)","v":"Bregy Ralf + Adolf"},{"$f":"VLOOKUP(D1259,'2020'!$A$16:$G$150,2,FALSE)","v":"Canabis"},14,93,{"$f":"VLOOKUP(E1259,'2020'!$A$16:$G$150,2,FALSE)","v":"Carolin"},{"$f":"VLOOKUP(E1259,'2020'!$A$16:$G$150,3,FALSE)","v":"Tscherry E. + B."}]
["2020-06-17",{"$f":"VLOOKUP(D1260,'2020'!$A$16:$G$150,3,FALSE)","v":"Bregy Ralf + Adolf"},{"$f":"VLOOKUP(D1260,'2020'!$A$16:$G$150,2,FALSE)","v":"Canaille"},7,80,{"$f":"VLOOKUP(E1260,'2020'!$A$16:$G$150,2,FALSE)","v":"Manou"},{"$f":"VLOOKUP(E1260,'2020'!$A$16:$G$150,3,FALSE)","v":"Stallung Passeraub "}]
["2020-06-17",{"$f":"VLOOKUP(D1261,'2020'!$A$16:$G$150,3,FALSE)","v":"Wyssen Diego u. Madlen"},{"$f":"VLOOKUP(D1261,'2020'!$A$16:$G$150,2,FALSE)","v":"Xandria"},101,63,{"$f":"VLOOKUP(E1261,'2020'!$A$16:$G$150,2,FALSE)","v":"Pisa"},{"$f":"VLOOKUP(E1261,'2020'!$A$16:$G$150,3,FALSE)","v":"Jäger Carlo"}]
["2020-06-17",{"$f":"VLOOKUP(D1262,'2020'!$A$16:$G$150,3,FALSE)","v":"Jäger Carlo"},{"$f":"VLOOKUP(D1262,'2020'!$A$16:$G$150,2,FALSE)","v":"Megane"},65,2,{"$f":"VLOOKUP(E1262,'2020'!$A$16:$G$150,2,FALSE)","v":"Fantastic"},{"$f":"VLOOKUP(E1262,'2020'!$A$16:$G$150,3,FALSE)","v":"Bayard Medard + Gustav"}]
["2020-06-17",{"$f":"VLOOKUP(D1263,'2020'!$A$16:$G$150,3,FALSE)","v":"Hischier Pius"},{"$f":"VLOOKUP(D1263,'2020'!$A$16:$G$150,2,FALSE)","v":"Pablo"},54,34,{"$f":"VLOOKUP(E1263,'2020'!$A$16:$G$150,2,FALSE)","v":"Souris"},{"$f":"VLOOKUP(E1263,'2020'!$A$16:$G$150,3,FALSE)","v":"Fux W., J., + Wyer Piet"}]
["2020-06-17",{"$f":"VLOOKUP(D1264,'2020'!$A$16:$G$150,3,FALSE)","v":"Bregy Uli + Pascal"},{"$f":"VLOOKUP(D1264,'2020'!$A$16:$G$150,2,FALSE)","v":"Cataleya"},26,5,{"$f":"VLOOKUP(E1264,'2020'!$A$16:$G$150,2,FALSE)","v":"Pandera"},{"$f":"VLOOKUP(E1264,'2020'!$A$16:$G$150,3,FALSE)","v":"Bayard Medard + Gustav"}]
["2020-06-17",{"$f":"VLOOKUP(D1265,'2020'!$A$16:$G$150,3,FALSE)","v":"Bregy Ralf + Adolf"},{"$f":"VLOOKUP(D1265,'2020'!$A$16:$G$150,2,FALSE)","v":"Carcas"},11,43,{"$f":"VLOOKUP(E1265,'2020'!$A$16:$G$150,2,FALSE)","v":"Pampère"},{"$f":"VLOOKUP(E1265,'2020'!$A$16:$G$150,3,FALSE)","v":"Fux W., J., + Wyer Piet"}]
["2020-06-17",{"$f":"VLOOKUP(D1266,'2020'!$A$16:$G$150,3,FALSE)","v":"Zumofen / Gattlen"},{"$f":"VLOOKUP(D1266,'2020'!$A$16:$G$150,2,FALSE)","v":"Violette"},108,54,{"$f":"VLOOKUP(E1266,'2020'!$A$16:$G$150,2,FALSE)","v":"Pablo"},{"$f":"VLOOKUP(E1266,'2020'!$A$16:$G$150,3,FALSE)","v":"Hischier Pius"}]
["2020-06-17",{"$f":"VLOOKUP(D1267,'2020'!$A$16:$G$150,3,FALSE)","v":"Bregy Uli + Pascal"},{"$f":"VLOOKUP(D1267,'2020'!$A$16:$G$150,2,FALSE)","v":"Murphy"},27,33,{"$f":"VLOOKUP(E1267,'2020'!$A$16:$G$150,2,FALSE)","v":"Baquera"},{"$f":"VLOOKUP(E1267,'2020'!$A$16:$G$150,3,FALSE)","v":"Fux W., J., + Wyer Piet"}]
["2020-06-17",{"$f":"VLOOKUP(D1268,'2020'!$A$16:$G$150,3,FALSE)","v":"Jäger Carlo"},{"$f":"VLOOKUP(D1268,'2020'!$A$16:$G$150,2,FALSE)","v":"Micabol"},67,11,{"$f":"VLOOKUP(E1268,'2020'!$A$16:$G$150,2,FALSE)","v":"Carcas"},{"$f":"VLOOKUP(E1268,'2020'!$A$16:$G$150,3,FALSE)","v":"Bregy Ralf + Adolf"}]
["2020-06-17",{"$f":"VLOOKUP(D1269,'2020'!$A$16:$G$150,3,FALSE)","v":"Zumofen / Gattlen"},{"$f":"VLOOKUP(D1269,'2020'!$A$16:$G$150,2,FALSE)","v":"Vanda"},113,71,{"$f":"VLOOKUP(E1269,'2020'!$A$16:$G$150,2,FALSE)","v":"Baghira"},{"$f":"VLOOKUP(E1269,'2020'!$A$16:$G$150,3,FALSE)","v":"Mathieu Leander + S."}]
["2020-06-17",{"$f":"VLOOKUP(D1270,'2020'!$A$16:$G$150,3,FALSE)","v":"Hischier Pius"},{"$f":"VLOOKUP(D1270,'2020'!$A$16:$G$150,2,FALSE)","v":"Pablo"},54,23,{"$f":"VLOOKUP(E1270,'2020'!$A$16:$G$150,2,FALSE)","v":"Pandora"},{"$f":"VLOOKUP(E1270,'2020'!$A$16:$G$150,3,FALSE)","v":"Bregy Uli + Pascal"}]
["2020-06-17",{"$f":"VLOOKUP(D1271,'2020'!$A$16:$G$150,3,FALSE)","v":"Bregy Silvan + Patrick"},{"$f":"VLOOKUP(D1271,'2020'!$A$16:$G$150,2,FALSE)","v":"Tequilla"},13,16,{"$f":"VLOOKUP(E1271,'2020'!$A$16:$G$150,2,FALSE)","v":"Flacabre"},{"$f":"VLOOKUP(E1271,'2020'!$A$16:$G$150,3,FALSE)","v":"Bregy Ralf + Adolf"}]
["2020-06-17",{"$f":"VLOOKUP(D1272,'2020'!$A$16:$G$150,3,FALSE)","v":"Bayard Medard + Gustav"},{"$f":"VLOOKUP(D1272,'2020'!$A$16:$G$150,2,FALSE)","v":"Vampir"},4,114,{"$f":"VLOOKUP(E1272,'2020'!$A$16:$G$150,2,FALSE)","v":"Maya"},{"$f":"VLOOKUP(E1272,'2020'!$A$16:$G$150,3,FALSE)","v":"Zumofen / Gattlen"}]
["2020-06-17",{"$f":"VLOOKUP(D1273,'2020'!$A$16:$G$150,3,FALSE)","v":"Bregy Silvan + Patrick"},{"$f":"VLOOKUP(D1273,'2020'!$A$16:$G$150,2,FALSE)","v":"Tequilla"},13,32,{"$f":"VLOOKUP(E1273,'2020'!$A$16:$G$150,2,FALSE)","v":"Mira"},{"$f":"VLOOKUP(E1273,'2020'!$A$16:$G$150,3,FALSE)","v":"Fam. Leiggener"}]
["2020-06-17",{"$f":"VLOOKUP(D1274,'2020'!$A$16:$G$150,3,FALSE)","v":"Stallung Passeraub"},{"$f":"VLOOKUP(D1274,'2020'!$A$16:$G$150,2,FALSE)","v":"Ballerine"},78,58,{"$f":"VLOOKUP(E1274,'2020'!$A$16:$G$150,2,FALSE)","v":"Bataille"},{"$f":"VLOOKUP(E1274,'2020'!$A$16:$G$150,3,FALSE)","v":"Jäger Carlo"}]
["2020-06-17",{"$f":"VLOOKUP(D1275,'2020'!$A$16:$G$150,3,FALSE)","v":"Bregy Ralf + Adolf"},{"$f":"VLOOKUP(D1275,'2020'!$A$16:$G$150,2,FALSE)","v":"Flacari"},9,115,{"$f":"VLOOKUP(E1275,'2020'!$A$16:$G$150,2,FALSE)","v":"Pepitta"},{"$f":"VLOOKUP(E1275,'2020'!$A$16:$G$150,3,FALSE)","v":"Zumofen / Gattlen"}]
["2020-06-17",{"$f":"VLOOKUP(D1276,'2020'!$A$16:$G$150,3,FALSE)","v":"Fam. Leiggener"},{"$f":"VLOOKUP(D1276,'2020'!$A$16:$G$150,2,FALSE)","v":"Rebell"},29,111,{"$f":"VLOOKUP(E1276,'2020'!$A$16:$G$150,2,FALSE)","v":"Vidona"},{"$f":"VLOOKUP(E1276,'2020'!$A$16:$G$150,3,FALSE)","v":"Zumofen / Gattlen"}]
["2020-06-17",{"$f":"VLOOKUP(D1277,'2020'!$A$16:$G$150,3,FALSE)","v":"Fam. Leiggener"},{"$f":"VLOOKUP(D1277,'2020'!$A$16:$G$150,2,FALSE)","v":"Rebell"},29,115,{"$f":"VLOOKUP(E1277,'2020'!$A$16:$G$150,2,FALSE)","v":"Pepitta"},{"$f":"VLOOKUP(E1277,'2020'!$A$16:$G$150,3,FALSE)","v":"Zumofen / Gattlen"}]
["2020-06-17",{"$f":"VLOOKUP(D1278,'2020'!$A$16:$G$150,3,FALSE)","v":"Bregy Ralf + Adolf"},{"$f":"VLOOKUP(D1278,'2020'!$A$16:$G$150,2,FALSE)","v":"Canabis"},14,6,{"$f":"VLOOKUP(E1278,'2020'!$A$16:$G$150,2,FALSE)","v":"Venus"},{"$f":"VLOOKUP(E1278,'2020'!$A$16:$G$150,3,FALSE)","v":"Bayard Medard + Gustav"}]
["2020-06-17",{"$f":"VLOOKUP(D1279,'2020'!$A$16:$G$150,3,FALSE)","v":"Wyssen Diego u. Madlen"},{"$f":"VLOOKUP(D1279,'2020'!$A$16:$G$150,2,FALSE)","v":"Xena"},104,55,{"$f":"VLOOKUP(E1279,'2020'!$A$16:$G$150,2,FALSE)","v":"Pelila"},{"$f":"VLOOKUP(E1279,'2020'!$A$16:$G$150,3,FALSE)","v":"Hischier Pius"}]
["2020-06-17",{"$f":"VLOOKUP(D1280,'2020'!$A$16:$G$150,3,FALSE)","v":"Williner Anton"},{"$f":"VLOOKUP(D1280,'2020'!$A$16:$G$150,2,FALSE)","v":"Vivana"},95,106,{"$f":"VLOOKUP(E1280,'2020'!$A$16:$G$150,2,FALSE)","v":"Rambo"},{"$f":"VLOOKUP(E1280,'2020'!$A$16:$G$150,3,FALSE)","v":"Zumofen / Gattlen"}]
["2020-06-17",{"$f":"VLOOKUP(D1281,'2020'!$A$16:$G$150,3,FALSE)","v":"Gebr. Jäger"},{"$f":"VLOOKUP(D1281,'2020'!$A$16:$G$150,2,FALSE)","v":"Dorina"},44,28,{"$f":"VLOOKUP(E1281,'2020'!$A$16:$G$150,2,FALSE)","v":"Corona"},{"$f":"VLOOKUP(E1281,'2020'!$A$16:$G$150,3,FALSE)","v":"Bregy Uli + Pascal"}]
["2020-06-17",{"$f":"VLOOKUP(D1282,'2020'!$A$16:$G$150,3,FALSE)","v":"Fam. Leiggener"},{"$f":"VLOOKUP(D1282,'2020'!$A$16:$G$150,2,FALSE)","v":"Baron"},31,77,{"$f":"VLOOKUP(E1282,'2020'!$A$16:$G$150,2,FALSE)","v":"Beres"},{"$f":"VLOOKUP(E1282,'2020'!$A$16:$G$150,3,FALSE)","v":"Stallung Passeraub"}]
["2020-06-17",{"$f":"VLOOKUP(D1283,'2020'!$A$16:$G$150,3,FALSE)","v":"Fux W., J., + Wyer Piet"},{"$f":"VLOOKUP(D1283,'2020'!$A$16:$G$150,2,FALSE)","v":"Toscana"},40,99,{"$f":"VLOOKUP(E1283,'2020'!$A$16:$G$150,2,FALSE)","v":"Diva"},{"$f":"VLOOKUP(E1283,'2020'!$A$16:$G$150,3,FALSE)","v":"Williner Anton"}]
["2020-06-17",{"$f":"VLOOKUP(D1284,'2020'!$A$16:$G$150,3,FALSE)","v":"Jäger Carlo"},{"$f":"VLOOKUP(D1284,'2020'!$A$16:$G$150,2,FALSE)","v":"Candice"},62,54,{"$f":"VLOOKUP(E1284,'2020'!$A$16:$G$150,2,FALSE)","v":"Pablo"},{"$f":"VLOOKUP(E1284,'2020'!$A$16:$G$150,3,FALSE)","v":"Hischier Pius"}]
["2020-06-17",{"$f":"VLOOKUP(D1285,'2020'!$A$16:$G$150,3,FALSE)","v":"Williner Anton"},{"$f":"VLOOKUP(D1285,'2020'!$A$16:$G$150,2,FALSE)","v":"Colonell"},98,102,{"$f":"VLOOKUP(E1285,'2020'!$A$16:$G$150,2,FALSE)","v":"Rasta"},{"$f":"VLOOKUP(E1285,'2020'!$A$16:$G$150,3,FALSE)","v":"Wyssen Diego u. Madlen"}]
["2020-06-17",{"$f":"VLOOKUP(D1286,'2020'!$A$16:$G$150,3,FALSE)","v":"Mathieu Leander + S."},{"$f":"VLOOKUP(D1286,'2020'!$A$16:$G$150,2,FALSE)","v":"Bavaria"},73,94,{"$f":"VLOOKUP(E1286,'2020'!$A$16:$G$150,2,FALSE)","v":"Cobra"},{"$f":"VLOOKUP(E1286,'2020'!$A$16:$G$150,3,FALSE)","v":"Tscherry E. + B."}]
["2020-06-17",{"$f":"VLOOKUP(D1287,'2020'!$A$16:$G$150,3,FALSE)","v":"Gebr. Jäger"},{"$f":"VLOOKUP(D1287,'2020'!$A$16:$G$150,2,FALSE)","v":"Dorina"},44,30,{"$f":"VLOOKUP(E1287,'2020'!$A$16:$G$150,2,FALSE)","v":"Bulle"},{"$f":"VLOOKUP(E1287,'2020'!$A$16:$G$150,3,FALSE)","v":"Fam. Leiggener"}]
["2020-06-17",{"$f":"VLOOKUP(D1288,'2020'!$A$16:$G$150,3,FALSE)","v":"Wyssen Diego u. Madlen"},{"$f":"VLOOKUP(D1288,'2020'!$A$16:$G$150,2,FALSE)","v":"Xhyla"},105,108,{"$f":"VLOOKUP(E1288,'2020'!$A$16:$G$150,2,FALSE)","v":"Violette"},{"$f":"VLOOKUP(E1288,'2020'!$A$16:$G$150,3,FALSE)","v":"Zumofen / Gattlen"}]
["2020-06-17",{"$f":"VLOOKUP(D1289,'2020'!$A$16:$G$150,3,FALSE)","v":"Zumofen / Gattlen"},{"$f":"VLOOKUP(D1289,'2020'!$A$16:$G$150,2,FALSE)","v":"Rena"},109,79,{"$f":"VLOOKUP(E1289,'2020'!$A$16:$G$150,2,FALSE)","v":"Marla"},{"$f":"VLOOKUP(E1289,'2020'!$A$16:$G$150,3,FALSE)","v":"Stallung Passeraub "}]
["2020-06-17",{"$f":"VLOOKUP(D1290,'2020'!$A$16:$G$150,3,FALSE)","v":"Williner Anton"},{"$f":"VLOOKUP(D1290,'2020'!$A$16:$G$150,2,FALSE)","v":"Tira"},100,55,{"$f":"VLOOKUP(E1290,'2020'!$A$16:$G$150,2,FALSE)","v":"Pelila"},{"$f":"VLOOKUP(E1290,'2020'!$A$16:$G$150,3,FALSE)","v":"Hischier Pius"}]
["2020-06-17",{"$f":"VLOOKUP(D1291,'2020'!$A$16:$G$150,3,FALSE)","v":"Bregy Ralf + Adolf"},{"$f":"VLOOKUP(D1291,'2020'!$A$16:$G$150,2,FALSE)","v":"Flacari"},9,100,{"$f":"VLOOKUP(E1291,'2020'!$A$16:$G$150,2,FALSE)","v":"Tira"},{"$f":"VLOOKUP(E1291,'2020'!$A$16:$G$150,3,FALSE)","v":"Williner Anton"}]
["2020-06-16",{"$f":"VLOOKUP(D1292,'2020'!$A$16:$G$150,3,FALSE)","v":"Zumofen / Gattlen"},{"$f":"VLOOKUP(D1292,'2020'!$A$16:$G$150,2,FALSE)","v":"Xena"},110,59,{"$f":"VLOOKUP(E1292,'2020'!$A$16:$G$150,2,FALSE)","v":"Maila"},{"$f":"VLOOKUP(E1292,'2020'!$A$16:$G$150,3,FALSE)","v":"Jäger Carlo"}]
["2020-06-16",{"$f":"VLOOKUP(D1293,'2020'!$A$16:$G$150,3,FALSE)","v":"Bregy Silvan + Patrick"},{"$f":"VLOOKUP(D1293,'2020'!$A$16:$G$150,2,FALSE)","v":"Milow"},12,110,{"$f":"VLOOKUP(E1293,'2020'!$A$16:$G$150,2,FALSE)","v":"Xena"},{"$f":"VLOOKUP(E1293,'2020'!$A$16:$G$150,3,FALSE)","v":"Zumofen / Gattlen"}]
["2020-06-16",{"$f":"VLOOKUP(D1294,'2020'!$A$16:$G$150,3,FALSE)","v":"Jäger Carlo"},{"$f":"VLOOKUP(D1294,'2020'!$A$16:$G$150,2,FALSE)","v":"Maila"},59,10,{"$f":"VLOOKUP(E1294,'2020'!$A$16:$G$150,2,FALSE)","v":"Diabolo"},{"$f":"VLOOKUP(E1294,'2020'!$A$16:$G$150,3,FALSE)","v":"Bregy Ralf + Adolf"}]
["2020-06-16",{"$f":"VLOOKUP(D1295,'2020'!$A$16:$G$150,3,FALSE)","v":"Gebr. Jäger"},{"$f":"VLOOKUP(D1295,'2020'!$A$16:$G$150,2,FALSE)","v":"Dorina"},44,109,{"$f":"VLOOKUP(E1295,'2020'!$A$16:$G$150,2,FALSE)","v":"Rena"},{"$f":"VLOOKUP(E1295,'2020'!$A$16:$G$150,3,FALSE)","v":"Zumofen / Gattlen"}]
["2020-06-16",{"$f":"VLOOKUP(D1296,'2020'!$A$16:$G$150,3,FALSE)","v":"Bregy Ralf + Adolf"},{"$f":"VLOOKUP(D1296,'2020'!$A$16:$G$150,2,FALSE)","v":"Creola"},8,89,{"$f":"VLOOKUP(E1296,'2020'!$A$16:$G$150,2,FALSE)","v":"Tiara"},{"$f":"VLOOKUP(E1296,'2020'!$A$16:$G$150,3,FALSE)","v":"Sewer R. + Thommen S."}]
["2020-06-16",{"$f":"VLOOKUP(D1297,'2020'!$A$16:$G$150,3,FALSE)","v":"Gebr. Jäger"},{"$f":"VLOOKUP(D1297,'2020'!$A$16:$G$150,2,FALSE)","v":"Dorina"},44,114,{"$f":"VLOOKUP(E1297,'2020'!$A$16:$G$150,2,FALSE)","v":"Maya"},{"$f":"VLOOKUP(E1297,'2020'!$A$16:$G$150,3,FALSE)","v":"Zumofen / Gattlen"}]
["2020-06-16",{"$f":"VLOOKUP(D1298,'2020'!$A$16:$G$150,3,FALSE)","v":"Bregy Uli + Pascal"},{"$f":"VLOOKUP(D1298,'2020'!$A$16:$G$150,2,FALSE)","v":"Souki"},18,44,{"$f":"VLOOKUP(E1298,'2020'!$A$16:$G$150,2,FALSE)","v":"Dorina"},{"$f":"VLOOKUP(E1298,'2020'!$A$16:$G$150,3,FALSE)","v":"Gebr. Jäger"}]
["2020-06-16",{"$f":"VLOOKUP(D1299,'2020'!$A$16:$G$150,3,FALSE)","v":"Fux W., J., + Wyer Piet"},{"$f":"VLOOKUP(D1299,'2020'!$A$16:$G$150,2,FALSE)","v":"Mystic"},41,2,{"$f":"VLOOKUP(E1299,'2020'!$A$16:$G$150,2,FALSE)","v":"Fantastic"},{"$f":"VLOOKUP(E1299,'2020'!$A$16:$G$150,3,FALSE)","v":"Bayard Medard + Gustav"}]
["2020-06-16",{"$f":"VLOOKUP(D1300,'2020'!$A$16:$G$150,3,FALSE)","v":"Bregy Ralf + Adolf"},{"$f":"VLOOKUP(D1300,'2020'!$A$16:$G$150,2,FALSE)","v":"Diabolo"},10,5,{"$f":"VLOOKUP(E1300,'2020'!$A$16:$G$150,2,FALSE)","v":"Pandera"},{"$f":"VLOOKUP(E1300,'2020'!$A$16:$G$150,3,FALSE)","v":"Bayard Medard + Gustav"}]
["2020-06-16",{"$f":"VLOOKUP(D1301,'2020'!$A$16:$G$150,3,FALSE)","v":"Zumofen / Gattlen"},{"$f":"VLOOKUP(D1301,'2020'!$A$16:$G$150,2,FALSE)","v":"Pepitta"},115,16,{"$f":"VLOOKUP(E1301,'2020'!$A$16:$G$150,2,FALSE)","v":"Flacabre"},{"$f":"VLOOKUP(E1301,'2020'!$A$16:$G$150,3,FALSE)","v":"Bregy Ralf + Adolf"}]
["2020-06-16",{"$f":"VLOOKUP(D1302,'2020'!$A$16:$G$150,3,FALSE)","v":"Williner Anton"},{"$f":"VLOOKUP(D1302,'2020'!$A$16:$G$150,2,FALSE)","v":"Vivana"},95,4,{"$f":"VLOOKUP(E1302,'2020'!$A$16:$G$150,2,FALSE)","v":"Vampir"},{"$f":"VLOOKUP(E1302,'2020'!$A$16:$G$150,3,FALSE)","v":"Bayard Medard + Gustav"}]
["2020-06-16",{"$f":"VLOOKUP(D1303,'2020'!$A$16:$G$150,3,FALSE)","v":"Bayard Medard + Gustav"},{"$f":"VLOOKUP(D1303,'2020'!$A$16:$G$150,2,FALSE)","v":"Pandera"},5,34,{"$f":"VLOOKUP(E1303,'2020'!$A$16:$G$150,2,FALSE)","v":"Souris"},{"$f":"VLOOKUP(E1303,'2020'!$A$16:$G$150,3,FALSE)","v":"Fux W., J., + Wyer Piet"}]
["2020-06-16",{"$f":"VLOOKUP(D1304,'2020'!$A$16:$G$150,3,FALSE)","v":"Bregy Ralf + Adolf"},{"$f":"VLOOKUP(D1304,'2020'!$A$16:$G$150,2,FALSE)","v":"Canabis"},14,25,{"$f":"VLOOKUP(E1304,'2020'!$A$16:$G$150,2,FALSE)","v":"Calette"},{"$f":"VLOOKUP(E1304,'2020'!$A$16:$G$150,3,FALSE)","v":"Bregy Uli + Pascal"}]
["2020-06-16",{"$f":"VLOOKUP(D1305,'2020'!$A$16:$G$150,3,FALSE)","v":"Sewer R. + Thommen S."},{"$f":"VLOOKUP(D1305,'2020'!$A$16:$G$150,2,FALSE)","v":"Biscot"},90,50,{"$f":"VLOOKUP(E1305,'2020'!$A$16:$G$150,2,FALSE)","v":"Tanja"},{"$f":"VLOOKUP(E1305,'2020'!$A$16:$G$150,3,FALSE)","v":"Gebr. Jäger"}]
["2020-06-16",{"$f":"VLOOKUP(D1306,'2020'!$A$16:$G$150,3,FALSE)","v":"Bregy Ralf + Adolf"},{"$f":"VLOOKUP(D1306,'2020'!$A$16:$G$150,2,FALSE)","v":"Diabolo"},10,89,{"$f":"VLOOKUP(E1306,'2020'!$A$16:$G$150,2,FALSE)","v":"Tiara"},{"$f":"VLOOKUP(E1306,'2020'!$A$16:$G$150,3,FALSE)","v":"Sewer R. + Thommen S."}]
["2020-06-16",{"$f":"VLOOKUP(D1307,'2020'!$A$16:$G$150,3,FALSE)","v":"Jäger Carlo"},{"$f":"VLOOKUP(D1307,'2020'!$A$16:$G$150,2,FALSE)","v":"Maila"},59,14,{"$f":"VLOOKUP(E1307,'2020'!$A$16:$G$150,2,FALSE)","v":"Canabis"},{"$f":"VLOOKUP(E1307,'2020'!$A$16:$G$150,3,FALSE)","v":"Bregy Ralf + Adolf"}]
["2020-06-16",{"$f":"VLOOKUP(D1308,'2020'!$A$16:$G$150,3,FALSE)","v":"Jäger Carlo"},{"$f":"VLOOKUP(D1308,'2020'!$A$16:$G$150,2,FALSE)","v":"Sera"},64,39,{"$f":"VLOOKUP(E1308,'2020'!$A$16:$G$150,2,FALSE)","v":"Bacardi"},{"$f":"VLOOKUP(E1308,'2020'!$A$16:$G$150,3,FALSE)","v":"Fux W., J., + Wyer Piet"}]
["2020-06-16",{"$f":"VLOOKUP(D1309,'2020'!$A$16:$G$150,3,FALSE)","v":"Bregy Ralf + Adolf"},{"$f":"VLOOKUP(D1309,'2020'!$A$16:$G$150,2,FALSE)","v":"Cashida"},15,39,{"$f":"VLOOKUP(E1309,'2020'!$A$16:$G$150,2,FALSE)","v":"Bacardi"},{"$f":"VLOOKUP(E1309,'2020'!$A$16:$G$150,3,FALSE)","v":"Fux W., J., + Wyer Piet"}]
["2020-06-16",{"$f":"VLOOKUP(D1310,'2020'!$A$16:$G$150,3,FALSE)","v":"Zumofen / Gattlen"},{"$f":"VLOOKUP(D1310,'2020'!$A$16:$G$150,2,FALSE)","v":"Violin"},107,15,{"$f":"VLOOKUP(E1310,'2020'!$A$16:$G$150,2,FALSE)","v":"Cashida"},{"$f":"VLOOKUP(E1310,'2020'!$A$16:$G$150,3,FALSE)","v":"Bregy Ralf + Adolf"}]
["2020-06-16",{"$f":"VLOOKUP(D1311,'2020'!$A$16:$G$150,3,FALSE)","v":"Fux W., J., + Wyer Piet"},{"$f":"VLOOKUP(D1311,'2020'!$A$16:$G$150,2,FALSE)","v":"Bacardi"},39,94,{"$f":"VLOOKUP(E1311,'2020'!$A$16:$G$150,2,FALSE)","v":"Cobra"},{"$f":"VLOOKUP(E1311,'2020'!$A$16:$G$150,3,FALSE)","v":"Tscherry E. + B."}]
["2020-06-16",{"$f":"VLOOKUP(D1312,'2020'!$A$16:$G$150,3,FALSE)","v":"Bayard Medard + Gustav"},{"$f":"VLOOKUP(D1312,'2020'!$A$16:$G$150,2,FALSE)","v":"Priska"},3,62,{"$f":"VLOOKUP(E1312,'2020'!$A$16:$G$150,2,FALSE)","v":"Candice"},{"$f":"VLOOKUP(E1312,'2020'!$A$16:$G$150,3,FALSE)","v":"Jäger Carlo"}]
["2020-06-16",{"$f":"VLOOKUP(D1313,'2020'!$A$16:$G$150,3,FALSE)","v":"Bregy Uli + Pascal"},{"$f":"VLOOKUP(D1313,'2020'!$A$16:$G$150,2,FALSE)","v":"Bora"},21,14,{"$f":"VLOOKUP(E1313,'2020'!$A$16:$G$150,2,FALSE)","v":"Canabis"},{"$f":"VLOOKUP(E1313,'2020'!$A$16:$G$150,3,FALSE)","v":"Bregy Ralf + Adolf"}]
["2020-06-16",{"$f":"VLOOKUP(D1314,'2020'!$A$16:$G$150,3,FALSE)","v":"Jäger Carlo"},{"$f":"VLOOKUP(D1314,'2020'!$A$16:$G$150,2,FALSE)","v":"Candice"},62,6,{"$f":"VLOOKUP(E1314,'2020'!$A$16:$G$150,2,FALSE)","v":"Venus"},{"$f":"VLOOKUP(E1314,'2020'!$A$16:$G$150,3,FALSE)","v":"Bayard Medard + Gustav"}]
["2020-06-16",{"$f":"VLOOKUP(D1315,'2020'!$A$16:$G$150,3,FALSE)","v":"Mathieu Leander + S."},{"$f":"VLOOKUP(D1315,'2020'!$A$16:$G$150,2,FALSE)","v":"Bavaria"},73,65,{"$f":"VLOOKUP(E1315,'2020'!$A$16:$G$150,2,FALSE)","v":"Megane"},{"$f":"VLOOKUP(E1315,'2020'!$A$16:$G$150,3,FALSE)","v":"Jäger Carlo"}]
["2020-06-16",{"$f":"VLOOKUP(D1316,'2020'!$A$16:$G$150,3,FALSE)","v":"Zumofen / Gattlen"},{"$f":"VLOOKUP(D1316,'2020'!$A$16:$G$150,2,FALSE)","v":"Pepitta"},115,65,{"$f":"VLOOKUP(E1316,'2020'!$A$16:$G$150,2,FALSE)","v":"Megane"},{"$f":"VLOOKUP(E1316,'2020'!$A$16:$G$150,3,FALSE)","v":"Jäger Carlo"}]
["2020-06-16",{"$f":"VLOOKUP(D1317,'2020'!$A$16:$G$150,3,FALSE)","v":"Fux W., J., + Wyer Piet"},{"$f":"VLOOKUP(D1317,'2020'!$A$16:$G$150,2,FALSE)","v":"Pampère"},43,75,{"$f":"VLOOKUP(E1317,'2020'!$A$16:$G$150,2,FALSE)","v":"Bonita"},{"$f":"VLOOKUP(E1317,'2020'!$A$16:$G$150,3,FALSE)","v":"Mathieu Leander + S."}]
["2020-06-16",{"$f":"VLOOKUP(D1318,'2020'!$A$16:$G$150,3,FALSE)","v":"Stallung Passeraub "},{"$f":"VLOOKUP(D1318,'2020'!$A$16:$G$150,2,FALSE)","v":"Bonita"},82,102,{"$f":"VLOOKUP(E1318,'2020'!$A$16:$G$150,2,FALSE)","v":"Rasta"},{"$f":"VLOOKUP(E1318,'2020'!$A$16:$G$150,3,FALSE)","v":"Wyssen Diego u. Madlen"}]
["2020-06-16",{"$f":"VLOOKUP(D1319,'2020'!$A$16:$G$150,3,FALSE)","v":"Stallung Passeraub "},{"$f":"VLOOKUP(D1319,'2020'!$A$16:$G$150,2,FALSE)","v":"Bonita"},82,81,{"$f":"VLOOKUP(E1319,'2020'!$A$16:$G$150,2,FALSE)","v":"Medusa"},{"$f":"VLOOKUP(E1319,'2020'!$A$16:$G$150,3,FALSE)","v":"Stallung Passeraub "}]
["2020-06-16",{"$f":"VLOOKUP(D1320,'2020'!$A$16:$G$150,3,FALSE)","v":"Zumofen / Gattlen"},{"$f":"VLOOKUP(D1320,'2020'!$A$16:$G$150,2,FALSE)","v":"Vesuv"},118,98,{"$f":"VLOOKUP(E1320,'2020'!$A$16:$G$150,2,FALSE)","v":"Colonell"},{"$f":"VLOOKUP(E1320,'2020'!$A$16:$G$150,3,FALSE)","v":"Williner Anton"}]
["2020-06-16",{"$f":"VLOOKUP(D1321,'2020'!$A$16:$G$150,3,FALSE)","v":"Mathieu Leander + S."},{"$f":"VLOOKUP(D1321,'2020'!$A$16:$G$150,2,FALSE)","v":"Baghira"},71,31,{"$f":"VLOOKUP(E1321,'2020'!$A$16:$G$150,2,FALSE)","v":"Baron"},{"$f":"VLOOKUP(E1321,'2020'!$A$16:$G$150,3,FALSE)","v":"Fam. Leiggener"}]
["2020-06-16",{"$f":"VLOOKUP(D1322,'2020'!$A$16:$G$150,3,FALSE)","v":"Bregy Ralf + Adolf"},{"$f":"VLOOKUP(D1322,'2020'!$A$16:$G$150,2,FALSE)","v":"Canaille"},7,110,{"$f":"VLOOKUP(E1322,'2020'!$A$16:$G$150,2,FALSE)","v":"Xena"},{"$f":"VLOOKUP(E1322,'2020'!$A$16:$G$150,3,FALSE)","v":"Zumofen / Gattlen"}]
["2020-06-16",{"$f":"VLOOKUP(D1323,'2020'!$A$16:$G$150,3,FALSE)","v":"Hischier H. + Bühlmann J."},{"$f":"VLOOKUP(D1323,'2020'!$A$16:$G$150,2,FALSE)","v":"Lenja"},52,50,{"$f":"VLOOKUP(E1323,'2020'!$A$16:$G$150,2,FALSE)","v":"Tanja"},{"$f":"VLOOKUP(E1323,'2020'!$A$16:$G$150,3,FALSE)","v":"Gebr. Jäger"}]
["2020-06-16",{"$f":"VLOOKUP(D1324,'2020'!$A$16:$G$150,3,FALSE)","v":"Tscherry E. + B."},{"$f":"VLOOKUP(D1324,'2020'!$A$16:$G$150,2,FALSE)","v":"Cobra"},94,69,{"$f":"VLOOKUP(E1324,'2020'!$A$16:$G$150,2,FALSE)","v":"Taverne"},{"$f":"VLOOKUP(E1324,'2020'!$A$16:$G$150,3,FALSE)","v":"Jäger Carlo"}]
["2020-06-16",{"$f":"VLOOKUP(D1325,'2020'!$A$16:$G$150,3,FALSE)","v":"Hischier Pius"},{"$f":"VLOOKUP(D1325,'2020'!$A$16:$G$150,2,FALSE)","v":"Pelila"},55,86,{"$f":"VLOOKUP(E1325,'2020'!$A$16:$G$150,2,FALSE)","v":"Babylon"},{"$f":"VLOOKUP(E1325,'2020'!$A$16:$G$150,3,FALSE)","v":"Stallung zum Stäg"}]
["2020-06-16",{"$f":"VLOOKUP(D1326,'2020'!$A$16:$G$150,3,FALSE)","v":"Hischier Pius"},{"$f":"VLOOKUP(D1326,'2020'!$A$16:$G$150,2,FALSE)","v":"Pelila"},55,31,{"$f":"VLOOKUP(E1326,'2020'!$A$16:$G$150,2,FALSE)","v":"Baron"},{"$f":"VLOOKUP(E1326,'2020'!$A$16:$G$150,3,FALSE)","v":"Fam. Leiggener"}]
["2020-06-16",{"$f":"VLOOKUP(D1327,'2020'!$A$16:$G$150,3,FALSE)","v":"Gebr. Jäger"},{"$f":"VLOOKUP(D1327,'2020'!$A$16:$G$150,2,FALSE)","v":"Lorens"},46,103,{"$f":"VLOOKUP(E1327,'2020'!$A$16:$G$150,2,FALSE)","v":"Roxana"},{"$f":"VLOOKUP(E1327,'2020'!$A$16:$G$150,3,FALSE)","v":"Wyssen Diego u. Madlen"}]
["2020-06-16",{"$f":"VLOOKUP(D1328,'2020'!$A$16:$G$150,3,FALSE)","v":"Fam. Leiggener"},{"$f":"VLOOKUP(D1328,'2020'!$A$16:$G$150,2,FALSE)","v":"Bulle"},30,99,{"$f":"VLOOKUP(E1328,'2020'!$A$16:$G$150,2,FALSE)","v":"Diva"},{"$f":"VLOOKUP(E1328,'2020'!$A$16:$G$150,3,FALSE)","v":"Williner Anton"}]
["2020-06-16",{"$f":"VLOOKUP(D1329,'2020'!$A$16:$G$150,3,FALSE)","v":"Bregy Silvan + Patrick"},{"$f":"VLOOKUP(D1329,'2020'!$A$16:$G$150,2,FALSE)","v":"Milow"},12,41,{"$f":"VLOOKUP(E1329,'2020'!$A$16:$G$150,2,FALSE)","v":"Mystic"},{"$f":"VLOOKUP(E1329,'2020'!$A$16:$G$150,3,FALSE)","v":"Fux W., J., + Wyer Piet"}]
["2020-06-16",{"$f":"VLOOKUP(D1330,'2020'!$A$16:$G$150,3,FALSE)","v":"Stallung Passeraub"},{"$f":"VLOOKUP(D1330,'2020'!$A$16:$G$150,2,FALSE)","v":"Ballerine"},78,108,{"$f":"VLOOKUP(E1330,'2020'!$A$16:$G$150,2,FALSE)","v":"Violette"},{"$f":"VLOOKUP(E1330,'2020'!$A$16:$G$150,3,FALSE)","v":"Zumofen / Gattlen"}]
["2020-06-16",{"$f":"VLOOKUP(D1331,'2020'!$A$16:$G$150,3,FALSE)","v":"Tscherry E. + B."},{"$f":"VLOOKUP(D1331,'2020'!$A$16:$G$150,2,FALSE)","v":"Carolin"},93,31,{"$f":"VLOOKUP(E1331,'2020'!$A$16:$G$150,2,FALSE)","v":"Baron"},{"$f":"VLOOKUP(E1331,'2020'!$A$16:$G$150,3,FALSE)","v":"Fam. Leiggener"}]
["2020-06-16",{"$f":"VLOOKUP(D1332,'2020'!$A$16:$G$150,3,FALSE)","v":"Bregy Ralf + Adolf"},{"$f":"VLOOKUP(D1332,'2020'!$A$16:$G$150,2,FALSE)","v":"Cashida"},15,60,{"$f":"VLOOKUP(E1332,'2020'!$A$16:$G$150,2,FALSE)","v":"Bayonne"},{"$f":"VLOOKUP(E1332,'2020'!$A$16:$G$150,3,FALSE)","v":"Jäger Carlo"}]
["2020-06-16",{"$f":"VLOOKUP(D1333,'2020'!$A$16:$G$150,3,FALSE)","v":"Jäger Carlo"},{"$f":"VLOOKUP(D1333,'2020'!$A$16:$G$150,2,FALSE)","v":"Promise"},57,9,{"$f":"VLOOKUP(E1333,'2020'!$A$16:$G$150,2,FALSE)","v":"Flacari"},{"$f":"VLOOKUP(E1333,'2020'!$A$16:$G$150,3,FALSE)","v":"Bregy Ralf + Adolf"}]
["2020-06-16",{"$f":"VLOOKUP(D1334,'2020'!$A$16:$G$150,3,FALSE)","v":"Williner Anton"},{"$f":"VLOOKUP(D1334,'2020'!$A$16:$G$150,2,FALSE)","v":"Colonell"},98,103,{"$f":"VLOOKUP(E1334,'2020'!$A$16:$G$150,2,FALSE)","v":"Roxana"},{"$f":"VLOOKUP(E1334,'2020'!$A$16:$G$150,3,FALSE)","v":"Wyssen Diego u. Madlen"}]
["2020-06-16",{"$f":"VLOOKUP(D1335,'2020'!$A$16:$G$150,3,FALSE)","v":"Gebr. Jäger"},{"$f":"VLOOKUP(D1335,'2020'!$A$16:$G$150,2,FALSE)","v":"Simba"},48,115,{"$f":"VLOOKUP(E1335,'2020'!$A$16:$G$150,2,FALSE)","v":"Pepitta"},{"$f":"VLOOKUP(E1335,'2020'!$A$16:$G$150,3,FALSE)","v":"Zumofen / Gattlen"}]
["2020-06-16",{"$f":"VLOOKUP(D1336,'2020'!$A$16:$G$150,3,FALSE)","v":"Tscherry E. + B."},{"$f":"VLOOKUP(D1336,'2020'!$A$16:$G$150,2,FALSE)","v":"Carolin"},93,32,{"$f":"VLOOKUP(E1336,'2020'!$A$16:$G$150,2,FALSE)","v":"Mira"},{"$f":"VLOOKUP(E1336,'2020'!$A$16:$G$150,3,FALSE)","v":"Fam. Leiggener"}]
["2020-06-16",{"$f":"VLOOKUP(D1337,'2020'!$A$16:$G$150,3,FALSE)","v":"Jäger Carlo"},{"$f":"VLOOKUP(D1337,'2020'!$A$16:$G$150,2,FALSE)","v":"Metis"},66,87,{"$f":"VLOOKUP(E1337,'2020'!$A$16:$G$150,2,FALSE)","v":"Benika"},{"$f":"VLOOKUP(E1337,'2020'!$A$16:$G$150,3,FALSE)","v":"Stallung zum Stäg"}]
["2020-06-16",{"$f":"VLOOKUP(D1338,'2020'!$A$16:$G$150,3,FALSE)","v":"Zumofen / Gattlen"},{"$f":"VLOOKUP(D1338,'2020'!$A$16:$G$150,2,FALSE)","v":"Vidona"},111,3,{"$f":"VLOOKUP(E1338,'2020'!$A$16:$G$150,2,FALSE)","v":"Priska"},{"$f":"VLOOKUP(E1338,'2020'!$A$16:$G$150,3,FALSE)","v":"Bayard Medard + Gustav"}]
["2020-06-16",{"$f":"VLOOKUP(D1339,'2020'!$A$16:$G$150,3,FALSE)","v":"Stallung Passeraub"},{"$f":"VLOOKUP(D1339,'2020'!$A$16:$G$150,2,FALSE)","v":"Ballerine"},78,84,{"$f":"VLOOKUP(E1339,'2020'!$A$16:$G$150,2,FALSE)","v":"Fägär"},{"$f":"VLOOKUP(E1339,'2020'!$A$16:$G$150,3,FALSE)","v":"Hutter Richard"}]
["2020-06-16",{"$f":"VLOOKUP(D1340,'2020'!$A$16:$G$150,3,FALSE)","v":"Jäger Carlo"},{"$f":"VLOOKUP(D1340,'2020'!$A$16:$G$150,2,FALSE)","v":"Sera"},64,39,{"$f":"VLOOKUP(E1340,'2020'!$A$16:$G$150,2,FALSE)","v":"Bacardi"},{"$f":"VLOOKUP(E1340,'2020'!$A$16:$G$150,3,FALSE)","v":"Fux W., J., + Wyer Piet"}]
["2020-06-16",{"$f":"VLOOKUP(D1341,'2020'!$A$16:$G$150,3,FALSE)","v":"Bregy Silvan + Patrick"},{"$f":"VLOOKUP(D1341,'2020'!$A$16:$G$150,2,FALSE)","v":"Milow"},12,46,{"$f":"VLOOKUP(E1341,'2020'!$A$16:$G$150,2,FALSE)","v":"Lorens"},{"$f":"VLOOKUP(E1341,'2020'!$A$16:$G$150,3,FALSE)","v":"Gebr. Jäger"}]
["2020-06-16",{"$f":"VLOOKUP(D1342,'2020'!$A$16:$G$150,3,FALSE)","v":"Jäger Carlo"},{"$f":"VLOOKUP(D1342,'2020'!$A$16:$G$150,2,FALSE)","v":"Sera"},64,15,{"$f":"VLOOKUP(E1342,'2020'!$A$16:$G$150,2,FALSE)","v":"Cashida"},{"$f":"VLOOKUP(E1342,'2020'!$A$16:$G$150,3,FALSE)","v":"Bregy Ralf + Adolf"}]
["2020-06-16",{"$f":"VLOOKUP(D1343,'2020'!$A$16:$G$150,3,FALSE)","v":"Gebr. Jäger"},{"$f":"VLOOKUP(D1343,'2020'!$A$16:$G$150,2,FALSE)","v":"Tanja"},50,35,{"$f":"VLOOKUP(E1343,'2020'!$A$16:$G$150,2,FALSE)","v":"Valaisanne"},{"$f":"VLOOKUP(E1343,'2020'!$A$16:$G$150,3,FALSE)","v":"Fux W., J., + Wyer Piet"}]
["2020-06-16",{"$f":"VLOOKUP(D1344,'2020'!$A$16:$G$150,3,FALSE)","v":"Fux W., J., + Wyer Piet"},{"$f":"VLOOKUP(D1344,'2020'!$A$16:$G$150,2,FALSE)","v":"Toscana"},40,11,{"$f":"VLOOKUP(E1344,'2020'!$A$16:$G$150,2,FALSE)","v":"Carcas"},{"$f":"VLOOKUP(E1344,'2020'!$A$16:$G$150,3,FALSE)","v":"Bregy Ralf + Adolf"}]
["2020-06-16",{"$f":"VLOOKUP(D1345,'2020'!$A$16:$G$150,3,FALSE)","v":"Gebr. Jäger"},{"$f":"VLOOKUP(D1345,'2020'!$A$16:$G$150,2,FALSE)","v":"Dorina"},44,36,{"$f":"VLOOKUP(E1345,'2020'!$A$16:$G$150,2,FALSE)","v":"Calmy"},{"$f":"VLOOKUP(E1345,'2020'!$A$16:$G$150,3,FALSE)","v":"Fux W., J., + Wyer Piet"}]
["2020-06-16",{"$f":"VLOOKUP(D1346,'2020'!$A$16:$G$150,3,FALSE)","v":"Bregy Ralf + Adolf"},{"$f":"VLOOKUP(D1346,'2020'!$A$16:$G$150,2,FALSE)","v":"Flacabre"},16,41,{"$f":"VLOOKUP(E1346,'2020'!$A$16:$G$150,2,FALSE)","v":"Mystic"},{"$f":"VLOOKUP(E1346,'2020'!$A$16:$G$150,3,FALSE)","v":"Fux W., J., + Wyer Piet"}]
["2020-06-16",{"$f":"VLOOKUP(D1347,'2020'!$A$16:$G$150,3,FALSE)","v":"Fux W., J., + Wyer Piet"},{"$f":"VLOOKUP(D1347,'2020'!$A$16:$G$150,2,FALSE)","v":"Souris"},34,28,{"$f":"VLOOKUP(E1347,'2020'!$A$16:$G$150,2,FALSE)","v":"Corona"},{"$f":"VLOOKUP(E1347,'2020'!$A$16:$G$150,3,FALSE)","v":"Bregy Uli + Pascal"}]
["2020-06-16",{"$f":"VLOOKUP(D1348,'2020'!$A$16:$G$150,3,FALSE)","v":"Bayard Medard + Gustav"},{"$f":"VLOOKUP(D1348,'2020'!$A$16:$G$150,2,FALSE)","v":"Vampir"},4,38,{"$f":"VLOOKUP(E1348,'2020'!$A$16:$G$150,2,FALSE)","v":"Bresil"},{"$f":"VLOOKUP(E1348,'2020'!$A$16:$G$150,3,FALSE)","v":"Fux W., J., + Wyer Piet"}]
["2020-06-16",{"$f":"VLOOKUP(D1349,'2020'!$A$16:$G$150,3,FALSE)","v":"Bayard Medard + Gustav"},{"$f":"VLOOKUP(D1349,'2020'!$A$16:$G$150,2,FALSE)","v":"Fantastic"},2,35,{"$f":"VLOOKUP(E1349,'2020'!$A$16:$G$150,2,FALSE)","v":"Valaisanne"},{"$f":"VLOOKUP(E1349,'2020'!$A$16:$G$150,3,FALSE)","v":"Fux W., J., + Wyer Piet"}]
["2020-06-16",{"$f":"VLOOKUP(D1350,'2020'!$A$16:$G$150,3,FALSE)","v":"Jäger Carlo"},{"$f":"VLOOKUP(D1350,'2020'!$A$16:$G$150,2,FALSE)","v":"Metis"},66,93,{"$f":"VLOOKUP(E1350,'2020'!$A$16:$G$150,2,FALSE)","v":"Carolin"},{"$f":"VLOOKUP(E1350,'2020'!$A$16:$G$150,3,FALSE)","v":"Tscherry E. + B."}]
["2020-06-16",{"$f":"VLOOKUP(D1351,'2020'!$A$16:$G$150,3,FALSE)","v":"Gebr. Jäger"},{"$f":"VLOOKUP(D1351,'2020'!$A$16:$G$150,2,FALSE)","v":"Simba"},48,40,{"$f":"VLOOKUP(E1351,'2020'!$A$16:$G$150,2,FALSE)","v":"Toscana"},{"$f":"VLOOKUP(E1351,'2020'!$A$16:$G$150,3,FALSE)","v":"Fux W., J., + Wyer Piet"}]
["2020-06-16",{"$f":"VLOOKUP(D1352,'2020'!$A$16:$G$150,3,FALSE)","v":"Jäger Carlo"},{"$f":"VLOOKUP(D1352,'2020'!$A$16:$G$150,2,FALSE)","v":"Pisa"},63,2,{"$f":"VLOOKUP(E1352,'2020'!$A$16:$G$150,2,FALSE)","v":"Fantastic"},{"$f":"VLOOKUP(E1352,'2020'!$A$16:$G$150,3,FALSE)","v":"Bayard Medard + Gustav"}]
["2020-06-16",{"$f":"VLOOKUP(D1353,'2020'!$A$16:$G$150,3,FALSE)","v":"Williner Anton"},{"$f":"VLOOKUP(D1353,'2020'!$A$16:$G$150,2,FALSE)","v":"Tira"},100,113,{"$f":"VLOOKUP(E1353,'2020'!$A$16:$G$150,2,FALSE)","v":"Vanda"},{"$f":"VLOOKUP(E1353,'2020'!$A$16:$G$150,3,FALSE)","v":"Zumofen / Gattlen"}]
["2020-06-16",{"$f":"VLOOKUP(D1354,'2020'!$A$16:$G$150,3,FALSE)","v":"Jäger Carlo"},{"$f":"VLOOKUP(D1354,'2020'!$A$16:$G$150,2,FALSE)","v":"Candice"},62,16,{"$f":"VLOOKUP(E1354,'2020'!$A$16:$G$150,2,FALSE)","v":"Flacabre"},{"$f":"VLOOKUP(E1354,'2020'!$A$16:$G$150,3,FALSE)","v":"Bregy Ralf + Adolf"}]
["2020-06-16",{"$f":"VLOOKUP(D1355,'2020'!$A$16:$G$150,3,FALSE)","v":"Zumofen / Gattlen"},{"$f":"VLOOKUP(D1355,'2020'!$A$16:$G$150,2,FALSE)","v":"Rena"},109,25,{"$f":"VLOOKUP(E1355,'2020'!$A$16:$G$150,2,FALSE)","v":"Calette"},{"$f":"VLOOKUP(E1355,'2020'!$A$16:$G$150,3,FALSE)","v":"Bregy Uli + Pascal"}]
["2020-06-16",{"$f":"VLOOKUP(D1356,'2020'!$A$16:$G$150,3,FALSE)","v":"Zumofen / Gattlen"},{"$f":"VLOOKUP(D1356,'2020'!$A$16:$G$150,2,FALSE)","v":"Riva "},112,25,{"$f":"VLOOKUP(E1356,'2020'!$A$16:$G$150,2,FALSE)","v":"Calette"},{"$f":"VLOOKUP(E1356,'2020'!$A$16:$G$150,3,FALSE)","v":"Bregy Uli + Pascal"}]
["2020-06-16",{"$f":"VLOOKUP(D1357,'2020'!$A$16:$G$150,3,FALSE)","v":"Bregy Uli + Pascal"},{"$f":"VLOOKUP(D1357,'2020'!$A$16:$G$150,2,FALSE)","v":"Souki"},18,89,{"$f":"VLOOKUP(E1357,'2020'!$A$16:$G$150,2,FALSE)","v":"Tiara"},{"$f":"VLOOKUP(E1357,'2020'!$A$16:$G$150,3,FALSE)","v":"Sewer R. + Thommen S."}]
["2020-06-16",{"$f":"VLOOKUP(D1358,'2020'!$A$16:$G$150,3,FALSE)","v":"Gebr. Jäger"},{"$f":"VLOOKUP(D1358,'2020'!$A$16:$G$150,2,FALSE)","v":"Lorens"},46,103,{"$f":"VLOOKUP(E1358,'2020'!$A$16:$G$150,2,FALSE)","v":"Roxana"},{"$f":"VLOOKUP(E1358,'2020'!$A$16:$G$150,3,FALSE)","v":"Wyssen Diego u. Madlen"}]
["2020-06-16",{"$f":"VLOOKUP(D1359,'2020'!$A$16:$G$150,3,FALSE)","v":"Tscherry E. + B."},{"$f":"VLOOKUP(D1359,'2020'!$A$16:$G$150,2,FALSE)","v":"Carolin"},93,31,{"$f":"VLOOKUP(E1359,'2020'!$A$16:$G$150,2,FALSE)","v":"Baron"},{"$f":"VLOOKUP(E1359,'2020'!$A$16:$G$150,3,FALSE)","v":"Fam. Leiggener"}]
["2020-06-16",{"$f":"VLOOKUP(D1360,'2020'!$A$16:$G$150,3,FALSE)","v":"Bregy Ralf + Adolf"},{"$f":"VLOOKUP(D1360,'2020'!$A$16:$G$150,2,FALSE)","v":"Cashida"},15,60,{"$f":"VLOOKUP(E1360,'2020'!$A$16:$G$150,2,FALSE)","v":"Bayonne"},{"$f":"VLOOKUP(E1360,'2020'!$A$16:$G$150,3,FALSE)","v":"Jäger Carlo"}]
["2020-06-16",{"$f":"VLOOKUP(D1361,'2020'!$A$16:$G$150,3,FALSE)","v":"Jäger Carlo"},{"$f":"VLOOKUP(D1361,'2020'!$A$16:$G$150,2,FALSE)","v":"Promise"},57,9,{"$f":"VLOOKUP(E1361,'2020'!$A$16:$G$150,2,FALSE)","v":"Flacari"},{"$f":"VLOOKUP(E1361,'2020'!$A$16:$G$150,3,FALSE)","v":"Bregy Ralf + Adolf"}]
["2020-06-16",{"$f":"VLOOKUP(D1362,'2020'!$A$16:$G$150,3,FALSE)","v":"Bregy Uli + Pascal"},{"$f":"VLOOKUP(D1362,'2020'!$A$16:$G$150,2,FALSE)","v":"Pandora"},23,117,{"$f":"VLOOKUP(E1362,'2020'!$A$16:$G$150,2,FALSE)","v":"Rigolo"},{"$f":"VLOOKUP(E1362,'2020'!$A$16:$G$150,3,FALSE)","v":"Zumofen / Gattlen"}]
["2020-06-16",{"$f":"VLOOKUP(D1363,'2020'!$A$16:$G$150,3,FALSE)","v":"Gebr. Jäger"},{"$f":"VLOOKUP(D1363,'2020'!$A$16:$G$150,2,FALSE)","v":"Lorens"},46,107,{"$f":"VLOOKUP(E1363,'2020'!$A$16:$G$150,2,FALSE)","v":"Violin"},{"$f":"VLOOKUP(E1363,'2020'!$A$16:$G$150,3,FALSE)","v":"Zumofen / Gattlen"}]
["2020-06-16",{"$f":"VLOOKUP(D1364,'2020'!$A$16:$G$150,3,FALSE)","v":"Tscherry E. + B."},{"$f":"VLOOKUP(D1364,'2020'!$A$16:$G$150,2,FALSE)","v":"Cobra"},94,35,{"$f":"VLOOKUP(E1364,'2020'!$A$16:$G$150,2,FALSE)","v":"Valaisanne"},{"$f":"VLOOKUP(E1364,'2020'!$A$16:$G$150,3,FALSE)","v":"Fux W., J., + Wyer Piet"}]
["2020-06-16",{"$f":"VLOOKUP(D1365,'2020'!$A$16:$G$150,3,FALSE)","v":"Sewer R. + Thommen S."},{"$f":"VLOOKUP(D1365,'2020'!$A$16:$G$150,2,FALSE)","v":"Tiara"},89,28,{"$f":"VLOOKUP(E1365,'2020'!$A$16:$G$150,2,FALSE)","v":"Corona"},{"$f":"VLOOKUP(E1365,'2020'!$A$16:$G$150,3,FALSE)","v":"Bregy Uli + Pascal"}]
["2020-06-16",{"$f":"VLOOKUP(D1366,'2020'!$A$16:$G$150,3,FALSE)","v":"Fux W., J., + Wyer Piet"},{"$f":"VLOOKUP(D1366,'2020'!$A$16:$G$150,2,FALSE)","v":"Souris"},34,47,{"$f":"VLOOKUP(E1366,'2020'!$A$16:$G$150,2,FALSE)","v":"Tiara"},{"$f":"VLOOKUP(E1366,'2020'!$A$16:$G$150,3,FALSE)","v":"Gebr. Jäger"}]
["2020-06-16",{"$f":"VLOOKUP(D1367,'2020'!$A$16:$G$150,3,FALSE)","v":"Fux W., J., + Wyer Piet"},{"$f":"VLOOKUP(D1367,'2020'!$A$16:$G$150,2,FALSE)","v":"Mystic"},41,48,{"$f":"VLOOKUP(E1367,'2020'!$A$16:$G$150,2,FALSE)","v":"Simba"},{"$f":"VLOOKUP(E1367,'2020'!$A$16:$G$150,3,FALSE)","v":"Gebr. Jäger"}]
["2020-06-16",{"$f":"VLOOKUP(D1368,'2020'!$A$16:$G$150,3,FALSE)","v":"Bregy Ralf + Adolf"},{"$f":"VLOOKUP(D1368,'2020'!$A$16:$G$150,2,FALSE)","v":"Carcas"},11,50,{"$f":"VLOOKUP(E1368,'2020'!$A$16:$G$150,2,FALSE)","v":"Tanja"},{"$f":"VLOOKUP(E1368,'2020'!$A$16:$G$150,3,FALSE)","v":"Gebr. Jäger"}]
["2020-06-16",{"$f":"VLOOKUP(D1369,'2020'!$A$16:$G$150,3,FALSE)","v":"Gebr. Jäger"},{"$f":"VLOOKUP(D1369,'2020'!$A$16:$G$150,2,FALSE)","v":"Tanja"},50,11,{"$f":"VLOOKUP(E1369,'2020'!$A$16:$G$150,2,FALSE)","v":"Carcas"},{"$f":"VLOOKUP(E1369,'2020'!$A$16:$G$150,3,FALSE)","v":"Bregy Ralf + Adolf"}]
["2020-06-16",{"$f":"VLOOKUP(D1370,'2020'!$A$16:$G$150,3,FALSE)","v":"Jäger Carlo"},{"$f":"VLOOKUP(D1370,'2020'!$A$16:$G$150,2,FALSE)","v":"Candice"},62,91,{"$f":"VLOOKUP(E1370,'2020'!$A$16:$G$150,2,FALSE)","v":"Bolera"},{"$f":"VLOOKUP(E1370,'2020'!$A$16:$G$150,3,FALSE)","v":"Sewer R. + Thommen S."}]
["2020-06-16",{"$f":"VLOOKUP(D1371,'2020'!$A$16:$G$150,3,FALSE)","v":"Gebr. Jäger"},{"$f":"VLOOKUP(D1371,'2020'!$A$16:$G$150,2,FALSE)","v":"Lorens"},46,33,{"$f":"VLOOKUP(E1371,'2020'!$A$16:$G$150,2,FALSE)","v":"Baquera"},{"$f":"VLOOKUP(E1371,'2020'!$A$16:$G$150,3,FALSE)","v":"Fux W., J., + Wyer Piet"}]
["2020-06-16",{"$f":"VLOOKUP(D1372,'2020'!$A$16:$G$150,3,FALSE)","v":"Wyssen Diego u. Madlen"},{"$f":"VLOOKUP(D1372,'2020'!$A$16:$G$150,2,FALSE)","v":"Roxana"},103,86,{"$f":"VLOOKUP(E1372,'2020'!$A$16:$G$150,2,FALSE)","v":"Babylon"},{"$f":"VLOOKUP(E1372,'2020'!$A$16:$G$150,3,FALSE)","v":"Stallung zum Stäg"}]
["2020-06-16",{"$f":"VLOOKUP(D1373,'2020'!$A$16:$G$150,3,FALSE)","v":"Jäger Carlo"},{"$f":"VLOOKUP(D1373,'2020'!$A$16:$G$150,2,FALSE)","v":"Maila"},59,10,{"$f":"VLOOKUP(E1373,'2020'!$A$16:$G$150,2,FALSE)","v":"Diabolo"},{"$f":"VLOOKUP(E1373,'2020'!$A$16:$G$150,3,FALSE)","v":"Bregy Ralf + Adolf"}]
["2020-06-16",{"$f":"VLOOKUP(D1374,'2020'!$A$16:$G$150,3,FALSE)","v":"Williner Anton"},{"$f":"VLOOKUP(D1374,'2020'!$A$16:$G$150,2,FALSE)","v":"Vanessa"},97,103,{"$f":"VLOOKUP(E1374,'2020'!$A$16:$G$150,2,FALSE)","v":"Roxana"},{"$f":"VLOOKUP(E1374,'2020'!$A$16:$G$150,3,FALSE)","v":"Wyssen Diego u. Madlen"}]
["2020-06-16",{"$f":"VLOOKUP(D1375,'2020'!$A$16:$G$150,3,FALSE)","v":"Mathieu Leander + S."},{"$f":"VLOOKUP(D1375,'2020'!$A$16:$G$150,2,FALSE)","v":"Baghira"},71,65,{"$f":"VLOOKUP(E1375,'2020'!$A$16:$G$150,2,FALSE)","v":"Megane"},{"$f":"VLOOKUP(E1375,'2020'!$A$16:$G$150,3,FALSE)","v":"Jäger Carlo"}]
["2020-06-16",{"$f":"VLOOKUP(D1376,'2020'!$A$16:$G$150,3,FALSE)","v":"Bayard Medard + Gustav"},{"$f":"VLOOKUP(D1376,'2020'!$A$16:$G$150,2,FALSE)","v":"Priska"},3,65,{"$f":"VLOOKUP(E1376,'2020'!$A$16:$G$150,2,FALSE)","v":"Megane"},{"$f":"VLOOKUP(E1376,'2020'!$A$16:$G$150,3,FALSE)","v":"Jäger Carlo"}]
["2020-06-16",{"$f":"VLOOKUP(D1377,'2020'!$A$16:$G$150,3,FALSE)","v":"Mathieu Leander + S."},{"$f":"VLOOKUP(D1377,'2020'!$A$16:$G$150,2,FALSE)","v":"Bavaria"},73,3,{"$f":"VLOOKUP(E1377,'2020'!$A$16:$G$150,2,FALSE)","v":"Priska"},{"$f":"VLOOKUP(E1377,'2020'!$A$16:$G$150,3,FALSE)","v":"Bayard Medard + Gustav"}]
["2020-06-16",{"$f":"VLOOKUP(D1378,'2020'!$A$16:$G$150,3,FALSE)","v":"Zumofen / Gattlen"},{"$f":"VLOOKUP(D1378,'2020'!$A$16:$G$150,2,FALSE)","v":"Rigolo"},117,47,{"$f":"VLOOKUP(E1378,'2020'!$A$16:$G$150,2,FALSE)","v":"Tiara"},{"$f":"VLOOKUP(E1378,'2020'!$A$16:$G$150,3,FALSE)","v":"Gebr. Jäger"}]
["2020-06-16",{"$f":"VLOOKUP(D1379,'2020'!$A$16:$G$150,3,FALSE)","v":"Wyssen Diego u. Madlen"},{"$f":"VLOOKUP(D1379,'2020'!$A$16:$G$150,2,FALSE)","v":"Xena"},104,69,{"$f":"VLOOKUP(E1379,'2020'!$A$16:$G$150,2,FALSE)","v":"Taverne"},{"$f":"VLOOKUP(E1379,'2020'!$A$16:$G$150,3,FALSE)","v":"Jäger Carlo"}]
["2020-06-16",{"$f":"VLOOKUP(D1380,'2020'!$A$16:$G$150,3,FALSE)","v":"Williner Anton"},{"$f":"VLOOKUP(D1380,'2020'!$A$16:$G$150,2,FALSE)","v":"Vanessa"},97,40,{"$f":"VLOOKUP(E1380,'2020'!$A$16:$G$150,2,FALSE)","v":"Toscana"},{"$f":"VLOOKUP(E1380,'2020'!$A$16:$G$150,3,FALSE)","v":"Fux W., J., + Wyer Piet"}]
["2020-06-16",{"$f":"VLOOKUP(D1381,'2020'!$A$16:$G$150,3,FALSE)","v":"Bregy Uli + Pascal"},{"$f":"VLOOKUP(D1381,'2020'!$A$16:$G$150,2,FALSE)","v":"Bora"},21,56,{"$f":"VLOOKUP(E1381,'2020'!$A$16:$G$150,2,FALSE)","v":"Shakira"},{"$f":"VLOOKUP(E1381,'2020'!$A$16:$G$150,3,FALSE)","v":"Hischier Pius"}]
["2020-06-16",{"$f":"VLOOKUP(D1382,'2020'!$A$16:$G$150,3,FALSE)","v":"Zumofen / Gattlen"},{"$f":"VLOOKUP(D1382,'2020'!$A$16:$G$150,2,FALSE)","v":"Riva "},112,23,{"$f":"VLOOKUP(E1382,'2020'!$A$16:$G$150,2,FALSE)","v":"Pandora"},{"$f":"VLOOKUP(E1382,'2020'!$A$16:$G$150,3,FALSE)","v":"Bregy Uli + Pascal"}]
["2020-06-16",{"$f":"VLOOKUP(D1383,'2020'!$A$16:$G$150,3,FALSE)","v":"Jäger Carlo"},{"$f":"VLOOKUP(D1383,'2020'!$A$16:$G$150,2,FALSE)","v":"Sera"},64,68,{"$f":"VLOOKUP(E1383,'2020'!$A$16:$G$150,2,FALSE)","v":"Pivoine"},{"$f":"VLOOKUP(E1383,'2020'!$A$16:$G$150,3,FALSE)","v":"Jäger Carlo"}]
["2020-06-16",{"$f":"VLOOKUP(D1384,'2020'!$A$16:$G$150,3,FALSE)","v":"Jäger Carlo"},{"$f":"VLOOKUP(D1384,'2020'!$A$16:$G$150,2,FALSE)","v":"Maila"},59,65,{"$f":"VLOOKUP(E1384,'2020'!$A$16:$G$150,2,FALSE)","v":"Megane"},{"$f":"VLOOKUP(E1384,'2020'!$A$16:$G$150,3,FALSE)","v":"Jäger Carlo"}]
["2020-06-16",{"$f":"VLOOKUP(D1385,'2020'!$A$16:$G$150,3,FALSE)","v":"Jäger Carlo"},{"$f":"VLOOKUP(D1385,'2020'!$A$16:$G$150,2,FALSE)","v":"Sera"},64,90,{"$f":"VLOOKUP(E1385,'2020'!$A$16:$G$150,2,FALSE)","v":"Biscot"},{"$f":"VLOOKUP(E1385,'2020'!$A$16:$G$150,3,FALSE)","v":"Sewer R. + Thommen S."}]
["2020-06-16",{"$f":"VLOOKUP(D1386,'2020'!$A$16:$G$150,3,FALSE)","v":"Zumofen / Gattlen"},{"$f":"VLOOKUP(D1386,'2020'!$A$16:$G$150,2,FALSE)","v":"Pepitta"},115,16,{"$f":"VLOOKUP(E1386,'2020'!$A$16:$G$150,2,FALSE)","v":"Flacabre"},{"$f":"VLOOKUP(E1386,'2020'!$A$16:$G$150,3,FALSE)","v":"Bregy Ralf + Adolf"}]
["2020-06-16",{"$f":"VLOOKUP(D1387,'2020'!$A$16:$G$150,3,FALSE)","v":"Fux W., J., + Wyer Piet"},{"$f":"VLOOKUP(D1387,'2020'!$A$16:$G$150,2,FALSE)","v":"Toscana"},40,44,{"$f":"VLOOKUP(E1387,'2020'!$A$16:$G$150,2,FALSE)","v":"Dorina"},{"$f":"VLOOKUP(E1387,'2020'!$A$16:$G$150,3,FALSE)","v":"Gebr. Jäger"}]
["2020-06-16",{"$f":"VLOOKUP(D1388,'2020'!$A$16:$G$150,3,FALSE)","v":"Gebr. Jäger"},{"$f":"VLOOKUP(D1388,'2020'!$A$16:$G$150,2,FALSE)","v":"Dorina"},44,96,{"$f":"VLOOKUP(E1388,'2020'!$A$16:$G$150,2,FALSE)","v":"Tigra"},{"$f":"VLOOKUP(E1388,'2020'!$A$16:$G$150,3,FALSE)","v":"Williner Anton"}]
["2020-06-16",{"$f":"VLOOKUP(D1389,'2020'!$A$16:$G$150,3,FALSE)","v":"Gebr. Jäger"},{"$f":"VLOOKUP(D1389,'2020'!$A$16:$G$150,2,FALSE)","v":"Dorina"},44,115,{"$f":"VLOOKUP(E1389,'2020'!$A$16:$G$150,2,FALSE)","v":"Pepitta"},{"$f":"VLOOKUP(E1389,'2020'!$A$16:$G$150,3,FALSE)","v":"Zumofen / Gattlen"}]
["2020-06-16",{"$f":"VLOOKUP(D1390,'2020'!$A$16:$G$150,3,FALSE)","v":"Bayard Medard + Gustav"},{"$f":"VLOOKUP(D1390,'2020'!$A$16:$G$150,2,FALSE)","v":"Priska"},3,34,{"$f":"VLOOKUP(E1390,'2020'!$A$16:$G$150,2,FALSE)","v":"Souris"},{"$f":"VLOOKUP(E1390,'2020'!$A$16:$G$150,3,FALSE)","v":"Fux W., J., + Wyer Piet"}]
["2020-06-16",{"$f":"VLOOKUP(D1391,'2020'!$A$16:$G$150,3,FALSE)","v":"Zumofen / Gattlen"},{"$f":"VLOOKUP(D1391,'2020'!$A$16:$G$150,2,FALSE)","v":"Riva "},112,44,{"$f":"VLOOKUP(E1391,'2020'!$A$16:$G$150,2,FALSE)","v":"Dorina"},{"$f":"VLOOKUP(E1391,'2020'!$A$16:$G$150,3,FALSE)","v":"Gebr. Jäger"}]
["2020-06-16",{"$f":"VLOOKUP(D1392,'2020'!$A$16:$G$150,3,FALSE)","v":"Jäger Carlo"},{"$f":"VLOOKUP(D1392,'2020'!$A$16:$G$150,2,FALSE)","v":"Sera"},64,116,{"$f":"VLOOKUP(E1392,'2020'!$A$16:$G$150,2,FALSE)","v":"Pinoccio"},{"$f":"VLOOKUP(E1392,'2020'!$A$16:$G$150,3,FALSE)","v":"Zumofen / Gattlen"}]
["2020-06-16",{"$f":"VLOOKUP(D1393,'2020'!$A$16:$G$150,3,FALSE)","v":"Mathieu Leander + S."},{"$f":"VLOOKUP(D1393,'2020'!$A$16:$G$150,2,FALSE)","v":"Bavaria"},73,68,{"$f":"VLOOKUP(E1393,'2020'!$A$16:$G$150,2,FALSE)","v":"Pivoine"},{"$f":"VLOOKUP(E1393,'2020'!$A$16:$G$150,3,FALSE)","v":"Jäger Carlo"}]
["2020-06-16",{"$f":"VLOOKUP(D1394,'2020'!$A$16:$G$150,3,FALSE)","v":"Zumofen / Gattlen"},{"$f":"VLOOKUP(D1394,'2020'!$A$16:$G$150,2,FALSE)","v":"Vanda"},113,34,{"$f":"VLOOKUP(E1394,'2020'!$A$16:$G$150,2,FALSE)","v":"Souris"},{"$f":"VLOOKUP(E1394,'2020'!$A$16:$G$150,3,FALSE)","v":"Fux W., J., + Wyer Piet"}]
["2020-06-16",{"$f":"VLOOKUP(D1395,'2020'!$A$16:$G$150,3,FALSE)","v":"Williner Anton"},{"$f":"VLOOKUP(D1395,'2020'!$A$16:$G$150,2,FALSE)","v":"Colonell"},98,118,{"$f":"VLOOKUP(E1395,'2020'!$A$16:$G$150,2,FALSE)","v":"Vesuv"},{"$f":"VLOOKUP(E1395,'2020'!$A$16:$G$150,3,FALSE)","v":"Zumofen / Gattlen"}]
["2020-06-16",{"$f":"VLOOKUP(D1396,'2020'!$A$16:$G$150,3,FALSE)","v":"Jäger Carlo"},{"$f":"VLOOKUP(D1396,'2020'!$A$16:$G$150,2,FALSE)","v":"Maila"},59,14,{"$f":"VLOOKUP(E1396,'2020'!$A$16:$G$150,2,FALSE)","v":"Canabis"},{"$f":"VLOOKUP(E1396,'2020'!$A$16:$G$150,3,FALSE)","v":"Bregy Ralf + Adolf"}]
["2020-06-16",{"$f":"VLOOKUP(D1397,'2020'!$A$16:$G$150,3,FALSE)","v":"Fam. Leiggener"},{"$f":"VLOOKUP(D1397,'2020'!$A$16:$G$150,2,FALSE)","v":"Rebell"},29,24,{"$f":"VLOOKUP(E1397,'2020'!$A$16:$G$150,2,FALSE)","v":"Catalina"},{"$f":"VLOOKUP(E1397,'2020'!$A$16:$G$150,3,FALSE)","v":"Bregy Uli + Pascal"}]
["2020-06-16",{"$f":"VLOOKUP(D1398,'2020'!$A$16:$G$150,3,FALSE)","v":"Zumofen / Gattlen"},{"$f":"VLOOKUP(D1398,'2020'!$A$16:$G$150,2,FALSE)","v":"Violin"},107,52,{"$f":"VLOOKUP(E1398,'2020'!$A$16:$G$150,2,FALSE)","v":"Lenja"},{"$f":"VLOOKUP(E1398,'2020'!$A$16:$G$150,3,FALSE)","v":"Hischier H. + Bühlmann J."}]
["2020-06-16",{"$f":"VLOOKUP(D1399,'2020'!$A$16:$G$150,3,FALSE)","v":"Jäger Carlo"},{"$f":"VLOOKUP(D1399,'2020'!$A$16:$G$150,2,FALSE)","v":"Sera"},64,1,{"$f":"VLOOKUP(E1399,'2020'!$A$16:$G$150,2,FALSE)","v":"Diabolo"},{"$f":"VLOOKUP(E1399,'2020'!$A$16:$G$150,3,FALSE)","v":"Bayard Medard + Gustav"}]
["2020-06-16",{"$f":"VLOOKUP(D1400,'2020'!$A$16:$G$150,3,FALSE)","v":"Bayard Medard + Gustav"},{"$f":"VLOOKUP(D1400,'2020'!$A$16:$G$150,2,FALSE)","v":"Vampir"},4,38,{"$f":"VLOOKUP(E1400,'2020'!$A$16:$G$150,2,FALSE)","v":"Bresil"},{"$f":"VLOOKUP(E1400,'2020'!$A$16:$G$150,3,FALSE)","v":"Fux W., J., + Wyer Piet"}]
["2020-06-16",{"$f":"VLOOKUP(D1401,'2020'!$A$16:$G$150,3,FALSE)","v":"Hischier H. + Bühlmann J."},{"$f":"VLOOKUP(D1401,'2020'!$A$16:$G$150,2,FALSE)","v":"Jamanda"},51,32,{"$f":"VLOOKUP(E1401,'2020'!$A$16:$G$150,2,FALSE)","v":"Mira"},{"$f":"VLOOKUP(E1401,'2020'!$A$16:$G$150,3,FALSE)","v":"Fam. Leiggener"}]
["2020-06-16",{"$f":"VLOOKUP(D1402,'2020'!$A$16:$G$150,3,FALSE)","v":"Stallung zum Stäg"},{"$f":"VLOOKUP(D1402,'2020'!$A$16:$G$150,2,FALSE)","v":"Benika"},87,35,{"$f":"VLOOKUP(E1402,'2020'!$A$16:$G$150,2,FALSE)","v":"Valaisanne"},{"$f":"VLOOKUP(E1402,'2020'!$A$16:$G$150,3,FALSE)","v":"Fux W., J., + Wyer Piet"}]
["2020-06-16",{"$f":"VLOOKUP(D1403,'2020'!$A$16:$G$150,3,FALSE)","v":"Bregy Uli + Pascal"},{"$f":"VLOOKUP(D1403,'2020'!$A$16:$G$150,2,FALSE)","v":"Tiranie"},19,43,{"$f":"VLOOKUP(E1403,'2020'!$A$16:$G$150,2,FALSE)","v":"Pampère"},{"$f":"VLOOKUP(E1403,'2020'!$A$16:$G$150,3,FALSE)","v":"Fux W., J., + Wyer Piet"}]
["2020-06-16",{"$f":"VLOOKUP(D1404,'2020'!$A$16:$G$150,3,FALSE)","v":"Bayard Medard + Gustav"},{"$f":"VLOOKUP(D1404,'2020'!$A$16:$G$150,2,FALSE)","v":"Fantastic"},2,117,{"$f":"VLOOKUP(E1404,'2020'!$A$16:$G$150,2,FALSE)","v":"Rigolo"},{"$f":"VLOOKUP(E1404,'2020'!$A$16:$G$150,3,FALSE)","v":"Zumofen / Gattlen"}]
["2020-06-16",{"$f":"VLOOKUP(D1405,'2020'!$A$16:$G$150,3,FALSE)","v":"Fux W., J., + Wyer Piet"},{"$f":"VLOOKUP(D1405,'2020'!$A$16:$G$150,2,FALSE)","v":"Bacardi"},39,11,{"$f":"VLOOKUP(E1405,'2020'!$A$16:$G$150,2,FALSE)","v":"Carcas"},{"$f":"VLOOKUP(E1405,'2020'!$A$16:$G$150,3,FALSE)","v":"Bregy Ralf + Adolf"}]
["2020-06-16",{"$f":"VLOOKUP(D1406,'2020'!$A$16:$G$150,3,FALSE)","v":"Bregy Silvan + Patrick"},{"$f":"VLOOKUP(D1406,'2020'!$A$16:$G$150,2,FALSE)","v":"Milow"},12,114,{"$f":"VLOOKUP(E1406,'2020'!$A$16:$G$150,2,FALSE)","v":"Maya"},{"$f":"VLOOKUP(E1406,'2020'!$A$16:$G$150,3,FALSE)","v":"Zumofen / Gattlen"}]
["2020-06-16",{"$f":"VLOOKUP(D1407,'2020'!$A$16:$G$150,3,FALSE)","v":"Bregy Uli + Pascal"},{"$f":"VLOOKUP(D1407,'2020'!$A$16:$G$150,2,FALSE)","v":"Cataleya"},26,61,{"$f":"VLOOKUP(E1407,'2020'!$A$16:$G$150,2,FALSE)","v":"Grolla"},{"$f":"VLOOKUP(E1407,'2020'!$A$16:$G$150,3,FALSE)","v":"Jäger Carlo"}]
["2020-06-16",{"$f":"VLOOKUP(D1408,'2020'!$A$16:$G$150,3,FALSE)","v":"Fux W., J., + Wyer Piet"},{"$f":"VLOOKUP(D1408,'2020'!$A$16:$G$150,2,FALSE)","v":"Bacardi"},39,61,{"$f":"VLOOKUP(E1408,'2020'!$A$16:$G$150,2,FALSE)","v":"Grolla"},{"$f":"VLOOKUP(E1408,'2020'!$A$16:$G$150,3,FALSE)","v":"Jäger Carlo"}]
["2020-06-16",{"$f":"VLOOKUP(D1409,'2020'!$A$16:$G$150,3,FALSE)","v":"Zumofen / Gattlen"},{"$f":"VLOOKUP(D1409,'2020'!$A$16:$G$150,2,FALSE)","v":"Fayola"},119,48,{"$f":"VLOOKUP(E1409,'2020'!$A$16:$G$150,2,FALSE)","v":"Simba"},{"$f":"VLOOKUP(E1409,'2020'!$A$16:$G$150,3,FALSE)","v":"Gebr. Jäger"}]
["2020-06-16",{"$f":"VLOOKUP(D1410,'2020'!$A$16:$G$150,3,FALSE)","v":"Jäger Carlo"},{"$f":"VLOOKUP(D1410,'2020'!$A$16:$G$150,2,FALSE)","v":"Candice"},62,88,{"$f":"VLOOKUP(E1410,'2020'!$A$16:$G$150,2,FALSE)","v":"Malice"},{"$f":"VLOOKUP(E1410,'2020'!$A$16:$G$150,3,FALSE)","v":"Sewer R. + Thommen S."}]
["2020-06-16",{"$f":"VLOOKUP(D1411,'2020'!$A$16:$G$150,3,FALSE)","v":"Jäger Carlo"},{"$f":"VLOOKUP(D1411,'2020'!$A$16:$G$150,2,FALSE)","v":"Maila"},59,26,{"$f":"VLOOKUP(E1411,'2020'!$A$16:$G$150,2,FALSE)","v":"Cataleya"},{"$f":"VLOOKUP(E1411,'2020'!$A$16:$G$150,3,FALSE)","v":"Bregy Uli + Pascal"}]
["2020-06-16",{"$f":"VLOOKUP(D1412,'2020'!$A$16:$G$150,3,FALSE)","v":"Jäger Carlo"},{"$f":"VLOOKUP(D1412,'2020'!$A$16:$G$150,2,FALSE)","v":"Sera"},64,41,{"$f":"VLOOKUP(E1412,'2020'!$A$16:$G$150,2,FALSE)","v":"Mystic"},{"$f":"VLOOKUP(E1412,'2020'!$A$16:$G$150,3,FALSE)","v":"Fux W., J., + Wyer Piet"}]
["2020-06-16",{"$f":"VLOOKUP(D1413,'2020'!$A$16:$G$150,3,FALSE)","v":"Fux W., J., + Wyer Piet"},{"$f":"VLOOKUP(D1413,'2020'!$A$16:$G$150,2,FALSE)","v":"Toscana"},40,58,{"$f":"VLOOKUP(E1413,'2020'!$A$16:$G$150,2,FALSE)","v":"Bataille"},{"$f":"VLOOKUP(E1413,'2020'!$A$16:$G$150,3,FALSE)","v":"Jäger Carlo"}]
["2020-06-16",{"$f":"VLOOKUP(D1414,'2020'!$A$16:$G$150,3,FALSE)","v":"Bregy Uli + Pascal"},{"$f":"VLOOKUP(D1414,'2020'!$A$16:$G$150,2,FALSE)","v":"Souki"},18,15,{"$f":"VLOOKUP(E1414,'2020'!$A$16:$G$150,2,FALSE)","v":"Cashida"},{"$f":"VLOOKUP(E1414,'2020'!$A$16:$G$150,3,FALSE)","v":"Bregy Ralf + Adolf"}]
["2020-06-16",{"$f":"VLOOKUP(D1415,'2020'!$A$16:$G$150,3,FALSE)","v":"Bregy Ralf + Adolf"},{"$f":"VLOOKUP(D1415,'2020'!$A$16:$G$150,2,FALSE)","v":"Flacabre"},16,41,{"$f":"VLOOKUP(E1415,'2020'!$A$16:$G$150,2,FALSE)","v":"Mystic"},{"$f":"VLOOKUP(E1415,'2020'!$A$16:$G$150,3,FALSE)","v":"Fux W., J., + Wyer Piet"}]
["2020-06-16",{"$f":"VLOOKUP(D1416,'2020'!$A$16:$G$150,3,FALSE)","v":"Jäger Carlo"},{"$f":"VLOOKUP(D1416,'2020'!$A$16:$G$150,2,FALSE)","v":"Sera"},64,1,{"$f":"VLOOKUP(E1416,'2020'!$A$16:$G$150,2,FALSE)","v":"Diabolo"},{"$f":"VLOOKUP(E1416,'2020'!$A$16:$G$150,3,FALSE)","v":"Bayard Medard + Gustav"}]
["2020-06-16",{"$f":"VLOOKUP(D1417,'2020'!$A$16:$G$150,3,FALSE)","v":"Bayard Medard + Gustav"},{"$f":"VLOOKUP(D1417,'2020'!$A$16:$G$150,2,FALSE)","v":"Pandera"},5,30,{"$f":"VLOOKUP(E1417,'2020'!$A$16:$G$150,2,FALSE)","v":"Bulle"},{"$f":"VLOOKUP(E1417,'2020'!$A$16:$G$150,3,FALSE)","v":"Fam. Leiggener"}]
["2020-06-16",{"$f":"VLOOKUP(D1418,'2020'!$A$16:$G$150,3,FALSE)","v":"Bayard Medard + Gustav"},{"$f":"VLOOKUP(D1418,'2020'!$A$16:$G$150,2,FALSE)","v":"Diabolo"},1,64,{"$f":"VLOOKUP(E1418,'2020'!$A$16:$G$150,2,FALSE)","v":"Sera"},{"$f":"VLOOKUP(E1418,'2020'!$A$16:$G$150,3,FALSE)","v":"Jäger Carlo"}]
["2020-06-16",{"$f":"VLOOKUP(D1419,'2020'!$A$16:$G$150,3,FALSE)","v":"Bregy Uli + Pascal"},{"$f":"VLOOKUP(D1419,'2020'!$A$16:$G$150,2,FALSE)","v":"Souki"},18,39,{"$f":"VLOOKUP(E1419,'2020'!$A$16:$G$150,2,FALSE)","v":"Bacardi"},{"$f":"VLOOKUP(E1419,'2020'!$A$16:$G$150,3,FALSE)","v":"Fux W., J., + Wyer Piet"}]
["2020-06-16",{"$f":"VLOOKUP(D1420,'2020'!$A$16:$G$150,3,FALSE)","v":"Gebr. Jäger"},{"$f":"VLOOKUP(D1420,'2020'!$A$16:$G$150,2,FALSE)","v":"Simba"},48,40,{"$f":"VLOOKUP(E1420,'2020'!$A$16:$G$150,2,FALSE)","v":"Toscana"},{"$f":"VLOOKUP(E1420,'2020'!$A$16:$G$150,3,FALSE)","v":"Fux W., J., + Wyer Piet"}]
["2020-06-16",{"$f":"VLOOKUP(D1421,'2020'!$A$16:$G$150,3,FALSE)","v":"Jäger Carlo"},{"$f":"VLOOKUP(D1421,'2020'!$A$16:$G$150,2,FALSE)","v":"Pisa"},63,2,{"$f":"VLOOKUP(E1421,'2020'!$A$16:$G$150,2,FALSE)","v":"Fantastic"},{"$f":"VLOOKUP(E1421,'2020'!$A$16:$G$150,3,FALSE)","v":"Bayard Medard + Gustav"}]
["2020-06-16",{"$f":"VLOOKUP(D1422,'2020'!$A$16:$G$150,3,FALSE)","v":"Tscherry E. + B."},{"$f":"VLOOKUP(D1422,'2020'!$A$16:$G$150,2,FALSE)","v":"Cobra"},94,35,{"$f":"VLOOKUP(E1422,'2020'!$A$16:$G$150,2,FALSE)","v":"Valaisanne"},{"$f":"VLOOKUP(E1422,'2020'!$A$16:$G$150,3,FALSE)","v":"Fux W., J., + Wyer Piet"}]
["2020-06-16",{"$f":"VLOOKUP(D1423,'2020'!$A$16:$G$150,3,FALSE)","v":"Bregy Ralf + Adolf"},{"$f":"VLOOKUP(D1423,'2020'!$A$16:$G$150,2,FALSE)","v":"Carcas"},11,50,{"$f":"VLOOKUP(E1423,'2020'!$A$16:$G$150,2,FALSE)","v":"Tanja"},{"$f":"VLOOKUP(E1423,'2020'!$A$16:$G$150,3,FALSE)","v":"Gebr. Jäger"}]
["2020-06-16",{"$f":"VLOOKUP(D1424,'2020'!$A$16:$G$150,3,FALSE)","v":"Jäger Carlo"},{"$f":"VLOOKUP(D1424,'2020'!$A$16:$G$150,2,FALSE)","v":"Candice"},62,93,{"$f":"VLOOKUP(E1424,'2020'!$A$16:$G$150,2,FALSE)","v":"Carolin"},{"$f":"VLOOKUP(E1424,'2020'!$A$16:$G$150,3,FALSE)","v":"Tscherry E. + B."}]
["2020-06-16",{"$f":"VLOOKUP(D1425,'2020'!$A$16:$G$150,3,FALSE)","v":"Jäger Carlo"},{"$f":"VLOOKUP(D1425,'2020'!$A$16:$G$150,2,FALSE)","v":"Candice"},62,91,{"$f":"VLOOKUP(E1425,'2020'!$A$16:$G$150,2,FALSE)","v":"Bolera"},{"$f":"VLOOKUP(E1425,'2020'!$A$16:$G$150,3,FALSE)","v":"Sewer R. + Thommen S."}]
["2020-06-16",{"$f":"VLOOKUP(D1426,'2020'!$A$16:$G$150,3,FALSE)","v":"Fux W., J., + Wyer Piet"},{"$f":"VLOOKUP(D1426,'2020'!$A$16:$G$150,2,FALSE)","v":"Souris"},34,108,{"$f":"VLOOKUP(E1426,'2020'!$A$16:$G$150,2,FALSE)","v":"Violette"},{"$f":"VLOOKUP(E1426,'2020'!$A$16:$G$150,3,FALSE)","v":"Zumofen / Gattlen"}]
["2020-06-16",{"$f":"VLOOKUP(D1427,'2020'!$A$16:$G$150,3,FALSE)","v":"Wyssen Diego u. Madlen"},{"$f":"VLOOKUP(D1427,'2020'!$A$16:$G$150,2,FALSE)","v":"Xhyla"},105,113,{"$f":"VLOOKUP(E1427,'2020'!$A$16:$G$150,2,FALSE)","v":"Vanda"},{"$f":"VLOOKUP(E1427,'2020'!$A$16:$G$150,3,FALSE)","v":"Zumofen / Gattlen"}]
["2020-06-16",{"$f":"VLOOKUP(D1428,'2020'!$A$16:$G$150,3,FALSE)","v":"Williner Anton"},{"$f":"VLOOKUP(D1428,'2020'!$A$16:$G$150,2,FALSE)","v":"Diva"},99,39,{"$f":"VLOOKUP(E1428,'2020'!$A$16:$G$150,2,FALSE)","v":"Bacardi"},{"$f":"VLOOKUP(E1428,'2020'!$A$16:$G$150,3,FALSE)","v":"Fux W., J., + Wyer Piet"}]
["2020-06-16",{"$f":"VLOOKUP(D1429,'2020'!$A$16:$G$150,3,FALSE)","v":"Zumofen / Gattlen"},{"$f":"VLOOKUP(D1429,'2020'!$A$16:$G$150,2,FALSE)","v":"Riva "},112,26,{"$f":"VLOOKUP(E1429,'2020'!$A$16:$G$150,2,FALSE)","v":"Cataleya"},{"$f":"VLOOKUP(E1429,'2020'!$A$16:$G$150,3,FALSE)","v":"Bregy Uli + Pascal"}]
["2020-06-16",{"$f":"VLOOKUP(D1430,'2020'!$A$16:$G$150,3,FALSE)","v":"Jäger Carlo"},{"$f":"VLOOKUP(D1430,'2020'!$A$16:$G$150,2,FALSE)","v":"Promise"},57,9,{"$f":"VLOOKUP(E1430,'2020'!$A$16:$G$150,2,FALSE)","v":"Flacari"},{"$f":"VLOOKUP(E1430,'2020'!$A$16:$G$150,3,FALSE)","v":"Bregy Ralf + Adolf"}]
["2020-06-16",{"$f":"VLOOKUP(D1431,'2020'!$A$16:$G$150,3,FALSE)","v":"Williner Anton"},{"$f":"VLOOKUP(D1431,'2020'!$A$16:$G$150,2,FALSE)","v":"Tira"},100,39,{"$f":"VLOOKUP(E1431,'2020'!$A$16:$G$150,2,FALSE)","v":"Bacardi"},{"$f":"VLOOKUP(E1431,'2020'!$A$16:$G$150,3,FALSE)","v":"Fux W., J., + Wyer Piet"}]
["2020-06-16",{"$f":"VLOOKUP(D1432,'2020'!$A$16:$G$150,3,FALSE)","v":"Bregy Uli + Pascal"},{"$f":"VLOOKUP(D1432,'2020'!$A$16:$G$150,2,FALSE)","v":"Cataleya"},26,88,{"$f":"VLOOKUP(E1432,'2020'!$A$16:$G$150,2,FALSE)","v":"Malice"},{"$f":"VLOOKUP(E1432,'2020'!$A$16:$G$150,3,FALSE)","v":"Sewer R. + Thommen S."}]
["2020-06-16",{"$f":"VLOOKUP(D1433,'2020'!$A$16:$G$150,3,FALSE)","v":"Bregy Silvan + Patrick"},{"$f":"VLOOKUP(D1433,'2020'!$A$16:$G$150,2,FALSE)","v":"Tequilla"},13,97,{"$f":"VLOOKUP(E1433,'2020'!$A$16:$G$150,2,FALSE)","v":"Vanessa"},{"$f":"VLOOKUP(E1433,'2020'!$A$16:$G$150,3,FALSE)","v":"Williner Anton"}]
["2020-06-16",{"$f":"VLOOKUP(D1434,'2020'!$A$16:$G$150,3,FALSE)","v":"Bregy Silvan + Patrick"},{"$f":"VLOOKUP(D1434,'2020'!$A$16:$G$150,2,FALSE)","v":"Tequilla"},13,57,{"$f":"VLOOKUP(E1434,'2020'!$A$16:$G$150,2,FALSE)","v":"Promise"},{"$f":"VLOOKUP(E1434,'2020'!$A$16:$G$150,3,FALSE)","v":"Jäger Carlo"}]
["2020-06-16",{"$f":"VLOOKUP(D1435,'2020'!$A$16:$G$150,3,FALSE)","v":"Bregy Ralf + Adolf"},{"$f":"VLOOKUP(D1435,'2020'!$A$16:$G$150,2,FALSE)","v":"Canaille"},7,57,{"$f":"VLOOKUP(E1435,'2020'!$A$16:$G$150,2,FALSE)","v":"Promise"},{"$f":"VLOOKUP(E1435,'2020'!$A$16:$G$150,3,FALSE)","v":"Jäger Carlo"}]
["2020-06-16",{"$f":"VLOOKUP(D1436,'2020'!$A$16:$G$150,3,FALSE)","v":"Bregy Ralf + Adolf"},{"$f":"VLOOKUP(D1436,'2020'!$A$16:$G$150,2,FALSE)","v":"Canaille"},7,17,{"$f":"VLOOKUP(E1436,'2020'!$A$16:$G$150,2,FALSE)","v":"Coquette"},{"$f":"VLOOKUP(E1436,'2020'!$A$16:$G$150,3,FALSE)","v":"Bregy Ralf + Adolf"}]
["2020-06-16",{"$f":"VLOOKUP(D1437,'2020'!$A$16:$G$150,3,FALSE)","v":"Zumofen / Gattlen"},{"$f":"VLOOKUP(D1437,'2020'!$A$16:$G$150,2,FALSE)","v":"Xena"},110,70,{"$f":"VLOOKUP(E1437,'2020'!$A$16:$G$150,2,FALSE)","v":"Tokio"},{"$f":"VLOOKUP(E1437,'2020'!$A$16:$G$150,3,FALSE)","v":"Jäger Carlo"}]
["2020-06-16",{"$f":"VLOOKUP(D1438,'2020'!$A$16:$G$150,3,FALSE)","v":"Bregy Ralf + Adolf"},{"$f":"VLOOKUP(D1438,'2020'!$A$16:$G$150,2,FALSE)","v":"Canabis"},14,47,{"$f":"VLOOKUP(E1438,'2020'!$A$16:$G$150,2,FALSE)","v":"Tiara"},{"$f":"VLOOKUP(E1438,'2020'!$A$16:$G$150,3,FALSE)","v":"Gebr. Jäger"}]
["2020-06-15",{"$f":"VLOOKUP(D1439,'2020'!$A$16:$G$150,3,FALSE)","v":"Bayard Medard + Gustav"},{"$f":"VLOOKUP(D1439,'2020'!$A$16:$G$150,2,FALSE)","v":"Vampir"},4,109,{"$f":"VLOOKUP(E1439,'2020'!$A$16:$G$150,2,FALSE)","v":"Rena"},{"$f":"VLOOKUP(E1439,'2020'!$A$16:$G$150,3,FALSE)","v":"Zumofen / Gattlen"}]
["2020-06-15",{"$f":"VLOOKUP(D1440,'2020'!$A$16:$G$150,3,FALSE)","v":"Mathieu Leander + S."},{"$f":"VLOOKUP(D1440,'2020'!$A$16:$G$150,2,FALSE)","v":"Baghira"},71,83,{"$f":"VLOOKUP(E1440,'2020'!$A$16:$G$150,2,FALSE)","v":"Lijuba"},{"$f":"VLOOKUP(E1440,'2020'!$A$16:$G$150,3,FALSE)","v":"Amacker Joelle u. Sven"}]
["2020-06-15",{"$f":"VLOOKUP(D1441,'2020'!$A$16:$G$150,3,FALSE)","v":"Jäger Carlo"},{"$f":"VLOOKUP(D1441,'2020'!$A$16:$G$150,2,FALSE)","v":"Bayonne"},60,53,{"$f":"VLOOKUP(E1441,'2020'!$A$16:$G$150,2,FALSE)","v":"Safira"},{"$f":"VLOOKUP(E1441,'2020'!$A$16:$G$150,3,FALSE)","v":"Hischier Pius"}]
["2020-06-15",{"$f":"VLOOKUP(D1442,'2020'!$A$16:$G$150,3,FALSE)","v":"Gebr. Jäger"},{"$f":"VLOOKUP(D1442,'2020'!$A$16:$G$150,2,FALSE)","v":"Dorina"},44,61,{"$f":"VLOOKUP(E1442,'2020'!$A$16:$G$150,2,FALSE)","v":"Grolla"},{"$f":"VLOOKUP(E1442,'2020'!$A$16:$G$150,3,FALSE)","v":"Jäger Carlo"}]
["2020-06-15",{"$f":"VLOOKUP(D1443,'2020'!$A$16:$G$150,3,FALSE)","v":"Hischier Pius"},{"$f":"VLOOKUP(D1443,'2020'!$A$16:$G$150,2,FALSE)","v":"Safira"},53,72,{"$f":"VLOOKUP(E1443,'2020'!$A$16:$G$150,2,FALSE)","v":"Baronesse"},{"$f":"VLOOKUP(E1443,'2020'!$A$16:$G$150,3,FALSE)","v":"Mathieu Leander + S."}]
["2020-06-15",{"$f":"VLOOKUP(D1444,'2020'!$A$16:$G$150,3,FALSE)","v":"Bayard Medard + Gustav"},{"$f":"VLOOKUP(D1444,'2020'!$A$16:$G$150,2,FALSE)","v":"Pandera"},5,58,{"$f":"VLOOKUP(E1444,'2020'!$A$16:$G$150,2,FALSE)","v":"Bataille"},{"$f":"VLOOKUP(E1444,'2020'!$A$16:$G$150,3,FALSE)","v":"Jäger Carlo"}]
["2020-06-15",{"$f":"VLOOKUP(D1445,'2020'!$A$16:$G$150,3,FALSE)","v":"Williner Anton"},{"$f":"VLOOKUP(D1445,'2020'!$A$16:$G$150,2,FALSE)","v":"Tira"},100,23,{"$f":"VLOOKUP(E1445,'2020'!$A$16:$G$150,2,FALSE)","v":"Pandora"},{"$f":"VLOOKUP(E1445,'2020'!$A$16:$G$150,3,FALSE)","v":"Bregy Uli + Pascal"}]
["2020-06-15",{"$f":"VLOOKUP(D1446,'2020'!$A$16:$G$150,3,FALSE)","v":"Sewer R. + Thommen S."},{"$f":"VLOOKUP(D1446,'2020'!$A$16:$G$150,2,FALSE)","v":"Malice"},88,91,{"$f":"VLOOKUP(E1446,'2020'!$A$16:$G$150,2,FALSE)","v":"Bolera"},{"$f":"VLOOKUP(E1446,'2020'!$A$16:$G$150,3,FALSE)","v":"Sewer R. + Thommen S."}]
["2020-06-15",{"$f":"VLOOKUP(D1447,'2020'!$A$16:$G$150,3,FALSE)","v":"Jäger Carlo"},{"$f":"VLOOKUP(D1447,'2020'!$A$16:$G$150,2,FALSE)","v":"Micabol"},67,2,{"$f":"VLOOKUP(E1447,'2020'!$A$16:$G$150,2,FALSE)","v":"Fantastic"},{"$f":"VLOOKUP(E1447,'2020'!$A$16:$G$150,3,FALSE)","v":"Bayard Medard + Gustav"}]
["2020-06-15",{"$f":"VLOOKUP(D1448,'2020'!$A$16:$G$150,3,FALSE)","v":"Sewer R. + Thommen S."},{"$f":"VLOOKUP(D1448,'2020'!$A$16:$G$150,2,FALSE)","v":"Tiara"},89,117,{"$f":"VLOOKUP(E1448,'2020'!$A$16:$G$150,2,FALSE)","v":"Rigolo"},{"$f":"VLOOKUP(E1448,'2020'!$A$16:$G$150,3,FALSE)","v":"Zumofen / Gattlen"}]
["2020-06-15",{"$f":"VLOOKUP(D1449,'2020'!$A$16:$G$150,3,FALSE)","v":"Bayard Medard + Gustav"},{"$f":"VLOOKUP(D1449,'2020'!$A$16:$G$150,2,FALSE)","v":"Vampir"},4,116,{"$f":"VLOOKUP(E1449,'2020'!$A$16:$G$150,2,FALSE)","v":"Pinoccio"},{"$f":"VLOOKUP(E1449,'2020'!$A$16:$G$150,3,FALSE)","v":"Zumofen / Gattlen"}]
["2020-06-15",{"$f":"VLOOKUP(D1450,'2020'!$A$16:$G$150,3,FALSE)","v":"Bayard Medard + Gustav"},{"$f":"VLOOKUP(D1450,'2020'!$A$16:$G$150,2,FALSE)","v":"Priska"},3,58,{"$f":"VLOOKUP(E1450,'2020'!$A$16:$G$150,2,FALSE)","v":"Bataille"},{"$f":"VLOOKUP(E1450,'2020'!$A$16:$G$150,3,FALSE)","v":"Jäger Carlo"}]
["2020-06-15",{"$f":"VLOOKUP(D1451,'2020'!$A$16:$G$150,3,FALSE)","v":"Sewer R. + Thommen S."},{"$f":"VLOOKUP(D1451,'2020'!$A$16:$G$150,2,FALSE)","v":"Bolera"},91,33,{"$f":"VLOOKUP(E1451,'2020'!$A$16:$G$150,2,FALSE)","v":"Baquera"},{"$f":"VLOOKUP(E1451,'2020'!$A$16:$G$150,3,FALSE)","v":"Fux W., J., + Wyer Piet"}]
["2020-06-15",{"$f":"VLOOKUP(D1452,'2020'!$A$16:$G$150,3,FALSE)","v":"Bayard Medard + Gustav"},{"$f":"VLOOKUP(D1452,'2020'!$A$16:$G$150,2,FALSE)","v":"Priska"},3,58,{"$f":"VLOOKUP(E1452,'2020'!$A$16:$G$150,2,FALSE)","v":"Bataille"},{"$f":"VLOOKUP(E1452,'2020'!$A$16:$G$150,3,FALSE)","v":"Jäger Carlo"}]
["2020-06-15",{"$f":"VLOOKUP(D1453,'2020'!$A$16:$G$150,3,FALSE)","v":"Sewer R. + Thommen S."},{"$f":"VLOOKUP(D1453,'2020'!$A$16:$G$150,2,FALSE)","v":"Bolera"},91,33,{"$f":"VLOOKUP(E1453,'2020'!$A$16:$G$150,2,FALSE)","v":"Baquera"},{"$f":"VLOOKUP(E1453,'2020'!$A$16:$G$150,3,FALSE)","v":"Fux W., J., + Wyer Piet"}]
["2020-06-15",{"$f":"VLOOKUP(D1454,'2020'!$A$16:$G$150,3,FALSE)","v":"Bayard Medard + Gustav"},{"$f":"VLOOKUP(D1454,'2020'!$A$16:$G$150,2,FALSE)","v":"Vampir"},4,85,{"$f":"VLOOKUP(E1454,'2020'!$A$16:$G$150,2,FALSE)","v":"Bobino"},{"$f":"VLOOKUP(E1454,'2020'!$A$16:$G$150,3,FALSE)","v":"Stallung Passeraub"}]
["2020-06-15",{"$f":"VLOOKUP(D1455,'2020'!$A$16:$G$150,3,FALSE)","v":"Bayard Medard + Gustav"},{"$f":"VLOOKUP(D1455,'2020'!$A$16:$G$150,2,FALSE)","v":"Pandera"},5,15,{"$f":"VLOOKUP(E1455,'2020'!$A$16:$G$150,2,FALSE)","v":"Cashida"},{"$f":"VLOOKUP(E1455,'2020'!$A$16:$G$150,3,FALSE)","v":"Bregy Ralf + Adolf"}]
["2020-06-15",{"$f":"VLOOKUP(D1456,'2020'!$A$16:$G$150,3,FALSE)","v":"Bregy Uli + Pascal"},{"$f":"VLOOKUP(D1456,'2020'!$A$16:$G$150,2,FALSE)","v":"Corona"},28,52,{"$f":"VLOOKUP(E1456,'2020'!$A$16:$G$150,2,FALSE)","v":"Lenja"},{"$f":"VLOOKUP(E1456,'2020'!$A$16:$G$150,3,FALSE)","v":"Hischier H. + Bühlmann J."}]
["2020-06-15",{"$f":"VLOOKUP(D1457,'2020'!$A$16:$G$150,3,FALSE)","v":"Bregy Uli + Pascal"},{"$f":"VLOOKUP(D1457,'2020'!$A$16:$G$150,2,FALSE)","v":"Tiranie"},19,107,{"$f":"VLOOKUP(E1457,'2020'!$A$16:$G$150,2,FALSE)","v":"Violin"},{"$f":"VLOOKUP(E1457,'2020'!$A$16:$G$150,3,FALSE)","v":"Zumofen / Gattlen"}]
["2020-06-15",{"$f":"VLOOKUP(D1458,'2020'!$A$16:$G$150,3,FALSE)","v":"Zumofen / Gattlen"},{"$f":"VLOOKUP(D1458,'2020'!$A$16:$G$150,2,FALSE)","v":"Violin"},107,27,{"$f":"VLOOKUP(E1458,'2020'!$A$16:$G$150,2,FALSE)","v":"Murphy"},{"$f":"VLOOKUP(E1458,'2020'!$A$16:$G$150,3,FALSE)","v":"Bregy Uli + Pascal"}]
["2020-06-15",{"$f":"VLOOKUP(D1459,'2020'!$A$16:$G$150,3,FALSE)","v":"Bregy Uli + Pascal"},{"$f":"VLOOKUP(D1459,'2020'!$A$16:$G$150,2,FALSE)","v":"Bora"},21,30,{"$f":"VLOOKUP(E1459,'2020'!$A$16:$G$150,2,FALSE)","v":"Bulle"},{"$f":"VLOOKUP(E1459,'2020'!$A$16:$G$150,3,FALSE)","v":"Fam. Leiggener"}]
["2020-06-15",{"$f":"VLOOKUP(D1460,'2020'!$A$16:$G$150,3,FALSE)","v":"Bregy Uli + Pascal"},{"$f":"VLOOKUP(D1460,'2020'!$A$16:$G$150,2,FALSE)","v":"Caline"},20,107,{"$f":"VLOOKUP(E1460,'2020'!$A$16:$G$150,2,FALSE)","v":"Violin"},{"$f":"VLOOKUP(E1460,'2020'!$A$16:$G$150,3,FALSE)","v":"Zumofen / Gattlen"}]
["2020-06-15",{"$f":"VLOOKUP(D1461,'2020'!$A$16:$G$150,3,FALSE)","v":"Bregy Uli + Pascal"},{"$f":"VLOOKUP(D1461,'2020'!$A$16:$G$150,2,FALSE)","v":"Pandora"},23,112,{"$f":"VLOOKUP(E1461,'2020'!$A$16:$G$150,2,FALSE)","v":"Riva "},{"$f":"VLOOKUP(E1461,'2020'!$A$16:$G$150,3,FALSE)","v":"Zumofen / Gattlen"}]
["2020-06-15",{"$f":"VLOOKUP(D1462,'2020'!$A$16:$G$150,3,FALSE)","v":"Zumofen / Gattlen"},{"$f":"VLOOKUP(D1462,'2020'!$A$16:$G$150,2,FALSE)","v":"Violette"},108,1,{"$f":"VLOOKUP(E1462,'2020'!$A$16:$G$150,2,FALSE)","v":"Diabolo"},{"$f":"VLOOKUP(E1462,'2020'!$A$16:$G$150,3,FALSE)","v":"Bayard Medard + Gustav"}]
["2020-06-15",{"$f":"VLOOKUP(D1463,'2020'!$A$16:$G$150,3,FALSE)","v":"Jäger Carlo"},{"$f":"VLOOKUP(D1463,'2020'!$A$16:$G$150,2,FALSE)","v":"Candice"},62,102,{"$f":"VLOOKUP(E1463,'2020'!$A$16:$G$150,2,FALSE)","v":"Rasta"},{"$f":"VLOOKUP(E1463,'2020'!$A$16:$G$150,3,FALSE)","v":"Wyssen Diego u. Madlen"}]
["2020-06-15",{"$f":"VLOOKUP(D1464,'2020'!$A$16:$G$150,3,FALSE)","v":"Mathieu Leander + S."},{"$f":"VLOOKUP(D1464,'2020'!$A$16:$G$150,2,FALSE)","v":"Baghira"},71,94,{"$f":"VLOOKUP(E1464,'2020'!$A$16:$G$150,2,FALSE)","v":"Cobra"},{"$f":"VLOOKUP(E1464,'2020'!$A$16:$G$150,3,FALSE)","v":"Tscherry E. + B."}]
["2020-06-15",{"$f":"VLOOKUP(D1465,'2020'!$A$16:$G$150,3,FALSE)","v":"Zumofen / Gattlen"},{"$f":"VLOOKUP(D1465,'2020'!$A$16:$G$150,2,FALSE)","v":"Xena"},110,4,{"$f":"VLOOKUP(E1465,'2020'!$A$16:$G$150,2,FALSE)","v":"Vampir"},{"$f":"VLOOKUP(E1465,'2020'!$A$16:$G$150,3,FALSE)","v":"Bayard Medard + Gustav"}]
["2020-06-15",{"$f":"VLOOKUP(D1466,'2020'!$A$16:$G$150,3,FALSE)","v":"Zumofen / Gattlen"},{"$f":"VLOOKUP(D1466,'2020'!$A$16:$G$150,2,FALSE)","v":"Violin"},107,35,{"$f":"VLOOKUP(E1466,'2020'!$A$16:$G$150,2,FALSE)","v":"Valaisanne"},{"$f":"VLOOKUP(E1466,'2020'!$A$16:$G$150,3,FALSE)","v":"Fux W., J., + Wyer Piet"}]
["2020-06-15",{"$f":"VLOOKUP(D1467,'2020'!$A$16:$G$150,3,FALSE)","v":"Zumofen / Gattlen"},{"$f":"VLOOKUP(D1467,'2020'!$A$16:$G$150,2,FALSE)","v":"Fayola"},119,39,{"$f":"VLOOKUP(E1467,'2020'!$A$16:$G$150,2,FALSE)","v":"Bacardi"},{"$f":"VLOOKUP(E1467,'2020'!$A$16:$G$150,3,FALSE)","v":"Fux W., J., + Wyer Piet"}]
["2020-06-15",{"$f":"VLOOKUP(D1468,'2020'!$A$16:$G$150,3,FALSE)","v":"Zumofen / Gattlen"},{"$f":"VLOOKUP(D1468,'2020'!$A$16:$G$150,2,FALSE)","v":"Pepitta"},115,16,{"$f":"VLOOKUP(E1468,'2020'!$A$16:$G$150,2,FALSE)","v":"Flacabre"},{"$f":"VLOOKUP(E1468,'2020'!$A$16:$G$150,3,FALSE)","v":"Bregy Ralf + Adolf"}]
["2020-06-15",{"$f":"VLOOKUP(D1469,'2020'!$A$16:$G$150,3,FALSE)","v":"Bregy Ralf + Adolf"},{"$f":"VLOOKUP(D1469,'2020'!$A$16:$G$150,2,FALSE)","v":"Creola"},8,15,{"$f":"VLOOKUP(E1469,'2020'!$A$16:$G$150,2,FALSE)","v":"Cashida"},{"$f":"VLOOKUP(E1469,'2020'!$A$16:$G$150,3,FALSE)","v":"Bregy Ralf + Adolf"}]
["2020-06-15",{"$f":"VLOOKUP(D1470,'2020'!$A$16:$G$150,3,FALSE)","v":"Gebr. Jäger"},{"$f":"VLOOKUP(D1470,'2020'!$A$16:$G$150,2,FALSE)","v":"Dorina"},44,73,{"$f":"VLOOKUP(E1470,'2020'!$A$16:$G$150,2,FALSE)","v":"Bavaria"},{"$f":"VLOOKUP(E1470,'2020'!$A$16:$G$150,3,FALSE)","v":"Mathieu Leander + S."}]
["2020-06-15",{"$f":"VLOOKUP(D1471,'2020'!$A$16:$G$150,3,FALSE)","v":"Jäger Carlo"},{"$f":"VLOOKUP(D1471,'2020'!$A$16:$G$150,2,FALSE)","v":"Pisa"},63,103,{"$f":"VLOOKUP(E1471,'2020'!$A$16:$G$150,2,FALSE)","v":"Roxana"},{"$f":"VLOOKUP(E1471,'2020'!$A$16:$G$150,3,FALSE)","v":"Wyssen Diego u. Madlen"}]
["2020-06-15",{"$f":"VLOOKUP(D1472,'2020'!$A$16:$G$150,3,FALSE)","v":"Bayard Medard + Gustav"},{"$f":"VLOOKUP(D1472,'2020'!$A$16:$G$150,2,FALSE)","v":"Vampir"},4,109,{"$f":"VLOOKUP(E1472,'2020'!$A$16:$G$150,2,FALSE)","v":"Rena"},{"$f":"VLOOKUP(E1472,'2020'!$A$16:$G$150,3,FALSE)","v":"Zumofen / Gattlen"}]
["2020-06-15",{"$f":"VLOOKUP(D1473,'2020'!$A$16:$G$150,3,FALSE)","v":"Mathieu Leander + S."},{"$f":"VLOOKUP(D1473,'2020'!$A$16:$G$150,2,FALSE)","v":"Baghira"},71,83,{"$f":"VLOOKUP(E1473,'2020'!$A$16:$G$150,2,FALSE)","v":"Lijuba"},{"$f":"VLOOKUP(E1473,'2020'!$A$16:$G$150,3,FALSE)","v":"Amacker Joelle u. Sven"}]
["2020-06-15",{"$f":"VLOOKUP(D1474,'2020'!$A$16:$G$150,3,FALSE)","v":"Bregy Silvan + Patrick"},{"$f":"VLOOKUP(D1474,'2020'!$A$16:$G$150,2,FALSE)","v":"Milow"},12,108,{"$f":"VLOOKUP(E1474,'2020'!$A$16:$G$150,2,FALSE)","v":"Violette"},{"$f":"VLOOKUP(E1474,'2020'!$A$16:$G$150,3,FALSE)","v":"Zumofen / Gattlen"}]
["2020-06-15",{"$f":"VLOOKUP(D1475,'2020'!$A$16:$G$150,3,FALSE)","v":"Bregy Silvan + Patrick"},{"$f":"VLOOKUP(D1475,'2020'!$A$16:$G$150,2,FALSE)","v":"Milow"},12,104,{"$f":"VLOOKUP(E1475,'2020'!$A$16:$G$150,2,FALSE)","v":"Xena"},{"$f":"VLOOKUP(E1475,'2020'!$A$16:$G$150,3,FALSE)","v":"Wyssen Diego u. Madlen"}]
["2020-06-15",{"$f":"VLOOKUP(D1476,'2020'!$A$16:$G$150,3,FALSE)","v":"Wyssen Diego u. Madlen"},{"$f":"VLOOKUP(D1476,'2020'!$A$16:$G$150,2,FALSE)","v":"Rasta"},102,68,{"$f":"VLOOKUP(E1476,'2020'!$A$16:$G$150,2,FALSE)","v":"Pivoine"},{"$f":"VLOOKUP(E1476,'2020'!$A$16:$G$150,3,FALSE)","v":"Jäger Carlo"}]
["2020-06-15",{"$f":"VLOOKUP(D1477,'2020'!$A$16:$G$150,3,FALSE)","v":"Zumofen / Gattlen"},{"$f":"VLOOKUP(D1477,'2020'!$A$16:$G$150,2,FALSE)","v":"Violette"},108,104,{"$f":"VLOOKUP(E1477,'2020'!$A$16:$G$150,2,FALSE)","v":"Xena"},{"$f":"VLOOKUP(E1477,'2020'!$A$16:$G$150,3,FALSE)","v":"Wyssen Diego u. Madlen"}]
["2020-06-15",{"$f":"VLOOKUP(D1478,'2020'!$A$16:$G$150,3,FALSE)","v":"Zumofen / Gattlen"},{"$f":"VLOOKUP(D1478,'2020'!$A$16:$G$150,2,FALSE)","v":"Xena"},110,13,{"$f":"VLOOKUP(E1478,'2020'!$A$16:$G$150,2,FALSE)","v":"Tequilla"},{"$f":"VLOOKUP(E1478,'2020'!$A$16:$G$150,3,FALSE)","v":"Bregy Silvan + Patrick"}]
["2020-06-15",{"$f":"VLOOKUP(D1479,'2020'!$A$16:$G$150,3,FALSE)","v":"Bregy Ralf + Adolf"},{"$f":"VLOOKUP(D1479,'2020'!$A$16:$G$150,2,FALSE)","v":"Canaille"},7,8,{"$f":"VLOOKUP(E1479,'2020'!$A$16:$G$150,2,FALSE)","v":"Creola"},{"$f":"VLOOKUP(E1479,'2020'!$A$16:$G$150,3,FALSE)","v":"Bregy Ralf + Adolf"}]
["2020-06-15",{"$f":"VLOOKUP(D1480,'2020'!$A$16:$G$150,3,FALSE)","v":"Williner Anton"},{"$f":"VLOOKUP(D1480,'2020'!$A$16:$G$150,2,FALSE)","v":"Vanessa"},97,20,{"$f":"VLOOKUP(E1480,'2020'!$A$16:$G$150,2,FALSE)","v":"Caline"},{"$f":"VLOOKUP(E1480,'2020'!$A$16:$G$150,3,FALSE)","v":"Bregy Uli + Pascal"}]
["2020-06-15",{"$f":"VLOOKUP(D1481,'2020'!$A$16:$G$150,3,FALSE)","v":"Zumofen / Gattlen"},{"$f":"VLOOKUP(D1481,'2020'!$A$16:$G$150,2,FALSE)","v":"Xena"},110,8,{"$f":"VLOOKUP(E1481,'2020'!$A$16:$G$150,2,FALSE)","v":"Creola"},{"$f":"VLOOKUP(E1481,'2020'!$A$16:$G$150,3,FALSE)","v":"Bregy Ralf + Adolf"}]
["2020-06-15",{"$f":"VLOOKUP(D1482,'2020'!$A$16:$G$150,3,FALSE)","v":"Zumofen / Gattlen"},{"$f":"VLOOKUP(D1482,'2020'!$A$16:$G$150,2,FALSE)","v":"Violette"},108,101,{"$f":"VLOOKUP(E1482,'2020'!$A$16:$G$150,2,FALSE)","v":"Xandria"},{"$f":"VLOOKUP(E1482,'2020'!$A$16:$G$150,3,FALSE)","v":"Wyssen Diego u. Madlen"}]
["2020-06-15",{"$f":"VLOOKUP(D1483,'2020'!$A$16:$G$150,3,FALSE)","v":"Bregy Ralf + Adolf"},{"$f":"VLOOKUP(D1483,'2020'!$A$16:$G$150,2,FALSE)","v":"Flacari"},9,104,{"$f":"VLOOKUP(E1483,'2020'!$A$16:$G$150,2,FALSE)","v":"Xena"},{"$f":"VLOOKUP(E1483,'2020'!$A$16:$G$150,3,FALSE)","v":"Wyssen Diego u. Madlen"}]
["2020-06-15",{"$f":"VLOOKUP(D1484,'2020'!$A$16:$G$150,3,FALSE)","v":"Stallung zum Stäg"},{"$f":"VLOOKUP(D1484,'2020'!$A$16:$G$150,2,FALSE)","v":"Benika"},87,60,{"$f":"VLOOKUP(E1484,'2020'!$A$16:$G$150,2,FALSE)","v":"Bayonne"},{"$f":"VLOOKUP(E1484,'2020'!$A$16:$G$150,3,FALSE)","v":"Jäger Carlo"}]
["2020-06-15",{"$f":"VLOOKUP(D1485,'2020'!$A$16:$G$150,3,FALSE)","v":"Williner Anton"},{"$f":"VLOOKUP(D1485,'2020'!$A$16:$G$150,2,FALSE)","v":"Vivana"},95,10,{"$f":"VLOOKUP(E1485,'2020'!$A$16:$G$150,2,FALSE)","v":"Diabolo"},{"$f":"VLOOKUP(E1485,'2020'!$A$16:$G$150,3,FALSE)","v":"Bregy Ralf + Adolf"}]
["2020-06-15",{"$f":"VLOOKUP(D1486,'2020'!$A$16:$G$150,3,FALSE)","v":"Zumofen / Gattlen"},{"$f":"VLOOKUP(D1486,'2020'!$A$16:$G$150,2,FALSE)","v":"Violette"},108,102,{"$f":"VLOOKUP(E1486,'2020'!$A$16:$G$150,2,FALSE)","v":"Rasta"},{"$f":"VLOOKUP(E1486,'2020'!$A$16:$G$150,3,FALSE)","v":"Wyssen Diego u. Madlen"}]
["2020-06-15",{"$f":"VLOOKUP(D1487,'2020'!$A$16:$G$150,3,FALSE)","v":"Zumofen / Gattlen"},{"$f":"VLOOKUP(D1487,'2020'!$A$16:$G$150,2,FALSE)","v":"Violette"},108,103,{"$f":"VLOOKUP(E1487,'2020'!$A$16:$G$150,2,FALSE)","v":"Roxana"},{"$f":"VLOOKUP(E1487,'2020'!$A$16:$G$150,3,FALSE)","v":"Wyssen Diego u. Madlen"}]
["2020-06-15",{"$f":"VLOOKUP(D1488,'2020'!$A$16:$G$150,3,FALSE)","v":"Sewer R. + Thommen S."},{"$f":"VLOOKUP(D1488,'2020'!$A$16:$G$150,2,FALSE)","v":"Bolera"},91,68,{"$f":"VLOOKUP(E1488,'2020'!$A$16:$G$150,2,FALSE)","v":"Pivoine"},{"$f":"VLOOKUP(E1488,'2020'!$A$16:$G$150,3,FALSE)","v":"Jäger Carlo"}]
["2020-06-15",{"$f":"VLOOKUP(D1489,'2020'!$A$16:$G$150,3,FALSE)","v":"Bayard Medard + Gustav"},{"$f":"VLOOKUP(D1489,'2020'!$A$16:$G$150,2,FALSE)","v":"Priska"},3,114,{"$f":"VLOOKUP(E1489,'2020'!$A$16:$G$150,2,FALSE)","v":"Maya"},{"$f":"VLOOKUP(E1489,'2020'!$A$16:$G$150,3,FALSE)","v":"Zumofen / Gattlen"}]
["2020-06-15",{"$f":"VLOOKUP(D1490,'2020'!$A$16:$G$150,3,FALSE)","v":"Zumofen / Gattlen"},{"$f":"VLOOKUP(D1490,'2020'!$A$16:$G$150,2,FALSE)","v":"Violette"},108,25,{"$f":"VLOOKUP(E1490,'2020'!$A$16:$G$150,2,FALSE)","v":"Calette"},{"$f":"VLOOKUP(E1490,'2020'!$A$16:$G$150,3,FALSE)","v":"Bregy Uli + Pascal"}]
["2020-06-15",{"$f":"VLOOKUP(D1491,'2020'!$A$16:$G$150,3,FALSE)","v":"Bregy Ralf + Adolf"},{"$f":"VLOOKUP(D1491,'2020'!$A$16:$G$150,2,FALSE)","v":"Canaille"},7,44,{"$f":"VLOOKUP(E1491,'2020'!$A$16:$G$150,2,FALSE)","v":"Dorina"},{"$f":"VLOOKUP(E1491,'2020'!$A$16:$G$150,3,FALSE)","v":"Gebr. Jäger"}]
["2020-06-15",{"$f":"VLOOKUP(D1492,'2020'!$A$16:$G$150,3,FALSE)","v":"Bregy Ralf + Adolf"},{"$f":"VLOOKUP(D1492,'2020'!$A$16:$G$150,2,FALSE)","v":"Canaille"},7,58,{"$f":"VLOOKUP(E1492,'2020'!$A$16:$G$150,2,FALSE)","v":"Bataille"},{"$f":"VLOOKUP(E1492,'2020'!$A$16:$G$150,3,FALSE)","v":"Jäger Carlo"}]
["2020-06-15",{"$f":"VLOOKUP(D1493,'2020'!$A$16:$G$150,3,FALSE)","v":"Bregy Ralf + Adolf"},{"$f":"VLOOKUP(D1493,'2020'!$A$16:$G$150,2,FALSE)","v":"Canaille"},7,46,{"$f":"VLOOKUP(E1493,'2020'!$A$16:$G$150,2,FALSE)","v":"Lorens"},{"$f":"VLOOKUP(E1493,'2020'!$A$16:$G$150,3,FALSE)","v":"Gebr. Jäger"}]
["2020-06-15",{"$f":"VLOOKUP(D1494,'2020'!$A$16:$G$150,3,FALSE)","v":"Mathieu Leander + S."},{"$f":"VLOOKUP(D1494,'2020'!$A$16:$G$150,2,FALSE)","v":"Babylon"},76,69,{"$f":"VLOOKUP(E1494,'2020'!$A$16:$G$150,2,FALSE)","v":"Taverne"},{"$f":"VLOOKUP(E1494,'2020'!$A$16:$G$150,3,FALSE)","v":"Jäger Carlo"}]
["2020-06-15",{"$f":"VLOOKUP(D1495,'2020'!$A$16:$G$150,3,FALSE)","v":"Bregy Ralf + Adolf"},{"$f":"VLOOKUP(D1495,'2020'!$A$16:$G$150,2,FALSE)","v":"Canaille"},7,70,{"$f":"VLOOKUP(E1495,'2020'!$A$16:$G$150,2,FALSE)","v":"Tokio"},{"$f":"VLOOKUP(E1495,'2020'!$A$16:$G$150,3,FALSE)","v":"Jäger Carlo"}]
["2020-06-15",{"$f":"VLOOKUP(D1496,'2020'!$A$16:$G$150,3,FALSE)","v":"Bregy Ralf + Adolf"},{"$f":"VLOOKUP(D1496,'2020'!$A$16:$G$150,2,FALSE)","v":"Canaille"},7,110,{"$f":"VLOOKUP(E1496,'2020'!$A$16:$G$150,2,FALSE)","v":"Xena"},{"$f":"VLOOKUP(E1496,'2020'!$A$16:$G$150,3,FALSE)","v":"Zumofen / Gattlen"}]
["2020-06-15",{"$f":"VLOOKUP(D1497,'2020'!$A$16:$G$150,3,FALSE)","v":"Zumofen / Gattlen"},{"$f":"VLOOKUP(D1497,'2020'!$A$16:$G$150,2,FALSE)","v":"Vidona"},111,39,{"$f":"VLOOKUP(E1497,'2020'!$A$16:$G$150,2,FALSE)","v":"Bacardi"},{"$f":"VLOOKUP(E1497,'2020'!$A$16:$G$150,3,FALSE)","v":"Fux W., J., + Wyer Piet"}]
["2020-06-15",{"$f":"VLOOKUP(D1498,'2020'!$A$16:$G$150,3,FALSE)","v":"Williner Anton"},{"$f":"VLOOKUP(D1498,'2020'!$A$16:$G$150,2,FALSE)","v":"Vanessa"},97,20,{"$f":"VLOOKUP(E1498,'2020'!$A$16:$G$150,2,FALSE)","v":"Caline"},{"$f":"VLOOKUP(E1498,'2020'!$A$16:$G$150,3,FALSE)","v":"Bregy Uli + Pascal"}]
["2020-06-15",{"$f":"VLOOKUP(D1499,'2020'!$A$16:$G$150,3,FALSE)","v":"Williner Anton"},{"$f":"VLOOKUP(D1499,'2020'!$A$16:$G$150,2,FALSE)","v":"Vivana"},95,10,{"$f":"VLOOKUP(E1499,'2020'!$A$16:$G$150,2,FALSE)","v":"Diabolo"},{"$f":"VLOOKUP(E1499,'2020'!$A$16:$G$150,3,FALSE)","v":"Bregy Ralf + Adolf"}]
["2020-06-15",{"$f":"VLOOKUP(D1500,'2020'!$A$16:$G$150,3,FALSE)","v":"Bayard Medard + Gustav"},{"$f":"VLOOKUP(D1500,'2020'!$A$16:$G$150,2,FALSE)","v":"Diabolo"},1,65,{"$f":"VLOOKUP(E1500,'2020'!$A$16:$G$150,2,FALSE)","v":"Megane"},{"$f":"VLOOKUP(E1500,'2020'!$A$16:$G$150,3,FALSE)","v":"Jäger Carlo"}]
["2020-06-15",{"$f":"VLOOKUP(D1501,'2020'!$A$16:$G$150,3,FALSE)","v":"Tscherry E. + B."},{"$f":"VLOOKUP(D1501,'2020'!$A$16:$G$150,2,FALSE)","v":"Carolin"},93,51,{"$f":"VLOOKUP(E1501,'2020'!$A$16:$G$150,2,FALSE)","v":"Jamanda"},{"$f":"VLOOKUP(E1501,'2020'!$A$16:$G$150,3,FALSE)","v":"Hischier H. + Bühlmann J."}]
["2020-06-15",{"$f":"VLOOKUP(D1502,'2020'!$A$16:$G$150,3,FALSE)","v":"Stallung Passeraub"},{"$f":"VLOOKUP(D1502,'2020'!$A$16:$G$150,2,FALSE)","v":"Bobino"},85,70,{"$f":"VLOOKUP(E1502,'2020'!$A$16:$G$150,2,FALSE)","v":"Tokio"},{"$f":"VLOOKUP(E1502,'2020'!$A$16:$G$150,3,FALSE)","v":"Jäger Carlo"}]
["2020-06-15",{"$f":"VLOOKUP(D1503,'2020'!$A$16:$G$150,3,FALSE)","v":"Bayard Medard + Gustav"},{"$f":"VLOOKUP(D1503,'2020'!$A$16:$G$150,2,FALSE)","v":"Pandera"},5,51,{"$f":"VLOOKUP(E1503,'2020'!$A$16:$G$150,2,FALSE)","v":"Jamanda"},{"$f":"VLOOKUP(E1503,'2020'!$A$16:$G$150,3,FALSE)","v":"Hischier H. + Bühlmann J."}]
["2020-06-15",{"$f":"VLOOKUP(D1504,'2020'!$A$16:$G$150,3,FALSE)","v":"Stallung zum Stäg"},{"$f":"VLOOKUP(D1504,'2020'!$A$16:$G$150,2,FALSE)","v":"Babylon"},86,2,{"$f":"VLOOKUP(E1504,'2020'!$A$16:$G$150,2,FALSE)","v":"Fantastic"},{"$f":"VLOOKUP(E1504,'2020'!$A$16:$G$150,3,FALSE)","v":"Bayard Medard + Gustav"}]
["2020-06-15",{"$f":"VLOOKUP(D1505,'2020'!$A$16:$G$150,3,FALSE)","v":"Zumofen / Gattlen"},{"$f":"VLOOKUP(D1505,'2020'!$A$16:$G$150,2,FALSE)","v":"Violette"},108,25,{"$f":"VLOOKUP(E1505,'2020'!$A$16:$G$150,2,FALSE)","v":"Calette"},{"$f":"VLOOKUP(E1505,'2020'!$A$16:$G$150,3,FALSE)","v":"Bregy Uli + Pascal"}]
["2020-06-15",{"$f":"VLOOKUP(D1506,'2020'!$A$16:$G$150,3,FALSE)","v":"Hischier Pius"},{"$f":"VLOOKUP(D1506,'2020'!$A$16:$G$150,2,FALSE)","v":"Shakira"},56,2,{"$f":"VLOOKUP(E1506,'2020'!$A$16:$G$150,2,FALSE)","v":"Fantastic"},{"$f":"VLOOKUP(E1506,'2020'!$A$16:$G$150,3,FALSE)","v":"Bayard Medard + Gustav"}]
["2020-06-15",{"$f":"VLOOKUP(D1507,'2020'!$A$16:$G$150,3,FALSE)","v":"Jäger Carlo"},{"$f":"VLOOKUP(D1507,'2020'!$A$16:$G$150,2,FALSE)","v":"Pivoine"},68,23,{"$f":"VLOOKUP(E1507,'2020'!$A$16:$G$150,2,FALSE)","v":"Pandora"},{"$f":"VLOOKUP(E1507,'2020'!$A$16:$G$150,3,FALSE)","v":"Bregy Uli + Pascal"}]
["2020-06-15",{"$f":"VLOOKUP(D1508,'2020'!$A$16:$G$150,3,FALSE)","v":"Jäger Carlo"},{"$f":"VLOOKUP(D1508,'2020'!$A$16:$G$150,2,FALSE)","v":"Bataille"},58,52,{"$f":"VLOOKUP(E1508,'2020'!$A$16:$G$150,2,FALSE)","v":"Lenja"},{"$f":"VLOOKUP(E1508,'2020'!$A$16:$G$150,3,FALSE)","v":"Hischier H. + Bühlmann J."}]
["2020-06-15",{"$f":"VLOOKUP(D1509,'2020'!$A$16:$G$150,3,FALSE)","v":"Sewer R. + Thommen S."},{"$f":"VLOOKUP(D1509,'2020'!$A$16:$G$150,2,FALSE)","v":"Bolera"},91,114,{"$f":"VLOOKUP(E1509,'2020'!$A$16:$G$150,2,FALSE)","v":"Maya"},{"$f":"VLOOKUP(E1509,'2020'!$A$16:$G$150,3,FALSE)","v":"Zumofen / Gattlen"}]
["2020-06-15",{"$f":"VLOOKUP(D1510,'2020'!$A$16:$G$150,3,FALSE)","v":"Jäger Carlo"},{"$f":"VLOOKUP(D1510,'2020'!$A$16:$G$150,2,FALSE)","v":"Bataille"},58,89,{"$f":"VLOOKUP(E1510,'2020'!$A$16:$G$150,2,FALSE)","v":"Tiara"},{"$f":"VLOOKUP(E1510,'2020'!$A$16:$G$150,3,FALSE)","v":"Sewer R. + Thommen S."}]
["2020-06-15",{"$f":"VLOOKUP(D1511,'2020'!$A$16:$G$150,3,FALSE)","v":"Zumofen / Gattlen"},{"$f":"VLOOKUP(D1511,'2020'!$A$16:$G$150,2,FALSE)","v":"Xena"},110,91,{"$f":"VLOOKUP(E1511,'2020'!$A$16:$G$150,2,FALSE)","v":"Bolera"},{"$f":"VLOOKUP(E1511,'2020'!$A$16:$G$150,3,FALSE)","v":"Sewer R. + Thommen S."}]
["2020-06-15",{"$f":"VLOOKUP(D1512,'2020'!$A$16:$G$150,3,FALSE)","v":"Bregy Uli + Pascal"},{"$f":"VLOOKUP(D1512,'2020'!$A$16:$G$150,2,FALSE)","v":"Bora"},21,112,{"$f":"VLOOKUP(E1512,'2020'!$A$16:$G$150,2,FALSE)","v":"Riva "},{"$f":"VLOOKUP(E1512,'2020'!$A$16:$G$150,3,FALSE)","v":"Zumofen / Gattlen"}]
["2020-06-15",{"$f":"VLOOKUP(D1513,'2020'!$A$16:$G$150,3,FALSE)","v":"Zumofen / Gattlen"},{"$f":"VLOOKUP(D1513,'2020'!$A$16:$G$150,2,FALSE)","v":"Rena"},109,1,{"$f":"VLOOKUP(E1513,'2020'!$A$16:$G$150,2,FALSE)","v":"Diabolo"},{"$f":"VLOOKUP(E1513,'2020'!$A$16:$G$150,3,FALSE)","v":"Bayard Medard + Gustav"}]
["2020-06-15",{"$f":"VLOOKUP(D1514,'2020'!$A$16:$G$150,3,FALSE)","v":"Sewer R. + Thommen S."},{"$f":"VLOOKUP(D1514,'2020'!$A$16:$G$150,2,FALSE)","v":"Tiara"},89,117,{"$f":"VLOOKUP(E1514,'2020'!$A$16:$G$150,2,FALSE)","v":"Rigolo"},{"$f":"VLOOKUP(E1514,'2020'!$A$16:$G$150,3,FALSE)","v":"Zumofen / Gattlen"}]
["2020-06-15",{"$f":"VLOOKUP(D1515,'2020'!$A$16:$G$150,3,FALSE)","v":"Tscherry E. + B."},{"$f":"VLOOKUP(D1515,'2020'!$A$16:$G$150,2,FALSE)","v":"Cobra"},94,65,{"$f":"VLOOKUP(E1515,'2020'!$A$16:$G$150,2,FALSE)","v":"Megane"},{"$f":"VLOOKUP(E1515,'2020'!$A$16:$G$150,3,FALSE)","v":"Jäger Carlo"}]
["2020-06-15",{"$f":"VLOOKUP(D1516,'2020'!$A$16:$G$150,3,FALSE)","v":"Stallung Passeraub"},{"$f":"VLOOKUP(D1516,'2020'!$A$16:$G$150,2,FALSE)","v":"Bobino"},85,76,{"$f":"VLOOKUP(E1516,'2020'!$A$16:$G$150,2,FALSE)","v":"Babylon"},{"$f":"VLOOKUP(E1516,'2020'!$A$16:$G$150,3,FALSE)","v":"Mathieu Leander + S."}]
["2020-06-15",{"$f":"VLOOKUP(D1517,'2020'!$A$16:$G$150,3,FALSE)","v":"Williner Anton"},{"$f":"VLOOKUP(D1517,'2020'!$A$16:$G$150,2,FALSE)","v":"Colonell"},98,118,{"$f":"VLOOKUP(E1517,'2020'!$A$16:$G$150,2,FALSE)","v":"Vesuv"},{"$f":"VLOOKUP(E1517,'2020'!$A$16:$G$150,3,FALSE)","v":"Zumofen / Gattlen"}]
["2020-06-15",{"$f":"VLOOKUP(D1518,'2020'!$A$16:$G$150,3,FALSE)","v":"Jäger Carlo"},{"$f":"VLOOKUP(D1518,'2020'!$A$16:$G$150,2,FALSE)","v":"Bataille"},58,89,{"$f":"VLOOKUP(E1518,'2020'!$A$16:$G$150,2,FALSE)","v":"Tiara"},{"$f":"VLOOKUP(E1518,'2020'!$A$16:$G$150,3,FALSE)","v":"Sewer R. + Thommen S."}]
["2020-06-15",{"$f":"VLOOKUP(D1519,'2020'!$A$16:$G$150,3,FALSE)","v":"Gebr. Jäger"},{"$f":"VLOOKUP(D1519,'2020'!$A$16:$G$150,2,FALSE)","v":"Tiara"},47,72,{"$f":"VLOOKUP(E1519,'2020'!$A$16:$G$150,2,FALSE)","v":"Baronesse"},{"$f":"VLOOKUP(E1519,'2020'!$A$16:$G$150,3,FALSE)","v":"Mathieu Leander + S."}]
["2020-06-15",{"$f":"VLOOKUP(D1520,'2020'!$A$16:$G$150,3,FALSE)","v":"Stallung Passeraub"},{"$f":"VLOOKUP(D1520,'2020'!$A$16:$G$150,2,FALSE)","v":"Ballerine"},78,106,{"$f":"VLOOKUP(E1520,'2020'!$A$16:$G$150,2,FALSE)","v":"Rambo"},{"$f":"VLOOKUP(E1520,'2020'!$A$16:$G$150,3,FALSE)","v":"Zumofen / Gattlen"}]
["2020-06-15",{"$f":"VLOOKUP(D1521,'2020'!$A$16:$G$150,3,FALSE)","v":"Bayard Medard + Gustav"},{"$f":"VLOOKUP(D1521,'2020'!$A$16:$G$150,2,FALSE)","v":"Vampir"},4,114,{"$f":"VLOOKUP(E1521,'2020'!$A$16:$G$150,2,FALSE)","v":"Maya"},{"$f":"VLOOKUP(E1521,'2020'!$A$16:$G$150,3,FALSE)","v":"Zumofen / Gattlen"}]
["2020-06-15",{"$f":"VLOOKUP(D1522,'2020'!$A$16:$G$150,3,FALSE)","v":"Jäger Carlo"},{"$f":"VLOOKUP(D1522,'2020'!$A$16:$G$150,2,FALSE)","v":"Grolla"},61,50,{"$f":"VLOOKUP(E1522,'2020'!$A$16:$G$150,2,FALSE)","v":"Tanja"},{"$f":"VLOOKUP(E1522,'2020'!$A$16:$G$150,3,FALSE)","v":"Gebr. Jäger"}]
["2020-06-15",{"$f":"VLOOKUP(D1523,'2020'!$A$16:$G$150,3,FALSE)","v":"Fux W., J., + Wyer Piet"},{"$f":"VLOOKUP(D1523,'2020'!$A$16:$G$150,2,FALSE)","v":"Bacardi"},39,30,{"$f":"VLOOKUP(E1523,'2020'!$A$16:$G$150,2,FALSE)","v":"Bulle"},{"$f":"VLOOKUP(E1523,'2020'!$A$16:$G$150,3,FALSE)","v":"Fam. Leiggener"}]
["2020-06-15",{"$f":"VLOOKUP(D1524,'2020'!$A$16:$G$150,3,FALSE)","v":"Williner Anton"},{"$f":"VLOOKUP(D1524,'2020'!$A$16:$G$150,2,FALSE)","v":"Colonell"},98,88,{"$f":"VLOOKUP(E1524,'2020'!$A$16:$G$150,2,FALSE)","v":"Malice"},{"$f":"VLOOKUP(E1524,'2020'!$A$16:$G$150,3,FALSE)","v":"Sewer R. + Thommen S."}]
["2020-06-15",{"$f":"VLOOKUP(D1525,'2020'!$A$16:$G$150,3,FALSE)","v":"Zumofen / Gattlen"},{"$f":"VLOOKUP(D1525,'2020'!$A$16:$G$150,2,FALSE)","v":"Rigolo"},117,86,{"$f":"VLOOKUP(E1525,'2020'!$A$16:$G$150,2,FALSE)","v":"Babylon"},{"$f":"VLOOKUP(E1525,'2020'!$A$16:$G$150,3,FALSE)","v":"Stallung zum Stäg"}]
["2020-06-15",{"$f":"VLOOKUP(D1526,'2020'!$A$16:$G$150,3,FALSE)","v":"Jäger Carlo"},{"$f":"VLOOKUP(D1526,'2020'!$A$16:$G$150,2,FALSE)","v":"Candice"},62,103,{"$f":"VLOOKUP(E1526,'2020'!$A$16:$G$150,2,FALSE)","v":"Roxana"},{"$f":"VLOOKUP(E1526,'2020'!$A$16:$G$150,3,FALSE)","v":"Wyssen Diego u. Madlen"}]
["2020-06-15",{"$f":"VLOOKUP(D1527,'2020'!$A$16:$G$150,3,FALSE)","v":"Wyssen Diego u. Madlen"},{"$f":"VLOOKUP(D1527,'2020'!$A$16:$G$150,2,FALSE)","v":"Xhyla"},105,62,{"$f":"VLOOKUP(E1527,'2020'!$A$16:$G$150,2,FALSE)","v":"Candice"},{"$f":"VLOOKUP(E1527,'2020'!$A$16:$G$150,3,FALSE)","v":"Jäger Carlo"}]
["2020-06-15",{"$f":"VLOOKUP(D1528,'2020'!$A$16:$G$150,3,FALSE)","v":"Hischier Pius"},{"$f":"VLOOKUP(D1528,'2020'!$A$16:$G$150,2,FALSE)","v":"Safira"},53,47,{"$f":"VLOOKUP(E1528,'2020'!$A$16:$G$150,2,FALSE)","v":"Tiara"},{"$f":"VLOOKUP(E1528,'2020'!$A$16:$G$150,3,FALSE)","v":"Gebr. Jäger"}]
["2020-06-15",{"$f":"VLOOKUP(D1529,'2020'!$A$16:$G$150,3,FALSE)","v":"Hischier Pius"},{"$f":"VLOOKUP(D1529,'2020'!$A$16:$G$150,2,FALSE)","v":"Pelila"},55,72,{"$f":"VLOOKUP(E1529,'2020'!$A$16:$G$150,2,FALSE)","v":"Baronesse"},{"$f":"VLOOKUP(E1529,'2020'!$A$16:$G$150,3,FALSE)","v":"Mathieu Leander + S."}]
["2020-06-15",{"$f":"VLOOKUP(D1530,'2020'!$A$16:$G$150,3,FALSE)","v":"Zumofen / Gattlen"},{"$f":"VLOOKUP(D1530,'2020'!$A$16:$G$150,2,FALSE)","v":"Xena"},110,102,{"$f":"VLOOKUP(E1530,'2020'!$A$16:$G$150,2,FALSE)","v":"Rasta"},{"$f":"VLOOKUP(E1530,'2020'!$A$16:$G$150,3,FALSE)","v":"Wyssen Diego u. Madlen"}]
["2020-06-15",{"$f":"VLOOKUP(D1531,'2020'!$A$16:$G$150,3,FALSE)","v":"Wyssen Diego u. Madlen"},{"$f":"VLOOKUP(D1531,'2020'!$A$16:$G$150,2,FALSE)","v":"Xandria"},101,58,{"$f":"VLOOKUP(E1531,'2020'!$A$16:$G$150,2,FALSE)","v":"Bataille"},{"$f":"VLOOKUP(E1531,'2020'!$A$16:$G$150,3,FALSE)","v":"Jäger Carlo"}]
["2020-06-15",{"$f":"VLOOKUP(D1532,'2020'!$A$16:$G$150,3,FALSE)","v":"Jäger Carlo"},{"$f":"VLOOKUP(D1532,'2020'!$A$16:$G$150,2,FALSE)","v":"Maila"},59,85,{"$f":"VLOOKUP(E1532,'2020'!$A$16:$G$150,2,FALSE)","v":"Bobino"},{"$f":"VLOOKUP(E1532,'2020'!$A$16:$G$150,3,FALSE)","v":"Stallung Passeraub"}]
["2020-06-15",{"$f":"VLOOKUP(D1533,'2020'!$A$16:$G$150,3,FALSE)","v":"Zumofen / Gattlen"},{"$f":"VLOOKUP(D1533,'2020'!$A$16:$G$150,2,FALSE)","v":"Vesuv"},118,75,{"$f":"VLOOKUP(E1533,'2020'!$A$16:$G$150,2,FALSE)","v":"Bonita"},{"$f":"VLOOKUP(E1533,'2020'!$A$16:$G$150,3,FALSE)","v":"Mathieu Leander + S."}]
["2020-06-15",{"$f":"VLOOKUP(D1534,'2020'!$A$16:$G$150,3,FALSE)","v":"Gebr. Jäger"},{"$f":"VLOOKUP(D1534,'2020'!$A$16:$G$150,2,FALSE)","v":"Simba"},48,117,{"$f":"VLOOKUP(E1534,'2020'!$A$16:$G$150,2,FALSE)","v":"Rigolo"},{"$f":"VLOOKUP(E1534,'2020'!$A$16:$G$150,3,FALSE)","v":"Zumofen / Gattlen"}]
["2020-06-15",{"$f":"VLOOKUP(D1535,'2020'!$A$16:$G$150,3,FALSE)","v":"Zumofen / Gattlen"},{"$f":"VLOOKUP(D1535,'2020'!$A$16:$G$150,2,FALSE)","v":"Maya"},114,44,{"$f":"VLOOKUP(E1535,'2020'!$A$16:$G$150,2,FALSE)","v":"Dorina"},{"$f":"VLOOKUP(E1535,'2020'!$A$16:$G$150,3,FALSE)","v":"Gebr. Jäger"}]
["2020-06-15",{"$f":"VLOOKUP(D1536,'2020'!$A$16:$G$150,3,FALSE)","v":"Zumofen / Gattlen"},{"$f":"VLOOKUP(D1536,'2020'!$A$16:$G$150,2,FALSE)","v":"Xena"},110,68,{"$f":"VLOOKUP(E1536,'2020'!$A$16:$G$150,2,FALSE)","v":"Pivoine"},{"$f":"VLOOKUP(E1536,'2020'!$A$16:$G$150,3,FALSE)","v":"Jäger Carlo"}]
["2020-06-15",{"$f":"VLOOKUP(D1537,'2020'!$A$16:$G$150,3,FALSE)","v":"Zumofen / Gattlen"},{"$f":"VLOOKUP(D1537,'2020'!$A$16:$G$150,2,FALSE)","v":"Xena"},110,13,{"$f":"VLOOKUP(E1537,'2020'!$A$16:$G$150,2,FALSE)","v":"Tequilla"},{"$f":"VLOOKUP(E1537,'2020'!$A$16:$G$150,3,FALSE)","v":"Bregy Silvan + Patrick"}]
["2020-06-15",{"$f":"VLOOKUP(D1538,'2020'!$A$16:$G$150,3,FALSE)","v":"Hischier Pius"},{"$f":"VLOOKUP(D1538,'2020'!$A$16:$G$150,2,FALSE)","v":"Shakira"},56,60,{"$f":"VLOOKUP(E1538,'2020'!$A$16:$G$150,2,FALSE)","v":"Bayonne"},{"$f":"VLOOKUP(E1538,'2020'!$A$16:$G$150,3,FALSE)","v":"Jäger Carlo"}]
["2020-06-15",{"$f":"VLOOKUP(D1539,'2020'!$A$16:$G$150,3,FALSE)","v":"Tscherry E. + B."},{"$f":"VLOOKUP(D1539,'2020'!$A$16:$G$150,2,FALSE)","v":"Cobra"},94,86,{"$f":"VLOOKUP(E1539,'2020'!$A$16:$G$150,2,FALSE)","v":"Babylon"},{"$f":"VLOOKUP(E1539,'2020'!$A$16:$G$150,3,FALSE)","v":"Stallung zum Stäg"}]
["2020-06-15",{"$f":"VLOOKUP(D1540,'2020'!$A$16:$G$150,3,FALSE)","v":"Mathieu Leander + S."},{"$f":"VLOOKUP(D1540,'2020'!$A$16:$G$150,2,FALSE)","v":"Babylon"},76,67,{"$f":"VLOOKUP(E1540,'2020'!$A$16:$G$150,2,FALSE)","v":"Micabol"},{"$f":"VLOOKUP(E1540,'2020'!$A$16:$G$150,3,FALSE)","v":"Jäger Carlo"}]
["2020-06-15",{"$f":"VLOOKUP(D1541,'2020'!$A$16:$G$150,3,FALSE)","v":"Wyssen Diego u. Madlen"},{"$f":"VLOOKUP(D1541,'2020'!$A$16:$G$150,2,FALSE)","v":"Rasta"},102,83,{"$f":"VLOOKUP(E1541,'2020'!$A$16:$G$150,2,FALSE)","v":"Lijuba"},{"$f":"VLOOKUP(E1541,'2020'!$A$16:$G$150,3,FALSE)","v":"Amacker Joelle u. Sven"}]
["2020-06-15",{"$f":"VLOOKUP(D1542,'2020'!$A$16:$G$150,3,FALSE)","v":"Williner Anton"},{"$f":"VLOOKUP(D1542,'2020'!$A$16:$G$150,2,FALSE)","v":"Tira"},100,88,{"$f":"VLOOKUP(E1542,'2020'!$A$16:$G$150,2,FALSE)","v":"Malice"},{"$f":"VLOOKUP(E1542,'2020'!$A$16:$G$150,3,FALSE)","v":"Sewer R. + Thommen S."}]
["2020-06-15",{"$f":"VLOOKUP(D1543,'2020'!$A$16:$G$150,3,FALSE)","v":"Wyssen Diego u. Madlen"},{"$f":"VLOOKUP(D1543,'2020'!$A$16:$G$150,2,FALSE)","v":"Xena"},104,72,{"$f":"VLOOKUP(E1543,'2020'!$A$16:$G$150,2,FALSE)","v":"Baronesse"},{"$f":"VLOOKUP(E1543,'2020'!$A$16:$G$150,3,FALSE)","v":"Mathieu Leander + S."}]
["2020-06-15",{"$f":"VLOOKUP(D1544,'2020'!$A$16:$G$150,3,FALSE)","v":"Hischier Pius"},{"$f":"VLOOKUP(D1544,'2020'!$A$16:$G$150,2,FALSE)","v":"Pelila"},55,33,{"$f":"VLOOKUP(E1544,'2020'!$A$16:$G$150,2,FALSE)","v":"Baquera"},{"$f":"VLOOKUP(E1544,'2020'!$A$16:$G$150,3,FALSE)","v":"Fux W., J., + Wyer Piet"}]
["2020-06-15",{"$f":"VLOOKUP(D1545,'2020'!$A$16:$G$150,3,FALSE)","v":"Bregy Ralf + Adolf"},{"$f":"VLOOKUP(D1545,'2020'!$A$16:$G$150,2,FALSE)","v":"Flacari"},9,50,{"$f":"VLOOKUP(E1545,'2020'!$A$16:$G$150,2,FALSE)","v":"Tanja"},{"$f":"VLOOKUP(E1545,'2020'!$A$16:$G$150,3,FALSE)","v":"Gebr. Jäger"}]
["2020-06-15",{"$f":"VLOOKUP(D1546,'2020'!$A$16:$G$150,3,FALSE)","v":"Mathieu Leander + S."},{"$f":"VLOOKUP(D1546,'2020'!$A$16:$G$150,2,FALSE)","v":"Bavaria"},73,91,{"$f":"VLOOKUP(E1546,'2020'!$A$16:$G$150,2,FALSE)","v":"Bolera"},{"$f":"VLOOKUP(E1546,'2020'!$A$16:$G$150,3,FALSE)","v":"Sewer R. + Thommen S."}]
["2020-06-15",{"$f":"VLOOKUP(D1547,'2020'!$A$16:$G$150,3,FALSE)","v":"Bayard Medard + Gustav"},{"$f":"VLOOKUP(D1547,'2020'!$A$16:$G$150,2,FALSE)","v":"Fantastic"},2,116,{"$f":"VLOOKUP(E1547,'2020'!$A$16:$G$150,2,FALSE)","v":"Pinoccio"},{"$f":"VLOOKUP(E1547,'2020'!$A$16:$G$150,3,FALSE)","v":"Zumofen / Gattlen"}]
["2020-06-15",{"$f":"VLOOKUP(D1548,'2020'!$A$16:$G$150,3,FALSE)","v":"Sewer R. + Thommen S."},{"$f":"VLOOKUP(D1548,'2020'!$A$16:$G$150,2,FALSE)","v":"Tiara"},89,115,{"$f":"VLOOKUP(E1548,'2020'!$A$16:$G$150,2,FALSE)","v":"Pepitta"},{"$f":"VLOOKUP(E1548,'2020'!$A$16:$G$150,3,FALSE)","v":"Zumofen / Gattlen"}]
["2020-06-15",{"$f":"VLOOKUP(D1549,'2020'!$A$16:$G$150,3,FALSE)","v":"Bayard Medard + Gustav"},{"$f":"VLOOKUP(D1549,'2020'!$A$16:$G$150,2,FALSE)","v":"Diabolo"},1,114,{"$f":"VLOOKUP(E1549,'2020'!$A$16:$G$150,2,FALSE)","v":"Maya"},{"$f":"VLOOKUP(E1549,'2020'!$A$16:$G$150,3,FALSE)","v":"Zumofen / Gattlen"}]
["2020-06-15",{"$f":"VLOOKUP(D1550,'2020'!$A$16:$G$150,3,FALSE)","v":"Bregy Ralf + Adolf"},{"$f":"VLOOKUP(D1550,'2020'!$A$16:$G$150,2,FALSE)","v":"Canabis"},14,23,{"$f":"VLOOKUP(E1550,'2020'!$A$16:$G$150,2,FALSE)","v":"Pandora"},{"$f":"VLOOKUP(E1550,'2020'!$A$16:$G$150,3,FALSE)","v":"Bregy Uli + Pascal"}]
["2020-06-15",{"$f":"VLOOKUP(D1551,'2020'!$A$16:$G$150,3,FALSE)","v":"Bregy Ralf + Adolf"},{"$f":"VLOOKUP(D1551,'2020'!$A$16:$G$150,2,FALSE)","v":"Canabis"},14,27,{"$f":"VLOOKUP(E1551,'2020'!$A$16:$G$150,2,FALSE)","v":"Murphy"},{"$f":"VLOOKUP(E1551,'2020'!$A$16:$G$150,3,FALSE)","v":"Bregy Uli + Pascal"}]
["2020-06-15",{"$f":"VLOOKUP(D1552,'2020'!$A$16:$G$150,3,FALSE)","v":"Gebr. Jäger"},{"$f":"VLOOKUP(D1552,'2020'!$A$16:$G$150,2,FALSE)","v":"Dorina"},44,47,{"$f":"VLOOKUP(E1552,'2020'!$A$16:$G$150,2,FALSE)","v":"Tiara"},{"$f":"VLOOKUP(E1552,'2020'!$A$16:$G$150,3,FALSE)","v":"Gebr. Jäger"}]
["2020-06-15",{"$f":"VLOOKUP(D1553,'2020'!$A$16:$G$150,3,FALSE)","v":"Bayard Medard + Gustav"},{"$f":"VLOOKUP(D1553,'2020'!$A$16:$G$150,2,FALSE)","v":"Vampir"},4,88,{"$f":"VLOOKUP(E1553,'2020'!$A$16:$G$150,2,FALSE)","v":"Malice"},{"$f":"VLOOKUP(E1553,'2020'!$A$16:$G$150,3,FALSE)","v":"Sewer R. + Thommen S."}]
["2020-06-15",{"$f":"VLOOKUP(D1554,'2020'!$A$16:$G$150,3,FALSE)","v":"Jäger Carlo"},{"$f":"VLOOKUP(D1554,'2020'!$A$16:$G$150,2,FALSE)","v":"Bataille"},58,118,{"$f":"VLOOKUP(E1554,'2020'!$A$16:$G$150,2,FALSE)","v":"Vesuv"},{"$f":"VLOOKUP(E1554,'2020'!$A$16:$G$150,3,FALSE)","v":"Zumofen / Gattlen"}]
["2020-06-15",{"$f":"VLOOKUP(D1555,'2020'!$A$16:$G$150,3,FALSE)","v":"Mathieu Leander + S."},{"$f":"VLOOKUP(D1555,'2020'!$A$16:$G$150,2,FALSE)","v":"Baghira"},71,33,{"$f":"VLOOKUP(E1555,'2020'!$A$16:$G$150,2,FALSE)","v":"Baquera"},{"$f":"VLOOKUP(E1555,'2020'!$A$16:$G$150,3,FALSE)","v":"Fux W., J., + Wyer Piet"}]
["2020-06-15",{"$f":"VLOOKUP(D1556,'2020'!$A$16:$G$150,3,FALSE)","v":"Bregy Ralf + Adolf"},{"$f":"VLOOKUP(D1556,'2020'!$A$16:$G$150,2,FALSE)","v":"Diabolo"},10,115,{"$f":"VLOOKUP(E1556,'2020'!$A$16:$G$150,2,FALSE)","v":"Pepitta"},{"$f":"VLOOKUP(E1556,'2020'!$A$16:$G$150,3,FALSE)","v":"Zumofen / Gattlen"}]
["2020-06-15",{"$f":"VLOOKUP(D1557,'2020'!$A$16:$G$150,3,FALSE)","v":"Bregy Ralf + Adolf"},{"$f":"VLOOKUP(D1557,'2020'!$A$16:$G$150,2,FALSE)","v":"Carcas"},11,35,{"$f":"VLOOKUP(E1557,'2020'!$A$16:$G$150,2,FALSE)","v":"Valaisanne"},{"$f":"VLOOKUP(E1557,'2020'!$A$16:$G$150,3,FALSE)","v":"Fux W., J., + Wyer Piet"}]
["2020-06-15",{"$f":"VLOOKUP(D1558,'2020'!$A$16:$G$150,3,FALSE)","v":"Stallung Passeraub"},{"$f":"VLOOKUP(D1558,'2020'!$A$16:$G$150,2,FALSE)","v":"Ballerine"},78,19,{"$f":"VLOOKUP(E1558,'2020'!$A$16:$G$150,2,FALSE)","v":"Tiranie"},{"$f":"VLOOKUP(E1558,'2020'!$A$16:$G$150,3,FALSE)","v":"Bregy Uli + Pascal"}]
["2020-06-15",{"$f":"VLOOKUP(D1559,'2020'!$A$16:$G$150,3,FALSE)","v":"Zumofen / Gattlen"},{"$f":"VLOOKUP(D1559,'2020'!$A$16:$G$150,2,FALSE)","v":"Pepitta"},115,15,{"$f":"VLOOKUP(E1559,'2020'!$A$16:$G$150,2,FALSE)","v":"Cashida"},{"$f":"VLOOKUP(E1559,'2020'!$A$16:$G$150,3,FALSE)","v":"Bregy Ralf + Adolf"}]
["2020-06-15",{"$f":"VLOOKUP(D1560,'2020'!$A$16:$G$150,3,FALSE)","v":"Wyssen Diego u. Madlen"},{"$f":"VLOOKUP(D1560,'2020'!$A$16:$G$150,2,FALSE)","v":"Rasta"},102,44,{"$f":"VLOOKUP(E1560,'2020'!$A$16:$G$150,2,FALSE)","v":"Dorina"},{"$f":"VLOOKUP(E1560,'2020'!$A$16:$G$150,3,FALSE)","v":"Gebr. Jäger"}]
["2020-06-15",{"$f":"VLOOKUP(D1561,'2020'!$A$16:$G$150,3,FALSE)","v":"Bregy Ralf + Adolf"},{"$f":"VLOOKUP(D1561,'2020'!$A$16:$G$150,2,FALSE)","v":"Cashida"},15,25,{"$f":"VLOOKUP(E1561,'2020'!$A$16:$G$150,2,FALSE)","v":"Calette"},{"$f":"VLOOKUP(E1561,'2020'!$A$16:$G$150,3,FALSE)","v":"Bregy Uli + Pascal"}]
["2020-06-15",{"$f":"VLOOKUP(D1562,'2020'!$A$16:$G$150,3,FALSE)","v":"Bregy Ralf + Adolf"},{"$f":"VLOOKUP(D1562,'2020'!$A$16:$G$150,2,FALSE)","v":"Canaille"},7,118,{"$f":"VLOOKUP(E1562,'2020'!$A$16:$G$150,2,FALSE)","v":"Vesuv"},{"$f":"VLOOKUP(E1562,'2020'!$A$16:$G$150,3,FALSE)","v":"Zumofen / Gattlen"}]
["2020-06-15",{"$f":"VLOOKUP(D1563,'2020'!$A$16:$G$150,3,FALSE)","v":"Gebr. Jäger"},{"$f":"VLOOKUP(D1563,'2020'!$A$16:$G$150,2,FALSE)","v":"Simba"},48,93,{"$f":"VLOOKUP(E1563,'2020'!$A$16:$G$150,2,FALSE)","v":"Carolin"},{"$f":"VLOOKUP(E1563,'2020'!$A$16:$G$150,3,FALSE)","v":"Tscherry E. + B."}]
["2020-06-15",{"$f":"VLOOKUP(D1564,'2020'!$A$16:$G$150,3,FALSE)","v":"Zumofen / Gattlen"},{"$f":"VLOOKUP(D1564,'2020'!$A$16:$G$150,2,FALSE)","v":"Maya"},114,4,{"$f":"VLOOKUP(E1564,'2020'!$A$16:$G$150,2,FALSE)","v":"Vampir"},{"$f":"VLOOKUP(E1564,'2020'!$A$16:$G$150,3,FALSE)","v":"Bayard Medard + Gustav"}]
["2020-06-15",{"$f":"VLOOKUP(D1565,'2020'!$A$16:$G$150,3,FALSE)","v":"Zumofen / Gattlen"},{"$f":"VLOOKUP(D1565,'2020'!$A$16:$G$150,2,FALSE)","v":"Violette"},108,27,{"$f":"VLOOKUP(E1565,'2020'!$A$16:$G$150,2,FALSE)","v":"Murphy"},{"$f":"VLOOKUP(E1565,'2020'!$A$16:$G$150,3,FALSE)","v":"Bregy Uli + Pascal"}]
["2020-06-15",{"$f":"VLOOKUP(D1566,'2020'!$A$16:$G$150,3,FALSE)","v":"Bayard Medard + Gustav"},{"$f":"VLOOKUP(D1566,'2020'!$A$16:$G$150,2,FALSE)","v":"Vampir"},4,89,{"$f":"VLOOKUP(E1566,'2020'!$A$16:$G$150,2,FALSE)","v":"Tiara"},{"$f":"VLOOKUP(E1566,'2020'!$A$16:$G$150,3,FALSE)","v":"Sewer R. + Thommen S."}]
["2020-06-15",{"$f":"VLOOKUP(D1567,'2020'!$A$16:$G$150,3,FALSE)","v":"Williner Anton"},{"$f":"VLOOKUP(D1567,'2020'!$A$16:$G$150,2,FALSE)","v":"Colonell"},98,111,{"$f":"VLOOKUP(E1567,'2020'!$A$16:$G$150,2,FALSE)","v":"Vidona"},{"$f":"VLOOKUP(E1567,'2020'!$A$16:$G$150,3,FALSE)","v":"Zumofen / Gattlen"}]
["2020-06-15",{"$f":"VLOOKUP(D1568,'2020'!$A$16:$G$150,3,FALSE)","v":"Williner Anton"},{"$f":"VLOOKUP(D1568,'2020'!$A$16:$G$150,2,FALSE)","v":"Tigra"},96,26,{"$f":"VLOOKUP(E1568,'2020'!$A$16:$G$150,2,FALSE)","v":"Cataleya"},{"$f":"VLOOKUP(E1568,'2020'!$A$16:$G$150,3,FALSE)","v":"Bregy Uli + Pascal"}]
["2020-06-15",{"$f":"VLOOKUP(D1569,'2020'!$A$16:$G$150,3,FALSE)","v":"Bregy Ralf + Adolf"},{"$f":"VLOOKUP(D1569,'2020'!$A$16:$G$150,2,FALSE)","v":"Cashida"},15,28,{"$f":"VLOOKUP(E1569,'2020'!$A$16:$G$150,2,FALSE)","v":"Corona"},{"$f":"VLOOKUP(E1569,'2020'!$A$16:$G$150,3,FALSE)","v":"Bregy Uli + Pascal"}]
["2020-06-15",{"$f":"VLOOKUP(D1570,'2020'!$A$16:$G$150,3,FALSE)","v":"Bayard Medard + Gustav"},{"$f":"VLOOKUP(D1570,'2020'!$A$16:$G$150,2,FALSE)","v":"Diabolo"},1,109,{"$f":"VLOOKUP(E1570,'2020'!$A$16:$G$150,2,FALSE)","v":"Rena"},{"$f":"VLOOKUP(E1570,'2020'!$A$16:$G$150,3,FALSE)","v":"Zumofen / Gattlen"}]
["2020-06-15",{"$f":"VLOOKUP(D1571,'2020'!$A$16:$G$150,3,FALSE)","v":"Zumofen / Gattlen"},{"$f":"VLOOKUP(D1571,'2020'!$A$16:$G$150,2,FALSE)","v":"Riva "},112,30,{"$f":"VLOOKUP(E1571,'2020'!$A$16:$G$150,2,FALSE)","v":"Bulle"},{"$f":"VLOOKUP(E1571,'2020'!$A$16:$G$150,3,FALSE)","v":"Fam. Leiggener"}]
["2020-06-15",{"$f":"VLOOKUP(D1572,'2020'!$A$16:$G$150,3,FALSE)","v":"Stallung Passeraub"},{"$f":"VLOOKUP(D1572,'2020'!$A$16:$G$150,2,FALSE)","v":"Bobino"},85,76,{"$f":"VLOOKUP(E1572,'2020'!$A$16:$G$150,2,FALSE)","v":"Babylon"},{"$f":"VLOOKUP(E1572,'2020'!$A$16:$G$150,3,FALSE)","v":"Mathieu Leander + S."}]
["2020-06-15",{"$f":"VLOOKUP(D1573,'2020'!$A$16:$G$150,3,FALSE)","v":"Bayard Medard + Gustav"},{"$f":"VLOOKUP(D1573,'2020'!$A$16:$G$150,2,FALSE)","v":"Diabolo"},1,115,{"$f":"VLOOKUP(E1573,'2020'!$A$16:$G$150,2,FALSE)","v":"Pepitta"},{"$f":"VLOOKUP(E1573,'2020'!$A$16:$G$150,3,FALSE)","v":"Zumofen / Gattlen"}]
["2020-06-15",{"$f":"VLOOKUP(D1574,'2020'!$A$16:$G$150,3,FALSE)","v":"Zumofen / Gattlen"},{"$f":"VLOOKUP(D1574,'2020'!$A$16:$G$150,2,FALSE)","v":"Fayola"},119,19,{"$f":"VLOOKUP(E1574,'2020'!$A$16:$G$150,2,FALSE)","v":"Tiranie"},{"$f":"VLOOKUP(E1574,'2020'!$A$16:$G$150,3,FALSE)","v":"Bregy Uli + Pascal"}]
["2020-06-15",{"$f":"VLOOKUP(D1575,'2020'!$A$16:$G$150,3,FALSE)","v":"Bregy Ralf + Adolf"},{"$f":"VLOOKUP(D1575,'2020'!$A$16:$G$150,2,FALSE)","v":"Diabolo"},10,119,{"$f":"VLOOKUP(E1575,'2020'!$A$16:$G$150,2,FALSE)","v":"Fayola"},{"$f":"VLOOKUP(E1575,'2020'!$A$16:$G$150,3,FALSE)","v":"Zumofen / Gattlen"}]
["2020-06-15",{"$f":"VLOOKUP(D1576,'2020'!$A$16:$G$150,3,FALSE)","v":"Sewer R. + Thommen S."},{"$f":"VLOOKUP(D1576,'2020'!$A$16:$G$150,2,FALSE)","v":"Bolera"},91,114,{"$f":"VLOOKUP(E1576,'2020'!$A$16:$G$150,2,FALSE)","v":"Maya"},{"$f":"VLOOKUP(E1576,'2020'!$A$16:$G$150,3,FALSE)","v":"Zumofen / Gattlen"}]
["2020-06-15",{"$f":"VLOOKUP(D1577,'2020'!$A$16:$G$150,3,FALSE)","v":"Bregy Ralf + Adolf"},{"$f":"VLOOKUP(D1577,'2020'!$A$16:$G$150,2,FALSE)","v":"Canaille"},7,40,{"$f":"VLOOKUP(E1577,'2020'!$A$16:$G$150,2,FALSE)","v":"Toscana"},{"$f":"VLOOKUP(E1577,'2020'!$A$16:$G$150,3,FALSE)","v":"Fux W., J., + Wyer Piet"}]
["2020-06-15",{"$f":"VLOOKUP(D1578,'2020'!$A$16:$G$150,3,FALSE)","v":"Williner Anton"},{"$f":"VLOOKUP(D1578,'2020'!$A$16:$G$150,2,FALSE)","v":"Vanessa"},97,118,{"$f":"VLOOKUP(E1578,'2020'!$A$16:$G$150,2,FALSE)","v":"Vesuv"},{"$f":"VLOOKUP(E1578,'2020'!$A$16:$G$150,3,FALSE)","v":"Zumofen / Gattlen"}]
["2020-06-15",{"$f":"VLOOKUP(D1579,'2020'!$A$16:$G$150,3,FALSE)","v":"Stallung Passeraub "},{"$f":"VLOOKUP(D1579,'2020'!$A$16:$G$150,2,FALSE)","v":"Marla"},79,66,{"$f":"VLOOKUP(E1579,'2020'!$A$16:$G$150,2,FALSE)","v":"Metis"},{"$f":"VLOOKUP(E1579,'2020'!$A$16:$G$150,3,FALSE)","v":"Jäger Carlo"}]
["2020-06-15",{"$f":"VLOOKUP(D1580,'2020'!$A$16:$G$150,3,FALSE)","v":"Gebr. Jäger"},{"$f":"VLOOKUP(D1580,'2020'!$A$16:$G$150,2,FALSE)","v":"Simba"},48,118,{"$f":"VLOOKUP(E1580,'2020'!$A$16:$G$150,2,FALSE)","v":"Vesuv"},{"$f":"VLOOKUP(E1580,'2020'!$A$16:$G$150,3,FALSE)","v":"Zumofen / Gattlen"}]
["2020-06-15",{"$f":"VLOOKUP(D1581,'2020'!$A$16:$G$150,3,FALSE)","v":"Hischier H. + Bühlmann J."},{"$f":"VLOOKUP(D1581,'2020'!$A$16:$G$150,2,FALSE)","v":"Jamanda"},51,79,{"$f":"VLOOKUP(E1581,'2020'!$A$16:$G$150,2,FALSE)","v":"Marla"},{"$f":"VLOOKUP(E1581,'2020'!$A$16:$G$150,3,FALSE)","v":"Stallung Passeraub "}]
["2020-06-15",{"$f":"VLOOKUP(D1582,'2020'!$A$16:$G$150,3,FALSE)","v":"Bregy Uli + Pascal"},{"$f":"VLOOKUP(D1582,'2020'!$A$16:$G$150,2,FALSE)","v":"Corona"},28,3,{"$f":"VLOOKUP(E1582,'2020'!$A$16:$G$150,2,FALSE)","v":"Priska"},{"$f":"VLOOKUP(E1582,'2020'!$A$16:$G$150,3,FALSE)","v":"Bayard Medard + Gustav"}]
["2020-06-15",{"$f":"VLOOKUP(D1583,'2020'!$A$16:$G$150,3,FALSE)","v":"Bregy Ralf + Adolf"},{"$f":"VLOOKUP(D1583,'2020'!$A$16:$G$150,2,FALSE)","v":"Canaille"},7,110,{"$f":"VLOOKUP(E1583,'2020'!$A$16:$G$150,2,FALSE)","v":"Xena"},{"$f":"VLOOKUP(E1583,'2020'!$A$16:$G$150,3,FALSE)","v":"Zumofen / Gattlen"}]
["2020-06-15",{"$f":"VLOOKUP(D1584,'2020'!$A$16:$G$150,3,FALSE)","v":"Bregy Silvan + Patrick"},{"$f":"VLOOKUP(D1584,'2020'!$A$16:$G$150,2,FALSE)","v":"Milow"},12,57,{"$f":"VLOOKUP(E1584,'2020'!$A$16:$G$150,2,FALSE)","v":"Promise"},{"$f":"VLOOKUP(E1584,'2020'!$A$16:$G$150,3,FALSE)","v":"Jäger Carlo"}]
["2020-06-15",{"$f":"VLOOKUP(D1585,'2020'!$A$16:$G$150,3,FALSE)","v":"Bayard Medard + Gustav"},{"$f":"VLOOKUP(D1585,'2020'!$A$16:$G$150,2,FALSE)","v":"Vampir"},4,114,{"$f":"VLOOKUP(E1585,'2020'!$A$16:$G$150,2,FALSE)","v":"Maya"},{"$f":"VLOOKUP(E1585,'2020'!$A$16:$G$150,3,FALSE)","v":"Zumofen / Gattlen"}]
["2020-06-15",{"$f":"VLOOKUP(D1586,'2020'!$A$16:$G$150,3,FALSE)","v":"Williner Anton"},{"$f":"VLOOKUP(D1586,'2020'!$A$16:$G$150,2,FALSE)","v":"Colonell"},98,16,{"$f":"VLOOKUP(E1586,'2020'!$A$16:$G$150,2,FALSE)","v":"Flacabre"},{"$f":"VLOOKUP(E1586,'2020'!$A$16:$G$150,3,FALSE)","v":"Bregy Ralf + Adolf"}]
["2020-06-15",{"$f":"VLOOKUP(D1587,'2020'!$A$16:$G$150,3,FALSE)","v":"Bregy Silvan + Patrick"},{"$f":"VLOOKUP(D1587,'2020'!$A$16:$G$150,2,FALSE)","v":"Milow"},12,89,{"$f":"VLOOKUP(E1587,'2020'!$A$16:$G$150,2,FALSE)","v":"Tiara"},{"$f":"VLOOKUP(E1587,'2020'!$A$16:$G$150,3,FALSE)","v":"Sewer R. + Thommen S."}]
["2020-06-15",{"$f":"VLOOKUP(D1588,'2020'!$A$16:$G$150,3,FALSE)","v":"Zumofen / Gattlen"},{"$f":"VLOOKUP(D1588,'2020'!$A$16:$G$150,2,FALSE)","v":"Rigolo"},117,44,{"$f":"VLOOKUP(E1588,'2020'!$A$16:$G$150,2,FALSE)","v":"Dorina"},{"$f":"VLOOKUP(E1588,'2020'!$A$16:$G$150,3,FALSE)","v":"Gebr. Jäger"}]
["2020-06-15",{"$f":"VLOOKUP(D1589,'2020'!$A$16:$G$150,3,FALSE)","v":"Stallung Passeraub "},{"$f":"VLOOKUP(D1589,'2020'!$A$16:$G$150,2,FALSE)","v":"Bonita"},82,118,{"$f":"VLOOKUP(E1589,'2020'!$A$16:$G$150,2,FALSE)","v":"Vesuv"},{"$f":"VLOOKUP(E1589,'2020'!$A$16:$G$150,3,FALSE)","v":"Zumofen / Gattlen"}]
["2020-06-15",{"$f":"VLOOKUP(D1590,'2020'!$A$16:$G$150,3,FALSE)","v":"Hischier H. + Bühlmann J."},{"$f":"VLOOKUP(D1590,'2020'!$A$16:$G$150,2,FALSE)","v":"Lenja"},52,76,{"$f":"VLOOKUP(E1590,'2020'!$A$16:$G$150,2,FALSE)","v":"Babylon"},{"$f":"VLOOKUP(E1590,'2020'!$A$16:$G$150,3,FALSE)","v":"Mathieu Leander + S."}]
["2020-06-15",{"$f":"VLOOKUP(D1591,'2020'!$A$16:$G$150,3,FALSE)","v":"Hischier Pius"},{"$f":"VLOOKUP(D1591,'2020'!$A$16:$G$150,2,FALSE)","v":"Pelila"},55,77,{"$f":"VLOOKUP(E1591,'2020'!$A$16:$G$150,2,FALSE)","v":"Beres"},{"$f":"VLOOKUP(E1591,'2020'!$A$16:$G$150,3,FALSE)","v":"Stallung Passeraub"}]
["2020-06-15",{"$f":"VLOOKUP(D1592,'2020'!$A$16:$G$150,3,FALSE)","v":"Bayard Medard + Gustav"},{"$f":"VLOOKUP(D1592,'2020'!$A$16:$G$150,2,FALSE)","v":"Fantastic"},2,117,{"$f":"VLOOKUP(E1592,'2020'!$A$16:$G$150,2,FALSE)","v":"Rigolo"},{"$f":"VLOOKUP(E1592,'2020'!$A$16:$G$150,3,FALSE)","v":"Zumofen / Gattlen"}]
["2020-06-15",{"$f":"VLOOKUP(D1593,'2020'!$A$16:$G$150,3,FALSE)","v":"Bregy Uli + Pascal"},{"$f":"VLOOKUP(D1593,'2020'!$A$16:$G$150,2,FALSE)","v":"Souki"},18,119,{"$f":"VLOOKUP(E1593,'2020'!$A$16:$G$150,2,FALSE)","v":"Fayola"},{"$f":"VLOOKUP(E1593,'2020'!$A$16:$G$150,3,FALSE)","v":"Zumofen / Gattlen"}]
["2020-06-15",{"$f":"VLOOKUP(D1594,'2020'!$A$16:$G$150,3,FALSE)","v":"Bayard Medard + Gustav"},{"$f":"VLOOKUP(D1594,'2020'!$A$16:$G$150,2,FALSE)","v":"Diabolo"},1,116,{"$f":"VLOOKUP(E1594,'2020'!$A$16:$G$150,2,FALSE)","v":"Pinoccio"},{"$f":"VLOOKUP(E1594,'2020'!$A$16:$G$150,3,FALSE)","v":"Zumofen / Gattlen"}]
["2020-06-15",{"$f":"VLOOKUP(D1595,'2020'!$A$16:$G$150,3,FALSE)","v":"Jäger Carlo"},{"$f":"VLOOKUP(D1595,'2020'!$A$16:$G$150,2,FALSE)","v":"Promise"},57,56,{"$f":"VLOOKUP(E1595,'2020'!$A$16:$G$150,2,FALSE)","v":"Shakira"},{"$f":"VLOOKUP(E1595,'2020'!$A$16:$G$150,3,FALSE)","v":"Hischier Pius"}]
["2020-06-15",{"$f":"VLOOKUP(D1596,'2020'!$A$16:$G$150,3,FALSE)","v":"Bregy Ralf + Adolf"},{"$f":"VLOOKUP(D1596,'2020'!$A$16:$G$150,2,FALSE)","v":"Flacari"},9,4,{"$f":"VLOOKUP(E1596,'2020'!$A$16:$G$150,2,FALSE)","v":"Vampir"},{"$f":"VLOOKUP(E1596,'2020'!$A$16:$G$150,3,FALSE)","v":"Bayard Medard + Gustav"}]
["2020-06-15",{"$f":"VLOOKUP(D1597,'2020'!$A$16:$G$150,3,FALSE)","v":"Fam. Leiggener"},{"$f":"VLOOKUP(D1597,'2020'!$A$16:$G$150,2,FALSE)","v":"Bulle"},30,114,{"$f":"VLOOKUP(E1597,'2020'!$A$16:$G$150,2,FALSE)","v":"Maya"},{"$f":"VLOOKUP(E1597,'2020'!$A$16:$G$150,3,FALSE)","v":"Zumofen / Gattlen"}]
["2020-06-15",{"$f":"VLOOKUP(D1598,'2020'!$A$16:$G$150,3,FALSE)","v":"Bregy Uli + Pascal"},{"$f":"VLOOKUP(D1598,'2020'!$A$16:$G$150,2,FALSE)","v":"Pandora"},23,114,{"$f":"VLOOKUP(E1598,'2020'!$A$16:$G$150,2,FALSE)","v":"Maya"},{"$f":"VLOOKUP(E1598,'2020'!$A$16:$G$150,3,FALSE)","v":"Zumofen / Gattlen"}]
["2020-06-15",{"$f":"VLOOKUP(D1599,'2020'!$A$16:$G$150,3,FALSE)","v":"Williner Anton"},{"$f":"VLOOKUP(D1599,'2020'!$A$16:$G$150,2,FALSE)","v":"Tira"},100,88,{"$f":"VLOOKUP(E1599,'2020'!$A$16:$G$150,2,FALSE)","v":"Malice"},{"$f":"VLOOKUP(E1599,'2020'!$A$16:$G$150,3,FALSE)","v":"Sewer R. + Thommen S."}]
["2020-06-15",{"$f":"VLOOKUP(D1600,'2020'!$A$16:$G$150,3,FALSE)","v":"Zumofen / Gattlen"},{"$f":"VLOOKUP(D1600,'2020'!$A$16:$G$150,2,FALSE)","v":"Xena"},110,70,{"$f":"VLOOKUP(E1600,'2020'!$A$16:$G$150,2,FALSE)","v":"Tokio"},{"$f":"VLOOKUP(E1600,'2020'!$A$16:$G$150,3,FALSE)","v":"Jäger Carlo"}]
["2020-06-15",{"$f":"VLOOKUP(D1601,'2020'!$A$16:$G$150,3,FALSE)","v":"Fux W., J., + Wyer Piet"},{"$f":"VLOOKUP(D1601,'2020'!$A$16:$G$150,2,FALSE)","v":"Bacardi"},39,114,{"$f":"VLOOKUP(E1601,'2020'!$A$16:$G$150,2,FALSE)","v":"Maya"},{"$f":"VLOOKUP(E1601,'2020'!$A$16:$G$150,3,FALSE)","v":"Zumofen / Gattlen"}]
["2020-06-15",{"$f":"VLOOKUP(D1602,'2020'!$A$16:$G$150,3,FALSE)","v":"Zumofen / Gattlen"},{"$f":"VLOOKUP(D1602,'2020'!$A$16:$G$150,2,FALSE)","v":"Xena"},110,44,{"$f":"VLOOKUP(E1602,'2020'!$A$16:$G$150,2,FALSE)","v":"Dorina"},{"$f":"VLOOKUP(E1602,'2020'!$A$16:$G$150,3,FALSE)","v":"Gebr. Jäger"}]
["2020-06-15",{"$f":"VLOOKUP(D1603,'2020'!$A$16:$G$150,3,FALSE)","v":"Stallung Passeraub "},{"$f":"VLOOKUP(D1603,'2020'!$A$16:$G$150,2,FALSE)","v":"Bonita"},82,79,{"$f":"VLOOKUP(E1603,'2020'!$A$16:$G$150,2,FALSE)","v":"Marla"},{"$f":"VLOOKUP(E1603,'2020'!$A$16:$G$150,3,FALSE)","v":"Stallung Passeraub "}]
["2020-06-15",{"$f":"VLOOKUP(D1604,'2020'!$A$16:$G$150,3,FALSE)","v":"Bregy Uli + Pascal"},{"$f":"VLOOKUP(D1604,'2020'!$A$16:$G$150,2,FALSE)","v":"Bora"},21,97,{"$f":"VLOOKUP(E1604,'2020'!$A$16:$G$150,2,FALSE)","v":"Vanessa"},{"$f":"VLOOKUP(E1604,'2020'!$A$16:$G$150,3,FALSE)","v":"Williner Anton"}]
["2020-06-15",{"$f":"VLOOKUP(D1605,'2020'!$A$16:$G$150,3,FALSE)","v":"Zumofen / Gattlen"},{"$f":"VLOOKUP(D1605,'2020'!$A$16:$G$150,2,FALSE)","v":"Xena"},110,46,{"$f":"VLOOKUP(E1605,'2020'!$A$16:$G$150,2,FALSE)","v":"Lorens"},{"$f":"VLOOKUP(E1605,'2020'!$A$16:$G$150,3,FALSE)","v":"Gebr. Jäger"}]
["2020-06-15",{"$f":"VLOOKUP(D1606,'2020'!$A$16:$G$150,3,FALSE)","v":"Bregy Uli + Pascal"},{"$f":"VLOOKUP(D1606,'2020'!$A$16:$G$150,2,FALSE)","v":"Bora"},21,18,{"$f":"VLOOKUP(E1606,'2020'!$A$16:$G$150,2,FALSE)","v":"Souki"},{"$f":"VLOOKUP(E1606,'2020'!$A$16:$G$150,3,FALSE)","v":"Bregy Uli + Pascal"}]
["2020-06-15",{"$f":"VLOOKUP(D1607,'2020'!$A$16:$G$150,3,FALSE)","v":"Wyssen Diego u. Madlen"},{"$f":"VLOOKUP(D1607,'2020'!$A$16:$G$150,2,FALSE)","v":"Rasta"},102,31,{"$f":"VLOOKUP(E1607,'2020'!$A$16:$G$150,2,FALSE)","v":"Baron"},{"$f":"VLOOKUP(E1607,'2020'!$A$16:$G$150,3,FALSE)","v":"Fam. Leiggener"}]
["2020-06-15",{"$f":"VLOOKUP(D1608,'2020'!$A$16:$G$150,3,FALSE)","v":"Bayard Medard + Gustav"},{"$f":"VLOOKUP(D1608,'2020'!$A$16:$G$150,2,FALSE)","v":"Vampir"},4,88,{"$f":"VLOOKUP(E1608,'2020'!$A$16:$G$150,2,FALSE)","v":"Malice"},{"$f":"VLOOKUP(E1608,'2020'!$A$16:$G$150,3,FALSE)","v":"Sewer R. + Thommen S."}]
["2020-06-14",{"$f":"VLOOKUP(D1609,'2020'!$A$16:$G$150,3,FALSE)","v":"Gebr. Jäger"},{"$f":"VLOOKUP(D1609,'2020'!$A$16:$G$150,2,FALSE)","v":"Lorens"},46,64,{"$f":"VLOOKUP(E1609,'2020'!$A$16:$G$150,2,FALSE)","v":"Sera"},{"$f":"VLOOKUP(E1609,'2020'!$A$16:$G$150,3,FALSE)","v":"Jäger Carlo"}]
["2020-06-14",{"$f":"VLOOKUP(D1610,'2020'!$A$16:$G$150,3,FALSE)","v":"Jäger Carlo"},{"$f":"VLOOKUP(D1610,'2020'!$A$16:$G$150,2,FALSE)","v":"Sera"},64,48,{"$f":"VLOOKUP(E1610,'2020'!$A$16:$G$150,2,FALSE)","v":"Simba"},{"$f":"VLOOKUP(E1610,'2020'!$A$16:$G$150,3,FALSE)","v":"Gebr. Jäger"}]
["2020-06-14",{"$f":"VLOOKUP(D1611,'2020'!$A$16:$G$150,3,FALSE)","v":"Gebr. Jäger"},{"$f":"VLOOKUP(D1611,'2020'!$A$16:$G$150,2,FALSE)","v":"Simba"},48,76,{"$f":"VLOOKUP(E1611,'2020'!$A$16:$G$150,2,FALSE)","v":"Babylon"},{"$f":"VLOOKUP(E1611,'2020'!$A$16:$G$150,3,FALSE)","v":"Mathieu Leander + S."}]
["2020-06-14",{"$f":"VLOOKUP(D1612,'2020'!$A$16:$G$150,3,FALSE)","v":"Jäger Carlo"},{"$f":"VLOOKUP(D1612,'2020'!$A$16:$G$150,2,FALSE)","v":"Micabol"},67,52,{"$f":"VLOOKUP(E1612,'2020'!$A$16:$G$150,2,FALSE)","v":"Lenja"},{"$f":"VLOOKUP(E1612,'2020'!$A$16:$G$150,3,FALSE)","v":"Hischier H. + Bühlmann J."}]
["2020-06-14",{"$f":"VLOOKUP(D1613,'2020'!$A$16:$G$150,3,FALSE)","v":"Stallung Passeraub"},{"$f":"VLOOKUP(D1613,'2020'!$A$16:$G$150,2,FALSE)","v":"Beres"},77,97,{"$f":"VLOOKUP(E1613,'2020'!$A$16:$G$150,2,FALSE)","v":"Vanessa"},{"$f":"VLOOKUP(E1613,'2020'!$A$16:$G$150,3,FALSE)","v":"Williner Anton"}]
["2020-06-14",{"$f":"VLOOKUP(D1614,'2020'!$A$16:$G$150,3,FALSE)","v":"Tscherry E. + B."},{"$f":"VLOOKUP(D1614,'2020'!$A$16:$G$150,2,FALSE)","v":"Cobra"},94,33,{"$f":"VLOOKUP(E1614,'2020'!$A$16:$G$150,2,FALSE)","v":"Baquera"},{"$f":"VLOOKUP(E1614,'2020'!$A$16:$G$150,3,FALSE)","v":"Fux W., J., + Wyer Piet"}]
["2020-06-14",{"$f":"VLOOKUP(D1615,'2020'!$A$16:$G$150,3,FALSE)","v":"Jäger Carlo"},{"$f":"VLOOKUP(D1615,'2020'!$A$16:$G$150,2,FALSE)","v":"Candice"},62,118,{"$f":"VLOOKUP(E1615,'2020'!$A$16:$G$150,2,FALSE)","v":"Vesuv"},{"$f":"VLOOKUP(E1615,'2020'!$A$16:$G$150,3,FALSE)","v":"Zumofen / Gattlen"}]
["2020-06-14",{"$f":"VLOOKUP(D1616,'2020'!$A$16:$G$150,3,FALSE)","v":"Jäger Carlo"},{"$f":"VLOOKUP(D1616,'2020'!$A$16:$G$150,2,FALSE)","v":"Candice"},62,31,{"$f":"VLOOKUP(E1616,'2020'!$A$16:$G$150,2,FALSE)","v":"Baron"},{"$f":"VLOOKUP(E1616,'2020'!$A$16:$G$150,3,FALSE)","v":"Fam. Leiggener"}]
["2020-06-14",{"$f":"VLOOKUP(D1617,'2020'!$A$16:$G$150,3,FALSE)","v":"Bregy Ralf + Adolf"},{"$f":"VLOOKUP(D1617,'2020'!$A$16:$G$150,2,FALSE)","v":"Canaille"},7,110,{"$f":"VLOOKUP(E1617,'2020'!$A$16:$G$150,2,FALSE)","v":"Xena"},{"$f":"VLOOKUP(E1617,'2020'!$A$16:$G$150,3,FALSE)","v":"Zumofen / Gattlen"}]
["2020-06-14",{"$f":"VLOOKUP(D1618,'2020'!$A$16:$G$150,3,FALSE)","v":"Bregy Ralf + Adolf"},{"$f":"VLOOKUP(D1618,'2020'!$A$16:$G$150,2,FALSE)","v":"Canabis"},14,65,{"$f":"VLOOKUP(E1618,'2020'!$A$16:$G$150,2,FALSE)","v":"Megane"},{"$f":"VLOOKUP(E1618,'2020'!$A$16:$G$150,3,FALSE)","v":"Jäger Carlo"}]
["2020-06-14",{"$f":"VLOOKUP(D1619,'2020'!$A$16:$G$150,3,FALSE)","v":"Williner Anton"},{"$f":"VLOOKUP(D1619,'2020'!$A$16:$G$150,2,FALSE)","v":"Vivana"},95,78,{"$f":"VLOOKUP(E1619,'2020'!$A$16:$G$150,2,FALSE)","v":"Ballerine"},{"$f":"VLOOKUP(E1619,'2020'!$A$16:$G$150,3,FALSE)","v":"Stallung Passeraub"}]
["2020-06-14",{"$f":"VLOOKUP(D1620,'2020'!$A$16:$G$150,3,FALSE)","v":"Bregy Ralf + Adolf"},{"$f":"VLOOKUP(D1620,'2020'!$A$16:$G$150,2,FALSE)","v":"Flacabre"},16,35,{"$f":"VLOOKUP(E1620,'2020'!$A$16:$G$150,2,FALSE)","v":"Valaisanne"},{"$f":"VLOOKUP(E1620,'2020'!$A$16:$G$150,3,FALSE)","v":"Fux W., J., + Wyer Piet"}]
["2020-06-14",{"$f":"VLOOKUP(D1621,'2020'!$A$16:$G$150,3,FALSE)","v":"Jäger Carlo"},{"$f":"VLOOKUP(D1621,'2020'!$A$16:$G$150,2,FALSE)","v":"Promise"},57,10,{"$f":"VLOOKUP(E1621,'2020'!$A$16:$G$150,2,FALSE)","v":"Diabolo"},{"$f":"VLOOKUP(E1621,'2020'!$A$16:$G$150,3,FALSE)","v":"Bregy Ralf + Adolf"}]
["2020-06-14",{"$f":"VLOOKUP(D1622,'2020'!$A$16:$G$150,3,FALSE)","v":"Bregy Uli + Pascal"},{"$f":"VLOOKUP(D1622,'2020'!$A$16:$G$150,2,FALSE)","v":"Caline"},20,10,{"$f":"VLOOKUP(E1622,'2020'!$A$16:$G$150,2,FALSE)","v":"Diabolo"},{"$f":"VLOOKUP(E1622,'2020'!$A$16:$G$150,3,FALSE)","v":"Bregy Ralf + Adolf"}]
["2020-06-14",{"$f":"VLOOKUP(D1623,'2020'!$A$16:$G$150,3,FALSE)","v":"Zumofen / Gattlen"},{"$f":"VLOOKUP(D1623,'2020'!$A$16:$G$150,2,FALSE)","v":"Violin"},107,21,{"$f":"VLOOKUP(E1623,'2020'!$A$16:$G$150,2,FALSE)","v":"Bora"},{"$f":"VLOOKUP(E1623,'2020'!$A$16:$G$150,3,FALSE)","v":"Bregy Uli + Pascal"}]
["2020-06-14",{"$f":"VLOOKUP(D1624,'2020'!$A$16:$G$150,3,FALSE)","v":"Zumofen / Gattlen"},{"$f":"VLOOKUP(D1624,'2020'!$A$16:$G$150,2,FALSE)","v":"Vesuv"},118,33,{"$f":"VLOOKUP(E1624,'2020'!$A$16:$G$150,2,FALSE)","v":"Baquera"},{"$f":"VLOOKUP(E1624,'2020'!$A$16:$G$150,3,FALSE)","v":"Fux W., J., + Wyer Piet"}]
["2020-06-14",{"$f":"VLOOKUP(D1625,'2020'!$A$16:$G$150,3,FALSE)","v":"Jäger Carlo"},{"$f":"VLOOKUP(D1625,'2020'!$A$16:$G$150,2,FALSE)","v":"Candice"},62,31,{"$f":"VLOOKUP(E1625,'2020'!$A$16:$G$150,2,FALSE)","v":"Baron"},{"$f":"VLOOKUP(E1625,'2020'!$A$16:$G$150,3,FALSE)","v":"Fam. Leiggener"}]
["2020-06-14",{"$f":"VLOOKUP(D1626,'2020'!$A$16:$G$150,3,FALSE)","v":"Fam. Leiggener"},{"$f":"VLOOKUP(D1626,'2020'!$A$16:$G$150,2,FALSE)","v":"Rebell"},29,3,{"$f":"VLOOKUP(E1626,'2020'!$A$16:$G$150,2,FALSE)","v":"Priska"},{"$f":"VLOOKUP(E1626,'2020'!$A$16:$G$150,3,FALSE)","v":"Bayard Medard + Gustav"}]
["2020-06-14",{"$f":"VLOOKUP(D1627,'2020'!$A$16:$G$150,3,FALSE)","v":"Wyssen Diego u. Madlen"},{"$f":"VLOOKUP(D1627,'2020'!$A$16:$G$150,2,FALSE)","v":"Xandria"},101,75,{"$f":"VLOOKUP(E1627,'2020'!$A$16:$G$150,2,FALSE)","v":"Bonita"},{"$f":"VLOOKUP(E1627,'2020'!$A$16:$G$150,3,FALSE)","v":"Mathieu Leander + S."}]
["2020-06-14",{"$f":"VLOOKUP(D1628,'2020'!$A$16:$G$150,3,FALSE)","v":"Mathieu Leander + S."},{"$f":"VLOOKUP(D1628,'2020'!$A$16:$G$150,2,FALSE)","v":"Bonita"},75,102,{"$f":"VLOOKUP(E1628,'2020'!$A$16:$G$150,2,FALSE)","v":"Rasta"},{"$f":"VLOOKUP(E1628,'2020'!$A$16:$G$150,3,FALSE)","v":"Wyssen Diego u. Madlen"}]
["2020-06-14",{"$f":"VLOOKUP(D1629,'2020'!$A$16:$G$150,3,FALSE)","v":"Stallung Passeraub "},{"$f":"VLOOKUP(D1629,'2020'!$A$16:$G$150,2,FALSE)","v":"Manou"},80,96,{"$f":"VLOOKUP(E1629,'2020'!$A$16:$G$150,2,FALSE)","v":"Tigra"},{"$f":"VLOOKUP(E1629,'2020'!$A$16:$G$150,3,FALSE)","v":"Williner Anton"}]
["2020-06-14",{"$f":"VLOOKUP(D1630,'2020'!$A$16:$G$150,3,FALSE)","v":"Williner Anton"},{"$f":"VLOOKUP(D1630,'2020'!$A$16:$G$150,2,FALSE)","v":"Vivana"},95,78,{"$f":"VLOOKUP(E1630,'2020'!$A$16:$G$150,2,FALSE)","v":"Ballerine"},{"$f":"VLOOKUP(E1630,'2020'!$A$16:$G$150,3,FALSE)","v":"Stallung Passeraub"}]
["2020-06-14",{"$f":"VLOOKUP(D1631,'2020'!$A$16:$G$150,3,FALSE)","v":"Stallung Passeraub "},{"$f":"VLOOKUP(D1631,'2020'!$A$16:$G$150,2,FALSE)","v":"Manou"},80,95,{"$f":"VLOOKUP(E1631,'2020'!$A$16:$G$150,2,FALSE)","v":"Vivana"},{"$f":"VLOOKUP(E1631,'2020'!$A$16:$G$150,3,FALSE)","v":"Williner Anton"}]
["2020-06-14",{"$f":"VLOOKUP(D1632,'2020'!$A$16:$G$150,3,FALSE)","v":"Zumofen / Gattlen"},{"$f":"VLOOKUP(D1632,'2020'!$A$16:$G$150,2,FALSE)","v":"Violin"},107,10,{"$f":"VLOOKUP(E1632,'2020'!$A$16:$G$150,2,FALSE)","v":"Diabolo"},{"$f":"VLOOKUP(E1632,'2020'!$A$16:$G$150,3,FALSE)","v":"Bregy Ralf + Adolf"}]
["2020-06-14",{"$f":"VLOOKUP(D1633,'2020'!$A$16:$G$150,3,FALSE)","v":"Williner Anton"},{"$f":"VLOOKUP(D1633,'2020'!$A$16:$G$150,2,FALSE)","v":"Vivana"},95,119,{"$f":"VLOOKUP(E1633,'2020'!$A$16:$G$150,2,FALSE)","v":"Fayola"},{"$f":"VLOOKUP(E1633,'2020'!$A$16:$G$150,3,FALSE)","v":"Zumofen / Gattlen"}]
["2020-06-14",{"$f":"VLOOKUP(D1634,'2020'!$A$16:$G$150,3,FALSE)","v":"Jäger Carlo"},{"$f":"VLOOKUP(D1634,'2020'!$A$16:$G$150,2,FALSE)","v":"Pivoine"},68,109,{"$f":"VLOOKUP(E1634,'2020'!$A$16:$G$150,2,FALSE)","v":"Rena"},{"$f":"VLOOKUP(E1634,'2020'!$A$16:$G$150,3,FALSE)","v":"Zumofen / Gattlen"}]
["2020-06-14",{"$f":"VLOOKUP(D1635,'2020'!$A$16:$G$150,3,FALSE)","v":"Tscherry E. + B."},{"$f":"VLOOKUP(D1635,'2020'!$A$16:$G$150,2,FALSE)","v":"Cobra"},94,77,{"$f":"VLOOKUP(E1635,'2020'!$A$16:$G$150,2,FALSE)","v":"Beres"},{"$f":"VLOOKUP(E1635,'2020'!$A$16:$G$150,3,FALSE)","v":"Stallung Passeraub"}]
["2020-06-14",{"$f":"VLOOKUP(D1636,'2020'!$A$16:$G$150,3,FALSE)","v":"Williner Anton"},{"$f":"VLOOKUP(D1636,'2020'!$A$16:$G$150,2,FALSE)","v":"Tira"},100,88,{"$f":"VLOOKUP(E1636,'2020'!$A$16:$G$150,2,FALSE)","v":"Malice"},{"$f":"VLOOKUP(E1636,'2020'!$A$16:$G$150,3,FALSE)","v":"Sewer R. + Thommen S."}]
["2020-06-14",{"$f":"VLOOKUP(D1637,'2020'!$A$16:$G$150,3,FALSE)","v":"Gebr. Jäger"},{"$f":"VLOOKUP(D1637,'2020'!$A$16:$G$150,2,FALSE)","v":"Tiara"},47,115,{"$f":"VLOOKUP(E1637,'2020'!$A$16:$G$150,2,FALSE)","v":"Pepitta"},{"$f":"VLOOKUP(E1637,'2020'!$A$16:$G$150,3,FALSE)","v":"Zumofen / Gattlen"}]
["2020-06-14",{"$f":"VLOOKUP(D1638,'2020'!$A$16:$G$150,3,FALSE)","v":"Fam. Leiggener"},{"$f":"VLOOKUP(D1638,'2020'!$A$16:$G$150,2,FALSE)","v":"Rebell"},29,3,{"$f":"VLOOKUP(E1638,'2020'!$A$16:$G$150,2,FALSE)","v":"Priska"},{"$f":"VLOOKUP(E1638,'2020'!$A$16:$G$150,3,FALSE)","v":"Bayard Medard + Gustav"}]
["2020-06-14",{"$f":"VLOOKUP(D1639,'2020'!$A$16:$G$150,3,FALSE)","v":"Bregy Ralf + Adolf"},{"$f":"VLOOKUP(D1639,'2020'!$A$16:$G$150,2,FALSE)","v":"Cashida"},15,26,{"$f":"VLOOKUP(E1639,'2020'!$A$16:$G$150,2,FALSE)","v":"Cataleya"},{"$f":"VLOOKUP(E1639,'2020'!$A$16:$G$150,3,FALSE)","v":"Bregy Uli + Pascal"}]
["2020-06-14",{"$f":"VLOOKUP(D1640,'2020'!$A$16:$G$150,3,FALSE)","v":"Fam. Leiggener"},{"$f":"VLOOKUP(D1640,'2020'!$A$16:$G$150,2,FALSE)","v":"Bulle"},30,88,{"$f":"VLOOKUP(E1640,'2020'!$A$16:$G$150,2,FALSE)","v":"Malice"},{"$f":"VLOOKUP(E1640,'2020'!$A$16:$G$150,3,FALSE)","v":"Sewer R. + Thommen S."}]
["2020-06-14",{"$f":"VLOOKUP(D1641,'2020'!$A$16:$G$150,3,FALSE)","v":"Zumofen / Gattlen"},{"$f":"VLOOKUP(D1641,'2020'!$A$16:$G$150,2,FALSE)","v":"Vesuv"},118,76,{"$f":"VLOOKUP(E1641,'2020'!$A$16:$G$150,2,FALSE)","v":"Babylon"},{"$f":"VLOOKUP(E1641,'2020'!$A$16:$G$150,3,FALSE)","v":"Mathieu Leander + S."}]
["2020-06-14",{"$f":"VLOOKUP(D1642,'2020'!$A$16:$G$150,3,FALSE)","v":"Mathieu Leander + S."},{"$f":"VLOOKUP(D1642,'2020'!$A$16:$G$150,2,FALSE)","v":"Bonita"},75,102,{"$f":"VLOOKUP(E1642,'2020'!$A$16:$G$150,2,FALSE)","v":"Rasta"},{"$f":"VLOOKUP(E1642,'2020'!$A$16:$G$150,3,FALSE)","v":"Wyssen Diego u. Madlen"}]
["2020-06-14",{"$f":"VLOOKUP(D1643,'2020'!$A$16:$G$150,3,FALSE)","v":"Stallung Passeraub "},{"$f":"VLOOKUP(D1643,'2020'!$A$16:$G$150,2,FALSE)","v":"Manou"},80,93,{"$f":"VLOOKUP(E1643,'2020'!$A$16:$G$150,2,FALSE)","v":"Carolin"},{"$f":"VLOOKUP(E1643,'2020'!$A$16:$G$150,3,FALSE)","v":"Tscherry E. + B."}]
["2020-06-14",{"$f":"VLOOKUP(D1644,'2020'!$A$16:$G$150,3,FALSE)","v":"Williner Anton"},{"$f":"VLOOKUP(D1644,'2020'!$A$16:$G$150,2,FALSE)","v":"Vanessa"},97,78,{"$f":"VLOOKUP(E1644,'2020'!$A$16:$G$150,2,FALSE)","v":"Ballerine"},{"$f":"VLOOKUP(E1644,'2020'!$A$16:$G$150,3,FALSE)","v":"Stallung Passeraub"}]
["2020-06-14",{"$f":"VLOOKUP(D1645,'2020'!$A$16:$G$150,3,FALSE)","v":"Zumofen / Gattlen"},{"$f":"VLOOKUP(D1645,'2020'!$A$16:$G$150,2,FALSE)","v":"Vesuv"},118,77,{"$f":"VLOOKUP(E1645,'2020'!$A$16:$G$150,2,FALSE)","v":"Beres"},{"$f":"VLOOKUP(E1645,'2020'!$A$16:$G$150,3,FALSE)","v":"Stallung Passeraub"}]
["2020-06-14",{"$f":"VLOOKUP(D1646,'2020'!$A$16:$G$150,3,FALSE)","v":"Fam. Leiggener"},{"$f":"VLOOKUP(D1646,'2020'!$A$16:$G$150,2,FALSE)","v":"Baron"},31,86,{"$f":"VLOOKUP(E1646,'2020'!$A$16:$G$150,2,FALSE)","v":"Babylon"},{"$f":"VLOOKUP(E1646,'2020'!$A$16:$G$150,3,FALSE)","v":"Stallung zum Stäg"}]
["2020-06-14",{"$f":"VLOOKUP(D1647,'2020'!$A$16:$G$150,3,FALSE)","v":"Mathieu Leander + S."},{"$f":"VLOOKUP(D1647,'2020'!$A$16:$G$150,2,FALSE)","v":"Babylon"},76,86,{"$f":"VLOOKUP(E1647,'2020'!$A$16:$G$150,2,FALSE)","v":"Babylon"},{"$f":"VLOOKUP(E1647,'2020'!$A$16:$G$150,3,FALSE)","v":"Stallung zum Stäg"}]
["2020-06-14",{"$f":"VLOOKUP(D1648,'2020'!$A$16:$G$150,3,FALSE)","v":"Sewer R. + Thommen S."},{"$f":"VLOOKUP(D1648,'2020'!$A$16:$G$150,2,FALSE)","v":"Malice"},88,94,{"$f":"VLOOKUP(E1648,'2020'!$A$16:$G$150,2,FALSE)","v":"Cobra"},{"$f":"VLOOKUP(E1648,'2020'!$A$16:$G$150,3,FALSE)","v":"Tscherry E. + B."}]
["2020-06-14",{"$f":"VLOOKUP(D1649,'2020'!$A$16:$G$150,3,FALSE)","v":"Sewer R. + Thommen S."},{"$f":"VLOOKUP(D1649,'2020'!$A$16:$G$150,2,FALSE)","v":"Malice"},88,93,{"$f":"VLOOKUP(E1649,'2020'!$A$16:$G$150,2,FALSE)","v":"Carolin"},{"$f":"VLOOKUP(E1649,'2020'!$A$16:$G$150,3,FALSE)","v":"Tscherry E. + B."}]
["2020-06-14",{"$f":"VLOOKUP(D1650,'2020'!$A$16:$G$150,3,FALSE)","v":"Bayard Medard + Gustav"},{"$f":"VLOOKUP(D1650,'2020'!$A$16:$G$150,2,FALSE)","v":"Pandera"},5,62,{"$f":"VLOOKUP(E1650,'2020'!$A$16:$G$150,2,FALSE)","v":"Candice"},{"$f":"VLOOKUP(E1650,'2020'!$A$16:$G$150,3,FALSE)","v":"Jäger Carlo"}]
["2020-06-14",{"$f":"VLOOKUP(D1651,'2020'!$A$16:$G$150,3,FALSE)","v":"Bregy Ralf + Adolf"},{"$f":"VLOOKUP(D1651,'2020'!$A$16:$G$150,2,FALSE)","v":"Carcas"},11,86,{"$f":"VLOOKUP(E1651,'2020'!$A$16:$G$150,2,FALSE)","v":"Babylon"},{"$f":"VLOOKUP(E1651,'2020'!$A$16:$G$150,3,FALSE)","v":"Stallung zum Stäg"}]
["2020-06-14",{"$f":"VLOOKUP(D1652,'2020'!$A$16:$G$150,3,FALSE)","v":"Bregy Ralf + Adolf"},{"$f":"VLOOKUP(D1652,'2020'!$A$16:$G$150,2,FALSE)","v":"Carcas"},11,87,{"$f":"VLOOKUP(E1652,'2020'!$A$16:$G$150,2,FALSE)","v":"Benika"},{"$f":"VLOOKUP(E1652,'2020'!$A$16:$G$150,3,FALSE)","v":"Stallung zum Stäg"}]
["2020-06-14",{"$f":"VLOOKUP(D1653,'2020'!$A$16:$G$150,3,FALSE)","v":"Sewer R. + Thommen S."},{"$f":"VLOOKUP(D1653,'2020'!$A$16:$G$150,2,FALSE)","v":"Biscot"},90,80,{"$f":"VLOOKUP(E1653,'2020'!$A$16:$G$150,2,FALSE)","v":"Manou"},{"$f":"VLOOKUP(E1653,'2020'!$A$16:$G$150,3,FALSE)","v":"Stallung Passeraub "}]
["2020-06-14",{"$f":"VLOOKUP(D1654,'2020'!$A$16:$G$150,3,FALSE)","v":"Jäger Carlo"},{"$f":"VLOOKUP(D1654,'2020'!$A$16:$G$150,2,FALSE)","v":"Sera"},64,11,{"$f":"VLOOKUP(E1654,'2020'!$A$16:$G$150,2,FALSE)","v":"Carcas"},{"$f":"VLOOKUP(E1654,'2020'!$A$16:$G$150,3,FALSE)","v":"Bregy Ralf + Adolf"}]
["2020-06-14",{"$f":"VLOOKUP(D1655,'2020'!$A$16:$G$150,3,FALSE)","v":"Jäger Carlo"},{"$f":"VLOOKUP(D1655,'2020'!$A$16:$G$150,2,FALSE)","v":"Bataille"},58,86,{"$f":"VLOOKUP(E1655,'2020'!$A$16:$G$150,2,FALSE)","v":"Babylon"},{"$f":"VLOOKUP(E1655,'2020'!$A$16:$G$150,3,FALSE)","v":"Stallung zum Stäg"}]
["2020-06-14",{"$f":"VLOOKUP(D1656,'2020'!$A$16:$G$150,3,FALSE)","v":"Bayard Medard + Gustav"},{"$f":"VLOOKUP(D1656,'2020'!$A$16:$G$150,2,FALSE)","v":"Pandera"},5,71,{"$f":"VLOOKUP(E1656,'2020'!$A$16:$G$150,2,FALSE)","v":"Baghira"},{"$f":"VLOOKUP(E1656,'2020'!$A$16:$G$150,3,FALSE)","v":"Mathieu Leander + S."}]
["2020-06-14",{"$f":"VLOOKUP(D1657,'2020'!$A$16:$G$150,3,FALSE)","v":"Bregy Ralf + Adolf"},{"$f":"VLOOKUP(D1657,'2020'!$A$16:$G$150,2,FALSE)","v":"Carcas"},11,56,{"$f":"VLOOKUP(E1657,'2020'!$A$16:$G$150,2,FALSE)","v":"Shakira"},{"$f":"VLOOKUP(E1657,'2020'!$A$16:$G$150,3,FALSE)","v":"Hischier Pius"}]
["2020-06-14",{"$f":"VLOOKUP(D1658,'2020'!$A$16:$G$150,3,FALSE)","v":"Bregy Ralf + Adolf"},{"$f":"VLOOKUP(D1658,'2020'!$A$16:$G$150,2,FALSE)","v":"Carcas"},11,61,{"$f":"VLOOKUP(E1658,'2020'!$A$16:$G$150,2,FALSE)","v":"Grolla"},{"$f":"VLOOKUP(E1658,'2020'!$A$16:$G$150,3,FALSE)","v":"Jäger Carlo"}]
["2020-06-14",{"$f":"VLOOKUP(D1659,'2020'!$A$16:$G$150,3,FALSE)","v":"Mathieu Leander + S."},{"$f":"VLOOKUP(D1659,'2020'!$A$16:$G$150,2,FALSE)","v":"Baghira"},71,60,{"$f":"VLOOKUP(E1659,'2020'!$A$16:$G$150,2,FALSE)","v":"Bayonne"},{"$f":"VLOOKUP(E1659,'2020'!$A$16:$G$150,3,FALSE)","v":"Jäger Carlo"}]
["2020-06-14",{"$f":"VLOOKUP(D1660,'2020'!$A$16:$G$150,3,FALSE)","v":"Bayard Medard + Gustav"},{"$f":"VLOOKUP(D1660,'2020'!$A$16:$G$150,2,FALSE)","v":"Venus"},6,77,{"$f":"VLOOKUP(E1660,'2020'!$A$16:$G$150,2,FALSE)","v":"Beres"},{"$f":"VLOOKUP(E1660,'2020'!$A$16:$G$150,3,FALSE)","v":"Stallung Passeraub"}]
["2020-06-14",{"$f":"VLOOKUP(D1661,'2020'!$A$16:$G$150,3,FALSE)","v":"Williner Anton"},{"$f":"VLOOKUP(D1661,'2020'!$A$16:$G$150,2,FALSE)","v":"Colonell"},98,30,{"$f":"VLOOKUP(E1661,'2020'!$A$16:$G$150,2,FALSE)","v":"Bulle"},{"$f":"VLOOKUP(E1661,'2020'!$A$16:$G$150,3,FALSE)","v":"Fam. Leiggener"}]
["2020-06-14",{"$f":"VLOOKUP(D1662,'2020'!$A$16:$G$150,3,FALSE)","v":"Gebr. Jäger"},{"$f":"VLOOKUP(D1662,'2020'!$A$16:$G$150,2,FALSE)","v":"Lorens"},46,83,{"$f":"VLOOKUP(E1662,'2020'!$A$16:$G$150,2,FALSE)","v":"Lijuba"},{"$f":"VLOOKUP(E1662,'2020'!$A$16:$G$150,3,FALSE)","v":"Amacker Joelle u. Sven"}]
["2020-06-14",{"$f":"VLOOKUP(D1663,'2020'!$A$16:$G$150,3,FALSE)","v":"Fam. Leiggener"},{"$f":"VLOOKUP(D1663,'2020'!$A$16:$G$150,2,FALSE)","v":"Rebell"},29,67,{"$f":"VLOOKUP(E1663,'2020'!$A$16:$G$150,2,FALSE)","v":"Micabol"},{"$f":"VLOOKUP(E1663,'2020'!$A$16:$G$150,3,FALSE)","v":"Jäger Carlo"}]
["2020-06-14",{"$f":"VLOOKUP(D1664,'2020'!$A$16:$G$150,3,FALSE)","v":"Tscherry E. + B."},{"$f":"VLOOKUP(D1664,'2020'!$A$16:$G$150,2,FALSE)","v":"Carolin"},93,44,{"$f":"VLOOKUP(E1664,'2020'!$A$16:$G$150,2,FALSE)","v":"Dorina"},{"$f":"VLOOKUP(E1664,'2020'!$A$16:$G$150,3,FALSE)","v":"Gebr. Jäger"}]
["2020-06-14",{"$f":"VLOOKUP(D1665,'2020'!$A$16:$G$150,3,FALSE)","v":"Jäger Carlo"},{"$f":"VLOOKUP(D1665,'2020'!$A$16:$G$150,2,FALSE)","v":"Megane"},65,115,{"$f":"VLOOKUP(E1665,'2020'!$A$16:$G$150,2,FALSE)","v":"Pepitta"},{"$f":"VLOOKUP(E1665,'2020'!$A$16:$G$150,3,FALSE)","v":"Zumofen / Gattlen"}]
["2020-06-14",{"$f":"VLOOKUP(D1666,'2020'!$A$16:$G$150,3,FALSE)","v":"Tscherry E. + B."},{"$f":"VLOOKUP(D1666,'2020'!$A$16:$G$150,2,FALSE)","v":"Carolin"},93,47,{"$f":"VLOOKUP(E1666,'2020'!$A$16:$G$150,2,FALSE)","v":"Tiara"},{"$f":"VLOOKUP(E1666,'2020'!$A$16:$G$150,3,FALSE)","v":"Gebr. Jäger"}]
["2020-06-14",{"$f":"VLOOKUP(D1667,'2020'!$A$16:$G$150,3,FALSE)","v":"Hischier Pius"},{"$f":"VLOOKUP(D1667,'2020'!$A$16:$G$150,2,FALSE)","v":"Pelila"},55,82,{"$f":"VLOOKUP(E1667,'2020'!$A$16:$G$150,2,FALSE)","v":"Bonita"},{"$f":"VLOOKUP(E1667,'2020'!$A$16:$G$150,3,FALSE)","v":"Stallung Passeraub "}]
["2020-06-14",{"$f":"VLOOKUP(D1668,'2020'!$A$16:$G$150,3,FALSE)","v":"Fux W., J., + Wyer Piet"},{"$f":"VLOOKUP(D1668,'2020'!$A$16:$G$150,2,FALSE)","v":"Calmy"},36,86,{"$f":"VLOOKUP(E1668,'2020'!$A$16:$G$150,2,FALSE)","v":"Babylon"},{"$f":"VLOOKUP(E1668,'2020'!$A$16:$G$150,3,FALSE)","v":"Stallung zum Stäg"}]
["2020-06-14",{"$f":"VLOOKUP(D1669,'2020'!$A$16:$G$150,3,FALSE)","v":"Gebr. Jäger"},{"$f":"VLOOKUP(D1669,'2020'!$A$16:$G$150,2,FALSE)","v":"Simba"},48,64,{"$f":"VLOOKUP(E1669,'2020'!$A$16:$G$150,2,FALSE)","v":"Sera"},{"$f":"VLOOKUP(E1669,'2020'!$A$16:$G$150,3,FALSE)","v":"Jäger Carlo"}]
["2020-06-14",{"$f":"VLOOKUP(D1670,'2020'!$A$16:$G$150,3,FALSE)","v":"Bregy Ralf + Adolf"},{"$f":"VLOOKUP(D1670,'2020'!$A$16:$G$150,2,FALSE)","v":"Cashida"},15,3,{"$f":"VLOOKUP(E1670,'2020'!$A$16:$G$150,2,FALSE)","v":"Priska"},{"$f":"VLOOKUP(E1670,'2020'!$A$16:$G$150,3,FALSE)","v":"Bayard Medard + Gustav"}]
["2020-06-14",{"$f":"VLOOKUP(D1671,'2020'!$A$16:$G$150,3,FALSE)","v":"Fux W., J., + Wyer Piet"},{"$f":"VLOOKUP(D1671,'2020'!$A$16:$G$150,2,FALSE)","v":"Bacardi"},39,60,{"$f":"VLOOKUP(E1671,'2020'!$A$16:$G$150,2,FALSE)","v":"Bayonne"},{"$f":"VLOOKUP(E1671,'2020'!$A$16:$G$150,3,FALSE)","v":"Jäger Carlo"}]
["2020-06-14",{"$f":"VLOOKUP(D1672,'2020'!$A$16:$G$150,3,FALSE)","v":"Bregy Uli + Pascal"},{"$f":"VLOOKUP(D1672,'2020'!$A$16:$G$150,2,FALSE)","v":"Caline"},20,10,{"$f":"VLOOKUP(E1672,'2020'!$A$16:$G$150,2,FALSE)","v":"Diabolo"},{"$f":"VLOOKUP(E1672,'2020'!$A$16:$G$150,3,FALSE)","v":"Bregy Ralf + Adolf"}]
["2020-06-14",{"$f":"VLOOKUP(D1673,'2020'!$A$16:$G$150,3,FALSE)","v":"Bregy Ralf + Adolf"},{"$f":"VLOOKUP(D1673,'2020'!$A$16:$G$150,2,FALSE)","v":"Canabis"},14,65,{"$f":"VLOOKUP(E1673,'2020'!$A$16:$G$150,2,FALSE)","v":"Megane"},{"$f":"VLOOKUP(E1673,'2020'!$A$16:$G$150,3,FALSE)","v":"Jäger Carlo"}]
["2020-06-14",{"$f":"VLOOKUP(D1674,'2020'!$A$16:$G$150,3,FALSE)","v":"Jäger Carlo"},{"$f":"VLOOKUP(D1674,'2020'!$A$16:$G$150,2,FALSE)","v":"Pivoine"},68,103,{"$f":"VLOOKUP(E1674,'2020'!$A$16:$G$150,2,FALSE)","v":"Roxana"},{"$f":"VLOOKUP(E1674,'2020'!$A$16:$G$150,3,FALSE)","v":"Wyssen Diego u. Madlen"}]
["2020-06-14",{"$f":"VLOOKUP(D1675,'2020'!$A$16:$G$150,3,FALSE)","v":"Bayard Medard + Gustav"},{"$f":"VLOOKUP(D1675,'2020'!$A$16:$G$150,2,FALSE)","v":"Pandera"},5,30,{"$f":"VLOOKUP(E1675,'2020'!$A$16:$G$150,2,FALSE)","v":"Bulle"},{"$f":"VLOOKUP(E1675,'2020'!$A$16:$G$150,3,FALSE)","v":"Fam. Leiggener"}]
["2020-06-14",{"$f":"VLOOKUP(D1676,'2020'!$A$16:$G$150,3,FALSE)","v":"Jäger Carlo"},{"$f":"VLOOKUP(D1676,'2020'!$A$16:$G$150,2,FALSE)","v":"Maila"},59,52,{"$f":"VLOOKUP(E1676,'2020'!$A$16:$G$150,2,FALSE)","v":"Lenja"},{"$f":"VLOOKUP(E1676,'2020'!$A$16:$G$150,3,FALSE)","v":"Hischier H. + Bühlmann J."}]
["2020-06-14",{"$f":"VLOOKUP(D1677,'2020'!$A$16:$G$150,3,FALSE)","v":"Jäger Carlo"},{"$f":"VLOOKUP(D1677,'2020'!$A$16:$G$150,2,FALSE)","v":"Candice"},62,50,{"$f":"VLOOKUP(E1677,'2020'!$A$16:$G$150,2,FALSE)","v":"Tanja"},{"$f":"VLOOKUP(E1677,'2020'!$A$16:$G$150,3,FALSE)","v":"Gebr. Jäger"}]
["2020-06-14",{"$f":"VLOOKUP(D1678,'2020'!$A$16:$G$150,3,FALSE)","v":"Hischier Pius"},{"$f":"VLOOKUP(D1678,'2020'!$A$16:$G$150,2,FALSE)","v":"Shakira"},56,57,{"$f":"VLOOKUP(E1678,'2020'!$A$16:$G$150,2,FALSE)","v":"Promise"},{"$f":"VLOOKUP(E1678,'2020'!$A$16:$G$150,3,FALSE)","v":"Jäger Carlo"}]
["2020-06-14",{"$f":"VLOOKUP(D1679,'2020'!$A$16:$G$150,3,FALSE)","v":"Stallung Passeraub "},{"$f":"VLOOKUP(D1679,'2020'!$A$16:$G$150,2,FALSE)","v":"Manou"},80,56,{"$f":"VLOOKUP(E1679,'2020'!$A$16:$G$150,2,FALSE)","v":"Shakira"},{"$f":"VLOOKUP(E1679,'2020'!$A$16:$G$150,3,FALSE)","v":"Hischier Pius"}]
["2020-06-14",{"$f":"VLOOKUP(D1680,'2020'!$A$16:$G$150,3,FALSE)","v":"Gebr. Jäger"},{"$f":"VLOOKUP(D1680,'2020'!$A$16:$G$150,2,FALSE)","v":"Dorina"},44,61,{"$f":"VLOOKUP(E1680,'2020'!$A$16:$G$150,2,FALSE)","v":"Grolla"},{"$f":"VLOOKUP(E1680,'2020'!$A$16:$G$150,3,FALSE)","v":"Jäger Carlo"}]
["2020-06-14",{"$f":"VLOOKUP(D1681,'2020'!$A$16:$G$150,3,FALSE)","v":"Jäger Carlo"},{"$f":"VLOOKUP(D1681,'2020'!$A$16:$G$150,2,FALSE)","v":"Promise"},57,10,{"$f":"VLOOKUP(E1681,'2020'!$A$16:$G$150,2,FALSE)","v":"Diabolo"},{"$f":"VLOOKUP(E1681,'2020'!$A$16:$G$150,3,FALSE)","v":"Bregy Ralf + Adolf"}]
["2020-06-14",{"$f":"VLOOKUP(D1682,'2020'!$A$16:$G$150,3,FALSE)","v":"Bregy Ralf + Adolf"},{"$f":"VLOOKUP(D1682,'2020'!$A$16:$G$150,2,FALSE)","v":"Canabis"},14,25,{"$f":"VLOOKUP(E1682,'2020'!$A$16:$G$150,2,FALSE)","v":"Calette"},{"$f":"VLOOKUP(E1682,'2020'!$A$16:$G$150,3,FALSE)","v":"Bregy Uli + Pascal"}]
["2020-06-14",{"$f":"VLOOKUP(D1683,'2020'!$A$16:$G$150,3,FALSE)","v":"Bayard Medard + Gustav"},{"$f":"VLOOKUP(D1683,'2020'!$A$16:$G$150,2,FALSE)","v":"Vampir"},4,50,{"$f":"VLOOKUP(E1683,'2020'!$A$16:$G$150,2,FALSE)","v":"Tanja"},{"$f":"VLOOKUP(E1683,'2020'!$A$16:$G$150,3,FALSE)","v":"Gebr. Jäger"}]
["2020-06-14",{"$f":"VLOOKUP(D1684,'2020'!$A$16:$G$150,3,FALSE)","v":"Stallung Passeraub"},{"$f":"VLOOKUP(D1684,'2020'!$A$16:$G$150,2,FALSE)","v":"Bobino"},85,40,{"$f":"VLOOKUP(E1684,'2020'!$A$16:$G$150,2,FALSE)","v":"Toscana"},{"$f":"VLOOKUP(E1684,'2020'!$A$16:$G$150,3,FALSE)","v":"Fux W., J., + Wyer Piet"}]
["2020-06-14",{"$f":"VLOOKUP(D1685,'2020'!$A$16:$G$150,3,FALSE)","v":"Bregy Uli + Pascal"},{"$f":"VLOOKUP(D1685,'2020'!$A$16:$G$150,2,FALSE)","v":"Catalina"},24,15,{"$f":"VLOOKUP(E1685,'2020'!$A$16:$G$150,2,FALSE)","v":"Cashida"},{"$f":"VLOOKUP(E1685,'2020'!$A$16:$G$150,3,FALSE)","v":"Bregy Ralf + Adolf"}]
["2020-06-14",{"$f":"VLOOKUP(D1686,'2020'!$A$16:$G$150,3,FALSE)","v":"Hischier H. + Bühlmann J."},{"$f":"VLOOKUP(D1686,'2020'!$A$16:$G$150,2,FALSE)","v":"Lenja"},52,32,{"$f":"VLOOKUP(E1686,'2020'!$A$16:$G$150,2,FALSE)","v":"Mira"},{"$f":"VLOOKUP(E1686,'2020'!$A$16:$G$150,3,FALSE)","v":"Fam. Leiggener"}]
["2020-06-14",{"$f":"VLOOKUP(D1687,'2020'!$A$16:$G$150,3,FALSE)","v":"Stallung zum Stäg"},{"$f":"VLOOKUP(D1687,'2020'!$A$16:$G$150,2,FALSE)","v":"Babylon"},86,65,{"$f":"VLOOKUP(E1687,'2020'!$A$16:$G$150,2,FALSE)","v":"Megane"},{"$f":"VLOOKUP(E1687,'2020'!$A$16:$G$150,3,FALSE)","v":"Jäger Carlo"}]
["2020-06-14",{"$f":"VLOOKUP(D1688,'2020'!$A$16:$G$150,3,FALSE)","v":"Stallung zum Stäg"},{"$f":"VLOOKUP(D1688,'2020'!$A$16:$G$150,2,FALSE)","v":"Benika"},87,27,{"$f":"VLOOKUP(E1688,'2020'!$A$16:$G$150,2,FALSE)","v":"Murphy"},{"$f":"VLOOKUP(E1688,'2020'!$A$16:$G$150,3,FALSE)","v":"Bregy Uli + Pascal"}]
["2020-06-14",{"$f":"VLOOKUP(D1689,'2020'!$A$16:$G$150,3,FALSE)","v":"Jäger Carlo"},{"$f":"VLOOKUP(D1689,'2020'!$A$16:$G$150,2,FALSE)","v":"Metis"},66,72,{"$f":"VLOOKUP(E1689,'2020'!$A$16:$G$150,2,FALSE)","v":"Baronesse"},{"$f":"VLOOKUP(E1689,'2020'!$A$16:$G$150,3,FALSE)","v":"Mathieu Leander + S."}]
["2020-06-14",{"$f":"VLOOKUP(D1690,'2020'!$A$16:$G$150,3,FALSE)","v":"Amacker Joelle u. Sven"},{"$f":"VLOOKUP(D1690,'2020'!$A$16:$G$150,2,FALSE)","v":"Lijuba"},83,103,{"$f":"VLOOKUP(E1690,'2020'!$A$16:$G$150,2,FALSE)","v":"Roxana"},{"$f":"VLOOKUP(E1690,'2020'!$A$16:$G$150,3,FALSE)","v":"Wyssen Diego u. Madlen"}]
["2020-06-14",{"$f":"VLOOKUP(D1691,'2020'!$A$16:$G$150,3,FALSE)","v":"Stallung zum Stäg"},{"$f":"VLOOKUP(D1691,'2020'!$A$16:$G$150,2,FALSE)","v":"Benika"},87,69,{"$f":"VLOOKUP(E1691,'2020'!$A$16:$G$150,2,FALSE)","v":"Taverne"},{"$f":"VLOOKUP(E1691,'2020'!$A$16:$G$150,3,FALSE)","v":"Jäger Carlo"}]
["2020-06-14",{"$f":"VLOOKUP(D1692,'2020'!$A$16:$G$150,3,FALSE)","v":"Bregy Ralf + Adolf"},{"$f":"VLOOKUP(D1692,'2020'!$A$16:$G$150,2,FALSE)","v":"Cashida"},15,19,{"$f":"VLOOKUP(E1692,'2020'!$A$16:$G$150,2,FALSE)","v":"Tiranie"},{"$f":"VLOOKUP(E1692,'2020'!$A$16:$G$150,3,FALSE)","v":"Bregy Uli + Pascal"}]
["2020-06-14",{"$f":"VLOOKUP(D1693,'2020'!$A$16:$G$150,3,FALSE)","v":"Jäger Carlo"},{"$f":"VLOOKUP(D1693,'2020'!$A$16:$G$150,2,FALSE)","v":"Taverne"},69,27,{"$f":"VLOOKUP(E1693,'2020'!$A$16:$G$150,2,FALSE)","v":"Murphy"},{"$f":"VLOOKUP(E1693,'2020'!$A$16:$G$150,3,FALSE)","v":"Bregy Uli + Pascal"}]
["2020-06-14",{"$f":"VLOOKUP(D1694,'2020'!$A$16:$G$150,3,FALSE)","v":"Stallung zum Stäg"},{"$f":"VLOOKUP(D1694,'2020'!$A$16:$G$150,2,FALSE)","v":"Babylon"},86,79,{"$f":"VLOOKUP(E1694,'2020'!$A$16:$G$150,2,FALSE)","v":"Marla"},{"$f":"VLOOKUP(E1694,'2020'!$A$16:$G$150,3,FALSE)","v":"Stallung Passeraub "}]
["2020-06-14",{"$f":"VLOOKUP(D1695,'2020'!$A$16:$G$150,3,FALSE)","v":"Bayard Medard + Gustav"},{"$f":"VLOOKUP(D1695,'2020'!$A$16:$G$150,2,FALSE)","v":"Fantastic"},2,94,{"$f":"VLOOKUP(E1695,'2020'!$A$16:$G$150,2,FALSE)","v":"Cobra"},{"$f":"VLOOKUP(E1695,'2020'!$A$16:$G$150,3,FALSE)","v":"Tscherry E. + B."}]
["2020-06-14",{"$f":"VLOOKUP(D1696,'2020'!$A$16:$G$150,3,FALSE)","v":"Zumofen / Gattlen"},{"$f":"VLOOKUP(D1696,'2020'!$A$16:$G$150,2,FALSE)","v":"Rambo"},106,35,{"$f":"VLOOKUP(E1696,'2020'!$A$16:$G$150,2,FALSE)","v":"Valaisanne"},{"$f":"VLOOKUP(E1696,'2020'!$A$16:$G$150,3,FALSE)","v":"Fux W., J., + Wyer Piet"}]
["2020-06-14",{"$f":"VLOOKUP(D1697,'2020'!$A$16:$G$150,3,FALSE)","v":"Mathieu Leander + S."},{"$f":"VLOOKUP(D1697,'2020'!$A$16:$G$150,2,FALSE)","v":"Babylon"},76,68,{"$f":"VLOOKUP(E1697,'2020'!$A$16:$G$150,2,FALSE)","v":"Pivoine"},{"$f":"VLOOKUP(E1697,'2020'!$A$16:$G$150,3,FALSE)","v":"Jäger Carlo"}]
["2020-06-14",{"$f":"VLOOKUP(D1698,'2020'!$A$16:$G$150,3,FALSE)","v":"Bregy Silvan + Patrick"},{"$f":"VLOOKUP(D1698,'2020'!$A$16:$G$150,2,FALSE)","v":"Tequilla"},13,84,{"$f":"VLOOKUP(E1698,'2020'!$A$16:$G$150,2,FALSE)","v":"Fägär"},{"$f":"VLOOKUP(E1698,'2020'!$A$16:$G$150,3,FALSE)","v":"Hutter Richard"}]
["2020-06-14",{"$f":"VLOOKUP(D1699,'2020'!$A$16:$G$150,3,FALSE)","v":"Bayard Medard + Gustav"},{"$f":"VLOOKUP(D1699,'2020'!$A$16:$G$150,2,FALSE)","v":"Venus"},6,50,{"$f":"VLOOKUP(E1699,'2020'!$A$16:$G$150,2,FALSE)","v":"Tanja"},{"$f":"VLOOKUP(E1699,'2020'!$A$16:$G$150,3,FALSE)","v":"Gebr. Jäger"}]
["2020-06-14",{"$f":"VLOOKUP(D1700,'2020'!$A$16:$G$150,3,FALSE)","v":"Bregy Ralf + Adolf"},{"$f":"VLOOKUP(D1700,'2020'!$A$16:$G$150,2,FALSE)","v":"Cashida"},15,69,{"$f":"VLOOKUP(E1700,'2020'!$A$16:$G$150,2,FALSE)","v":"Taverne"},{"$f":"VLOOKUP(E1700,'2020'!$A$16:$G$150,3,FALSE)","v":"Jäger Carlo"}]
["2020-06-14",{"$f":"VLOOKUP(D1701,'2020'!$A$16:$G$150,3,FALSE)","v":"Stallung zum Stäg"},{"$f":"VLOOKUP(D1701,'2020'!$A$16:$G$150,2,FALSE)","v":"Babylon"},86,19,{"$f":"VLOOKUP(E1701,'2020'!$A$16:$G$150,2,FALSE)","v":"Tiranie"},{"$f":"VLOOKUP(E1701,'2020'!$A$16:$G$150,3,FALSE)","v":"Bregy Uli + Pascal"}]
["2020-06-14",{"$f":"VLOOKUP(D1702,'2020'!$A$16:$G$150,3,FALSE)","v":"Zumofen / Gattlen"},{"$f":"VLOOKUP(D1702,'2020'!$A$16:$G$150,2,FALSE)","v":"Xena"},110,102,{"$f":"VLOOKUP(E1702,'2020'!$A$16:$G$150,2,FALSE)","v":"Rasta"},{"$f":"VLOOKUP(E1702,'2020'!$A$16:$G$150,3,FALSE)","v":"Wyssen Diego u. Madlen"}]
["2020-06-14",{"$f":"VLOOKUP(D1703,'2020'!$A$16:$G$150,3,FALSE)","v":"Hischier Pius"},{"$f":"VLOOKUP(D1703,'2020'!$A$16:$G$150,2,FALSE)","v":"Shakira"},56,44,{"$f":"VLOOKUP(E1703,'2020'!$A$16:$G$150,2,FALSE)","v":"Dorina"},{"$f":"VLOOKUP(E1703,'2020'!$A$16:$G$150,3,FALSE)","v":"Gebr. Jäger"}]
["2020-06-14",{"$f":"VLOOKUP(D1704,'2020'!$A$16:$G$150,3,FALSE)","v":"Gebr. Jäger"},{"$f":"VLOOKUP(D1704,'2020'!$A$16:$G$150,2,FALSE)","v":"Lorens"},46,60,{"$f":"VLOOKUP(E1704,'2020'!$A$16:$G$150,2,FALSE)","v":"Bayonne"},{"$f":"VLOOKUP(E1704,'2020'!$A$16:$G$150,3,FALSE)","v":"Jäger Carlo"}]
["2020-06-14",{"$f":"VLOOKUP(D1705,'2020'!$A$16:$G$150,3,FALSE)","v":"Jäger Carlo"},{"$f":"VLOOKUP(D1705,'2020'!$A$16:$G$150,2,FALSE)","v":"Bataille"},58,71,{"$f":"VLOOKUP(E1705,'2020'!$A$16:$G$150,2,FALSE)","v":"Baghira"},{"$f":"VLOOKUP(E1705,'2020'!$A$16:$G$150,3,FALSE)","v":"Mathieu Leander + S."}]
["2020-06-14",{"$f":"VLOOKUP(D1706,'2020'!$A$16:$G$150,3,FALSE)","v":"Jäger Carlo"},{"$f":"VLOOKUP(D1706,'2020'!$A$16:$G$150,2,FALSE)","v":"Megane"},65,76,{"$f":"VLOOKUP(E1706,'2020'!$A$16:$G$150,2,FALSE)","v":"Babylon"},{"$f":"VLOOKUP(E1706,'2020'!$A$16:$G$150,3,FALSE)","v":"Mathieu Leander + S."}]
["2020-06-14",{"$f":"VLOOKUP(D1707,'2020'!$A$16:$G$150,3,FALSE)","v":"Stallung Passeraub"},{"$f":"VLOOKUP(D1707,'2020'!$A$16:$G$150,2,FALSE)","v":"Beres"},77,52,{"$f":"VLOOKUP(E1707,'2020'!$A$16:$G$150,2,FALSE)","v":"Lenja"},{"$f":"VLOOKUP(E1707,'2020'!$A$16:$G$150,3,FALSE)","v":"Hischier H. + Bühlmann J."}]
["2020-06-14",{"$f":"VLOOKUP(D1708,'2020'!$A$16:$G$150,3,FALSE)","v":"Tscherry E. + B."},{"$f":"VLOOKUP(D1708,'2020'!$A$16:$G$150,2,FALSE)","v":"Cobra"},94,90,{"$f":"VLOOKUP(E1708,'2020'!$A$16:$G$150,2,FALSE)","v":"Biscot"},{"$f":"VLOOKUP(E1708,'2020'!$A$16:$G$150,3,FALSE)","v":"Sewer R. + Thommen S."}]
["2020-06-14",{"$f":"VLOOKUP(D1709,'2020'!$A$16:$G$150,3,FALSE)","v":"Mathieu Leander + S."},{"$f":"VLOOKUP(D1709,'2020'!$A$16:$G$150,2,FALSE)","v":"Babylon"},76,32,{"$f":"VLOOKUP(E1709,'2020'!$A$16:$G$150,2,FALSE)","v":"Mira"},{"$f":"VLOOKUP(E1709,'2020'!$A$16:$G$150,3,FALSE)","v":"Fam. Leiggener"}]
["2020-06-14",{"$f":"VLOOKUP(D1710,'2020'!$A$16:$G$150,3,FALSE)","v":"Mathieu Leander + S."},{"$f":"VLOOKUP(D1710,'2020'!$A$16:$G$150,2,FALSE)","v":"Bavaria"},73,60,{"$f":"VLOOKUP(E1710,'2020'!$A$16:$G$150,2,FALSE)","v":"Bayonne"},{"$f":"VLOOKUP(E1710,'2020'!$A$16:$G$150,3,FALSE)","v":"Jäger Carlo"}]
["2020-06-14",{"$f":"VLOOKUP(D1711,'2020'!$A$16:$G$150,3,FALSE)","v":"Mathieu Leander + S."},{"$f":"VLOOKUP(D1711,'2020'!$A$16:$G$150,2,FALSE)","v":"Baghira"},71,60,{"$f":"VLOOKUP(E1711,'2020'!$A$16:$G$150,2,FALSE)","v":"Bayonne"},{"$f":"VLOOKUP(E1711,'2020'!$A$16:$G$150,3,FALSE)","v":"Jäger Carlo"}]
["2020-06-14",{"$f":"VLOOKUP(D1712,'2020'!$A$16:$G$150,3,FALSE)","v":"Bregy Ralf + Adolf"},{"$f":"VLOOKUP(D1712,'2020'!$A$16:$G$150,2,FALSE)","v":"Flacabre"},16,60,{"$f":"VLOOKUP(E1712,'2020'!$A$16:$G$150,2,FALSE)","v":"Bayonne"},{"$f":"VLOOKUP(E1712,'2020'!$A$16:$G$150,3,FALSE)","v":"Jäger Carlo"}]
["2020-06-14",{"$f":"VLOOKUP(D1713,'2020'!$A$16:$G$150,3,FALSE)","v":"Stallung zum Stäg"},{"$f":"VLOOKUP(D1713,'2020'!$A$16:$G$150,2,FALSE)","v":"Babylon"},86,84,{"$f":"VLOOKUP(E1713,'2020'!$A$16:$G$150,2,FALSE)","v":"Fägär"},{"$f":"VLOOKUP(E1713,'2020'!$A$16:$G$150,3,FALSE)","v":"Hutter Richard"}]
["2020-06-14",{"$f":"VLOOKUP(D1714,'2020'!$A$16:$G$150,3,FALSE)","v":"Stallung zum Stäg"},{"$f":"VLOOKUP(D1714,'2020'!$A$16:$G$150,2,FALSE)","v":"Benika"},87,25,{"$f":"VLOOKUP(E1714,'2020'!$A$16:$G$150,2,FALSE)","v":"Calette"},{"$f":"VLOOKUP(E1714,'2020'!$A$16:$G$150,3,FALSE)","v":"Bregy Uli + Pascal"}]
["2020-06-14",{"$f":"VLOOKUP(D1715,'2020'!$A$16:$G$150,3,FALSE)","v":"Jäger Carlo"},{"$f":"VLOOKUP(D1715,'2020'!$A$16:$G$150,2,FALSE)","v":"Bayonne"},60,17,{"$f":"VLOOKUP(E1715,'2020'!$A$16:$G$150,2,FALSE)","v":"Coquette"},{"$f":"VLOOKUP(E1715,'2020'!$A$16:$G$150,3,FALSE)","v":"Bregy Ralf + Adolf"}]
["2020-06-14",{"$f":"VLOOKUP(D1716,'2020'!$A$16:$G$150,3,FALSE)","v":"Stallung Passeraub"},{"$f":"VLOOKUP(D1716,'2020'!$A$16:$G$150,2,FALSE)","v":"Beres"},77,52,{"$f":"VLOOKUP(E1716,'2020'!$A$16:$G$150,2,FALSE)","v":"Lenja"},{"$f":"VLOOKUP(E1716,'2020'!$A$16:$G$150,3,FALSE)","v":"Hischier H. + Bühlmann J."}]
["2020-06-14",{"$f":"VLOOKUP(D1717,'2020'!$A$16:$G$150,3,FALSE)","v":"Bregy Uli + Pascal"},{"$f":"VLOOKUP(D1717,'2020'!$A$16:$G$150,2,FALSE)","v":"Tiranie"},19,67,{"$f":"VLOOKUP(E1717,'2020'!$A$16:$G$150,2,FALSE)","v":"Micabol"},{"$f":"VLOOKUP(E1717,'2020'!$A$16:$G$150,3,FALSE)","v":"Jäger Carlo"}]
["2020-06-14",{"$f":"VLOOKUP(D1718,'2020'!$A$16:$G$150,3,FALSE)","v":"Stallung Passeraub "},{"$f":"VLOOKUP(D1718,'2020'!$A$16:$G$150,2,FALSE)","v":"Bonita"},82,79,{"$f":"VLOOKUP(E1718,'2020'!$A$16:$G$150,2,FALSE)","v":"Marla"},{"$f":"VLOOKUP(E1718,'2020'!$A$16:$G$150,3,FALSE)","v":"Stallung Passeraub "}]
["2020-06-14",{"$f":"VLOOKUP(D1719,'2020'!$A$16:$G$150,3,FALSE)","v":"Wyssen Diego u. Madlen"},{"$f":"VLOOKUP(D1719,'2020'!$A$16:$G$150,2,FALSE)","v":"Roxana"},103,94,{"$f":"VLOOKUP(E1719,'2020'!$A$16:$G$150,2,FALSE)","v":"Cobra"},{"$f":"VLOOKUP(E1719,'2020'!$A$16:$G$150,3,FALSE)","v":"Tscherry E. + B."}]
["2020-06-14",{"$f":"VLOOKUP(D1720,'2020'!$A$16:$G$150,3,FALSE)","v":"Jäger Carlo"},{"$f":"VLOOKUP(D1720,'2020'!$A$16:$G$150,2,FALSE)","v":"Micabol"},67,83,{"$f":"VLOOKUP(E1720,'2020'!$A$16:$G$150,2,FALSE)","v":"Lijuba"},{"$f":"VLOOKUP(E1720,'2020'!$A$16:$G$150,3,FALSE)","v":"Amacker Joelle u. Sven"}]
["2020-06-14",{"$f":"VLOOKUP(D1721,'2020'!$A$16:$G$150,3,FALSE)","v":"Bregy Uli + Pascal"},{"$f":"VLOOKUP(D1721,'2020'!$A$16:$G$150,2,FALSE)","v":"Murphy"},27,79,{"$f":"VLOOKUP(E1721,'2020'!$A$16:$G$150,2,FALSE)","v":"Marla"},{"$f":"VLOOKUP(E1721,'2020'!$A$16:$G$150,3,FALSE)","v":"Stallung Passeraub "}]
["2020-06-14",{"$f":"VLOOKUP(D1722,'2020'!$A$16:$G$150,3,FALSE)","v":"Jäger Carlo"},{"$f":"VLOOKUP(D1722,'2020'!$A$16:$G$150,2,FALSE)","v":"Grolla"},61,86,{"$f":"VLOOKUP(E1722,'2020'!$A$16:$G$150,2,FALSE)","v":"Babylon"},{"$f":"VLOOKUP(E1722,'2020'!$A$16:$G$150,3,FALSE)","v":"Stallung zum Stäg"}]
["2020-06-14",{"$f":"VLOOKUP(D1723,'2020'!$A$16:$G$150,3,FALSE)","v":"Gebr. Jäger"},{"$f":"VLOOKUP(D1723,'2020'!$A$16:$G$150,2,FALSE)","v":"Dorina"},44,76,{"$f":"VLOOKUP(E1723,'2020'!$A$16:$G$150,2,FALSE)","v":"Babylon"},{"$f":"VLOOKUP(E1723,'2020'!$A$16:$G$150,3,FALSE)","v":"Mathieu Leander + S."}]
["2020-06-14",{"$f":"VLOOKUP(D1724,'2020'!$A$16:$G$150,3,FALSE)","v":"Stallung zum Stäg"},{"$f":"VLOOKUP(D1724,'2020'!$A$16:$G$150,2,FALSE)","v":"Benika"},87,61,{"$f":"VLOOKUP(E1724,'2020'!$A$16:$G$150,2,FALSE)","v":"Grolla"},{"$f":"VLOOKUP(E1724,'2020'!$A$16:$G$150,3,FALSE)","v":"Jäger Carlo"}]
["2020-06-14",{"$f":"VLOOKUP(D1725,'2020'!$A$16:$G$150,3,FALSE)","v":"Stallung Passeraub "},{"$f":"VLOOKUP(D1725,'2020'!$A$16:$G$150,2,FALSE)","v":"Bonita"},82,105,{"$f":"VLOOKUP(E1725,'2020'!$A$16:$G$150,2,FALSE)","v":"Xhyla"},{"$f":"VLOOKUP(E1725,'2020'!$A$16:$G$150,3,FALSE)","v":"Wyssen Diego u. Madlen"}]
["2020-06-14",{"$f":"VLOOKUP(D1726,'2020'!$A$16:$G$150,3,FALSE)","v":"Stallung zum Stäg"},{"$f":"VLOOKUP(D1726,'2020'!$A$16:$G$150,2,FALSE)","v":"Benika"},87,76,{"$f":"VLOOKUP(E1726,'2020'!$A$16:$G$150,2,FALSE)","v":"Babylon"},{"$f":"VLOOKUP(E1726,'2020'!$A$16:$G$150,3,FALSE)","v":"Mathieu Leander + S."}]
["2020-06-14",{"$f":"VLOOKUP(D1727,'2020'!$A$16:$G$150,3,FALSE)","v":"Gebr. Jäger"},{"$f":"VLOOKUP(D1727,'2020'!$A$16:$G$150,2,FALSE)","v":"Dorina"},44,65,{"$f":"VLOOKUP(E1727,'2020'!$A$16:$G$150,2,FALSE)","v":"Megane"},{"$f":"VLOOKUP(E1727,'2020'!$A$16:$G$150,3,FALSE)","v":"Jäger Carlo"}]
["2020-06-14",{"$f":"VLOOKUP(D1728,'2020'!$A$16:$G$150,3,FALSE)","v":"Bregy Silvan + Patrick"},{"$f":"VLOOKUP(D1728,'2020'!$A$16:$G$150,2,FALSE)","v":"Tequilla"},13,67,{"$f":"VLOOKUP(E1728,'2020'!$A$16:$G$150,2,FALSE)","v":"Micabol"},{"$f":"VLOOKUP(E1728,'2020'!$A$16:$G$150,3,FALSE)","v":"Jäger Carlo"}]
["2020-06-14",{"$f":"VLOOKUP(D1729,'2020'!$A$16:$G$150,3,FALSE)","v":"Jäger Carlo"},{"$f":"VLOOKUP(D1729,'2020'!$A$16:$G$150,2,FALSE)","v":"Bataille"},58,48,{"$f":"VLOOKUP(E1729,'2020'!$A$16:$G$150,2,FALSE)","v":"Simba"},{"$f":"VLOOKUP(E1729,'2020'!$A$16:$G$150,3,FALSE)","v":"Gebr. Jäger"}]
["2020-06-14",{"$f":"VLOOKUP(D1730,'2020'!$A$16:$G$150,3,FALSE)","v":"Bregy Ralf + Adolf"},{"$f":"VLOOKUP(D1730,'2020'!$A$16:$G$150,2,FALSE)","v":"Canaille"},7,67,{"$f":"VLOOKUP(E1730,'2020'!$A$16:$G$150,2,FALSE)","v":"Micabol"},{"$f":"VLOOKUP(E1730,'2020'!$A$16:$G$150,3,FALSE)","v":"Jäger Carlo"}]
["2020-06-14",{"$f":"VLOOKUP(D1731,'2020'!$A$16:$G$150,3,FALSE)","v":"Jäger Carlo"},{"$f":"VLOOKUP(D1731,'2020'!$A$16:$G$150,2,FALSE)","v":"Candice"},62,75,{"$f":"VLOOKUP(E1731,'2020'!$A$16:$G$150,2,FALSE)","v":"Bonita"},{"$f":"VLOOKUP(E1731,'2020'!$A$16:$G$150,3,FALSE)","v":"Mathieu Leander + S."}]
["2020-06-14",{"$f":"VLOOKUP(D1732,'2020'!$A$16:$G$150,3,FALSE)","v":"Jäger Carlo"},{"$f":"VLOOKUP(D1732,'2020'!$A$16:$G$150,2,FALSE)","v":"Tokio"},70,46,{"$f":"VLOOKUP(E1732,'2020'!$A$16:$G$150,2,FALSE)","v":"Lorens"},{"$f":"VLOOKUP(E1732,'2020'!$A$16:$G$150,3,FALSE)","v":"Gebr. Jäger"}]
["2020-06-14",{"$f":"VLOOKUP(D1733,'2020'!$A$16:$G$150,3,FALSE)","v":"Gebr. Jäger"},{"$f":"VLOOKUP(D1733,'2020'!$A$16:$G$150,2,FALSE)","v":"Lorens"},46,67,{"$f":"VLOOKUP(E1733,'2020'!$A$16:$G$150,2,FALSE)","v":"Micabol"},{"$f":"VLOOKUP(E1733,'2020'!$A$16:$G$150,3,FALSE)","v":"Jäger Carlo"}]
["2020-06-14",{"$f":"VLOOKUP(D1734,'2020'!$A$16:$G$150,3,FALSE)","v":"Jäger Carlo"},{"$f":"VLOOKUP(D1734,'2020'!$A$16:$G$150,2,FALSE)","v":"Candice"},62,75,{"$f":"VLOOKUP(E1734,'2020'!$A$16:$G$150,2,FALSE)","v":"Bonita"},{"$f":"VLOOKUP(E1734,'2020'!$A$16:$G$150,3,FALSE)","v":"Mathieu Leander + S."}]
["2020-06-14",{"$f":"VLOOKUP(D1735,'2020'!$A$16:$G$150,3,FALSE)","v":"Mathieu Leander + S."},{"$f":"VLOOKUP(D1735,'2020'!$A$16:$G$150,2,FALSE)","v":"Babylon"},76,50,{"$f":"VLOOKUP(E1735,'2020'!$A$16:$G$150,2,FALSE)","v":"Tanja"},{"$f":"VLOOKUP(E1735,'2020'!$A$16:$G$150,3,FALSE)","v":"Gebr. Jäger"}]
["2020-06-14",{"$f":"VLOOKUP(D1736,'2020'!$A$16:$G$150,3,FALSE)","v":"Williner Anton"},{"$f":"VLOOKUP(D1736,'2020'!$A$16:$G$150,2,FALSE)","v":"Vivana"},95,114,{"$f":"VLOOKUP(E1736,'2020'!$A$16:$G$150,2,FALSE)","v":"Maya"},{"$f":"VLOOKUP(E1736,'2020'!$A$16:$G$150,3,FALSE)","v":"Zumofen / Gattlen"}]
["2020-06-14",{"$f":"VLOOKUP(D1737,'2020'!$A$16:$G$150,3,FALSE)","v":"Jäger Carlo"},{"$f":"VLOOKUP(D1737,'2020'!$A$16:$G$150,2,FALSE)","v":"Megane"},65,94,{"$f":"VLOOKUP(E1737,'2020'!$A$16:$G$150,2,FALSE)","v":"Cobra"},{"$f":"VLOOKUP(E1737,'2020'!$A$16:$G$150,3,FALSE)","v":"Tscherry E. + B."}]
["2020-06-14",{"$f":"VLOOKUP(D1738,'2020'!$A$16:$G$150,3,FALSE)","v":"Jäger Carlo"},{"$f":"VLOOKUP(D1738,'2020'!$A$16:$G$150,2,FALSE)","v":"Micabol"},67,44,{"$f":"VLOOKUP(E1738,'2020'!$A$16:$G$150,2,FALSE)","v":"Dorina"},{"$f":"VLOOKUP(E1738,'2020'!$A$16:$G$150,3,FALSE)","v":"Gebr. Jäger"}]
["2020-06-14",{"$f":"VLOOKUP(D1739,'2020'!$A$16:$G$150,3,FALSE)","v":"Stallung zum Stäg"},{"$f":"VLOOKUP(D1739,'2020'!$A$16:$G$150,2,FALSE)","v":"Benika"},87,65,{"$f":"VLOOKUP(E1739,'2020'!$A$16:$G$150,2,FALSE)","v":"Megane"},{"$f":"VLOOKUP(E1739,'2020'!$A$16:$G$150,3,FALSE)","v":"Jäger Carlo"}]
["2020-06-14",{"$f":"VLOOKUP(D1740,'2020'!$A$16:$G$150,3,FALSE)","v":"Bregy Uli + Pascal"},{"$f":"VLOOKUP(D1740,'2020'!$A$16:$G$150,2,FALSE)","v":"Pandora"},23,87,{"$f":"VLOOKUP(E1740,'2020'!$A$16:$G$150,2,FALSE)","v":"Benika"},{"$f":"VLOOKUP(E1740,'2020'!$A$16:$G$150,3,FALSE)","v":"Stallung zum Stäg"}]
["2020-06-14",{"$f":"VLOOKUP(D1741,'2020'!$A$16:$G$150,3,FALSE)","v":"Wyssen Diego u. Madlen"},{"$f":"VLOOKUP(D1741,'2020'!$A$16:$G$150,2,FALSE)","v":"Rasta"},102,2,{"$f":"VLOOKUP(E1741,'2020'!$A$16:$G$150,2,FALSE)","v":"Fantastic"},{"$f":"VLOOKUP(E1741,'2020'!$A$16:$G$150,3,FALSE)","v":"Bayard Medard + Gustav"}]
["2020-06-14",{"$f":"VLOOKUP(D1742,'2020'!$A$16:$G$150,3,FALSE)","v":"Bregy Uli + Pascal"},{"$f":"VLOOKUP(D1742,'2020'!$A$16:$G$150,2,FALSE)","v":"Pandora"},23,47,{"$f":"VLOOKUP(E1742,'2020'!$A$16:$G$150,2,FALSE)","v":"Tiara"},{"$f":"VLOOKUP(E1742,'2020'!$A$16:$G$150,3,FALSE)","v":"Gebr. Jäger"}]
["2020-06-14",{"$f":"VLOOKUP(D1743,'2020'!$A$16:$G$150,3,FALSE)","v":"Bregy Uli + Pascal"},{"$f":"VLOOKUP(D1743,'2020'!$A$16:$G$150,2,FALSE)","v":"Pandora"},23,60,{"$f":"VLOOKUP(E1743,'2020'!$A$16:$G$150,2,FALSE)","v":"Bayonne"},{"$f":"VLOOKUP(E1743,'2020'!$A$16:$G$150,3,FALSE)","v":"Jäger Carlo"}]
["2020-06-14",{"$f":"VLOOKUP(D1744,'2020'!$A$16:$G$150,3,FALSE)","v":"Bregy Ralf + Adolf"},{"$f":"VLOOKUP(D1744,'2020'!$A$16:$G$150,2,FALSE)","v":"Cashida"},15,66,{"$f":"VLOOKUP(E1744,'2020'!$A$16:$G$150,2,FALSE)","v":"Metis"},{"$f":"VLOOKUP(E1744,'2020'!$A$16:$G$150,3,FALSE)","v":"Jäger Carlo"}]
["2020-06-14",{"$f":"VLOOKUP(D1745,'2020'!$A$16:$G$150,3,FALSE)","v":"Bregy Ralf + Adolf"},{"$f":"VLOOKUP(D1745,'2020'!$A$16:$G$150,2,FALSE)","v":"Creola"},8,28,{"$f":"VLOOKUP(E1745,'2020'!$A$16:$G$150,2,FALSE)","v":"Corona"},{"$f":"VLOOKUP(E1745,'2020'!$A$16:$G$150,3,FALSE)","v":"Bregy Uli + Pascal"}]
["2020-06-14",{"$f":"VLOOKUP(D1746,'2020'!$A$16:$G$150,3,FALSE)","v":"Bregy Ralf + Adolf"},{"$f":"VLOOKUP(D1746,'2020'!$A$16:$G$150,2,FALSE)","v":"Canaille"},7,50,{"$f":"VLOOKUP(E1746,'2020'!$A$16:$G$150,2,FALSE)","v":"Tanja"},{"$f":"VLOOKUP(E1746,'2020'!$A$16:$G$150,3,FALSE)","v":"Gebr. Jäger"}]
["2020-06-14",{"$f":"VLOOKUP(D1747,'2020'!$A$16:$G$150,3,FALSE)","v":"Bregy Ralf + Adolf"},{"$f":"VLOOKUP(D1747,'2020'!$A$16:$G$150,2,FALSE)","v":"Coquette"},17,61,{"$f":"VLOOKUP(E1747,'2020'!$A$16:$G$150,2,FALSE)","v":"Grolla"},{"$f":"VLOOKUP(E1747,'2020'!$A$16:$G$150,3,FALSE)","v":"Jäger Carlo"}]
["2020-06-14",{"$f":"VLOOKUP(D1748,'2020'!$A$16:$G$150,3,FALSE)","v":"Stallung Passeraub"},{"$f":"VLOOKUP(D1748,'2020'!$A$16:$G$150,2,FALSE)","v":"Bobino"},85,25,{"$f":"VLOOKUP(E1748,'2020'!$A$16:$G$150,2,FALSE)","v":"Calette"},{"$f":"VLOOKUP(E1748,'2020'!$A$16:$G$150,3,FALSE)","v":"Bregy Uli + Pascal"}]
["2020-06-14",{"$f":"VLOOKUP(D1749,'2020'!$A$16:$G$150,3,FALSE)","v":"Stallung Passeraub "},{"$f":"VLOOKUP(D1749,'2020'!$A$16:$G$150,2,FALSE)","v":"Medusa"},81,101,{"$f":"VLOOKUP(E1749,'2020'!$A$16:$G$150,2,FALSE)","v":"Xandria"},{"$f":"VLOOKUP(E1749,'2020'!$A$16:$G$150,3,FALSE)","v":"Wyssen Diego u. Madlen"}]
["2020-06-14",{"$f":"VLOOKUP(D1750,'2020'!$A$16:$G$150,3,FALSE)","v":"Bregy Uli + Pascal"},{"$f":"VLOOKUP(D1750,'2020'!$A$16:$G$150,2,FALSE)","v":"Bora"},21,32,{"$f":"VLOOKUP(E1750,'2020'!$A$16:$G$150,2,FALSE)","v":"Mira"},{"$f":"VLOOKUP(E1750,'2020'!$A$16:$G$150,3,FALSE)","v":"Fam. Leiggener"}]
["2020-06-14",{"$f":"VLOOKUP(D1751,'2020'!$A$16:$G$150,3,FALSE)","v":"Bregy Uli + Pascal"},{"$f":"VLOOKUP(D1751,'2020'!$A$16:$G$150,2,FALSE)","v":"Pandora"},23,85,{"$f":"VLOOKUP(E1751,'2020'!$A$16:$G$150,2,FALSE)","v":"Bobino"},{"$f":"VLOOKUP(E1751,'2020'!$A$16:$G$150,3,FALSE)","v":"Stallung Passeraub"}]
["2020-06-14",{"$f":"VLOOKUP(D1752,'2020'!$A$16:$G$150,3,FALSE)","v":"Fam. Leiggener"},{"$f":"VLOOKUP(D1752,'2020'!$A$16:$G$150,2,FALSE)","v":"Bulle"},30,6,{"$f":"VLOOKUP(E1752,'2020'!$A$16:$G$150,2,FALSE)","v":"Venus"},{"$f":"VLOOKUP(E1752,'2020'!$A$16:$G$150,3,FALSE)","v":"Bayard Medard + Gustav"}]
["2020-06-14",{"$f":"VLOOKUP(D1753,'2020'!$A$16:$G$150,3,FALSE)","v":"Stallung Passeraub"},{"$f":"VLOOKUP(D1753,'2020'!$A$16:$G$150,2,FALSE)","v":"Bobino"},85,70,{"$f":"VLOOKUP(E1753,'2020'!$A$16:$G$150,2,FALSE)","v":"Tokio"},{"$f":"VLOOKUP(E1753,'2020'!$A$16:$G$150,3,FALSE)","v":"Jäger Carlo"}]
["2020-06-14",{"$f":"VLOOKUP(D1754,'2020'!$A$16:$G$150,3,FALSE)","v":"Bayard Medard + Gustav"},{"$f":"VLOOKUP(D1754,'2020'!$A$16:$G$150,2,FALSE)","v":"Pandera"},5,30,{"$f":"VLOOKUP(E1754,'2020'!$A$16:$G$150,2,FALSE)","v":"Bulle"},{"$f":"VLOOKUP(E1754,'2020'!$A$16:$G$150,3,FALSE)","v":"Fam. Leiggener"}]
["2020-06-14",{"$f":"VLOOKUP(D1755,'2020'!$A$16:$G$150,3,FALSE)","v":"Jäger Carlo"},{"$f":"VLOOKUP(D1755,'2020'!$A$16:$G$150,2,FALSE)","v":"Tokio"},70,102,{"$f":"VLOOKUP(E1755,'2020'!$A$16:$G$150,2,FALSE)","v":"Rasta"},{"$f":"VLOOKUP(E1755,'2020'!$A$16:$G$150,3,FALSE)","v":"Wyssen Diego u. Madlen"}]
["2020-06-14",{"$f":"VLOOKUP(D1756,'2020'!$A$16:$G$150,3,FALSE)","v":"Wyssen Diego u. Madlen"},{"$f":"VLOOKUP(D1756,'2020'!$A$16:$G$150,2,FALSE)","v":"Rasta"},102,70,{"$f":"VLOOKUP(E1756,'2020'!$A$16:$G$150,2,FALSE)","v":"Tokio"},{"$f":"VLOOKUP(E1756,'2020'!$A$16:$G$150,3,FALSE)","v":"Jäger Carlo"}]
["2020-06-14",{"$f":"VLOOKUP(D1757,'2020'!$A$16:$G$150,3,FALSE)","v":"Zumofen / Gattlen"},{"$f":"VLOOKUP(D1757,'2020'!$A$16:$G$150,2,FALSE)","v":"Vanda"},113,36,{"$f":"VLOOKUP(E1757,'2020'!$A$16:$G$150,2,FALSE)","v":"Calmy"},{"$f":"VLOOKUP(E1757,'2020'!$A$16:$G$150,3,FALSE)","v":"Fux W., J., + Wyer Piet"}]
["2020-06-14",{"$f":"VLOOKUP(D1758,'2020'!$A$16:$G$150,3,FALSE)","v":"Wyssen Diego u. Madlen"},{"$f":"VLOOKUP(D1758,'2020'!$A$16:$G$150,2,FALSE)","v":"Rasta"},102,114,{"$f":"VLOOKUP(E1758,'2020'!$A$16:$G$150,2,FALSE)","v":"Maya"},{"$f":"VLOOKUP(E1758,'2020'!$A$16:$G$150,3,FALSE)","v":"Zumofen / Gattlen"}]
["2020-06-14",{"$f":"VLOOKUP(D1759,'2020'!$A$16:$G$150,3,FALSE)","v":"Stallung Passeraub"},{"$f":"VLOOKUP(D1759,'2020'!$A$16:$G$150,2,FALSE)","v":"Bobino"},85,104,{"$f":"VLOOKUP(E1759,'2020'!$A$16:$G$150,2,FALSE)","v":"Xena"},{"$f":"VLOOKUP(E1759,'2020'!$A$16:$G$150,3,FALSE)","v":"Wyssen Diego u. Madlen"}]
["2020-06-14",{"$f":"VLOOKUP(D1760,'2020'!$A$16:$G$150,3,FALSE)","v":"Jäger Carlo"},{"$f":"VLOOKUP(D1760,'2020'!$A$16:$G$150,2,FALSE)","v":"Candice"},62,50,{"$f":"VLOOKUP(E1760,'2020'!$A$16:$G$150,2,FALSE)","v":"Tanja"},{"$f":"VLOOKUP(E1760,'2020'!$A$16:$G$150,3,FALSE)","v":"Gebr. Jäger"}]
["2020-06-14",{"$f":"VLOOKUP(D1761,'2020'!$A$16:$G$150,3,FALSE)","v":"Stallung Passeraub"},{"$f":"VLOOKUP(D1761,'2020'!$A$16:$G$150,2,FALSE)","v":"Bobino"},85,40,{"$f":"VLOOKUP(E1761,'2020'!$A$16:$G$150,2,FALSE)","v":"Toscana"},{"$f":"VLOOKUP(E1761,'2020'!$A$16:$G$150,3,FALSE)","v":"Fux W., J., + Wyer Piet"}]
["2020-06-14",{"$f":"VLOOKUP(D1762,'2020'!$A$16:$G$150,3,FALSE)","v":"Bayard Medard + Gustav"},{"$f":"VLOOKUP(D1762,'2020'!$A$16:$G$150,2,FALSE)","v":"Diabolo"},1,111,{"$f":"VLOOKUP(E1762,'2020'!$A$16:$G$150,2,FALSE)","v":"Vidona"},{"$f":"VLOOKUP(E1762,'2020'!$A$16:$G$150,3,FALSE)","v":"Zumofen / Gattlen"}]
["2020-06-14",{"$f":"VLOOKUP(D1763,'2020'!$A$16:$G$150,3,FALSE)","v":"Hischier Pius"},{"$f":"VLOOKUP(D1763,'2020'!$A$16:$G$150,2,FALSE)","v":"Shakira"},56,57,{"$f":"VLOOKUP(E1763,'2020'!$A$16:$G$150,2,FALSE)","v":"Promise"},{"$f":"VLOOKUP(E1763,'2020'!$A$16:$G$150,3,FALSE)","v":"Jäger Carlo"}]
["2020-06-14",{"$f":"VLOOKUP(D1764,'2020'!$A$16:$G$150,3,FALSE)","v":"Gebr. Jäger"},{"$f":"VLOOKUP(D1764,'2020'!$A$16:$G$150,2,FALSE)","v":"Dorina"},44,61,{"$f":"VLOOKUP(E1764,'2020'!$A$16:$G$150,2,FALSE)","v":"Grolla"},{"$f":"VLOOKUP(E1764,'2020'!$A$16:$G$150,3,FALSE)","v":"Jäger Carlo"}]
["2020-06-14",{"$f":"VLOOKUP(D1765,'2020'!$A$16:$G$150,3,FALSE)","v":"Zumofen / Gattlen"},{"$f":"VLOOKUP(D1765,'2020'!$A$16:$G$150,2,FALSE)","v":"Violin"},107,39,{"$f":"VLOOKUP(E1765,'2020'!$A$16:$G$150,2,FALSE)","v":"Bacardi"},{"$f":"VLOOKUP(E1765,'2020'!$A$16:$G$150,3,FALSE)","v":"Fux W., J., + Wyer Piet"}]
["2020-06-14",{"$f":"VLOOKUP(D1766,'2020'!$A$16:$G$150,3,FALSE)","v":"Fux W., J., + Wyer Piet"},{"$f":"VLOOKUP(D1766,'2020'!$A$16:$G$150,2,FALSE)","v":"Bacardi"},39,106,{"$f":"VLOOKUP(E1766,'2020'!$A$16:$G$150,2,FALSE)","v":"Rambo"},{"$f":"VLOOKUP(E1766,'2020'!$A$16:$G$150,3,FALSE)","v":"Zumofen / Gattlen"}]
["2020-06-14",{"$f":"VLOOKUP(D1767,'2020'!$A$16:$G$150,3,FALSE)","v":"Fux W., J., + Wyer Piet"},{"$f":"VLOOKUP(D1767,'2020'!$A$16:$G$150,2,FALSE)","v":"Mystic"},41,91,{"$f":"VLOOKUP(E1767,'2020'!$A$16:$G$150,2,FALSE)","v":"Bolera"},{"$f":"VLOOKUP(E1767,'2020'!$A$16:$G$150,3,FALSE)","v":"Sewer R. + Thommen S."}]
["2020-06-14",{"$f":"VLOOKUP(D1768,'2020'!$A$16:$G$150,3,FALSE)","v":"Bregy Ralf + Adolf"},{"$f":"VLOOKUP(D1768,'2020'!$A$16:$G$150,2,FALSE)","v":"Canaille"},7,54,{"$f":"VLOOKUP(E1768,'2020'!$A$16:$G$150,2,FALSE)","v":"Pablo"},{"$f":"VLOOKUP(E1768,'2020'!$A$16:$G$150,3,FALSE)","v":"Hischier Pius"}]
["2020-06-14",{"$f":"VLOOKUP(D1769,'2020'!$A$16:$G$150,3,FALSE)","v":"Bregy Ralf + Adolf"},{"$f":"VLOOKUP(D1769,'2020'!$A$16:$G$150,2,FALSE)","v":"Cashida"},15,19,{"$f":"VLOOKUP(E1769,'2020'!$A$16:$G$150,2,FALSE)","v":"Tiranie"},{"$f":"VLOOKUP(E1769,'2020'!$A$16:$G$150,3,FALSE)","v":"Bregy Uli + Pascal"}]
["2020-06-14",{"$f":"VLOOKUP(D1770,'2020'!$A$16:$G$150,3,FALSE)","v":"Hischier Pius"},{"$f":"VLOOKUP(D1770,'2020'!$A$16:$G$150,2,FALSE)","v":"Shakira"},56,57,{"$f":"VLOOKUP(E1770,'2020'!$A$16:$G$150,2,FALSE)","v":"Promise"},{"$f":"VLOOKUP(E1770,'2020'!$A$16:$G$150,3,FALSE)","v":"Jäger Carlo"}]
["2020-06-14",{"$f":"VLOOKUP(D1771,'2020'!$A$16:$G$150,3,FALSE)","v":"Hischier Pius"},{"$f":"VLOOKUP(D1771,'2020'!$A$16:$G$150,2,FALSE)","v":"Safira"},53,47,{"$f":"VLOOKUP(E1771,'2020'!$A$16:$G$150,2,FALSE)","v":"Tiara"},{"$f":"VLOOKUP(E1771,'2020'!$A$16:$G$150,3,FALSE)","v":"Gebr. Jäger"}]
["2020-06-14",{"$f":"VLOOKUP(D1772,'2020'!$A$16:$G$150,3,FALSE)","v":"Stallung zum Stäg"},{"$f":"VLOOKUP(D1772,'2020'!$A$16:$G$150,2,FALSE)","v":"Babylon"},86,79,{"$f":"VLOOKUP(E1772,'2020'!$A$16:$G$150,2,FALSE)","v":"Marla"},{"$f":"VLOOKUP(E1772,'2020'!$A$16:$G$150,3,FALSE)","v":"Stallung Passeraub "}]
["2020-06-14",{"$f":"VLOOKUP(D1773,'2020'!$A$16:$G$150,3,FALSE)","v":"Zumofen / Gattlen"},{"$f":"VLOOKUP(D1773,'2020'!$A$16:$G$150,2,FALSE)","v":"Violette"},108,36,{"$f":"VLOOKUP(E1773,'2020'!$A$16:$G$150,2,FALSE)","v":"Calmy"},{"$f":"VLOOKUP(E1773,'2020'!$A$16:$G$150,3,FALSE)","v":"Fux W., J., + Wyer Piet"}]
["2020-06-14",{"$f":"VLOOKUP(D1774,'2020'!$A$16:$G$150,3,FALSE)","v":"Zumofen / Gattlen"},{"$f":"VLOOKUP(D1774,'2020'!$A$16:$G$150,2,FALSE)","v":"Vidona"},111,2,{"$f":"VLOOKUP(E1774,'2020'!$A$16:$G$150,2,FALSE)","v":"Fantastic"},{"$f":"VLOOKUP(E1774,'2020'!$A$16:$G$150,3,FALSE)","v":"Bayard Medard + Gustav"}]
["2020-06-14",{"$f":"VLOOKUP(D1775,'2020'!$A$16:$G$150,3,FALSE)","v":"Tscherry E. + B."},{"$f":"VLOOKUP(D1775,'2020'!$A$16:$G$150,2,FALSE)","v":"Cobra"},94,33,{"$f":"VLOOKUP(E1775,'2020'!$A$16:$G$150,2,FALSE)","v":"Baquera"},{"$f":"VLOOKUP(E1775,'2020'!$A$16:$G$150,3,FALSE)","v":"Fux W., J., + Wyer Piet"}]
["2020-06-14",{"$f":"VLOOKUP(D1776,'2020'!$A$16:$G$150,3,FALSE)","v":"Fux W., J., + Wyer Piet"},{"$f":"VLOOKUP(D1776,'2020'!$A$16:$G$150,2,FALSE)","v":"Calmy"},36,94,{"$f":"VLOOKUP(E1776,'2020'!$A$16:$G$150,2,FALSE)","v":"Cobra"},{"$f":"VLOOKUP(E1776,'2020'!$A$16:$G$150,3,FALSE)","v":"Tscherry E. + B."}]
["2020-06-14",{"$f":"VLOOKUP(D1777,'2020'!$A$16:$G$150,3,FALSE)","v":"Bayard Medard + Gustav"},{"$f":"VLOOKUP(D1777,'2020'!$A$16:$G$150,2,FALSE)","v":"Fantastic"},2,109,{"$f":"VLOOKUP(E1777,'2020'!$A$16:$G$150,2,FALSE)","v":"Rena"},{"$f":"VLOOKUP(E1777,'2020'!$A$16:$G$150,3,FALSE)","v":"Zumofen / Gattlen"}]
["2020-06-14",{"$f":"VLOOKUP(D1778,'2020'!$A$16:$G$150,3,FALSE)","v":"Hischier Pius"},{"$f":"VLOOKUP(D1778,'2020'!$A$16:$G$150,2,FALSE)","v":"Shakira"},56,29,{"$f":"VLOOKUP(E1778,'2020'!$A$16:$G$150,2,FALSE)","v":"Rebell"},{"$f":"VLOOKUP(E1778,'2020'!$A$16:$G$150,3,FALSE)","v":"Fam. Leiggener"}]
["2020-06-14",{"$f":"VLOOKUP(D1779,'2020'!$A$16:$G$150,3,FALSE)","v":"Fux W., J., + Wyer Piet"},{"$f":"VLOOKUP(D1779,'2020'!$A$16:$G$150,2,FALSE)","v":"Calmy"},36,117,{"$f":"VLOOKUP(E1779,'2020'!$A$16:$G$150,2,FALSE)","v":"Rigolo"},{"$f":"VLOOKUP(E1779,'2020'!$A$16:$G$150,3,FALSE)","v":"Zumofen / Gattlen"}]
["2020-06-14",{"$f":"VLOOKUP(D1780,'2020'!$A$16:$G$150,3,FALSE)","v":"Fux W., J., + Wyer Piet"},{"$f":"VLOOKUP(D1780,'2020'!$A$16:$G$150,2,FALSE)","v":"Toscana"},40,114,{"$f":"VLOOKUP(E1780,'2020'!$A$16:$G$150,2,FALSE)","v":"Maya"},{"$f":"VLOOKUP(E1780,'2020'!$A$16:$G$150,3,FALSE)","v":"Zumofen / Gattlen"}]
["2020-06-14",{"$f":"VLOOKUP(D1781,'2020'!$A$16:$G$150,3,FALSE)","v":"Fux W., J., + Wyer Piet"},{"$f":"VLOOKUP(D1781,'2020'!$A$16:$G$150,2,FALSE)","v":"Toscana"},40,118,{"$f":"VLOOKUP(E1781,'2020'!$A$16:$G$150,2,FALSE)","v":"Vesuv"},{"$f":"VLOOKUP(E1781,'2020'!$A$16:$G$150,3,FALSE)","v":"Zumofen / Gattlen"}]
["2020-06-14",{"$f":"VLOOKUP(D1782,'2020'!$A$16:$G$150,3,FALSE)","v":"Wyssen Diego u. Madlen"},{"$f":"VLOOKUP(D1782,'2020'!$A$16:$G$150,2,FALSE)","v":"Rasta"},102,117,{"$f":"VLOOKUP(E1782,'2020'!$A$16:$G$150,2,FALSE)","v":"Rigolo"},{"$f":"VLOOKUP(E1782,'2020'!$A$16:$G$150,3,FALSE)","v":"Zumofen / Gattlen"}]
["2020-06-14",{"$f":"VLOOKUP(D1783,'2020'!$A$16:$G$150,3,FALSE)","v":"Zumofen / Gattlen"},{"$f":"VLOOKUP(D1783,'2020'!$A$16:$G$150,2,FALSE)","v":"Rambo"},106,3,{"$f":"VLOOKUP(E1783,'2020'!$A$16:$G$150,2,FALSE)","v":"Priska"},{"$f":"VLOOKUP(E1783,'2020'!$A$16:$G$150,3,FALSE)","v":"Bayard Medard + Gustav"}]
["2020-06-14",{"$f":"VLOOKUP(D1784,'2020'!$A$16:$G$150,3,FALSE)","v":"Zumofen / Gattlen"},{"$f":"VLOOKUP(D1784,'2020'!$A$16:$G$150,2,FALSE)","v":"Rigolo"},117,2,{"$f":"VLOOKUP(E1784,'2020'!$A$16:$G$150,2,FALSE)","v":"Fantastic"},{"$f":"VLOOKUP(E1784,'2020'!$A$16:$G$150,3,FALSE)","v":"Bayard Medard + Gustav"}]
["2020-06-14",{"$f":"VLOOKUP(D1785,'2020'!$A$16:$G$150,3,FALSE)","v":"Zumofen / Gattlen"},{"$f":"VLOOKUP(D1785,'2020'!$A$16:$G$150,2,FALSE)","v":"Xena"},110,96,{"$f":"VLOOKUP(E1785,'2020'!$A$16:$G$150,2,FALSE)","v":"Tigra"},{"$f":"VLOOKUP(E1785,'2020'!$A$16:$G$150,3,FALSE)","v":"Williner Anton"}]
["2020-06-14",{"$f":"VLOOKUP(D1786,'2020'!$A$16:$G$150,3,FALSE)","v":"Hutter Richard"},{"$f":"VLOOKUP(D1786,'2020'!$A$16:$G$150,2,FALSE)","v":"Fägär"},84,32,{"$f":"VLOOKUP(E1786,'2020'!$A$16:$G$150,2,FALSE)","v":"Mira"},{"$f":"VLOOKUP(E1786,'2020'!$A$16:$G$150,3,FALSE)","v":"Fam. Leiggener"}]
["2020-06-14",{"$f":"VLOOKUP(D1787,'2020'!$A$16:$G$150,3,FALSE)","v":"Zumofen / Gattlen"},{"$f":"VLOOKUP(D1787,'2020'!$A$16:$G$150,2,FALSE)","v":"Maya"},114,35,{"$f":"VLOOKUP(E1787,'2020'!$A$16:$G$150,2,FALSE)","v":"Valaisanne"},{"$f":"VLOOKUP(E1787,'2020'!$A$16:$G$150,3,FALSE)","v":"Fux W., J., + Wyer Piet"}]
["2020-06-14",{"$f":"VLOOKUP(D1788,'2020'!$A$16:$G$150,3,FALSE)","v":"Zumofen / Gattlen"},{"$f":"VLOOKUP(D1788,'2020'!$A$16:$G$150,2,FALSE)","v":"Fayola"},119,40,{"$f":"VLOOKUP(E1788,'2020'!$A$16:$G$150,2,FALSE)","v":"Toscana"},{"$f":"VLOOKUP(E1788,'2020'!$A$16:$G$150,3,FALSE)","v":"Fux W., J., + Wyer Piet"}]
["2020-06-14",{"$f":"VLOOKUP(D1789,'2020'!$A$16:$G$150,3,FALSE)","v":"Zumofen / Gattlen"},{"$f":"VLOOKUP(D1789,'2020'!$A$16:$G$150,2,FALSE)","v":"Rambo"},106,40,{"$f":"VLOOKUP(E1789,'2020'!$A$16:$G$150,2,FALSE)","v":"Toscana"},{"$f":"VLOOKUP(E1789,'2020'!$A$16:$G$150,3,FALSE)","v":"Fux W., J., + Wyer Piet"}]
["2020-06-14",{"$f":"VLOOKUP(D1790,'2020'!$A$16:$G$150,3,FALSE)","v":"Zumofen / Gattlen"},{"$f":"VLOOKUP(D1790,'2020'!$A$16:$G$150,2,FALSE)","v":"Violette"},108,94,{"$f":"VLOOKUP(E1790,'2020'!$A$16:$G$150,2,FALSE)","v":"Cobra"},{"$f":"VLOOKUP(E1790,'2020'!$A$16:$G$150,3,FALSE)","v":"Tscherry E. + B."}]
["2020-06-14",{"$f":"VLOOKUP(D1791,'2020'!$A$16:$G$150,3,FALSE)","v":"Zumofen / Gattlen"},{"$f":"VLOOKUP(D1791,'2020'!$A$16:$G$150,2,FALSE)","v":"Violette"},108,29,{"$f":"VLOOKUP(E1791,'2020'!$A$16:$G$150,2,FALSE)","v":"Rebell"},{"$f":"VLOOKUP(E1791,'2020'!$A$16:$G$150,3,FALSE)","v":"Fam. Leiggener"}]
["2020-06-14",{"$f":"VLOOKUP(D1792,'2020'!$A$16:$G$150,3,FALSE)","v":"Stallung zum Stäg"},{"$f":"VLOOKUP(D1792,'2020'!$A$16:$G$150,2,FALSE)","v":"Benika"},87,28,{"$f":"VLOOKUP(E1792,'2020'!$A$16:$G$150,2,FALSE)","v":"Corona"},{"$f":"VLOOKUP(E1792,'2020'!$A$16:$G$150,3,FALSE)","v":"Bregy Uli + Pascal"}]
["2020-06-14",{"$f":"VLOOKUP(D1793,'2020'!$A$16:$G$150,3,FALSE)","v":"Hischier Pius"},{"$f":"VLOOKUP(D1793,'2020'!$A$16:$G$150,2,FALSE)","v":"Pablo"},54,3,{"$f":"VLOOKUP(E1793,'2020'!$A$16:$G$150,2,FALSE)","v":"Priska"},{"$f":"VLOOKUP(E1793,'2020'!$A$16:$G$150,3,FALSE)","v":"Bayard Medard + Gustav"}]
["2020-06-14",{"$f":"VLOOKUP(D1794,'2020'!$A$16:$G$150,3,FALSE)","v":"Amacker Joelle u. Sven"},{"$f":"VLOOKUP(D1794,'2020'!$A$16:$G$150,2,FALSE)","v":"Lijuba"},83,28,{"$f":"VLOOKUP(E1794,'2020'!$A$16:$G$150,2,FALSE)","v":"Corona"},{"$f":"VLOOKUP(E1794,'2020'!$A$16:$G$150,3,FALSE)","v":"Bregy Uli + Pascal"}]
["2020-06-14",{"$f":"VLOOKUP(D1795,'2020'!$A$16:$G$150,3,FALSE)","v":"Stallung zum Stäg"},{"$f":"VLOOKUP(D1795,'2020'!$A$16:$G$150,2,FALSE)","v":"Benika"},87,69,{"$f":"VLOOKUP(E1795,'2020'!$A$16:$G$150,2,FALSE)","v":"Taverne"},{"$f":"VLOOKUP(E1795,'2020'!$A$16:$G$150,3,FALSE)","v":"Jäger Carlo"}]
["2020-06-14",{"$f":"VLOOKUP(D1796,'2020'!$A$16:$G$150,3,FALSE)","v":"Hischier Pius"},{"$f":"VLOOKUP(D1796,'2020'!$A$16:$G$150,2,FALSE)","v":"Pablo"},54,2,{"$f":"VLOOKUP(E1796,'2020'!$A$16:$G$150,2,FALSE)","v":"Fantastic"},{"$f":"VLOOKUP(E1796,'2020'!$A$16:$G$150,3,FALSE)","v":"Bayard Medard + Gustav"}]
["2020-06-14",{"$f":"VLOOKUP(D1797,'2020'!$A$16:$G$150,3,FALSE)","v":"Bregy Silvan + Patrick"},{"$f":"VLOOKUP(D1797,'2020'!$A$16:$G$150,2,FALSE)","v":"Milow"},12,78,{"$f":"VLOOKUP(E1797,'2020'!$A$16:$G$150,2,FALSE)","v":"Ballerine"},{"$f":"VLOOKUP(E1797,'2020'!$A$16:$G$150,3,FALSE)","v":"Stallung Passeraub"}]
["2020-06-14",{"$f":"VLOOKUP(D1798,'2020'!$A$16:$G$150,3,FALSE)","v":"Stallung zum Stäg"},{"$f":"VLOOKUP(D1798,'2020'!$A$16:$G$150,2,FALSE)","v":"Benika"},87,65,{"$f":"VLOOKUP(E1798,'2020'!$A$16:$G$150,2,FALSE)","v":"Megane"},{"$f":"VLOOKUP(E1798,'2020'!$A$16:$G$150,3,FALSE)","v":"Jäger Carlo"}]
["2020-06-14",{"$f":"VLOOKUP(D1799,'2020'!$A$16:$G$150,3,FALSE)","v":"Bayard Medard + Gustav"},{"$f":"VLOOKUP(D1799,'2020'!$A$16:$G$150,2,FALSE)","v":"Priska"},3,30,{"$f":"VLOOKUP(E1799,'2020'!$A$16:$G$150,2,FALSE)","v":"Bulle"},{"$f":"VLOOKUP(E1799,'2020'!$A$16:$G$150,3,FALSE)","v":"Fam. Leiggener"}]
["2020-06-14",{"$f":"VLOOKUP(D1800,'2020'!$A$16:$G$150,3,FALSE)","v":"Zumofen / Gattlen"},{"$f":"VLOOKUP(D1800,'2020'!$A$16:$G$150,2,FALSE)","v":"Xena"},110,93,{"$f":"VLOOKUP(E1800,'2020'!$A$16:$G$150,2,FALSE)","v":"Carolin"},{"$f":"VLOOKUP(E1800,'2020'!$A$16:$G$150,3,FALSE)","v":"Tscherry E. + B."}]
["2020-06-14",{"$f":"VLOOKUP(D1801,'2020'!$A$16:$G$150,3,FALSE)","v":"Zumofen / Gattlen"},{"$f":"VLOOKUP(D1801,'2020'!$A$16:$G$150,2,FALSE)","v":"Xena"},110,4,{"$f":"VLOOKUP(E1801,'2020'!$A$16:$G$150,2,FALSE)","v":"Vampir"},{"$f":"VLOOKUP(E1801,'2020'!$A$16:$G$150,3,FALSE)","v":"Bayard Medard + Gustav"}]
["2020-06-14",{"$f":"VLOOKUP(D1802,'2020'!$A$16:$G$150,3,FALSE)","v":"Bayard Medard + Gustav"},{"$f":"VLOOKUP(D1802,'2020'!$A$16:$G$150,2,FALSE)","v":"Fantastic"},2,94,{"$f":"VLOOKUP(E1802,'2020'!$A$16:$G$150,2,FALSE)","v":"Cobra"},{"$f":"VLOOKUP(E1802,'2020'!$A$16:$G$150,3,FALSE)","v":"Tscherry E. + B."}]
["2020-06-14",{"$f":"VLOOKUP(D1803,'2020'!$A$16:$G$150,3,FALSE)","v":"Fux W., J., + Wyer Piet"},{"$f":"VLOOKUP(D1803,'2020'!$A$16:$G$150,2,FALSE)","v":"Bacardi"},39,106,{"$f":"VLOOKUP(E1803,'2020'!$A$16:$G$150,2,FALSE)","v":"Rambo"},{"$f":"VLOOKUP(E1803,'2020'!$A$16:$G$150,3,FALSE)","v":"Zumofen / Gattlen"}]
["2020-06-14",{"$f":"VLOOKUP(D1804,'2020'!$A$16:$G$150,3,FALSE)","v":"Zumofen / Gattlen"},{"$f":"VLOOKUP(D1804,'2020'!$A$16:$G$150,2,FALSE)","v":"Rambo"},106,35,{"$f":"VLOOKUP(E1804,'2020'!$A$16:$G$150,2,FALSE)","v":"Valaisanne"},{"$f":"VLOOKUP(E1804,'2020'!$A$16:$G$150,3,FALSE)","v":"Fux W., J., + Wyer Piet"}]
["2020-06-14",{"$f":"VLOOKUP(D1805,'2020'!$A$16:$G$150,3,FALSE)","v":"Wyssen Diego u. Madlen"},{"$f":"VLOOKUP(D1805,'2020'!$A$16:$G$150,2,FALSE)","v":"Rasta"},102,1,{"$f":"VLOOKUP(E1805,'2020'!$A$16:$G$150,2,FALSE)","v":"Diabolo"},{"$f":"VLOOKUP(E1805,'2020'!$A$16:$G$150,3,FALSE)","v":"Bayard Medard + Gustav"}]
["2020-06-14",{"$f":"VLOOKUP(D1806,'2020'!$A$16:$G$150,3,FALSE)","v":"Tscherry E. + B."},{"$f":"VLOOKUP(D1806,'2020'!$A$16:$G$150,2,FALSE)","v":"Cobra"},94,51,{"$f":"VLOOKUP(E1806,'2020'!$A$16:$G$150,2,FALSE)","v":"Jamanda"},{"$f":"VLOOKUP(E1806,'2020'!$A$16:$G$150,3,FALSE)","v":"Hischier H. + Bühlmann J."}]
["2020-06-14",{"$f":"VLOOKUP(D1807,'2020'!$A$16:$G$150,3,FALSE)","v":"Zumofen / Gattlen"},{"$f":"VLOOKUP(D1807,'2020'!$A$16:$G$150,2,FALSE)","v":"Xena"},110,104,{"$f":"VLOOKUP(E1807,'2020'!$A$16:$G$150,2,FALSE)","v":"Xena"},{"$f":"VLOOKUP(E1807,'2020'!$A$16:$G$150,3,FALSE)","v":"Wyssen Diego u. Madlen"}]
["2020-06-14",{"$f":"VLOOKUP(D1808,'2020'!$A$16:$G$150,3,FALSE)","v":"Zumofen / Gattlen"},{"$f":"VLOOKUP(D1808,'2020'!$A$16:$G$150,2,FALSE)","v":"Xena"},110,105,{"$f":"VLOOKUP(E1808,'2020'!$A$16:$G$150,2,FALSE)","v":"Xhyla"},{"$f":"VLOOKUP(E1808,'2020'!$A$16:$G$150,3,FALSE)","v":"Wyssen Diego u. Madlen"}]
["2020-06-14",{"$f":"VLOOKUP(D1809,'2020'!$A$16:$G$150,3,FALSE)","v":"Zumofen / Gattlen"},{"$f":"VLOOKUP(D1809,'2020'!$A$16:$G$150,2,FALSE)","v":"Xena"},110,101,{"$f":"VLOOKUP(E1809,'2020'!$A$16:$G$150,2,FALSE)","v":"Xandria"},{"$f":"VLOOKUP(E1809,'2020'!$A$16:$G$150,3,FALSE)","v":"Wyssen Diego u. Madlen"}]
["2020-06-14",{"$f":"VLOOKUP(D1810,'2020'!$A$16:$G$150,3,FALSE)","v":"Bayard Medard + Gustav"},{"$f":"VLOOKUP(D1810,'2020'!$A$16:$G$150,2,FALSE)","v":"Venus"},6,50,{"$f":"VLOOKUP(E1810,'2020'!$A$16:$G$150,2,FALSE)","v":"Tanja"},{"$f":"VLOOKUP(E1810,'2020'!$A$16:$G$150,3,FALSE)","v":"Gebr. Jäger"}]
["2020-06-14",{"$f":"VLOOKUP(D1811,'2020'!$A$16:$G$150,3,FALSE)","v":"Hischier Pius"},{"$f":"VLOOKUP(D1811,'2020'!$A$16:$G$150,2,FALSE)","v":"Shakira"},56,44,{"$f":"VLOOKUP(E1811,'2020'!$A$16:$G$150,2,FALSE)","v":"Dorina"},{"$f":"VLOOKUP(E1811,'2020'!$A$16:$G$150,3,FALSE)","v":"Gebr. Jäger"}]
["2020-06-14",{"$f":"VLOOKUP(D1812,'2020'!$A$16:$G$150,3,FALSE)","v":"Zumofen / Gattlen"},{"$f":"VLOOKUP(D1812,'2020'!$A$16:$G$150,2,FALSE)","v":"Pinoccio"},116,3,{"$f":"VLOOKUP(E1812,'2020'!$A$16:$G$150,2,FALSE)","v":"Priska"},{"$f":"VLOOKUP(E1812,'2020'!$A$16:$G$150,3,FALSE)","v":"Bayard Medard + Gustav"}]
["2020-06-14",{"$f":"VLOOKUP(D1813,'2020'!$A$16:$G$150,3,FALSE)","v":"Zumofen / Gattlen"},{"$f":"VLOOKUP(D1813,'2020'!$A$16:$G$150,2,FALSE)","v":"Xena"},110,40,{"$f":"VLOOKUP(E1813,'2020'!$A$16:$G$150,2,FALSE)","v":"Toscana"},{"$f":"VLOOKUP(E1813,'2020'!$A$16:$G$150,3,FALSE)","v":"Fux W., J., + Wyer Piet"}]
["2020-06-14",{"$f":"VLOOKUP(D1814,'2020'!$A$16:$G$150,3,FALSE)","v":"Bayard Medard + Gustav"},{"$f":"VLOOKUP(D1814,'2020'!$A$16:$G$150,2,FALSE)","v":"Pandera"},5,48,{"$f":"VLOOKUP(E1814,'2020'!$A$16:$G$150,2,FALSE)","v":"Simba"},{"$f":"VLOOKUP(E1814,'2020'!$A$16:$G$150,3,FALSE)","v":"Gebr. Jäger"}]
["2020-06-14",{"$f":"VLOOKUP(D1815,'2020'!$A$16:$G$150,3,FALSE)","v":"Gebr. Jäger"},{"$f":"VLOOKUP(D1815,'2020'!$A$16:$G$150,2,FALSE)","v":"Simba"},48,3,{"$f":"VLOOKUP(E1815,'2020'!$A$16:$G$150,2,FALSE)","v":"Priska"},{"$f":"VLOOKUP(E1815,'2020'!$A$16:$G$150,3,FALSE)","v":"Bayard Medard + Gustav"}]
["2020-06-14",{"$f":"VLOOKUP(D1816,'2020'!$A$16:$G$150,3,FALSE)","v":"Stallung zum Stäg"},{"$f":"VLOOKUP(D1816,'2020'!$A$16:$G$150,2,FALSE)","v":"Benika"},87,25,{"$f":"VLOOKUP(E1816,'2020'!$A$16:$G$150,2,FALSE)","v":"Calette"},{"$f":"VLOOKUP(E1816,'2020'!$A$16:$G$150,3,FALSE)","v":"Bregy Uli + Pascal"}]
["2020-06-14",{"$f":"VLOOKUP(D1817,'2020'!$A$16:$G$150,3,FALSE)","v":"Zumofen / Gattlen"},{"$f":"VLOOKUP(D1817,'2020'!$A$16:$G$150,2,FALSE)","v":"Pinoccio"},116,6,{"$f":"VLOOKUP(E1817,'2020'!$A$16:$G$150,2,FALSE)","v":"Venus"},{"$f":"VLOOKUP(E1817,'2020'!$A$16:$G$150,3,FALSE)","v":"Bayard Medard + Gustav"}]
["2020-06-14",{"$f":"VLOOKUP(D1818,'2020'!$A$16:$G$150,3,FALSE)","v":"Tscherry E. + B."},{"$f":"VLOOKUP(D1818,'2020'!$A$16:$G$150,2,FALSE)","v":"Carolin"},93,47,{"$f":"VLOOKUP(E1818,'2020'!$A$16:$G$150,2,FALSE)","v":"Tiara"},{"$f":"VLOOKUP(E1818,'2020'!$A$16:$G$150,3,FALSE)","v":"Gebr. Jäger"}]
["2020-06-14",{"$f":"VLOOKUP(D1819,'2020'!$A$16:$G$150,3,FALSE)","v":"Stallung Passeraub"},{"$f":"VLOOKUP(D1819,'2020'!$A$16:$G$150,2,FALSE)","v":"Beres"},77,52,{"$f":"VLOOKUP(E1819,'2020'!$A$16:$G$150,2,FALSE)","v":"Lenja"},{"$f":"VLOOKUP(E1819,'2020'!$A$16:$G$150,3,FALSE)","v":"Hischier H. + Bühlmann J."}]
["2020-06-14",{"$f":"VLOOKUP(D1820,'2020'!$A$16:$G$150,3,FALSE)","v":"Jäger Carlo"},{"$f":"VLOOKUP(D1820,'2020'!$A$16:$G$150,2,FALSE)","v":"Megane"},65,76,{"$f":"VLOOKUP(E1820,'2020'!$A$16:$G$150,2,FALSE)","v":"Babylon"},{"$f":"VLOOKUP(E1820,'2020'!$A$16:$G$150,3,FALSE)","v":"Mathieu Leander + S."}]
["2020-06-14",{"$f":"VLOOKUP(D1821,'2020'!$A$16:$G$150,3,FALSE)","v":"Zumofen / Gattlen"},{"$f":"VLOOKUP(D1821,'2020'!$A$16:$G$150,2,FALSE)","v":"Pinoccio"},116,2,{"$f":"VLOOKUP(E1821,'2020'!$A$16:$G$150,2,FALSE)","v":"Fantastic"},{"$f":"VLOOKUP(E1821,'2020'!$A$16:$G$150,3,FALSE)","v":"Bayard Medard + Gustav"}]
["2020-06-14",{"$f":"VLOOKUP(D1822,'2020'!$A$16:$G$150,3,FALSE)","v":"Sewer R. + Thommen S."},{"$f":"VLOOKUP(D1822,'2020'!$A$16:$G$150,2,FALSE)","v":"Bolera"},91,31,{"$f":"VLOOKUP(E1822,'2020'!$A$16:$G$150,2,FALSE)","v":"Baron"},{"$f":"VLOOKUP(E1822,'2020'!$A$16:$G$150,3,FALSE)","v":"Fam. Leiggener"}]
["2020-06-14",{"$f":"VLOOKUP(D1823,'2020'!$A$16:$G$150,3,FALSE)","v":"Bregy Uli + Pascal"},{"$f":"VLOOKUP(D1823,'2020'!$A$16:$G$150,2,FALSE)","v":"Tiranie"},19,67,{"$f":"VLOOKUP(E1823,'2020'!$A$16:$G$150,2,FALSE)","v":"Micabol"},{"$f":"VLOOKUP(E1823,'2020'!$A$16:$G$150,3,FALSE)","v":"Jäger Carlo"}]
["2020-06-14",{"$f":"VLOOKUP(D1824,'2020'!$A$16:$G$150,3,FALSE)","v":"Fux W., J., + Wyer Piet"},{"$f":"VLOOKUP(D1824,'2020'!$A$16:$G$150,2,FALSE)","v":"Toscana"},40,30,{"$f":"VLOOKUP(E1824,'2020'!$A$16:$G$150,2,FALSE)","v":"Bulle"},{"$f":"VLOOKUP(E1824,'2020'!$A$16:$G$150,3,FALSE)","v":"Fam. Leiggener"}]
["2020-06-14",{"$f":"VLOOKUP(D1825,'2020'!$A$16:$G$150,3,FALSE)","v":"Gebr. Jäger"},{"$f":"VLOOKUP(D1825,'2020'!$A$16:$G$150,2,FALSE)","v":"Simba"},48,1,{"$f":"VLOOKUP(E1825,'2020'!$A$16:$G$150,2,FALSE)","v":"Diabolo"},{"$f":"VLOOKUP(E1825,'2020'!$A$16:$G$150,3,FALSE)","v":"Bayard Medard + Gustav"}]
["2020-06-14",{"$f":"VLOOKUP(D1826,'2020'!$A$16:$G$150,3,FALSE)","v":"Bayard Medard + Gustav"},{"$f":"VLOOKUP(D1826,'2020'!$A$16:$G$150,2,FALSE)","v":"Diabolo"},1,44,{"$f":"VLOOKUP(E1826,'2020'!$A$16:$G$150,2,FALSE)","v":"Dorina"},{"$f":"VLOOKUP(E1826,'2020'!$A$16:$G$150,3,FALSE)","v":"Gebr. Jäger"}]
["2020-06-14",{"$f":"VLOOKUP(D1827,'2020'!$A$16:$G$150,3,FALSE)","v":"Tscherry E. + B."},{"$f":"VLOOKUP(D1827,'2020'!$A$16:$G$150,2,FALSE)","v":"Cobra"},94,4,{"$f":"VLOOKUP(E1827,'2020'!$A$16:$G$150,2,FALSE)","v":"Vampir"},{"$f":"VLOOKUP(E1827,'2020'!$A$16:$G$150,3,FALSE)","v":"Bayard Medard + Gustav"}]
["2020-06-14",{"$f":"VLOOKUP(D1828,'2020'!$A$16:$G$150,3,FALSE)","v":"Fux W., J., + Wyer Piet"},{"$f":"VLOOKUP(D1828,'2020'!$A$16:$G$150,2,FALSE)","v":"Souris"},34,88,{"$f":"VLOOKUP(E1828,'2020'!$A$16:$G$150,2,FALSE)","v":"Malice"},{"$f":"VLOOKUP(E1828,'2020'!$A$16:$G$150,3,FALSE)","v":"Sewer R. + Thommen S."}]
["2020-06-14",{"$f":"VLOOKUP(D1829,'2020'!$A$16:$G$150,3,FALSE)","v":"Zumofen / Gattlen"},{"$f":"VLOOKUP(D1829,'2020'!$A$16:$G$150,2,FALSE)","v":"Xena"},110,3,{"$f":"VLOOKUP(E1829,'2020'!$A$16:$G$150,2,FALSE)","v":"Priska"},{"$f":"VLOOKUP(E1829,'2020'!$A$16:$G$150,3,FALSE)","v":"Bayard Medard + Gustav"}]
["2020-06-14",{"$f":"VLOOKUP(D1830,'2020'!$A$16:$G$150,3,FALSE)","v":"Fux W., J., + Wyer Piet"},{"$f":"VLOOKUP(D1830,'2020'!$A$16:$G$150,2,FALSE)","v":"Souris"},34,116,{"$f":"VLOOKUP(E1830,'2020'!$A$16:$G$150,2,FALSE)","v":"Pinoccio"},{"$f":"VLOOKUP(E1830,'2020'!$A$16:$G$150,3,FALSE)","v":"Zumofen / Gattlen"}]
["2020-06-14",{"$f":"VLOOKUP(D1831,'2020'!$A$16:$G$150,3,FALSE)","v":"Wyssen Diego u. Madlen"},{"$f":"VLOOKUP(D1831,'2020'!$A$16:$G$150,2,FALSE)","v":"Roxana"},103,94,{"$f":"VLOOKUP(E1831,'2020'!$A$16:$G$150,2,FALSE)","v":"Cobra"},{"$f":"VLOOKUP(E1831,'2020'!$A$16:$G$150,3,FALSE)","v":"Tscherry E. + B."}]
["2020-06-14",{"$f":"VLOOKUP(D1832,'2020'!$A$16:$G$150,3,FALSE)","v":"Fux W., J., + Wyer Piet"},{"$f":"VLOOKUP(D1832,'2020'!$A$16:$G$150,2,FALSE)","v":"Toscana"},40,102,{"$f":"VLOOKUP(E1832,'2020'!$A$16:$G$150,2,FALSE)","v":"Rasta"},{"$f":"VLOOKUP(E1832,'2020'!$A$16:$G$150,3,FALSE)","v":"Wyssen Diego u. Madlen"}]
["2020-06-14",{"$f":"VLOOKUP(D1833,'2020'!$A$16:$G$150,3,FALSE)","v":"Tscherry E. + B."},{"$f":"VLOOKUP(D1833,'2020'!$A$16:$G$150,2,FALSE)","v":"Cobra"},94,90,{"$f":"VLOOKUP(E1833,'2020'!$A$16:$G$150,2,FALSE)","v":"Biscot"},{"$f":"VLOOKUP(E1833,'2020'!$A$16:$G$150,3,FALSE)","v":"Sewer R. + Thommen S."}]
["2020-06-14",{"$f":"VLOOKUP(D1834,'2020'!$A$16:$G$150,3,FALSE)","v":"Gebr. Jäger"},{"$f":"VLOOKUP(D1834,'2020'!$A$16:$G$150,2,FALSE)","v":"Simba"},48,62,{"$f":"VLOOKUP(E1834,'2020'!$A$16:$G$150,2,FALSE)","v":"Candice"},{"$f":"VLOOKUP(E1834,'2020'!$A$16:$G$150,3,FALSE)","v":"Jäger Carlo"}]
["2020-06-14",{"$f":"VLOOKUP(D1835,'2020'!$A$16:$G$150,3,FALSE)","v":"Mathieu Leander + S."},{"$f":"VLOOKUP(D1835,'2020'!$A$16:$G$150,2,FALSE)","v":"Babylon"},76,32,{"$f":"VLOOKUP(E1835,'2020'!$A$16:$G$150,2,FALSE)","v":"Mira"},{"$f":"VLOOKUP(E1835,'2020'!$A$16:$G$150,3,FALSE)","v":"Fam. Leiggener"}]
["2020-06-14",{"$f":"VLOOKUP(D1836,'2020'!$A$16:$G$150,3,FALSE)","v":"Gebr. Jäger"},{"$f":"VLOOKUP(D1836,'2020'!$A$16:$G$150,2,FALSE)","v":"Dorina"},44,65,{"$f":"VLOOKUP(E1836,'2020'!$A$16:$G$150,2,FALSE)","v":"Megane"},{"$f":"VLOOKUP(E1836,'2020'!$A$16:$G$150,3,FALSE)","v":"Jäger Carlo"}]
["2020-06-14",{"$f":"VLOOKUP(D1837,'2020'!$A$16:$G$150,3,FALSE)","v":"Fux W., J., + Wyer Piet"},{"$f":"VLOOKUP(D1837,'2020'!$A$16:$G$150,2,FALSE)","v":"Valaisanne"},35,88,{"$f":"VLOOKUP(E1837,'2020'!$A$16:$G$150,2,FALSE)","v":"Malice"},{"$f":"VLOOKUP(E1837,'2020'!$A$16:$G$150,3,FALSE)","v":"Sewer R. + Thommen S."}]
["2020-06-14",{"$f":"VLOOKUP(D1838,'2020'!$A$16:$G$150,3,FALSE)","v":"Sewer R. + Thommen S."},{"$f":"VLOOKUP(D1838,'2020'!$A$16:$G$150,2,FALSE)","v":"Bolera"},91,35,{"$f":"VLOOKUP(E1838,'2020'!$A$16:$G$150,2,FALSE)","v":"Valaisanne"},{"$f":"VLOOKUP(E1838,'2020'!$A$16:$G$150,3,FALSE)","v":"Fux W., J., + Wyer Piet"}]
["2020-06-14",{"$f":"VLOOKUP(D1839,'2020'!$A$16:$G$150,3,FALSE)","v":"Williner Anton"},{"$f":"VLOOKUP(D1839,'2020'!$A$16:$G$150,2,FALSE)","v":"Tigra"},96,119,{"$f":"VLOOKUP(E1839,'2020'!$A$16:$G$150,2,FALSE)","v":"Fayola"},{"$f":"VLOOKUP(E1839,'2020'!$A$16:$G$150,3,FALSE)","v":"Zumofen / Gattlen"}]
["2020-06-14",{"$f":"VLOOKUP(D1840,'2020'!$A$16:$G$150,3,FALSE)","v":"Fux W., J., + Wyer Piet"},{"$f":"VLOOKUP(D1840,'2020'!$A$16:$G$150,2,FALSE)","v":"Valaisanne"},35,30,{"$f":"VLOOKUP(E1840,'2020'!$A$16:$G$150,2,FALSE)","v":"Bulle"},{"$f":"VLOOKUP(E1840,'2020'!$A$16:$G$150,3,FALSE)","v":"Fam. Leiggener"}]
["2020-06-14",{"$f":"VLOOKUP(D1841,'2020'!$A$16:$G$150,3,FALSE)","v":"Fam. Leiggener"},{"$f":"VLOOKUP(D1841,'2020'!$A$16:$G$150,2,FALSE)","v":"Baron"},31,52,{"$f":"VLOOKUP(E1841,'2020'!$A$16:$G$150,2,FALSE)","v":"Lenja"},{"$f":"VLOOKUP(E1841,'2020'!$A$16:$G$150,3,FALSE)","v":"Hischier H. + Bühlmann J."}]
["2020-06-14",{"$f":"VLOOKUP(D1842,'2020'!$A$16:$G$150,3,FALSE)","v":"Fam. Leiggener"},{"$f":"VLOOKUP(D1842,'2020'!$A$16:$G$150,2,FALSE)","v":"Bulle"},30,39,{"$f":"VLOOKUP(E1842,'2020'!$A$16:$G$150,2,FALSE)","v":"Bacardi"},{"$f":"VLOOKUP(E1842,'2020'!$A$16:$G$150,3,FALSE)","v":"Fux W., J., + Wyer Piet"}]
["2020-06-14",{"$f":"VLOOKUP(D1843,'2020'!$A$16:$G$150,3,FALSE)","v":"Fam. Leiggener"},{"$f":"VLOOKUP(D1843,'2020'!$A$16:$G$150,2,FALSE)","v":"Baron"},31,52,{"$f":"VLOOKUP(E1843,'2020'!$A$16:$G$150,2,FALSE)","v":"Lenja"},{"$f":"VLOOKUP(E1843,'2020'!$A$16:$G$150,3,FALSE)","v":"Hischier H. + Bühlmann J."}]
["2020-06-14",{"$f":"VLOOKUP(D1844,'2020'!$A$16:$G$150,3,FALSE)","v":"Sewer R. + Thommen S."},{"$f":"VLOOKUP(D1844,'2020'!$A$16:$G$150,2,FALSE)","v":"Bolera"},91,52,{"$f":"VLOOKUP(E1844,'2020'!$A$16:$G$150,2,FALSE)","v":"Lenja"},{"$f":"VLOOKUP(E1844,'2020'!$A$16:$G$150,3,FALSE)","v":"Hischier H. + Bühlmann J."}]
["2020-06-14",{"$f":"VLOOKUP(D1845,'2020'!$A$16:$G$150,3,FALSE)","v":"Jäger Carlo"},{"$f":"VLOOKUP(D1845,'2020'!$A$16:$G$150,2,FALSE)","v":"Grolla"},61,86,{"$f":"VLOOKUP(E1845,'2020'!$A$16:$G$150,2,FALSE)","v":"Babylon"},{"$f":"VLOOKUP(E1845,'2020'!$A$16:$G$150,3,FALSE)","v":"Stallung zum Stäg"}]
["2020-06-14",{"$f":"VLOOKUP(D1846,'2020'!$A$16:$G$150,3,FALSE)","v":"Zumofen / Gattlen"},{"$f":"VLOOKUP(D1846,'2020'!$A$16:$G$150,2,FALSE)","v":"Maya"},114,98,{"$f":"VLOOKUP(E1846,'2020'!$A$16:$G$150,2,FALSE)","v":"Colonell"},{"$f":"VLOOKUP(E1846,'2020'!$A$16:$G$150,3,FALSE)","v":"Williner Anton"}]
["2020-06-14",{"$f":"VLOOKUP(D1847,'2020'!$A$16:$G$150,3,FALSE)","v":"Zumofen / Gattlen"},{"$f":"VLOOKUP(D1847,'2020'!$A$16:$G$150,2,FALSE)","v":"Xena"},110,3,{"$f":"VLOOKUP(E1847,'2020'!$A$16:$G$150,2,FALSE)","v":"Priska"},{"$f":"VLOOKUP(E1847,'2020'!$A$16:$G$150,3,FALSE)","v":"Bayard Medard + Gustav"}]
["2020-06-14",{"$f":"VLOOKUP(D1848,'2020'!$A$16:$G$150,3,FALSE)","v":"Zumofen / Gattlen"},{"$f":"VLOOKUP(D1848,'2020'!$A$16:$G$150,2,FALSE)","v":"Xena"},110,4,{"$f":"VLOOKUP(E1848,'2020'!$A$16:$G$150,2,FALSE)","v":"Vampir"},{"$f":"VLOOKUP(E1848,'2020'!$A$16:$G$150,3,FALSE)","v":"Bayard Medard + Gustav"}]
["2020-06-14",{"$f":"VLOOKUP(D1849,'2020'!$A$16:$G$150,3,FALSE)","v":"Gebr. Jäger"},{"$f":"VLOOKUP(D1849,'2020'!$A$16:$G$150,2,FALSE)","v":"Dorina"},44,76,{"$f":"VLOOKUP(E1849,'2020'!$A$16:$G$150,2,FALSE)","v":"Babylon"},{"$f":"VLOOKUP(E1849,'2020'!$A$16:$G$150,3,FALSE)","v":"Mathieu Leander + S."}]
["2020-06-14",{"$f":"VLOOKUP(D1850,'2020'!$A$16:$G$150,3,FALSE)","v":"Fam. Leiggener"},{"$f":"VLOOKUP(D1850,'2020'!$A$16:$G$150,2,FALSE)","v":"Rebell"},29,91,{"$f":"VLOOKUP(E1850,'2020'!$A$16:$G$150,2,FALSE)","v":"Bolera"},{"$f":"VLOOKUP(E1850,'2020'!$A$16:$G$150,3,FALSE)","v":"Sewer R. + Thommen S."}]
["2020-06-14",{"$f":"VLOOKUP(D1851,'2020'!$A$16:$G$150,3,FALSE)","v":"Stallung Passeraub "},{"$f":"VLOOKUP(D1851,'2020'!$A$16:$G$150,2,FALSE)","v":"Manou"},80,77,{"$f":"VLOOKUP(E1851,'2020'!$A$16:$G$150,2,FALSE)","v":"Beres"},{"$f":"VLOOKUP(E1851,'2020'!$A$16:$G$150,3,FALSE)","v":"Stallung Passeraub"}]
["2020-06-14",{"$f":"VLOOKUP(D1852,'2020'!$A$16:$G$150,3,FALSE)","v":"Stallung Passeraub"},{"$f":"VLOOKUP(D1852,'2020'!$A$16:$G$150,2,FALSE)","v":"Beres"},77,26,{"$f":"VLOOKUP(E1852,'2020'!$A$16:$G$150,2,FALSE)","v":"Cataleya"},{"$f":"VLOOKUP(E1852,'2020'!$A$16:$G$150,3,FALSE)","v":"Bregy Uli + Pascal"}]
["2020-06-14",{"$f":"VLOOKUP(D1853,'2020'!$A$16:$G$150,3,FALSE)","v":"Fux W., J., + Wyer Piet"},{"$f":"VLOOKUP(D1853,'2020'!$A$16:$G$150,2,FALSE)","v":"Bacardi"},39,116,{"$f":"VLOOKUP(E1853,'2020'!$A$16:$G$150,2,FALSE)","v":"Pinoccio"},{"$f":"VLOOKUP(E1853,'2020'!$A$16:$G$150,3,FALSE)","v":"Zumofen / Gattlen"}]
["2020-06-14",{"$f":"VLOOKUP(D1854,'2020'!$A$16:$G$150,3,FALSE)","v":"Bayard Medard + Gustav"},{"$f":"VLOOKUP(D1854,'2020'!$A$16:$G$150,2,FALSE)","v":"Priska"},3,94,{"$f":"VLOOKUP(E1854,'2020'!$A$16:$G$150,2,FALSE)","v":"Cobra"},{"$f":"VLOOKUP(E1854,'2020'!$A$16:$G$150,3,FALSE)","v":"Tscherry E. + B."}]
["2020-06-14",{"$f":"VLOOKUP(D1855,'2020'!$A$16:$G$150,3,FALSE)","v":"Zumofen / Gattlen"},{"$f":"VLOOKUP(D1855,'2020'!$A$16:$G$150,2,FALSE)","v":"Pinoccio"},116,3,{"$f":"VLOOKUP(E1855,'2020'!$A$16:$G$150,2,FALSE)","v":"Priska"},{"$f":"VLOOKUP(E1855,'2020'!$A$16:$G$150,3,FALSE)","v":"Bayard Medard + Gustav"}]
["2020-06-14",{"$f":"VLOOKUP(D1856,'2020'!$A$16:$G$150,3,FALSE)","v":"Zumofen / Gattlen"},{"$f":"VLOOKUP(D1856,'2020'!$A$16:$G$150,2,FALSE)","v":"Rigolo"},117,51,{"$f":"VLOOKUP(E1856,'2020'!$A$16:$G$150,2,FALSE)","v":"Jamanda"},{"$f":"VLOOKUP(E1856,'2020'!$A$16:$G$150,3,FALSE)","v":"Hischier H. + Bühlmann J."}]
["2020-06-14",{"$f":"VLOOKUP(D1857,'2020'!$A$16:$G$150,3,FALSE)","v":"Gebr. Jäger"},{"$f":"VLOOKUP(D1857,'2020'!$A$16:$G$150,2,FALSE)","v":"Lorens"},46,65,{"$f":"VLOOKUP(E1857,'2020'!$A$16:$G$150,2,FALSE)","v":"Megane"},{"$f":"VLOOKUP(E1857,'2020'!$A$16:$G$150,3,FALSE)","v":"Jäger Carlo"}]
["2020-06-14",{"$f":"VLOOKUP(D1858,'2020'!$A$16:$G$150,3,FALSE)","v":"Stallung Passeraub "},{"$f":"VLOOKUP(D1858,'2020'!$A$16:$G$150,2,FALSE)","v":"Bonita"},82,114,{"$f":"VLOOKUP(E1858,'2020'!$A$16:$G$150,2,FALSE)","v":"Maya"},{"$f":"VLOOKUP(E1858,'2020'!$A$16:$G$150,3,FALSE)","v":"Zumofen / Gattlen"}]
["2020-06-14",{"$f":"VLOOKUP(D1859,'2020'!$A$16:$G$150,3,FALSE)","v":"Stallung Passeraub "},{"$f":"VLOOKUP(D1859,'2020'!$A$16:$G$150,2,FALSE)","v":"Bonita"},82,102,{"$f":"VLOOKUP(E1859,'2020'!$A$16:$G$150,2,FALSE)","v":"Rasta"},{"$f":"VLOOKUP(E1859,'2020'!$A$16:$G$150,3,FALSE)","v":"Wyssen Diego u. Madlen"}]
["2020-06-14",{"$f":"VLOOKUP(D1860,'2020'!$A$16:$G$150,3,FALSE)","v":"Fux W., J., + Wyer Piet"},{"$f":"VLOOKUP(D1860,'2020'!$A$16:$G$150,2,FALSE)","v":"Toscana"},40,81,{"$f":"VLOOKUP(E1860,'2020'!$A$16:$G$150,2,FALSE)","v":"Medusa"},{"$f":"VLOOKUP(E1860,'2020'!$A$16:$G$150,3,FALSE)","v":"Stallung Passeraub "}]
["2020-06-14",{"$f":"VLOOKUP(D1861,'2020'!$A$16:$G$150,3,FALSE)","v":"Zumofen / Gattlen"},{"$f":"VLOOKUP(D1861,'2020'!$A$16:$G$150,2,FALSE)","v":"Maya"},114,94,{"$f":"VLOOKUP(E1861,'2020'!$A$16:$G$150,2,FALSE)","v":"Cobra"},{"$f":"VLOOKUP(E1861,'2020'!$A$16:$G$150,3,FALSE)","v":"Tscherry E. + B."}]
["2020-06-14",{"$f":"VLOOKUP(D1862,'2020'!$A$16:$G$150,3,FALSE)","v":"Jäger Carlo"},{"$f":"VLOOKUP(D1862,'2020'!$A$16:$G$150,2,FALSE)","v":"Bataille"},58,76,{"$f":"VLOOKUP(E1862,'2020'!$A$16:$G$150,2,FALSE)","v":"Babylon"},{"$f":"VLOOKUP(E1862,'2020'!$A$16:$G$150,3,FALSE)","v":"Mathieu Leander + S."}]
["2020-06-14",{"$f":"VLOOKUP(D1863,'2020'!$A$16:$G$150,3,FALSE)","v":"Sewer R. + Thommen S."},{"$f":"VLOOKUP(D1863,'2020'!$A$16:$G$150,2,FALSE)","v":"Bolera"},91,30,{"$f":"VLOOKUP(E1863,'2020'!$A$16:$G$150,2,FALSE)","v":"Bulle"},{"$f":"VLOOKUP(E1863,'2020'!$A$16:$G$150,3,FALSE)","v":"Fam. Leiggener"}]
["2020-06-14",{"$f":"VLOOKUP(D1864,'2020'!$A$16:$G$150,3,FALSE)","v":"Stallung Passeraub "},{"$f":"VLOOKUP(D1864,'2020'!$A$16:$G$150,2,FALSE)","v":"Bonita"},82,104,{"$f":"VLOOKUP(E1864,'2020'!$A$16:$G$150,2,FALSE)","v":"Xena"},{"$f":"VLOOKUP(E1864,'2020'!$A$16:$G$150,3,FALSE)","v":"Wyssen Diego u. Madlen"}]
["2020-06-14",{"$f":"VLOOKUP(D1865,'2020'!$A$16:$G$150,3,FALSE)","v":"Bayard Medard + Gustav"},{"$f":"VLOOKUP(D1865,'2020'!$A$16:$G$150,2,FALSE)","v":"Pandera"},5,94,{"$f":"VLOOKUP(E1865,'2020'!$A$16:$G$150,2,FALSE)","v":"Cobra"},{"$f":"VLOOKUP(E1865,'2020'!$A$16:$G$150,3,FALSE)","v":"Tscherry E. + B."}]
["2020-06-14",{"$f":"VLOOKUP(D1866,'2020'!$A$16:$G$150,3,FALSE)","v":"Stallung zum Stäg"},{"$f":"VLOOKUP(D1866,'2020'!$A$16:$G$150,2,FALSE)","v":"Benika"},87,68,{"$f":"VLOOKUP(E1866,'2020'!$A$16:$G$150,2,FALSE)","v":"Pivoine"},{"$f":"VLOOKUP(E1866,'2020'!$A$16:$G$150,3,FALSE)","v":"Jäger Carlo"}]
["2020-06-14",{"$f":"VLOOKUP(D1867,'2020'!$A$16:$G$150,3,FALSE)","v":"Jäger Carlo"},{"$f":"VLOOKUP(D1867,'2020'!$A$16:$G$150,2,FALSE)","v":"Bayonne"},60,79,{"$f":"VLOOKUP(E1867,'2020'!$A$16:$G$150,2,FALSE)","v":"Marla"},{"$f":"VLOOKUP(E1867,'2020'!$A$16:$G$150,3,FALSE)","v":"Stallung Passeraub "}]
["2020-06-14",{"$f":"VLOOKUP(D1868,'2020'!$A$16:$G$150,3,FALSE)","v":"Zumofen / Gattlen"},{"$f":"VLOOKUP(D1868,'2020'!$A$16:$G$150,2,FALSE)","v":"Vidona"},111,30,{"$f":"VLOOKUP(E1868,'2020'!$A$16:$G$150,2,FALSE)","v":"Bulle"},{"$f":"VLOOKUP(E1868,'2020'!$A$16:$G$150,3,FALSE)","v":"Fam. Leiggener"}]
["2020-06-14",{"$f":"VLOOKUP(D1869,'2020'!$A$16:$G$150,3,FALSE)","v":"Hischier Pius"},{"$f":"VLOOKUP(D1869,'2020'!$A$16:$G$150,2,FALSE)","v":"Shakira"},56,94,{"$f":"VLOOKUP(E1869,'2020'!$A$16:$G$150,2,FALSE)","v":"Cobra"},{"$f":"VLOOKUP(E1869,'2020'!$A$16:$G$150,3,FALSE)","v":"Tscherry E. + B."}]
["2020-06-14",{"$f":"VLOOKUP(D1870,'2020'!$A$16:$G$150,3,FALSE)","v":"Bregy Ralf + Adolf"},{"$f":"VLOOKUP(D1870,'2020'!$A$16:$G$150,2,FALSE)","v":"Canaille"},7,50,{"$f":"VLOOKUP(E1870,'2020'!$A$16:$G$150,2,FALSE)","v":"Tanja"},{"$f":"VLOOKUP(E1870,'2020'!$A$16:$G$150,3,FALSE)","v":"Gebr. Jäger"}]
["2020-06-14",{"$f":"VLOOKUP(D1871,'2020'!$A$16:$G$150,3,FALSE)","v":"Jäger Carlo"},{"$f":"VLOOKUP(D1871,'2020'!$A$16:$G$150,2,FALSE)","v":"Promise"},57,6,{"$f":"VLOOKUP(E1871,'2020'!$A$16:$G$150,2,FALSE)","v":"Venus"},{"$f":"VLOOKUP(E1871,'2020'!$A$16:$G$150,3,FALSE)","v":"Bayard Medard + Gustav"}]
["2020-06-14",{"$f":"VLOOKUP(D1872,'2020'!$A$16:$G$150,3,FALSE)","v":"Bayard Medard + Gustav"},{"$f":"VLOOKUP(D1872,'2020'!$A$16:$G$150,2,FALSE)","v":"Priska"},3,5,{"$f":"VLOOKUP(E1872,'2020'!$A$16:$G$150,2,FALSE)","v":"Pandera"},{"$f":"VLOOKUP(E1872,'2020'!$A$16:$G$150,3,FALSE)","v":"Bayard Medard + Gustav"}]
["2020-06-14",{"$f":"VLOOKUP(D1873,'2020'!$A$16:$G$150,3,FALSE)","v":"Zumofen / Gattlen"},{"$f":"VLOOKUP(D1873,'2020'!$A$16:$G$150,2,FALSE)","v":"Xena"},110,89,{"$f":"VLOOKUP(E1873,'2020'!$A$16:$G$150,2,FALSE)","v":"Tiara"},{"$f":"VLOOKUP(E1873,'2020'!$A$16:$G$150,3,FALSE)","v":"Sewer R. + Thommen S."}]
["2020-06-14",{"$f":"VLOOKUP(D1874,'2020'!$A$16:$G$150,3,FALSE)","v":"Fux W., J., + Wyer Piet"},{"$f":"VLOOKUP(D1874,'2020'!$A$16:$G$150,2,FALSE)","v":"Bacardi"},39,118,{"$f":"VLOOKUP(E1874,'2020'!$A$16:$G$150,2,FALSE)","v":"Vesuv"},{"$f":"VLOOKUP(E1874,'2020'!$A$16:$G$150,3,FALSE)","v":"Zumofen / Gattlen"}]
["2020-06-14",{"$f":"VLOOKUP(D1875,'2020'!$A$16:$G$150,3,FALSE)","v":"Zumofen / Gattlen"},{"$f":"VLOOKUP(D1875,'2020'!$A$16:$G$150,2,FALSE)","v":"Pinoccio"},116,88,{"$f":"VLOOKUP(E1875,'2020'!$A$16:$G$150,2,FALSE)","v":"Malice"},{"$f":"VLOOKUP(E1875,'2020'!$A$16:$G$150,3,FALSE)","v":"Sewer R. + Thommen S."}]
["2020-06-14",{"$f":"VLOOKUP(D1876,'2020'!$A$16:$G$150,3,FALSE)","v":"Tscherry E. + B."},{"$f":"VLOOKUP(D1876,'2020'!$A$16:$G$150,2,FALSE)","v":"Carolin"},93,32,{"$f":"VLOOKUP(E1876,'2020'!$A$16:$G$150,2,FALSE)","v":"Mira"},{"$f":"VLOOKUP(E1876,'2020'!$A$16:$G$150,3,FALSE)","v":"Fam. Leiggener"}]
["2020-06-14",{"$f":"VLOOKUP(D1877,'2020'!$A$16:$G$150,3,FALSE)","v":"Tscherry E. + B."},{"$f":"VLOOKUP(D1877,'2020'!$A$16:$G$150,2,FALSE)","v":"Cobra"},94,57,{"$f":"VLOOKUP(E1877,'2020'!$A$16:$G$150,2,FALSE)","v":"Promise"},{"$f":"VLOOKUP(E1877,'2020'!$A$16:$G$150,3,FALSE)","v":"Jäger Carlo"}]
["2020-06-14",{"$f":"VLOOKUP(D1878,'2020'!$A$16:$G$150,3,FALSE)","v":"Wyssen Diego u. Madlen"},{"$f":"VLOOKUP(D1878,'2020'!$A$16:$G$150,2,FALSE)","v":"Xena"},104,81,{"$f":"VLOOKUP(E1878,'2020'!$A$16:$G$150,2,FALSE)","v":"Medusa"},{"$f":"VLOOKUP(E1878,'2020'!$A$16:$G$150,3,FALSE)","v":"Stallung Passeraub "}]
["2020-06-14",{"$f":"VLOOKUP(D1879,'2020'!$A$16:$G$150,3,FALSE)","v":"Mathieu Leander + S."},{"$f":"VLOOKUP(D1879,'2020'!$A$16:$G$150,2,FALSE)","v":"Baghira"},71,47,{"$f":"VLOOKUP(E1879,'2020'!$A$16:$G$150,2,FALSE)","v":"Tiara"},{"$f":"VLOOKUP(E1879,'2020'!$A$16:$G$150,3,FALSE)","v":"Gebr. Jäger"}]
["2020-06-14",{"$f":"VLOOKUP(D1880,'2020'!$A$16:$G$150,3,FALSE)","v":"Zumofen / Gattlen"},{"$f":"VLOOKUP(D1880,'2020'!$A$16:$G$150,2,FALSE)","v":"Pinoccio"},116,3,{"$f":"VLOOKUP(E1880,'2020'!$A$16:$G$150,2,FALSE)","v":"Priska"},{"$f":"VLOOKUP(E1880,'2020'!$A$16:$G$150,3,FALSE)","v":"Bayard Medard + Gustav"}]
["2020-06-14",{"$f":"VLOOKUP(D1881,'2020'!$A$16:$G$150,3,FALSE)","v":"Stallung zum Stäg"},{"$f":"VLOOKUP(D1881,'2020'!$A$16:$G$150,2,FALSE)","v":"Babylon"},86,68,{"$f":"VLOOKUP(E1881,'2020'!$A$16:$G$150,2,FALSE)","v":"Pivoine"},{"$f":"VLOOKUP(E1881,'2020'!$A$16:$G$150,3,FALSE)","v":"Jäger Carlo"}]
["2020-06-14",{"$f":"VLOOKUP(D1882,'2020'!$A$16:$G$150,3,FALSE)","v":"Zumofen / Gattlen"},{"$f":"VLOOKUP(D1882,'2020'!$A$16:$G$150,2,FALSE)","v":"Xena"},110,95,{"$f":"VLOOKUP(E1882,'2020'!$A$16:$G$150,2,FALSE)","v":"Vivana"},{"$f":"VLOOKUP(E1882,'2020'!$A$16:$G$150,3,FALSE)","v":"Williner Anton"}]
["2020-06-14",{"$f":"VLOOKUP(D1883,'2020'!$A$16:$G$150,3,FALSE)","v":"Zumofen / Gattlen"},{"$f":"VLOOKUP(D1883,'2020'!$A$16:$G$150,2,FALSE)","v":"Rena"},109,88,{"$f":"VLOOKUP(E1883,'2020'!$A$16:$G$150,2,FALSE)","v":"Malice"},{"$f":"VLOOKUP(E1883,'2020'!$A$16:$G$150,3,FALSE)","v":"Sewer R. + Thommen S."}]
["2020-06-14",{"$f":"VLOOKUP(D1884,'2020'!$A$16:$G$150,3,FALSE)","v":"Bregy Ralf + Adolf"},{"$f":"VLOOKUP(D1884,'2020'!$A$16:$G$150,2,FALSE)","v":"Cashida"},15,25,{"$f":"VLOOKUP(E1884,'2020'!$A$16:$G$150,2,FALSE)","v":"Calette"},{"$f":"VLOOKUP(E1884,'2020'!$A$16:$G$150,3,FALSE)","v":"Bregy Uli + Pascal"}]
["2020-06-14",{"$f":"VLOOKUP(D1885,'2020'!$A$16:$G$150,3,FALSE)","v":"Bregy Uli + Pascal"},{"$f":"VLOOKUP(D1885,'2020'!$A$16:$G$150,2,FALSE)","v":"Pandora"},23,84,{"$f":"VLOOKUP(E1885,'2020'!$A$16:$G$150,2,FALSE)","v":"Fägär"},{"$f":"VLOOKUP(E1885,'2020'!$A$16:$G$150,3,FALSE)","v":"Hutter Richard"}]
["2020-06-14",{"$f":"VLOOKUP(D1886,'2020'!$A$16:$G$150,3,FALSE)","v":"Tscherry E. + B."},{"$f":"VLOOKUP(D1886,'2020'!$A$16:$G$150,2,FALSE)","v":"Carolin"},93,47,{"$f":"VLOOKUP(E1886,'2020'!$A$16:$G$150,2,FALSE)","v":"Tiara"},{"$f":"VLOOKUP(E1886,'2020'!$A$16:$G$150,3,FALSE)","v":"Gebr. Jäger"}]
["2020-06-14",{"$f":"VLOOKUP(D1887,'2020'!$A$16:$G$150,3,FALSE)","v":"Zumofen / Gattlen"},{"$f":"VLOOKUP(D1887,'2020'!$A$16:$G$150,2,FALSE)","v":"Riva "},112,2,{"$f":"VLOOKUP(E1887,'2020'!$A$16:$G$150,2,FALSE)","v":"Fantastic"},{"$f":"VLOOKUP(E1887,'2020'!$A$16:$G$150,3,FALSE)","v":"Bayard Medard + Gustav"}]
["2020-06-14",{"$f":"VLOOKUP(D1888,'2020'!$A$16:$G$150,3,FALSE)","v":"Bregy Ralf + Adolf"},{"$f":"VLOOKUP(D1888,'2020'!$A$16:$G$150,2,FALSE)","v":"Flacabre"},16,94,{"$f":"VLOOKUP(E1888,'2020'!$A$16:$G$150,2,FALSE)","v":"Cobra"},{"$f":"VLOOKUP(E1888,'2020'!$A$16:$G$150,3,FALSE)","v":"Tscherry E. + B."}]
["2020-06-14",{"$f":"VLOOKUP(D1889,'2020'!$A$16:$G$150,3,FALSE)","v":"Zumofen / Gattlen"},{"$f":"VLOOKUP(D1889,'2020'!$A$16:$G$150,2,FALSE)","v":"Pinoccio"},116,52,{"$f":"VLOOKUP(E1889,'2020'!$A$16:$G$150,2,FALSE)","v":"Lenja"},{"$f":"VLOOKUP(E1889,'2020'!$A$16:$G$150,3,FALSE)","v":"Hischier H. + Bühlmann J."}]
["2020-06-14",{"$f":"VLOOKUP(D1890,'2020'!$A$16:$G$150,3,FALSE)","v":"Williner Anton"},{"$f":"VLOOKUP(D1890,'2020'!$A$16:$G$150,2,FALSE)","v":"Tigra"},96,114,{"$f":"VLOOKUP(E1890,'2020'!$A$16:$G$150,2,FALSE)","v":"Maya"},{"$f":"VLOOKUP(E1890,'2020'!$A$16:$G$150,3,FALSE)","v":"Zumofen / Gattlen"}]
["2020-06-14",{"$f":"VLOOKUP(D1891,'2020'!$A$16:$G$150,3,FALSE)","v":"Williner Anton"},{"$f":"VLOOKUP(D1891,'2020'!$A$16:$G$150,2,FALSE)","v":"Vivana"},95,112,{"$f":"VLOOKUP(E1891,'2020'!$A$16:$G$150,2,FALSE)","v":"Riva "},{"$f":"VLOOKUP(E1891,'2020'!$A$16:$G$150,3,FALSE)","v":"Zumofen / Gattlen"}]
["2020-06-14",{"$f":"VLOOKUP(D1892,'2020'!$A$16:$G$150,3,FALSE)","v":"Hischier Pius"},{"$f":"VLOOKUP(D1892,'2020'!$A$16:$G$150,2,FALSE)","v":"Pelila"},55,35,{"$f":"VLOOKUP(E1892,'2020'!$A$16:$G$150,2,FALSE)","v":"Valaisanne"},{"$f":"VLOOKUP(E1892,'2020'!$A$16:$G$150,3,FALSE)","v":"Fux W., J., + Wyer Piet"}]
["2020-06-14",{"$f":"VLOOKUP(D1893,'2020'!$A$16:$G$150,3,FALSE)","v":"Tscherry E. + B."},{"$f":"VLOOKUP(D1893,'2020'!$A$16:$G$150,2,FALSE)","v":"Cobra"},94,65,{"$f":"VLOOKUP(E1893,'2020'!$A$16:$G$150,2,FALSE)","v":"Megane"},{"$f":"VLOOKUP(E1893,'2020'!$A$16:$G$150,3,FALSE)","v":"Jäger Carlo"}]
["2020-06-14",{"$f":"VLOOKUP(D1894,'2020'!$A$16:$G$150,3,FALSE)","v":"Jäger Carlo"},{"$f":"VLOOKUP(D1894,'2020'!$A$16:$G$150,2,FALSE)","v":"Sera"},64,31,{"$f":"VLOOKUP(E1894,'2020'!$A$16:$G$150,2,FALSE)","v":"Baron"},{"$f":"VLOOKUP(E1894,'2020'!$A$16:$G$150,3,FALSE)","v":"Fam. Leiggener"}]
["2020-06-14",{"$f":"VLOOKUP(D1895,'2020'!$A$16:$G$150,3,FALSE)","v":"Hischier H. + Bühlmann J."},{"$f":"VLOOKUP(D1895,'2020'!$A$16:$G$150,2,FALSE)","v":"Lenja"},52,51,{"$f":"VLOOKUP(E1895,'2020'!$A$16:$G$150,2,FALSE)","v":"Jamanda"},{"$f":"VLOOKUP(E1895,'2020'!$A$16:$G$150,3,FALSE)","v":"Hischier H. + Bühlmann J."}]
["2020-06-14",{"$f":"VLOOKUP(D1896,'2020'!$A$16:$G$150,3,FALSE)","v":"Tscherry E. + B."},{"$f":"VLOOKUP(D1896,'2020'!$A$16:$G$150,2,FALSE)","v":"Cobra"},94,86,{"$f":"VLOOKUP(E1896,'2020'!$A$16:$G$150,2,FALSE)","v":"Babylon"},{"$f":"VLOOKUP(E1896,'2020'!$A$16:$G$150,3,FALSE)","v":"Stallung zum Stäg"}]

{"sheet":"2020","index":1,"n_rows":143,"n_cols":12,"rows_kept":143,"cut":false,"hidden":false,"merged":[]}
[]
[null,"Alpe Rotigen Turtmanntal"]
[]
[null,null,null,"Alpaufzug vom 13. Juni 2020"]
[]
[]
[null,null,"Königin 2018 + 2019",116,null,null,"Tiere",null,null,null,"Klassiert 2019 und nicht da"]
[]
[null,null,"Trupposiegerin",26,null,"IV","Erstmelken",null,null,null,"Tigres von Fam. Leiggener (9em)"]
[null,null,null,null,null,null,null,null,null,null,"Puma von Zumofen/Gattlen (10em)"]
[null,null,"Klassiert 2019",2,null,"N","Neu (Nicht da 2019)",null,null,null,"Santiago von Bregy Ralf + Adolf (14em)"]
[]
[]
["Nr.","Name","Besitzer","Ort",null,null,"Geb.","BDTA","Mutter","Vater","Klassierungen Alpe","Klassierungen Match"]
[]
[1,"Diabolo","Bayard Medard + Gustav","N`Gampel",null,null,"2011-11-01","120.0898.9041.4","Dragon","@PARATI"]
[2,"Fantastic","Bayard Medard + Gustav","N`Gampel","N",null,"2015-12-01","120.1201.9792.2","Chinook","#CAPO","4em IV Rotigen 19"]
[3,"Priska","Bayard Medard + Gustav","N`Gampel","N",null,"2015-11-01","120.0618.4540.1","Pinka","@MELCHIOR","3em IV Rotigen 19"]
[4,"Vampir","Bayard Medard + Gustav","N`Gampel","N",null,"2015-10-01","120.0618.4536.4","Violette","@MELCHIOR"]
[5,"Pandera","Bayard Medard + Gustav","N`Gampel",null,null,"2014-12-01","120.0618.4534.0","Pinka","PRINZ"]
[6,"Venus","Bayard Medard + Gustav","N`Gampel","N",null,"2014-11-01","120.0618.4532.6","Violette","@MAC"]
[7,"Canaille","Bregy Ralf + Adolf","Unterems",null,null,"2012-10-01","120.0591.3322.0","Chealsy","$BREONA","REINE Rotigen 19     REINE Rotigen 18 \n3em Rotigen 17 \nReine V Rotigen 15","4em V Goler 15"]
[8,"Creola","Bregy Ralf + Adolf","Unterems",null,null,"2011-10-01","120.0935.2375.9","Dorina","$BREONA","5em Rotigen 19 \n13em Rotigen 18 \n12em Rotigen 17 \n3em V Rotigen 14","Reine I Goler 19\n4em IV Kantonal 15\n3em V Goler 14"]
[9,"Flacari","Bregy Ralf + Adolf","Unterems",null,null,"2010-11-01","120.0931.3303.3","Flash","@CARIBOU","4em Rotigen 19              5em Rotigen 18\n10em Rotigen 17 \n15em Rotigen 16  \n4em V Rotigen 13"]
[10,"Diabolo","Bregy Ralf + Adolf","Unterems",null,null,"2014-10-01","120.0591.9312.5","Creola","#TEIRO",null,"Reine 2eme veau Vifra 19  \n4em IV Martigny 18"]
[11,"Carcas","Bregy Ralf + Adolf","Unterems","N","IV","2016-10-01","120.1255.5041.8","Cartouche","#CASINO",null,"Reine V Goler 19"]
[12,"Milow","Bregy Silvan + Patrick","Unterems",null,null,"2011-09-01","120.0931.3304.0","Maruschka","$BREONA","6em Rotigen 19 \n4em Rotigen 18 \n13em Rotigen 17 ","5em II Goler 18 \n2em V Goler 14"]
[13,"Tequilla","Bregy Silvan + Patrick","Unterems",null,null,"2012-12-01","120.0931.3329.3","Tragonja","#TEIRO","11em Rotigen 19"]
[14,"Canabis","Bregy Ralf + Adolf","Unterems",null,null,"2015-11-01","120.1255.5036.4","Canaille","@BISON",null,"2em IV Vifra 19"]
[15,"Cashida","Bregy Ralf + Adolf","Unterems","N","IV","2016-09-01","120.1255.5038.8","Clairon","$BREONA",null,"2em V Goler 19"]
[16,"Flacabre","Bregy Ralf + Adolf","Unterems","N","IV","2016-10-01","120.1255.5039.5","Flacari","$BREONA"]
[17,"Coquette","Bregy Ralf + Adolf","Unterems","N","IV","2016-10-01","120.1255.5043.2","Canaille","#ZIRO"]
[18,"Souki","Bregy Uli + Pascal","Ergisch",null,null,"2009-10-01","120.0745.7355.1","Mirage","COQUIN"]
[19,"Tiranie","Bregy Uli + Pascal","Ergisch",null,null,"2013-11-01","120.1121.4498.9","Tsatagne","ZOLA","Reine IV Vieux They 17"]
[20,"Caline","Bregy Uli + Pascal","Ergisch",null,null,"2010-10-01","120.0919.1804.5","Calimero","$BOCASSA","14em Rotigen 19 \n4em V Rotigen 13","3em IV Goler 14 \n3em V Goler 13"]
[21,"Bora","Bregy Uli + Pascal","Ergisch",null,null,"2012-09-01","120.0999.4111.3","Bobino","@BIRK","12em ZALAN D`AYENT 18"]
[22,"Xaphir","Bregy Uli + Pascal","Ergisch",null,null,"2015-10-01","120.1213.2629.1","Xenja","TOUAREG","5em V Rotigen 18","3em V Goler 18"]
[23,"Pandora","Bregy Uli + Pascal","Ergisch",null,null,"2013-01-01","120.1050.6417.1","Paloma","$TARTUFF"]
[24,"Catalina","Bregy Uli + Pascal","Ergisch",null,null,"2013-10-01","120.1050.6420.1","Caline","SHACARI",null,"6em II Goler 19"]
[25,"Calette","Bregy Uli + Pascal","Ergisch","N","IV","2016-11-01","120.1328.6981.7","Caprice","@FAKIR"]
[26,"Cataleya","Bregy Uli + Pascal","Ergisch","N","IV","2016-11-01","120.1320.9486.8","Caline","$JAKARI"]
[27,"Murphy","Bregy Uli + Pascal","Ergisch","N","IV","2016-12-01","120.1329.8033.8","Manga","@FAKIR"]
[28,"Corona","Bregy Uli + Pascal","Ergisch","N","IV","2016-10-01","120.1249.2515.6","Cobra","CASSIUS"]
[29,"Rebell","Fam. Leiggener","Agarn",null,null,"2010-09-01","120.0761.3757.7","Riva","@BIRK",null,"5em II Goler 16"]
[30,"Bulle","Fam. Leiggener","Agarn",null,null,"2012-11-01","120.1000.4525.0","Briska","#TORRES"]
[31,"Baron","Fam. Leiggener","Agarn",null,null,"2016-01-01","120.1278.5681.5","Bijoux","$VITO"]
[32,"Mira","Fam. Leiggener","Agarn","N","IV","2017-02-01","120.1285.3022.6","Bison","BARON"]
[33,"Baquera","Fux W., J., + Wyer Piet","Eggerberg","N","IV","2016-10-01","120.1273.8032.7","Bataille","CASANOVA"]
[34,"Souris","Fux W., J., + Wyer Piet","Eggerberg",null,null,"2013-11-01","120.1119.8615.3","Santana","TIGER"]
[35,"Valaisanne","Fux W., J., + Wyer Piet","Eggerberg",null,null,"2015-01-01","120.1186.6943.1","Vagabonde","VAMPIR"]
[36,"Calmy","Fux W., J., + Wyer Piet","Eggerberg","N",null,"2015-10-01","120.1262.1659.7","Caprice","VASCO"]
[38,"Bresil","Fux W., J., + Wyer Piet","Eggerberg",null,null,"2013-01-01","120.1055.7163.1","Afifa","#TORRES"]
[39,"Bacardi","Fux W., J., + Wyer Piet","Eggerberg",null,null,"2014-10-01","120.1186.6938.7","Bataille","VASCO",null,"5em 2eme veau Vifra 19"]
[40,"Toscana","Fux W., J., + Wyer Piet","Eggerberg",null,null,"2014-10-01","120.1186.6939.4","Tarzan","TIGER",null,"Reine V Vifra 17"]
[41,"Mystic","Fux W., J., + Wyer Piet","Eggerberg",null,null,"2011-10-01","120.0995.2546.7","Etoile","MAGIC",null,"6em IV Goler 16 \n3em III Goler 18"]
[43,"Pampère","Fux W., J., + Wyer Piet","Eggerberg","N","IV","2016-10-01","120.1273.8034.1","Pigalle","CASANOVA"]
[44,"Dorina","Gebr. Jäger","Turtmann",null,null,"2014-11-01","120.1153.2313.8","Dijone","#KEIRO",null,"6em 2eme veau Vifra 19"]
[45,"Tamango","Gebr. Jäger","Turtmann",null,null,"2010-11-01","120.0919.0508.3","Tina","#KEIRO","6em Rotigen 19           10em Rotigen 17 \n15em Rotigen 16 \n4em V Rotigen 13 ","2em 2eme veau Vifra 15"]
[46,"Lorens","Gebr. Jäger","Turtmann",null,null,"2013-10-01","120.1118.9224.9","Micabol","MONZA",null,"4em IV Goler 17"]
[47,"Tiara","Gebr. Jäger","Turtmann",null,null,"2015-11-01","120.1258.5634.3","Tokyo","$TARTUFF"]
[48,"Simba","Gebr. Jäger","Turtmann",null,null,"2015-10-01","120.1153.2317.6","Sultane","$BOCASSA",null,"4em IV Vifra 19 \n7em V Zermatt 18"]
[49,"Solara","Gebr. Jäger","Turtmann","N","IV","2017-01-01","120.1300.6936.3","Samba","#TEIRO"]
[50,"Tanja","Gebr. Jäger","Turtmann","N","IV","2016-11-01","120.1258.5641.1","Tango","$PECKER"]
[]
[51,"Jamanda","Hischier H. + Bühlmann J.","Oberems",null,null,"2014-12-01","120.1202.2001.9","Janis","@GLOU-GLOU"]
[52,"Lenja","Hischier H. + Bühlmann J.","Oberems",null,null,"2015-11-01","120.1197.2405.4","Lana","#CARNAVAL"]
[53,"Safira","Hischier Pius","Unterems",null,null,"2015-10-01","120.1188.2113.6","Safira","@BISCOTTO"]
[54,"Pablo","Hischier Pius","Unterems",null,null,"2013-12-01","120.0990.3391.7","Puma","$SATYR",null,"2em II Goler 19"]
[55,"Pelila","Hischier Pius","Unterems",null,null,"2013-12-01","120.0990.3390.0","Puma","$SATYR"]
[56,"Shakira","Hischier Pius","Unterems",null,null,"2013-12-01","120.0623.7070.4","Safira","@VALENTINO"]
[57,"Promise","Jäger Carlo","Turtmann",null,null,"2009-10-01","120.0836.1545.7","Princesse","FRANCO","9em Rotigen 19         Reine IV Rotigen 13\nReine V Rotigen 12","7em I Goler 16"]
[58,"Bataille","Jäger Carlo","Turtmann","N",null,"2015-11-01","120.1228.8024.2","Bandit","MILOU",null," 5em V Vifra 18"]
[59,"Maila","Jäger Carlo","Turtmann",null,null,"2012-11-01","120.1055.8462.4","Mona","RAMBAR"]
[60,"Bayonne","Jäger Carlo","Turtmann","N",null,"2015-10-01","120.1228.8022.8","Barlette","MILOU"]
[61,"Grolla","Jäger Carlo","Turtmann","N","IV","2016-09-01","120.1228.8029.7","Gitane","#PRINCE"]
[62,"Candice","Jäger Carlo","Turtmann",null,null,"2014-11-01","120.1151.1687.7","Pinda","MILOU",null,"6em IV Goler 18"]
[63,"Pisa","Jäger Carlo","Turtmann",null,null,"2013-10-01","120.1068.9667.2","Pomette","FAKIR","Reine IV Rotigen 17"]
[64,"Sera","Jäger Carlo","Turtmann",null,null,"2014-10-01","120.1151.1686.0","Brunette","ZETOR","2em IV Rotigen 18 \n3em V Rotigen 17"]
[65,"Megane","Jäger Carlo","Turtmann","N","IV","2016-12-01","120.1335.1507.2","Mandolin","#PRIMUS"]
[66,"Metis","Jäger Carlo","Turtmann","N","IV","2016-11-01","120.1335.1505.8","Mitis","#PRINCE"]
[67,"Micabol","Jäger Carlo","Turtmann","N",null,"2015-10-01","120.1228.8023.5","Magalie","MILOU"]
[68,"Pivoine","Jäger Carlo","Turtmann","N","IV","2016-12-01","120.1333.7067.1","Princesse","@COQUIN 64"]
[69,"Taverne","Jäger Carlo","Turtmann","N ","IV","2016-10-01","120.1270.2454.2","Tina","@CERVIN"]
[70,"Tokio","Jäger Carlo","Turtmann","N",null,"2015-10-01","120.1151.1700.3","Tigresse","MILOU","Reine IV Rotigen 19"]
[71,"Baghira","Mathieu Leander + S.","Albinen",null,null,"2013-11-01","120.0931.3517.4","Baghira ","@CACTUS",null,"6em IV Goler 17"]
[72,"Baronesse","Mathieu Leander + S.","Albinen",null,null,"2014-02-01","120.0931.3527.3","Baron","@BISON"]
[73,"Bavaria","Mathieu Leander + S.","Albinen",null,null,"2012-10-01","120.0930.1107.2","Boa","$TARTUFF"]
[74,"Belon","Mathieu Leander + S.","Albinen",null,null,"2008-11-01","120.0765.3580.9","Bandit","@CAPSULE",null,"6em II Goler 16 \n2em III Kantonal 16 \n2em III Goler 16 \n2em III Goler 14"]
[75,"Bonita","Mathieu Leander + S.","Albinen",null,null,"2012-10-01","120.0930.1109.6","Belon","$VITO"]
[76,"Babylon","Mathieu Leander + S.","Albinen",null,null,"2014-12-01","120.1201.2202.3","Barillo","SHACARI",null,"2em IV Goler 18"]
[77,"Beres","Stallung Passeraub","Getwing","N","IV","2016-10-01","120.1327.2422.2","Belle","#CALIMERO","Reine V Rotigen 19"]
[78,"Ballerine","Stallung Passeraub","Getwing",null,null,"2014-12-01","120.1188.5412.7","Bombache","CACTUS","Reine IV Rotigen 18 \nReine V Rotigen 17","6em IV Kantonal 18 \n3em IV Goler 18 "]
[79,"Marla","Stallung Passeraub ","Getwing","N","IV","2016-09-01","120.1327.2424.6","Mochita","#CORBI"]
[80,"Manou","Stallung Passeraub ","Getwing",null,null,"2013-11-01","120.1118.3994.7","Mamou","MALI"]
[81,"Medusa","Stallung Passeraub ","Getwing",null,null,"2013-10-01","120.1064.0583.6","Mitis","MALI"]
[82,"Bonita","Stallung Passeraub ","Getwing",null,null,"2014-01-01","120.1118.4001.1","Bombache","MALI"]
[83,"Lijuba","Amacker Joelle u. Sven","Getwing","N","IV","2016-09-01","120.1327.2425.3","Linera","$TWISTER","4em V Rotigen 19"]
[84,"Fägär","Hutter Richard","Getwing","N","IV","2016-09-01","120.1327.2427.7","Fortuna","$TWISTER"]
[85,"Bobino","Stallung Passeraub","Getwing",null,null,"2013-11-01","120.1118.4000.4","Berenice","#NAT"]
[86,"Babylon","Stallung zum Stäg","St. Niklaus",null,null,"2015-10-01","120.1062.2041.5","Benika","@DARIUS"]
[87,"Benika","Stallung zum Stäg","St. Niklaus",null,null,"2013-01-01","120.1036.6445.8","Benichou","GITAN"]
[88,"Malice","Sewer R. + Thommen S.","Susten","N",null,"2015-11-01","120.0618.4544.9","Mirage","@MELCHIOR",null,"7em IV Goler 19"]
[89,"Tiara","Sewer R. + Thommen S.","Susten",null,null,"2012-11-01","120.0924.5773.4","Track","@LUCA",null,"7em III Goler 18"]
[90,"Biscot","Sewer R. + Thommen S.","Susten",null,null,"2015-11-01","120.1255.5712.7","Bobino","POUDRE"]
[91,"Bolera","Sewer R. + Thommen S.","Susten",null,null,"2015-10-01","120.1188.0914.1","Bango","FABIUS-FAROUK","4em V Rotigen 18"]
[93,"Carolin","Tscherry E. + B.","Agarn",null,null,"2014-09-01","120.1086.2394.8","Cuba","@NOUNOURS"]
[94,"Cobra","Tscherry E. + B.","Agarn",null,null,"2011-11-01","120.0942.4296.3","Cuba","@PICADOR"]
[95,"Vivana","Williner Anton","Visp",null,null,"2011-11-01","120.0923.7668.4","Violine","BEN ","Reine Griebelalp 18 \n2em Griebelalp 17 \nReine IV Rotigen 15"]
[96,"Tigra","Williner Anton","Visp",null,null,"2012-01-01","120.0955.4046.4","Tina","BEN","2em Griebelalp 18  \n6em Griebelalp 17 \n3em IV Rotigen 15"]
[97,"Vanessa","Williner Anton","Visp",null,null,"2012-11-01","120.0955.4060.0","Vallesia","CHUCK","3em IV Rotigen 16","2em V Goler 15"]
[98,"Colonell","Williner Anton","Visp",null,null,"2013-11-01","120.0687.0260.8","Carmelin","VARIO","5em IV Rotigen 17","7em IV Goler 17"]
[99,"Diva","Williner Anton","Visp",null,null,"2013-11-01","120.0687.0255.4","Dorin","BENO","2em IV Rotigen 17"]
[100,"Tira","Williner Anton","Visp",null,null,"2012-11-01","120.0955.4058.7","Tomba","CHUCK"]
[101,"Xandria","Wyssen Diego u. Madlen","Susten",null,null,"2015-11-01","120.1256.8890.6","Xenia","#TORRO"]
[102,"Rasta","Wyssen Diego u. Madlen","Susten",null,null,"2015-11-01","120.1256.8888.3","Ranja","#TORRO"]
[103,"Roxana","Wyssen Diego u. Madlen","Susten","N",null,"2015-12-01","120.1268.8257.0"]
[104,"Xena","Wyssen Diego u. Madlen","Susten",null,null,"2013-11-01","120.1118.6566.3","Xera","FOUDRE","7em V Rotigen 16"]
[105,"Xhyla","Wyssen Diego u. Madlen","Susten",null,null,"2014-10-01","120.1127.8750.6","Xenia","#TURBULENCE","4em V Rotigen 17 "]
[106,"Rambo","Zumofen / Gattlen","Turtmann",null,null,"2014-09-01","120.0708.7749.3","Rocky ","#VOLERIO"]
[107,"Violin","Zumofen / Gattlen","Turtmann",null,null,"2013-11-01","120.0708.7752.3","Volero","$VITUS",null,"3em 2eme veau Vifra 18"]
[108,"Violette","Zumofen / Gattlen","Turtmann",null,null,"2015-09-01","120.1201.9782.3","Volero ","$BREONA"]
[109,"Rena","Zumofen / Gattlen","Turtmann",null,null,"2016-01-01","120.1269.9552.2","Ruby","@CARIBOU"]
[110,"Xena","Zumofen / Gattlen","Turtmann",null,null,"2012-10-01","120.1051.2928.3","Xenti","@CARIBOU","3em Rotigen 19 \n4em Rotigen 18"]
[111,"Vidona","Zumofen / Gattlen","Turtmann",null,null,"2015-09-01","120.1201.9780.9","Volero","$BREONA"]
[112,"Riva ","Zumofen / Gattlen","Turtmann",null,null,"2015-10-01","120.1201.9784.7","Rocky ","#CAPO"]
[113,"Vanda","Zumofen / Gattlen","Turtmann",null,null,"2015-09-01","120.1201.9781.6","Volero ","$BREONA"]
[114,"Maya","Zumofen / Gattlen","Turtmann","N ","IV","2016-12-01","120.1269.9561.4","Milou","#TORRO"]
[115,"Pepitta","Zumofen / Gattlen","Turtmann","N ",null,"2015-10-01","120.1201.9786.1","Puma","#TORRO"]
[116,"Pinoccio","Zumofen / Gattlen","Turtmann","N ","IV","2016-10-01","120.1269.9557.7","Pengal","FIGGEBENGEL"]
[117,"Rigolo","Zumofen / Gattlen","Turtmann","N ","IV","2016-10-01","120.1269.9554.6","Rocky ","$BREONA"]
[118,"Vesuv","Zumofen / Gattlen","Turtmann","N ","IV","2016-11-01","120.1269.9558.4","Volero","#TORRO"]
[119,"Fayola","Zumofen / Gattlen","Turtmann",null,null,"2014-09-01","120.0708.7750.9","Fiorenza","#VOLERIO"]
[]
[]
[]
[]
[]
[]
[]
[]
[]
[]
["Viel Vergnügen wünscht die Alpgenossenschaft Turtmanntal und die Bestosser der Alpe Rotigen.",null,null,null,null,null,null,null,null,null,null,"© Silvan Bregy"]

{"sheet":"2018","index":2,"n_rows":119,"n_cols":7,"rows_kept":119,"cut":false,"hidden":false,"merged":[[4,0,4,6]]}
[]
[]
[]
[]
["Rot = Troupeau-Siegerin "]
["Nr.","Name","Ohrmarkennr.","Geburtsdat.","Vater","Mutter","Eigentümer"]
[1,"Diabolo","120.0898.9041.4","2011-11-01","@PARATI","Dragon","Bayard Medard + Gustav"]
[2,"Mirabelle","120.0998.9046.6","2012-10-01","MESSI","Merry","Bayard Medard + Gustav"]
[3,"Venus","120.0618.4532.6","2014-11-01","@MAC","Violette","Bayard Medard + Gustav"]
[4,"Ramona","120.0998.9034.3","2011-10-01","$VITUS","Riquita","Bayard Medard + Gustav"]
[5,"Pandera","120.0618.4534.0","2014-12-01","PRINZ","Pinka","Bayard Medard + Gustav"]
[6,"Simba","120.0618.4530.2","2014-10-01","$TOURBILLON","Mousse","Bayard Medard + Gustav"]
[7,"Canaille","120.0591.3322.0","2012-10-01","$BREONA","Chealsy","Bregy Ralf + Adolf"]
[8,"Creola","120.0935.2375.9","2011-10-01","$BREONA","Dorina","Bregy Ralf + Adolf"]
[9,"Flacari","120.0931.3303.3","2010-11-01","@CARIBOU","Flash","Bregy Ralf + Adolf"]
[10,"Diabolo","120.0591.9312.5","2014-10-01","#TEIRO","Creola","Bregy Ralf + Adolf"]
[11,"Santiago","120.0931.3328.6","2012-12-01","#TEIRO","Scheila","Bregy Ralf + Adolf"]
[12,"Milow","120.0931.3304.0","2011-09-01","$BREONA","Maruschka","Bregy Silvan + Patrick"]
[13,"Tequilla","120.0931.3329.3","2012-12-01","#TEIRO","Tragonja","Bregy Silvan + Patrick"]
[14,"Canabis","120.1255.5036.4","2015-11-01","@BISON","Canaille","Bregy Ralf + Adolf"]
[15,"Catalina","120.1050.6420.1","2013-10-01","SHACARI","Caline","Bregy Uli + Pascal"]
[16,"Caline","120.0919.1804.5","2010-10-01","$BOCASSA","Calimero","Bregy Uli + Pascal"]
[17,"Pandora","120.1050.6417.1","2013-01-01","$TARTUFF","Paloma","Bregy Uli + Pascal"]
[18,"Souki","120.0745.7355.1","2009-10-01","COQUIN","Mirage","Bregy Uli + Pascal"]
[19,"Tiranie","120.1121.4498.9","2013-11-01","ZOLA","Tsatagne","Bregy Uli + Pascal"]
[20,"Manga","120.0911.4528.1","2010-11-01","NIRKA","Melodie","Bregy Uli + Pascal"]
[21,"Bora","120.0999.4111.3","2012-09-01","@BIRK","Bobino","Bregy Uli + Pascal"]
[22,"Xaphir","120.1213.2629.1","2015-10-01","TOUAREG","Xenja","Bregy Uli + Pascal"]
[23,"Rebell","120.0761.3757.7","2010-09-01","@BIRK","Riva","Fam. Leiggener"]
[24,"Tigres","120.0745.7790.0","2008-12-01","$BOCASSA","Tito","Fam. Leiggener"]
[25,"Bulle","120.1000.4525.0","2012-11-01","#TORRES","Briska","Fam. Leiggener"]
[26,"Baron","120.1278.5681.5","2016-01-01","$VITO","Bijoux","Fam. Leiggener"]
[27,"Bolero","120.1119.8616.0","2013-11-01","TIGER","Baguera","Fux W., J., + Wyer Piet"]
[28,"Bresil","120.1055.7163.1","2013-01-01","#TORRES","Afifa","Fux W., J., + Wyer Piet"]
[29,"Bacardi","120.1186.6938.7","2014-10-01","VASCO","Bataille","Fux W., J., + Wyer Piet"]
[30,"Toscana","120.1186.6939.4","2014-10-01","TIGER","Tarzan","Fux W., J., + Wyer Piet"]
[31,"Mystic","120.0995.2546.7","2011-10-01","MAGIC","Etoile","Fux W., J., + Wyer Piet"]
[32,"Pigalle","120.0995.2553.5","2011-11-01","MAGIC","Pandora","Fux W., J., + Wyer Piet"]
[33,"Valaisanne","120.1186.6943.1","2015-01-01","VAMPIR","Vagabonde","Fux W., J., + Wyer Piet"]
[34,"Scarlette","120.1186.6941.7","2014-11-01","TIGER","Andora","Fux W., J., + Wyer Piet"]
[35,"Souris","120.1119.8615.3","2013-11-01","TIGER","Santana","Fux W., J., + Wyer Piet"]
[36,"Taylor","120.1118.9230.0","2013-11-01","$TARTUFF","Tamango","Gebr. Jäger"]
[37,"Tamango","120.0919.0508.3","2010-11-01","#KEIRO","Tina","Gebr. Jäger"]
[38,"Lorens","120.1118.9224.9","2013-10-01","MONZA","Micabol","Gebr. Jäger"]
[39,"Tiara","120.1258.5634.3","2015-11-01","$TARTUFF","Tokyo","Gebr. Jäger"]
[40,"Sultane","120.0930.2250.4","2011-11-01","PATOUCHE","Silene","Gebr. Jäger"]
[41,"Delida","120.1258.5637.4","2016-03-01","#KEIRO","Dora","Gebr. Jäger"]
[42,"Simba","120.1153.2317.6","2015-10-01","$BOCASSA","Sultane","Gebr. Jäger"]
[43,"Dorina","120.1153.2313.8","2014-11-01","#KEIRO","Dijone","Gebr. Jäger"]
[44,"Jamanda","120.1202.2001.9","2014-12-01","@GLOU-GLOU","Janis","Hischier H. + Bühlmann J."]
[45,"Lenja","120.1197.2405.4","2015-11-01","#CARNAVAL","Lana","Hischier H. + Bühlmann J."]
[46,"Safira","120.1188.2113.6","2015-10-01","@BISCOTTO","Safira","Hischier Pius"]
[47,"Pablo","120.0990.3391.7","2013-12-01","$SATYR","Puma","Hischier Pius"]
[48,"Pelila","120.0990.3390.0","2013-12-01","$SATYR","Puma","Hischier Pius"]
[49,"Shakira","120.0623.7070.4","2013-12-01","@VALENTINO","Safira","Hischier Pius"]
[50,"Sera","120.1151.1686.0","2014-10-01","ZETOR","Brunette","Jäger Carlo"]
[51,"Guxa","120.0764.2445.5","2009-10-01","XAVER","Yakin","Jäger Carlo"]
[52,"Maila","120.1055.8462.4","2012-11-01","RAMBAR","Mona","Jäger Carlo"]
[53,"Tzigane","120.1151.1699.0","2015-10-01","MILOU","Tigresse","Jäger Carlo"]
[54,"Paloma","120.1068.9664.1","2013-03-01","NERO","Princesse","Jäger Carlo"]
[55,"Candice","120.1151.1687.7","2014-11-01","MILOU","Pinda","Jäger Carlo"]
[56,"Pisa","120.1068.9667.2","2013-10-01","FAKIR","Pomette","Jäger Carlo"]
[57,"Promise","120.0836.1545.7","2009-10-01","FRANCO","Princesse","Jäger Carlo"]
[58,"Turin","120.1042.9272.8","2012-10-01","NERO","Turco","Jäger Carlo"]
[59,"Baghira","120.0931.3517.4","2013-11-01","@CACTUS","Baghira ","Mathieu Leander + S."]
[60,"Bambino","120.0931.3525.9","2013-10-01","@NATI","Bambi","Mathieu Leander + S."]
[61,"Baronesse","120.0931.3527.3","2014-02-01","@BISON","Baron","Mathieu Leander + S."]
[62,"Bavaria","120.0930.1107.2","2012-10-01","$TARTUFF","Boa","Mathieu Leander + S."]
[63,"Belon","120.0765.3580.9","2008-11-01","@CAPSULE","Bandit","Mathieu Leander + S."]
[64,"Bonita","120.0930.1109.6","2012-10-01","$VITO","Belon","Mathieu Leander + S."]
[65,"Bijou","120.1201.2201.6","2014-11-01","@MAC","Baquera","Mathieu Leander + S."]
[66,"Babylon","120.1201.2202.3","2014-12-01","SHACARI","Barillo","Mathieu Leander + S."]
[67,"Ballerine","120.1188.5412.7","2014-12-01","CACTUS","Bombache","Stallung Passeraub"]
[68,"Bulle","120.1118.3996.1","2013-11-01","#NAT","Berenice","Stallung Passeraub"]
[69,"Manou","120.1118.3994.7","2013-11-01","MALI","Mamou","Stallung Passeraub "]
[70,"Medusa","120.1064.0583.6","2013-10-01","MALI","Mitis","Stallung Passeraub "]
[71,"Bonita","120.1118.4001.1","2014-01-01","MALI","Bombache","Stallung Passeraub "]
[72,"Mirette","120.0623.0762.5","2008-10-01","@BRONSON","Moustique","Stallung Passeraub"]
[73,"Baghera","120.1118.3998.5","2013-11-01","MALI","Berenice","Stallung Passeraub"]
[74,"Bobino","120.1118.4000.4","2013-11-01","#NAT","Berenice","Stallung Passeraub"]
[75,"Pandora","120.0806.0680.9","2012-12-01","@POLUX","Gibsy","Stallung zum Stäg"]
[76,"Babylon","120.1062.2041.5","2015-10-01","@DARIUS","Benika","Stallung zum Stäg"]
[77,"Benika","120.1036.6445.8","2013-01-01","GITAN","Benichou","Stallung zum Stäg"]
[78,"Diaries","120.0990.8567.1","2012-12-01","CLINTON","Orcas","Stallung zum Stäg"]
[79,"Tabhita","120.0924.5768.0","2011-12-01","@TOSKANI","Turon","Sewer R. + Thommen S."]
[80,"Tiara","120.0924.5773.4","2012-11-01","@LUCA","Track","Sewer R. + Thommen S."]
[81,"Biscot","120.1255.5712.7","2015-11-01","POUDRE","Bobino","Sewer R. + Thommen S."]
[82,"Bolera","120.1188.0914.1","2015-10-01","FABIUS-FAROUK","Bango","Sewer R. + Thommen S."]
[83,"Carolin","120.1086.2394.8","2014-09-01","@NOUNOURS","Cuba","Tscherry E. + B."]
[84,"Cobra","120.0942.4296.3","2011-11-01","@PICADOR","Cuba","Tscherry E. + B."]
[85,"Vivana","120.0923.7668.4","2011-11-01","BEN ","Violine","Williner Anton"]
[86,"Tigra","120.0955.4046.4","2012-01-01","BEN","Tina","Williner Anton"]
[87,"Vanessa","120.0955.4060.0","2012-11-01","CHUCK","Vallesia","Williner Anton"]
[88,"Colonell","120.0687.0260.8","2013-11-01","VARIO","Carmelin","Williner Anton"]
[89,"Diva","120.0687.0255.4","2013-11-01","BENO","Dorin","Williner Anton"]
[90,"Tira","120.0955.4058.7","2012-11-01","CHUCK","Tomba","Williner Anton"]
[91,"Xandria","120.1256.8890.6","2015-11-01","#TORRO","Xenia","Wyssen Diego u. Madlen"]
[92,"Rasta","120.1256.8888.3","2015-11-01","#TORRO","Ranja","Wyssen Diego u. Madlen"]
[93,"Xana","120.1256.8886.9","2015-10-01","$TERREUR","Xantia","Wyssen Diego u. Madlen"]
[94,"Xanja","120.1118.6567.0","2013-11-01","#TURBULENCE","Xenia","Wyssen Diego u. Madlen"]
[95,"Xena","120.1118.6566.3","2013-11-01","FOUDRE","Xera","Wyssen Diego u. Madlen"]
[96,"Xhyla","120.1127.8750.6","2014-10-01","#TURBULENCE","Xenia","Wyssen Diego u. Madlen"]
[97,"Napapiri","120.1054.6787.3","2012-10-01","BIMI","Nana","Zumoberhaus P. + Familie"]
[98,"Ninja","120.1258.8838.2","2015-12-01","TAO","Nana","Zumoberhaus P. + Familie"]
[99,"Rena","120.1269.9552.2","2016-01-01","@CARIBOU","Ruby","Zumofen / Gattlen"]
[100,"Ahkira","120.1118.4004.2","2014-10-01","$BREONA","Arizona","Zumofen / Gattlen"]
[101,"Fangio","120.1095.6908.5","2013-11-01","RAMBO","Fiasco","Zumofen / Gattlen"]
[102,"Fayola","120.0708.7750.9","2014-09-01","#VOLERIO","Fiorenza","Zumofen / Gattlen"]
[103,"Milou","120.0944.5559.2","2011-10-01","NESTOR","Pinson","Zumofen / Gattlen"]
[104,"Adonis","120.1201.9788.5","2015-11-01","#CAPO","Adonis","Zumofen / Gattlen"]
[105,"Puma","120.0875.3387.0","2010-11-01","@CARIBOU","Puma","Zumofen / Gattlen"]
[106,"Rambo","120.0708.7749.3","2014-09-01","#VOLERIO","Rocky ","Zumofen / Gattlen"]
[107,"Violin","120.0708.7752.3","2013-11-01","$VITUS","Volero","Zumofen / Gattlen"]
[108,"Violette","120.1201.9782.3","2015-09-01","$BREONA","Volero ","Zumofen / Gattlen"]
[109,"Vulcana","120.0708.7755.4","2014-10-01","@GLOU-GLOU","Vandale","Zumofen / Gattlen"]
[110,"Xena","120.1051.2928.3","2012-10-01","@CARIBOU","Xenti","Zumofen / Gattlen"]
[111,"Vidona","120.1201.9780.9","2015-09-01","$BREONA","Volero","Zumofen / Gattlen"]
[112,"Riva ","120.1201.9784.7","2015-10-01","#CAPO","Rocky ","Zumofen / Gattlen"]
[113,"Vanda","120.1201.9781.6","2015-09-01","$BREONA","Volero ","Zumofen / Gattlen"]

{"sheet":"2019","index":3,"n_rows":131,"n_cols":12,"rows_kept":131,"cut":false,"hidden":false,"merged":[]}
[]
[null,"Alpe Rotigen Turtmanntal"]
[]
[null,null,null,"Alpaufzug vom 15. Juni 2019"]
[]
[]
[null,null,"Königin 2018",113,null,null,"Tiere",null,null,null,"Klassiert 2018 und nicht da"]
[null,null,null,22,null,"IV","Erstmelken",null,null,null,"Tango von Gebr. Jäger (9em)"]
[null,null,"Trupposiegerin",38,null,"N","Neu (Nicht da 2018)",null,null,null,"Rambo von Familie Leiggener (15em)"]
[null,null,null,51,null,null,"Glocken an Ringkuhkämpfen (Insgesamt)"]
[null,null,"Klassiert 2018",37,null,null,"Klassierte Tiere an Ringkuhkämpfen"]
[]
[]
["Nr.","Name","Besitzer","Ort",null,null,"Geb.","BDTA","Mutter","Vater","Klassierungen Alpe","Klassierungen Match"]
[]
[1,"Diabolo","Bayard Medard + Gustav","N`Gampel",null,null,"2011-11-01","120.0898.9041.4","Dragon","@PARATI"]
[2,"Mirabelle","Bayard Medard + Gustav","N`Gampel",null,null,"2012-10-01","120.0998.9046.6","Merry","MESSI"]
[3,"Venus","Bayard Medard + Gustav","N`Gampel","N",null,"2014-11-01","120.0618.4532.6","Violette","@MAC"]
[4,"Ramona","Bayard Medard + Gustav","N`Gampel",null,null,"2011-10-01","120.0998.9034.3","Riquita","$VITUS",null,"4em IV Goler 15"]
[5,"Pandera","Bayard Medard + Gustav","N`Gampel","N",null,"2014-12-01","120.0618.4534.0","Pinka","PRINZ"]
[6,"Simba","Bayard Medard + Gustav","N`Gampel","N",null,"2014-10-01","120.0618.4530.2","Mousse","$TOURBILLON"]
[7,"Canaille","Bregy Ralf + Adolf","Unterems",null,null,"2012-10-01","120.0591.3322.0","Chealsy","$BREONA","REINE Rotigen 18 \n3em Rotigen 17 \nReine V Rotigen 15","4em V Goler 15"]
[8,"Creola","Bregy Ralf + Adolf","Unterems",null,null,"2011-10-01","120.0935.2375.9","Dorina","$BREONA","13em Rotigen 18 \n12em Rotigen 17 \n3em V Rotigen 14","Reine I Goler 19\n4em IV Kantonal 15\n3em V Goler 14"]
[9,"Flacari","Bregy Ralf + Adolf","Unterems",null,null,"2010-11-01","120.0931.3303.3","Flash","@CARIBOU","5em Rotigen 18 \n10em Rotigen 17 \n15em Rotigen 16  \n4em V Rotigen 13"]
[10,"Diabolo","Bregy Ralf + Adolf","Unterems",null,null,"2014-10-01","120.0591.9312.5","Creola","#TEIRO",null,"Reine 2eme veau Vifra 19 - \n4em IV Martigny 18"]
[11,"Santiago","Bregy Ralf + Adolf","Unterems",null,null,"2012-12-01","120.0931.3328.6","Scheila","#TEIRO",null,"3em IV Goler 16"]
[12,"Milow","Bregy Silvan + Patrick","Unterems",null,null,"2011-09-01","120.0931.3304.0","Maruschka","$BREONA","4em Rotigen 18 \n13em Rotigen 17 ","5em II Goler 18 \n2em V Goler 14"]
[13,"Tequilla","Bregy Silvan + Patrick","Unterems",null,null,"2012-12-01","120.0931.3329.3","Tragonja","#TEIRO"]
[14,"Canabis","Bregy Ralf + Adolf","Unterems","N","IV","2015-11-01","120.1255.5036.4","Canaille","@BISON",null,"2em IV Vifra 19"]
[15,"Catalina","Bregy Uli + Pascal","Ergisch",null,null,"2013-10-01","120.1050.6420.1","Caline","SHACARI"]
[16,"Caline","Bregy Uli + Pascal","Ergisch",null,null,"2010-10-01","120.0919.1804.5","Calimero","$BOCASSA","4em V Rotigen 13","3em IV Goler 14 \n3em V Goler 13"]
[17,"Pandora","Bregy Uli + Pascal","Ergisch",null,null,"2013-01-01","120.1050.6417.1","Paloma","$TARTUFF"]
[18,"Souki","Bregy Uli + Pascal","Ergisch",null,null,"2009-10-01","120.0745.7355.1","Mirage","COQUIN"]
[19,"Tiranie","Bregy Uli + Pascal","Ergisch",null,null,"2013-11-01","120.1121.4498.9","Tsatagne","ZOLA","Reine IV Vieux They 17"]
[20,"Manga","Bregy Uli + Pascal","Ergisch","N",null,"2010-11-01","120.0911.4528.1","Melodie","NIRKA","9em LES ARS 16 \n8em LES ARS 18"]
[21,"Bora","Bregy Uli + Pascal","Ergisch","N",null,"2012-09-01","120.0999.4111.3","Bobino","@BIRK","12em ZALAN D`AYENT 18"]
[22,"Xaphir","Bregy Uli + Pascal","Ergisch","N","IV","2015-10-01","120.1213.2629.1","Xenja","TOUAREG","5em V Rotigen 18","3em V Goler 18"]
[23,"Rebell","Fam. Leiggener","Agarn",null,null,"2010-09-01","120.0761.3757.7","Riva","@BIRK",null,"5em II Goler 16"]
[24,"Tigres","Fam. Leiggener","Agarn",null,null,"2008-12-01","120.0745.7790.0","Tito","$BOCASSA",null,"2em II Goler 15"]
[25,"Bulle","Fam. Leiggener","Agarn",null,null,"2012-11-01","120.1000.4525.0","Briska","#TORRES"]
[26,"Baron","Fam. Leiggener","Agarn","N","IV","2016-01-01","120.1278.5681.5","Bijoux","$VITO"]
[27,"Bolero","Fux W., J., + Wyer Piet","Eggerberg",null,null,"2013-11-01","120.1119.8616.0","Baguera","TIGER"]
[28,"Bresil","Fux W., J., + Wyer Piet","Eggerberg",null,null,"2013-01-01","120.1055.7163.1","Afifa","#TORRES"]
[29,"Bacardi","Fux W., J., + Wyer Piet","Eggerberg","N",null,"2014-10-01","120.1186.6938.7","Bataille","VASCO",null,"5em 2eme veau Vifra 19"]
[30,"Toscana","Fux W., J., + Wyer Piet","Eggerberg","N",null,"2014-10-01","120.1186.6939.4","Tarzan","TIGER",null,"Reine V Vifra 17"]
[31,"Mystic","Fux W., J., + Wyer Piet","Eggerberg",null,null,"2011-10-01","120.0995.2546.7","Etoile","MAGIC",null,"6em IV Goler 16 \n3em III Goler 18"]
[32,"Pigalle","Fux W., J., + Wyer Piet","Eggerberg",null,null,"2011-11-01","120.0995.2553.5","Pandora","MAGIC"]
[33,"Valaisanne","Fux W., J., + Wyer Piet","Eggerberg",null,null,"2015-01-01","120.1186.6943.1","Vagabonde","VAMPIR"]
[34,"Scarlette","Fux W., J., + Wyer Piet","Eggerberg",null,null,"2014-11-01","120.1186.6941.7","Andora","TIGER"]
[35,"Souris","Fux W., J., + Wyer Piet","Eggerberg",null,null,"2013-11-01","120.1119.8615.3","Santana","TIGER"]
[36,"Taylor","Gebr. Jäger","Turtmann",null,null,"2013-11-01","120.1118.9230.0","Tamango","$TARTUFF"]
[37,"Tamango","Gebr. Jäger","Turtmann",null,null,"2010-11-01","120.0919.0508.3","Tina","#KEIRO","10em Rotigen 17 \n15em Rotigen 16 \n4em V Rotigen 13 ","2em 2eme veau Vifra 15"]
[38,"Lorens","Gebr. Jäger","Turtmann",null,null,"2013-10-01","120.1118.9224.9","Micabol","MONZA",null,"4em IV Goler 17"]
[39,"Tiara","Gebr. Jäger","Turtmann","N","IV","2015-11-01","120.1258.5634.3","Tokyo","$TARTUFF"]
[40,"Sultane","Gebr. Jäger","Turtmann","N",null,"2011-11-01","120.0930.2250.4","Silene","PATOUCHE",null,"7em I Zermatt 18 \n7em II Goler 17 \n5em 2eme veau Vifra 15"]
[41,"Delida","Gebr. Jäger","Turtmann","N","IV","2016-03-01","120.1258.5637.4","Dora","#KEIRO"]
[42,"Simba","Gebr. Jäger","Turtmann","N","IV","2015-10-01","120.1153.2317.6","Sultane","$BOCASSA",null,"4em IV Vifra 19 \n7em V Zermatt 18"]
[43,"Dorina","Gebr. Jäger","Turtmann",null,null,"2014-11-01","120.1153.2313.8","Dijone","#KEIRO",null,"6em 2eme veau Vifra 19"]
[44,"Jamanda","Hischier H. + Bühlmann J.","Oberems","N",null,"2014-12-01","120.1202.2001.9","Janis","@GLOU-GLOU"]
[45,"Lenja","Hischier H. + Bühlmann J.","Oberems","N","IV","2015-11-01","120.1197.2405.4","Lana","#CARNAVAL"]
[46,"Safira","Hischier Pius","Unterems","N","IV","2015-10-01","120.1188.2113.6","Safira","@BISCOTTO"]
[47,"Pablo","Hischier Pius","Unterems",null,null,"2013-12-01","120.0990.3391.7","Puma","$SATYR"]
[48,"Pelila","Hischier Pius","Unterems",null,null,"2013-12-01","120.0990.3390.0","Puma","$SATYR"]
[49,"Shakira","Hischier Pius","Unterems",null,null,"2013-12-01","120.0623.7070.4","Safira","@VALENTINO"]
[50,"Sera","Jäger Carlo","Turtmann","N",null,"2014-10-01","120.1151.1686.0","Brunette","ZETOR","2em IV Rotigen 18 \n3em V Rotigen 17"]
[51,"Guxa","Jäger Carlo","Turtmann",null,null,"2009-10-01","120.0764.2445.5","Yakin","XAVER","10em CHEMEUILLE 17 "," Reine V Vifra 12"]
[52,"Maila","Jäger Carlo","Turtmann",null,null,"2012-11-01","120.1055.8462.4","Mona","RAMBAR"]
[53,"Tzigane","Jäger Carlo","Turtmann","N","IV","2015-10-01","120.1151.1699.0","Tigresse","MILOU"]
[54,"Paloma","Jäger Carlo","Turtmann",null,null,"2013-03-01","120.1068.9664.1","Princesse","NERO"]
[55,"Candice","Jäger Carlo","Turtmann","N",null,"2014-11-01","120.1151.1687.7","Pinda","MILOU",null,"6em IV Goler 18"]
[56,"Pisa","Jäger Carlo","Turtmann",null,null,"2013-10-01","120.1068.9667.2","Pomette","FAKIR","Reine IV Rotigen 17"]
[57,"Promise","Jäger Carlo","Turtmann",null,null,"2009-10-01","120.0836.1545.7","Princesse","FRANCO","Reine IV Rotigen 13\nReine V Rotigen 12","7em I Goler 16"]
[58,"Turin","Jäger Carlo","Turtmann",null,null,"2012-10-01","120.1042.9272.8","Turco","NERO","4em V Rotigen 15","3em 2eme veau Vifra 17 \n5em IV Goler 16"]
[59,"Baghira","Mathieu Leander + S.","Albinen",null,null,"2013-11-01","120.0931.3517.4","Baghira ","@CACTUS",null,"6em IV Goler 17"]
[60,"Bambino","Mathieu Leander + S.","Albinen",null,null,"2013-10-01","120.0931.3525.9","Bambi","@NATI"]
[61,"Baronesse","Mathieu Leander + S.","Albinen",null,null,"2014-02-01","120.0931.3527.3","Baron","@BISON"]
[62,"Bavaria","Mathieu Leander + S.","Albinen",null,null,"2012-10-01","120.0930.1107.2","Boa","$TARTUFF"]
[63,"Belon","Mathieu Leander + S.","Albinen",null,null,"2008-11-01","120.0765.3580.9","Bandit","@CAPSULE",null,"6em II Goler 16 \n2em III Kantonal 16 \n2em III Goler 16 \n2em III Goler 14"]
[64,"Bonita","Mathieu Leander + S.","Albinen",null,null,"2012-10-01","120.0930.1109.6","Belon","$VITO"]
[65,"Bijou","Mathieu Leander + S.","Albinen","N",null,"2014-11-01","120.1201.2201.6","Baquera","@MAC",null,"7em IV Goler 18"]
[66,"Babylon","Mathieu Leander + S.","Albinen","N",null,"2014-12-01","120.1201.2202.3","Barillo","SHACARI",null,"2em IV Goler 18"]
[67,"Ballerine","Stallung Passeraub","Getwing","N",null,"2014-12-01","120.1188.5412.7","Bombache","CACTUS","Reine IV Rotigen 18 \nReine V Rotigen 17","6em IV Kantonal 18 \n3em IV Goler 18 "]
[68,"Bulle","Stallung Passeraub","Getwing",null,null,"2013-11-01","120.1118.3996.1","Berenice","#NAT"]
[69,"Manou","Stallung Passeraub ","Getwing",null,null,"2013-11-01","120.1118.3994.7","Mamou","MALI"]
[70,"Medusa","Stallung Passeraub ","Getwing",null,null,"2013-10-01","120.1064.0583.6","Mitis","MALI"]
[71,"Bonita","Stallung Passeraub ","Getwing",null,null,"2014-01-01","120.1118.4001.1","Bombache","MALI"]
[72,"Mirette","Stallung Passeraub","Getwing",null,null,"2008-10-01","120.0623.0762.5","Moustique","@BRONSON","10em Rotigen 16\n10em Rotigen 17"]
[73,"Baghera","Stallung Passeraub","Getwing",null,null,"2013-11-01","120.1118.3998.5","Berenice","MALI",null,"5em IV Mayens de Conthey 17"]
[74,"Bobino","Stallung Passeraub","Getwing",null,null,"2013-11-01","120.1118.4000.4","Berenice","#NAT"]
[75,"Pandora","Stallung zum Stäg","St. Niklaus",null,null,"2012-12-01","120.0806.0680.9","Gibsy","@POLUX"]
[76,"Babylon","Stallung zum Stäg","St. Niklaus","N","IV","2015-10-01","120.1062.2041.5","Benika","@DARIUS"]
[77,"Benika","Stallung zum Stäg","St. Niklaus",null,null,"2013-01-01","120.1036.6445.8","Benichou","GITAN"]
[78,"Diaries","Stallung zum Stäg","St. Niklaus",null,null,"2012-12-01","120.0990.8567.1","Orcas","CLINTON"]
[79,"Tabhita","Sewer R. + Thommen S.","Susten",null,null,"2011-12-01","120.0924.5768.0","Turon","@TOSKANI"]
[80,"Tiara","Sewer R. + Thommen S.","Susten",null,null,"2012-11-01","120.0924.5773.4","Track","@LUCA",null,"7em III Goler 18"]
[81,"Biscot","Sewer R. + Thommen S.","Susten","N","IV","2015-11-01","120.1255.5712.7","Bobino","POUDRE"]
[82,"Bolera","Sewer R. + Thommen S.","Susten","N","IV","2015-10-01","120.1188.0914.1","Bango","FABIUS-FAROUK","4em V Rotigen 18"]
[83,"Carolin","Tscherry E. + B.","Agarn",null,null,"2014-09-01","120.1086.2394.8","Cuba","@NOUNOURS"]
[84,"Cobra","Tscherry E. + B.","Agarn",null,null,"2011-11-01","120.0942.4296.3","Cuba","@PICADOR"]
[85,"Vivana","Williner Anton","Visp","N",null,"2011-11-01","120.0923.7668.4","Violine","BEN ","Reine Griebelalp 18 \n2em Griebelalp 17 \nReine IV Rotigen 15"]
[86,"Tigra","Williner Anton","Visp","N",null,"2012-01-01","120.0955.4046.4","Tina","BEN","2em Griebelalp 18  \n6em Griebelalp 17 \n3em IV Rotigen 15"]
[87,"Vanessa","Williner Anton","Visp",null,null,"2012-11-01","120.0955.4060.0","Vallesia","CHUCK","3em IV Rotigen 16","2em V Goler 15"]
[88,"Colonell","Williner Anton","Visp",null,null,"2013-11-01","120.0687.0260.8","Carmelin","VARIO","5em IV Rotigen 17","7em IV Goler 17"]
[89,"Diva","Williner Anton","Visp",null,null,"2013-11-01","120.0687.0255.4","Dorin","BENO","2em IV Rotigen 17"]
[90,"Tira","Williner Anton","Visp",null,null,"2012-11-01","120.0955.4058.7","Tomba","CHUCK"]
[91,"Xandria","Wyssen Diego u. Madlen","Susten","N","IV","2015-11-01","120.1256.8890.6","Xenia","#TORRO"]
[92,"Rasta","Wyssen Diego u. Madlen","Susten","N","IV","2015-11-01","120.1256.8888.3","Ranja","#TORRO"]
[93,"Xana","Wyssen Diego u. Madlen","Susten","N","IV","2015-10-01","120.1256.8886.9","Xantia","$TERREUR"]
[94,"Xanja","Wyssen Diego u. Madlen","Susten",null,null,"2013-11-01","120.1118.6567.0","Xenia","#TURBULENCE","7em V Rotigen 16"]
[95,"Xena","Wyssen Diego u. Madlen","Susten",null,null,"2013-11-01","120.1118.6566.3","Xera","FOUDRE","7em V Rotigen 16"]
[96,"Xhyla","Wyssen Diego u. Madlen","Susten",null,null,"2014-10-01","120.1127.8750.6","Xenia","#TURBULENCE","4em V Rotigen 17 "]
[97,"Napapiri","Zumoberhaus P. + Familie","Oberwald",null,null,"2012-10-01","120.1054.6787.3","Nana","BIMI",null,"4em IV Belalp 16"]
[98,"Ninja","Zumoberhaus P. + Familie","Oberwald ","N","IV","2015-12-01","120.1258.8838.2","Nana","TAO",null,"4em V Goler 18"]
[99,"Rena","Zumofen / Gattlen","Turtmann","N ","IV","2016-01-01","120.1269.9552.2","Ruby","@CARIBOU"]
[100,"Ahkira","Zumofen / Gattlen","Turtmann",null,null,"2014-10-01","120.1118.4004.2","Arizona","$BREONA"]
[101,"Fangio","Zumofen / Gattlen","Turtmann",null,null,"2013-11-01","120.1095.6908.5","Fiasco","RAMBO"]
[102,"Fayola","Zumofen / Gattlen","Turtmann",null,null,"2014-09-01","120.0708.7750.9","Fiorenza","#VOLERIO"]
[103,"Milou","Zumofen / Gattlen","Turtmann",null,null,"2011-10-01","120.0944.5559.2","Pinson","NESTOR",null,"6em I Goler 18"]
[104,"Adonis","Zumofen / Gattlen","Turtmann","N ","IV","2015-11-01","120.1201.9788.5","Adonis","#CAPO"]
[105,"Puma","Zumofen / Gattlen","Turtmann",null,null,"2010-11-01","120.0875.3387.0","Puma","@CARIBOU","5em Rotigen 18  \n12em Rotigen 17 ","2em II Goler 17"]
[106,"Rambo","Zumofen / Gattlen","Turtmann",null,null,"2014-09-01","120.0708.7749.3","Rocky ","#VOLERIO"]
[107,"Violin","Zumofen / Gattlen","Turtmann",null,null,"2013-11-01","120.0708.7752.3","Volero","$VITUS",null,"3em 2eme veau Vifra 18"]
[108,"Violette","Zumofen / Gattlen","Turtmann","N ","IV","2015-09-01","120.1201.9782.3","Volero ","$BREONA"]
[109,"Vulcana","Zumofen / Gattlen","Turtmann",null,null,"2014-10-01","120.0708.7755.4","Vandale","@GLOU-GLOU"]
[110,"Xena","Zumofen / Gattlen","Turtmann",null,null,"2012-10-01","120.1051.2928.3","Xenti","@CARIBOU","4em Rotigen 18"]
[111,"Vidona","Zumofen / Gattlen","Turtmann","N ","IV","2015-09-01","120.1201.9780.9","Volero","$BREONA"]
[112,"Riva ","Zumofen / Gattlen","Turtmann","N","IV","2015-10-01","120.1201.9784.7","Rocky ","#CAPO"]
[113,"Vanda","Zumofen / Gattlen","Turtmann","N ","IV","2015-09-01","120.1201.9781.6","Volero ","$BREONA"]
[]
[]
["Viel Vergnügen wünscht die Alpgenossenschaft Turtmanntal und die Bestosser der Alpe Rotigen.",null,null,null,null,null,null,null,null,null,null,"© Silvan Bregy"]