{"text_format":"1","workbook":"xlsx","n_sheets":2,"sheets":["Kämpfe","Kühe"],"not_rendered":{"charts":0,"images":1,"macros":1,"external_links":0,"defined_names":3,"comments":0,"pivot_tables":0},"unopened":[],"bounds":{"document_bytes":16777216,"sheet_cells":100000,"rows_first":2000,"rows_last":500,"rows_between":2000,"halvings":0,"cell_chars":16384,"cell_head_chars":4096},"cells_cut":0,"cells_raw":0,"read":"whole","date_system":"1900"}

{"sheet":"Kämpfe","index":0,"n_rows":1229,"n_cols":12,"rows_kept":1229,"cut":false,"hidden":false,"merged":[[1,1,1,3],[1,4,1,6]]}
[null,null,null,null,null,null,null,null,"Kuh Nr.",null,"Anzahl Kämpfe","Gewonnen"]
[null,"Gewinner",null,null,"Verlierer",null,null,null,null,null,{"$f":"COUNTIFS($D$4:$E$2999,$I$2)","v":0},{"$f":"COUNTIFS($D$4:$D$2999,$I$2)","v":0}]
["Datum","Besitzer","Name","Nr.","Nr.2","Name2","Besitzer2"]
["2018-09-13",{"$f":"VLOOKUP(D4,Kühe!$A$7:$G$150,7,FALSE)","v":"Jäger Carlo"},{"$f":"VLOOKUP(D4,Kühe!$A$7:$G$150,2,FALSE)","v":"Maila"},52,63,{"$f":"VLOOKUP(E4,Kühe!$A$7:$G$150,2,FALSE)","v":"Belon"},{"$f":"VLOOKUP(E4,Kühe!$A$7:$G$150,7,FALSE)","v":"Mathieu Leander & Sascha"}]
["2018-09-13",{"$f":"VLOOKUP(D5,Kühe!$A$7:$G$150,7,FALSE)","v":"Stallung Passeraub"},{"$f":"VLOOKUP(D5,Kühe!$A$7:$G$150,2,FALSE)","v":"Bulle"},68,86,{"$f":"VLOOKUP(E5,Kühe!$A$7:$G$150,2,FALSE)","v":"Lotus"},{"$f":"VLOOKUP(E5,Kühe!$A$7:$G$150,7,FALSE)","v":"Williner  Anton"}]
["2018-09-13",{"$f":"VLOOKUP(D6,Kühe!$A$7:$G$150,7,FALSE)","v":"Sewer Ralf & Thommen Steve"},{"$f":"VLOOKUP(D6,Kühe!$A$7:$G$150,2,FALSE)","v":"Gonda"},76,73,{"$f":"VLOOKUP(E6,Kühe!$A$7:$G$150,2,FALSE)","v":"Benika"},{"$f":"VLOOKUP(E6,Kühe!$A$7:$G$150,7,FALSE)","v":"Stallung zum Stäg"}]
["2018-09-13",{"$f":"VLOOKUP(D7,Kühe!$A$7:$G$150,7,FALSE)","v":"Jäger Carlo"},{"$f":"VLOOKUP(D7,Kühe!$A$7:$G$150,2,FALSE)","v":"Paloma"},54,104,{"$f":"VLOOKUP(E7,Kühe!$A$7:$G$150,2,FALSE)","v":"Pengale"},{"$f":"VLOOKUP(E7,Kühe!$A$7:$G$150,7,FALSE)","v":"Zumofen / Gattlen"}]
["2018-09-13",{"$f":"VLOOKUP(D8,Kühe!$A$7:$G$150,7,FALSE)","v":"Sewer Ralf & Thommen Steve"},{"$f":"VLOOKUP(D8,Kühe!$A$7:$G$150,2,FALSE)","v":"Saphira"},77,16,{"$f":"VLOOKUP(E8,Kühe!$A$7:$G$150,2,FALSE)","v":"Cora"},{"$f":"VLOOKUP(E8,Kühe!$A$7:$G$150,7,FALSE)","v":"Bregy Uli & Pascal"}]
["2018-09-13",{"$f":"VLOOKUP(D9,Kühe!$A$7:$G$150,7,FALSE)","v":"Jäger Carlo"},{"$f":"VLOOKUP(D9,Kühe!$A$7:$G$150,2,FALSE)","v":"Paloma"},54,53,{"$f":"VLOOKUP(E9,Kühe!$A$7:$G$150,2,FALSE)","v":"Mirtille"},{"$f":"VLOOKUP(E9,Kühe!$A$7:$G$150,7,FALSE)","v":"Jäger Carlo"}]
["2018-09-13",{"$f":"VLOOKUP(D10,Kühe!$A$7:$G$150,7,FALSE)","v":"Bregy Ralf & Adolf"},{"$f":"VLOOKUP(D10,Kühe!$A$7:$G$150,2,FALSE)","v":"Canaille"},7,9,{"$f":"VLOOKUP(E10,Kühe!$A$7:$G$150,2,FALSE)","v":"Flacari"},{"$f":"VLOOKUP(E10,Kühe!$A$7:$G$150,7,FALSE)","v":"Bregy Ralf & Adolf"}]
["2018-09-12",{"$f":"VLOOKUP(D11,Kühe!$A$7:$G$150,7,FALSE)","v":"Jäger Carlo"},{"$f":"VLOOKUP(D11,Kühe!$A$7:$G$150,2,FALSE)","v":"Turin"},58,46,{"$f":"VLOOKUP(E11,Kühe!$A$7:$G$150,2,FALSE)","v":"Lorens"},{"$f":"VLOOKUP(E11,Kühe!$A$7:$G$150,7,FALSE)","v":"Gebrüder Jäger"}]
["2018-09-12",{"$f":"VLOOKUP(D12,Kühe!$A$7:$G$150,7,FALSE)","v":"Jäger Carlo"},{"$f":"VLOOKUP(D12,Kühe!$A$7:$G$150,2,FALSE)","v":"Guxa"},51,94,{"$f":"VLOOKUP(E12,Kühe!$A$7:$G$150,2,FALSE)","v":"Xanja"},{"$f":"VLOOKUP(E12,Kühe!$A$7:$G$150,7,FALSE)","v":"Wyssen Diego & Madlen"}]
["2018-09-12",{"$f":"VLOOKUP(D13,Kühe!$A$7:$G$150,7,FALSE)","v":"Stallung Passeraub"},{"$f":"VLOOKUP(D13,Kühe!$A$7:$G$150,2,FALSE)","v":"Bombache"},67,51,{"$f":"VLOOKUP(E13,Kühe!$A$7:$G$150,2,FALSE)","v":"Guxa"},{"$f":"VLOOKUP(E13,Kühe!$A$7:$G$150,7,FALSE)","v":"Jäger Carlo"}]
["2018-09-12",{"$f":"VLOOKUP(D14,Kühe!$A$7:$G$150,7,FALSE)","v":"Bregy Patrick & Silvan"},{"$f":"VLOOKUP(D14,Kühe!$A$7:$G$150,2,FALSE)","v":"Milow"},12,110,{"$f":"VLOOKUP(E14,Kühe!$A$7:$G$150,2,FALSE)","v":"Xena"},{"$f":"VLOOKUP(E14,Kühe!$A$7:$G$150,7,FALSE)","v":"Zumofen / Gattlen"}]
["2018-09-12",{"$f":"VLOOKUP(D15,Kühe!$A$7:$G$150,7,FALSE)","v":"Jäger Carlo"},{"$f":"VLOOKUP(D15,Kühe!$A$7:$G$150,2,FALSE)","v":"Bandit"},50,61,{"$f":"VLOOKUP(E15,Kühe!$A$7:$G$150,2,FALSE)","v":"Baronesse"},{"$f":"VLOOKUP(E15,Kühe!$A$7:$G$150,7,FALSE)","v":"Mathieu Leander & Sascha"}]
["2018-09-12",{"$f":"VLOOKUP(D16,Kühe!$A$7:$G$150,7,FALSE)","v":"Hischier Pius"},{"$f":"VLOOKUP(D16,Kühe!$A$7:$G$150,2,FALSE)","v":"Pablo"},47,97,{"$f":"VLOOKUP(E16,Kühe!$A$7:$G$150,2,FALSE)","v":"Coucou"},{"$f":"VLOOKUP(E16,Kühe!$A$7:$G$150,7,FALSE)","v":"Familie Zumoberhaus"}]
["2018-09-12",{"$f":"VLOOKUP(D17,Kühe!$A$7:$G$150,7,FALSE)","v":"Hischier Pius"},{"$f":"VLOOKUP(D17,Kühe!$A$7:$G$150,2,FALSE)","v":"Pelila"},48,62,{"$f":"VLOOKUP(E17,Kühe!$A$7:$G$150,2,FALSE)","v":"Bavaria"},{"$f":"VLOOKUP(E17,Kühe!$A$7:$G$150,7,FALSE)","v":"Mathieu Leander & Sascha"}]
["2018-09-12",{"$f":"VLOOKUP(D18,Kühe!$A$7:$G$150,7,FALSE)","v":"Hischier Pius"},{"$f":"VLOOKUP(D18,Kühe!$A$7:$G$150,2,FALSE)","v":"Pelila"},48,106,{"$f":"VLOOKUP(E18,Kühe!$A$7:$G$150,2,FALSE)","v":"Rambo"},{"$f":"VLOOKUP(E18,Kühe!$A$7:$G$150,7,FALSE)","v":"Zumofen / Gattlen"}]
["2018-09-12",{"$f":"VLOOKUP(D19,Kühe!$A$7:$G$150,7,FALSE)","v":"Tscherry Erwin & Bernhard"},{"$f":"VLOOKUP(D19,Kühe!$A$7:$G$150,2,FALSE)","v":"Carolin"},82,47,{"$f":"VLOOKUP(E19,Kühe!$A$7:$G$150,2,FALSE)","v":"Pablo"},{"$f":"VLOOKUP(E19,Kühe!$A$7:$G$150,7,FALSE)","v":"Hischier Pius"}]
["2018-09-12",{"$f":"VLOOKUP(D20,Kühe!$A$7:$G$150,7,FALSE)","v":"Jäger Carlo"},{"$f":"VLOOKUP(D20,Kühe!$A$7:$G$150,2,FALSE)","v":"Turin"},58,75,{"$f":"VLOOKUP(E20,Kühe!$A$7:$G$150,2,FALSE)","v":"Pandora"},{"$f":"VLOOKUP(E20,Kühe!$A$7:$G$150,7,FALSE)","v":"Stallung zum Stäg"}]
["2018-09-12",{"$f":"VLOOKUP(D21,Kühe!$A$7:$G$150,7,FALSE)","v":"Fux Wendelin, Jenny & Wyer Piet"},{"$f":"VLOOKUP(D21,Kühe!$A$7:$G$150,2,FALSE)","v":"Andora"},25,46,{"$f":"VLOOKUP(E21,Kühe!$A$7:$G$150,2,FALSE)","v":"Lorens"},{"$f":"VLOOKUP(E21,Kühe!$A$7:$G$150,7,FALSE)","v":"Gebrüder Jäger"}]
["2018-09-12",{"$f":"VLOOKUP(D22,Kühe!$A$7:$G$150,7,FALSE)","v":"Tscherry Erwin & Bernhard"},{"$f":"VLOOKUP(D22,Kühe!$A$7:$G$150,2,FALSE)","v":"Carolin"},82,19,{"$f":"VLOOKUP(E22,Kühe!$A$7:$G$150,2,FALSE)","v":"Tiranie"},{"$f":"VLOOKUP(E22,Kühe!$A$7:$G$150,7,FALSE)","v":"Bregy Uli & Pascal"}]
["2018-09-12",{"$f":"VLOOKUP(D23,Kühe!$A$7:$G$150,7,FALSE)","v":"Bregy Patrick & Silvan"},{"$f":"VLOOKUP(D23,Kühe!$A$7:$G$150,2,FALSE)","v":"Milow"},12,102,{"$f":"VLOOKUP(E23,Kühe!$A$7:$G$150,2,FALSE)","v":"Fayola"},{"$f":"VLOOKUP(E23,Kühe!$A$7:$G$150,7,FALSE)","v":"Zumofen / Gattlen"}]
["2018-09-12",{"$f":"VLOOKUP(D24,Kühe!$A$7:$G$150,7,FALSE)","v":"Williner  Anton"},{"$f":"VLOOKUP(D24,Kühe!$A$7:$G$150,2,FALSE)","v":"Colonell"},88,100,{"$f":"VLOOKUP(E24,Kühe!$A$7:$G$150,2,FALSE)","v":"Akhira"},{"$f":"VLOOKUP(E24,Kühe!$A$7:$G$150,7,FALSE)","v":"Zumofen / Gattlen"}]
["2018-09-12",{"$f":"VLOOKUP(D25,Kühe!$A$7:$G$150,7,FALSE)","v":"Jäger Carlo"},{"$f":"VLOOKUP(D25,Kühe!$A$7:$G$150,2,FALSE)","v":"Paloma"},54,104,{"$f":"VLOOKUP(E25,Kühe!$A$7:$G$150,2,FALSE)","v":"Pengale"},{"$f":"VLOOKUP(E25,Kühe!$A$7:$G$150,7,FALSE)","v":"Zumofen / Gattlen"}]
["2018-09-12",{"$f":"VLOOKUP(D26,Kühe!$A$7:$G$150,7,FALSE)","v":"Stallung zum Stäg"},{"$f":"VLOOKUP(D26,Kühe!$A$7:$G$150,2,FALSE)","v":"Pandora"},75,40,{"$f":"VLOOKUP(E26,Kühe!$A$7:$G$150,2,FALSE)","v":"Barilona"},{"$f":"VLOOKUP(E26,Kühe!$A$7:$G$150,7,FALSE)","v":"Gebrüder Jäger"}]
["2018-09-11",{"$f":"VLOOKUP(D27,Kühe!$A$7:$G$150,7,FALSE)","v":"Gebrüder Jäger"},{"$f":"VLOOKUP(D27,Kühe!$A$7:$G$150,2,FALSE)","v":"Tango"},37,32,{"$f":"VLOOKUP(E27,Kühe!$A$7:$G$150,2,FALSE)","v":"Pigalle"},{"$f":"VLOOKUP(E27,Kühe!$A$7:$G$150,7,FALSE)","v":"Fux Wendelin, Jenny & Wyer Piet"}]
["2018-09-11",{"$f":"VLOOKUP(D28,Kühe!$A$7:$G$150,7,FALSE)","v":"Gebrüder Jäger"},{"$f":"VLOOKUP(D28,Kühe!$A$7:$G$150,2,FALSE)","v":"Lorens"},46,42,{"$f":"VLOOKUP(E28,Kühe!$A$7:$G$150,2,FALSE)","v":"Tiger"},{"$f":"VLOOKUP(E28,Kühe!$A$7:$G$150,7,FALSE)","v":"Gebrüder Jäger"}]
["2018-09-11",{"$f":"VLOOKUP(D29,Kühe!$A$7:$G$150,7,FALSE)","v":"Bayard Medard & Gustav"},{"$f":"VLOOKUP(D29,Kühe!$A$7:$G$150,2,FALSE)","v":"Pinka"},3,97,{"$f":"VLOOKUP(E29,Kühe!$A$7:$G$150,2,FALSE)","v":"Coucou"},{"$f":"VLOOKUP(E29,Kühe!$A$7:$G$150,7,FALSE)","v":"Familie Zumoberhaus"}]
["2018-09-11",{"$f":"VLOOKUP(D30,Kühe!$A$7:$G$150,7,FALSE)","v":"Mathieu Leander & Sascha"},{"$f":"VLOOKUP(D30,Kühe!$A$7:$G$150,2,FALSE)","v":"Belon"},63,31,{"$f":"VLOOKUP(E30,Kühe!$A$7:$G$150,2,FALSE)","v":"Mystic"},{"$f":"VLOOKUP(E30,Kühe!$A$7:$G$150,7,FALSE)","v":"Fux Wendelin, Jenny & Wyer Piet"}]
["2018-09-11",{"$f":"VLOOKUP(D31,Kühe!$A$7:$G$150,7,FALSE)","v":"Stallung zum Stäg"},{"$f":"VLOOKUP(D31,Kühe!$A$7:$G$150,2,FALSE)","v":"Diaries"},74,43,{"$f":"VLOOKUP(E31,Kühe!$A$7:$G$150,2,FALSE)","v":"Dorina"},{"$f":"VLOOKUP(E31,Kühe!$A$7:$G$150,7,FALSE)","v":"Gebrüder Jäger"}]
["2018-09-11",{"$f":"VLOOKUP(D32,Kühe!$A$7:$G$150,7,FALSE)","v":"Mathieu Leander & Sascha"},{"$f":"VLOOKUP(D32,Kühe!$A$7:$G$150,2,FALSE)","v":"Belon"},63,99,{"$f":"VLOOKUP(E32,Kühe!$A$7:$G$150,2,FALSE)","v":"Napapiri"},{"$f":"VLOOKUP(E32,Kühe!$A$7:$G$150,7,FALSE)","v":"Familie Zumoberhaus"}]
["2018-09-11",{"$f":"VLOOKUP(D33,Kühe!$A$7:$G$150,7,FALSE)","v":"Familie Zumoberhaus"},{"$f":"VLOOKUP(D33,Kühe!$A$7:$G$150,2,FALSE)","v":"Coucou"},97,23,{"$f":"VLOOKUP(E33,Kühe!$A$7:$G$150,2,FALSE)","v":"Rebell"},{"$f":"VLOOKUP(E33,Kühe!$A$7:$G$150,7,FALSE)","v":"Familie Leiggener"}]
["2018-09-11",{"$f":"VLOOKUP(D34,Kühe!$A$7:$G$150,7,FALSE)","v":"Zumofen / Gattlen"},{"$f":"VLOOKUP(D34,Kühe!$A$7:$G$150,2,FALSE)","v":"Puma"},105,14,{"$f":"VLOOKUP(E34,Kühe!$A$7:$G$150,2,FALSE)","v":"Calin"},{"$f":"VLOOKUP(E34,Kühe!$A$7:$G$150,7,FALSE)","v":"Bregy Uli & Pascal"}]
["2018-09-11",{"$f":"VLOOKUP(D35,Kühe!$A$7:$G$150,7,FALSE)","v":"Bregy Patrick & Silvan"},{"$f":"VLOOKUP(D35,Kühe!$A$7:$G$150,2,FALSE)","v":"Tequilla"},13,32,{"$f":"VLOOKUP(E35,Kühe!$A$7:$G$150,2,FALSE)","v":"Pigalle"},{"$f":"VLOOKUP(E35,Kühe!$A$7:$G$150,7,FALSE)","v":"Fux Wendelin, Jenny & Wyer Piet"}]
["2018-09-11",{"$f":"VLOOKUP(D36,Kühe!$A$7:$G$150,7,FALSE)","v":"Williner  Anton"},{"$f":"VLOOKUP(D36,Kühe!$A$7:$G$150,2,FALSE)","v":"Colonell"},88,100,{"$f":"VLOOKUP(E36,Kühe!$A$7:$G$150,2,FALSE)","v":"Akhira"},{"$f":"VLOOKUP(E36,Kühe!$A$7:$G$150,7,FALSE)","v":"Zumofen / Gattlen"}]
["2018-09-11",{"$f":"VLOOKUP(D37,Kühe!$A$7:$G$150,7,FALSE)","v":"Bregy Uli & Pascal"},{"$f":"VLOOKUP(D37,Kühe!$A$7:$G$150,2,FALSE)","v":"Pandora"},17,49,{"$f":"VLOOKUP(E37,Kühe!$A$7:$G$150,2,FALSE)","v":"Shakira"},{"$f":"VLOOKUP(E37,Kühe!$A$7:$G$150,7,FALSE)","v":"Hischier Pius"}]
["2018-09-11",{"$f":"VLOOKUP(D38,Kühe!$A$7:$G$150,7,FALSE)","v":"Gebrüder Jäger"},{"$f":"VLOOKUP(D38,Kühe!$A$7:$G$150,2,FALSE)","v":"Tirana"},38,71,{"$f":"VLOOKUP(E38,Kühe!$A$7:$G$150,2,FALSE)","v":"Bonita"},{"$f":"VLOOKUP(E38,Kühe!$A$7:$G$150,7,FALSE)","v":"Stallung Passeraub"}]
["2018-09-11",{"$f":"VLOOKUP(D39,Kühe!$A$7:$G$150,7,FALSE)","v":"Familie Leiggener"},{"$f":"VLOOKUP(D39,Kühe!$A$7:$G$150,2,FALSE)","v":"Rambo"},22,102,{"$f":"VLOOKUP(E39,Kühe!$A$7:$G$150,2,FALSE)","v":"Fayola"},{"$f":"VLOOKUP(E39,Kühe!$A$7:$G$150,7,FALSE)","v":"Zumofen / Gattlen"}]
["2018-09-11",{"$f":"VLOOKUP(D40,Kühe!$A$7:$G$150,7,FALSE)","v":"Zumofen / Gattlen"},{"$f":"VLOOKUP(D40,Kühe!$A$7:$G$150,2,FALSE)","v":"Puma"},105,22,{"$f":"VLOOKUP(E40,Kühe!$A$7:$G$150,2,FALSE)","v":"Rambo"},{"$f":"VLOOKUP(E40,Kühe!$A$7:$G$150,7,FALSE)","v":"Familie Leiggener"}]
["2018-09-11",{"$f":"VLOOKUP(D41,Kühe!$A$7:$G$150,7,FALSE)","v":"Sewer Ralf & Thommen Steve"},{"$f":"VLOOKUP(D41,Kühe!$A$7:$G$150,2,FALSE)","v":"Saphira"},77,16,{"$f":"VLOOKUP(E41,Kühe!$A$7:$G$150,2,FALSE)","v":"Cora"},{"$f":"VLOOKUP(E41,Kühe!$A$7:$G$150,7,FALSE)","v":"Bregy Uli & Pascal"}]
["2018-09-11",{"$f":"VLOOKUP(D42,Kühe!$A$7:$G$150,7,FALSE)","v":"Zumofen / Gattlen"},{"$f":"VLOOKUP(D42,Kühe!$A$7:$G$150,2,FALSE)","v":"Pengale"},104,23,{"$f":"VLOOKUP(E42,Kühe!$A$7:$G$150,2,FALSE)","v":"Rebell"},{"$f":"VLOOKUP(E42,Kühe!$A$7:$G$150,7,FALSE)","v":"Familie Leiggener"}]
["2018-09-11",{"$f":"VLOOKUP(D43,Kühe!$A$7:$G$150,7,FALSE)","v":"Hischier Pius"},{"$f":"VLOOKUP(D43,Kühe!$A$7:$G$150,2,FALSE)","v":"Pelila"},48,60,{"$f":"VLOOKUP(E43,Kühe!$A$7:$G$150,2,FALSE)","v":"Bambino"},{"$f":"VLOOKUP(E43,Kühe!$A$7:$G$150,7,FALSE)","v":"Mathieu Leander & Sascha"}]
["2018-09-11",{"$f":"VLOOKUP(D44,Kühe!$A$7:$G$150,7,FALSE)","v":"Zumofen / Gattlen"},{"$f":"VLOOKUP(D44,Kühe!$A$7:$G$150,2,FALSE)","v":"Fangjo"},101,3,{"$f":"VLOOKUP(E44,Kühe!$A$7:$G$150,2,FALSE)","v":"Pinka"},{"$f":"VLOOKUP(E44,Kühe!$A$7:$G$150,7,FALSE)","v":"Bayard Medard & Gustav"}]
["2018-09-11",{"$f":"VLOOKUP(D45,Kühe!$A$7:$G$150,7,FALSE)","v":"Zumofen / Gattlen"},{"$f":"VLOOKUP(D45,Kühe!$A$7:$G$150,2,FALSE)","v":"Puma"},105,101,{"$f":"VLOOKUP(E45,Kühe!$A$7:$G$150,2,FALSE)","v":"Fangjo"},{"$f":"VLOOKUP(E45,Kühe!$A$7:$G$150,7,FALSE)","v":"Zumofen / Gattlen"}]
["2018-09-10",{"$f":"VLOOKUP(D46,Kühe!$A$7:$G$150,7,FALSE)","v":"Bregy Anja"},{"$f":"VLOOKUP(D46,Kühe!$A$7:$G$150,2,FALSE)","v":"Diabolo"},6,71,{"$f":"VLOOKUP(E46,Kühe!$A$7:$G$150,2,FALSE)","v":"Bonita"},{"$f":"VLOOKUP(E46,Kühe!$A$7:$G$150,7,FALSE)","v":"Stallung Passeraub"}]
["2018-09-10",{"$f":"VLOOKUP(D47,Kühe!$A$7:$G$150,7,FALSE)","v":"Mathieu Leander & Sascha"},{"$f":"VLOOKUP(D47,Kühe!$A$7:$G$150,2,FALSE)","v":"Bambino"},60,30,{"$f":"VLOOKUP(E47,Kühe!$A$7:$G$150,2,FALSE)","v":"Dixence"},{"$f":"VLOOKUP(E47,Kühe!$A$7:$G$150,7,FALSE)","v":"Fux Wendelin, Jenny & Wyer Piet"}]
["2018-09-10",{"$f":"VLOOKUP(D48,Kühe!$A$7:$G$150,7,FALSE)","v":"Williner  Anton"},{"$f":"VLOOKUP(D48,Kühe!$A$7:$G$150,2,FALSE)","v":"Tira"},90,75,{"$f":"VLOOKUP(E48,Kühe!$A$7:$G$150,2,FALSE)","v":"Pandora"},{"$f":"VLOOKUP(E48,Kühe!$A$7:$G$150,7,FALSE)","v":"Stallung zum Stäg"}]
["2018-09-10",{"$f":"VLOOKUP(D49,Kühe!$A$7:$G$150,7,FALSE)","v":"Wyssen Diego & Madlen"},{"$f":"VLOOKUP(D49,Kühe!$A$7:$G$150,2,FALSE)","v":"Xanja"},94,62,{"$f":"VLOOKUP(E49,Kühe!$A$7:$G$150,2,FALSE)","v":"Bavaria"},{"$f":"VLOOKUP(E49,Kühe!$A$7:$G$150,7,FALSE)","v":"Mathieu Leander & Sascha"}]
["2018-09-10",{"$f":"VLOOKUP(D50,Kühe!$A$7:$G$150,7,FALSE)","v":"Jäger Carlo"},{"$f":"VLOOKUP(D50,Kühe!$A$7:$G$150,2,FALSE)","v":"Bandit"},50,59,{"$f":"VLOOKUP(E50,Kühe!$A$7:$G$150,2,FALSE)","v":"Baghira"},{"$f":"VLOOKUP(E50,Kühe!$A$7:$G$150,7,FALSE)","v":"Mathieu Leander & Sascha"}]
["2018-09-10",{"$f":"VLOOKUP(D51,Kühe!$A$7:$G$150,7,FALSE)","v":"Zumofen / Gattlen"},{"$f":"VLOOKUP(D51,Kühe!$A$7:$G$150,2,FALSE)","v":"Fayola"},102,60,{"$f":"VLOOKUP(E51,Kühe!$A$7:$G$150,2,FALSE)","v":"Bambino"},{"$f":"VLOOKUP(E51,Kühe!$A$7:$G$150,7,FALSE)","v":"Mathieu Leander & Sascha"}]
["2018-09-10",{"$f":"VLOOKUP(D52,Kühe!$A$7:$G$150,7,FALSE)","v":"Bregy Ralf & Adolf"},{"$f":"VLOOKUP(D52,Kühe!$A$7:$G$150,2,FALSE)","v":"Creola"},8,67,{"$f":"VLOOKUP(E52,Kühe!$A$7:$G$150,2,FALSE)","v":"Bombache"},{"$f":"VLOOKUP(E52,Kühe!$A$7:$G$150,7,FALSE)","v":"Stallung Passeraub"}]
["2018-09-10",{"$f":"VLOOKUP(D53,Kühe!$A$7:$G$150,7,FALSE)","v":"Bregy Uli & Pascal"},{"$f":"VLOOKUP(D53,Kühe!$A$7:$G$150,2,FALSE)","v":"Tiranie"},19,82,{"$f":"VLOOKUP(E53,Kühe!$A$7:$G$150,2,FALSE)","v":"Carolin"},{"$f":"VLOOKUP(E53,Kühe!$A$7:$G$150,7,FALSE)","v":"Tscherry Erwin & Bernhard"}]
["2018-09-10",{"$f":"VLOOKUP(D54,Kühe!$A$7:$G$150,7,FALSE)","v":"Zumofen / Gattlen"},{"$f":"VLOOKUP(D54,Kühe!$A$7:$G$150,2,FALSE)","v":"Puma"},105,95,{"$f":"VLOOKUP(E54,Kühe!$A$7:$G$150,2,FALSE)","v":"Xena"},{"$f":"VLOOKUP(E54,Kühe!$A$7:$G$150,7,FALSE)","v":"Wyssen Diego & Madlen"}]
["2018-09-10",{"$f":"VLOOKUP(D55,Kühe!$A$7:$G$150,7,FALSE)","v":"Hischier Pius"},{"$f":"VLOOKUP(D55,Kühe!$A$7:$G$150,2,FALSE)","v":"Shakira"},49,97,{"$f":"VLOOKUP(E55,Kühe!$A$7:$G$150,2,FALSE)","v":"Coucou"},{"$f":"VLOOKUP(E55,Kühe!$A$7:$G$150,7,FALSE)","v":"Familie Zumoberhaus"}]
["2018-09-10",{"$f":"VLOOKUP(D56,Kühe!$A$7:$G$150,7,FALSE)","v":"Jäger Carlo"},{"$f":"VLOOKUP(D56,Kühe!$A$7:$G$150,2,FALSE)","v":"Maila"},52,59,{"$f":"VLOOKUP(E56,Kühe!$A$7:$G$150,2,FALSE)","v":"Baghira"},{"$f":"VLOOKUP(E56,Kühe!$A$7:$G$150,7,FALSE)","v":"Mathieu Leander & Sascha"}]
["2018-09-10",{"$f":"VLOOKUP(D57,Kühe!$A$7:$G$150,7,FALSE)","v":"Mathieu Leander & Sascha"},{"$f":"VLOOKUP(D57,Kühe!$A$7:$G$150,2,FALSE)","v":"Baghira"},59,50,{"$f":"VLOOKUP(E57,Kühe!$A$7:$G$150,2,FALSE)","v":"Bandit"},{"$f":"VLOOKUP(E57,Kühe!$A$7:$G$150,7,FALSE)","v":"Jäger Carlo"}]
["2018-09-10",{"$f":"VLOOKUP(D58,Kühe!$A$7:$G$150,7,FALSE)","v":"Bregy Uli & Pascal"},{"$f":"VLOOKUP(D58,Kühe!$A$7:$G$150,2,FALSE)","v":"Tiranie"},19,82,{"$f":"VLOOKUP(E58,Kühe!$A$7:$G$150,2,FALSE)","v":"Carolin"},{"$f":"VLOOKUP(E58,Kühe!$A$7:$G$150,7,FALSE)","v":"Tscherry Erwin & Bernhard"}]
["2018-09-10",{"$f":"VLOOKUP(D59,Kühe!$A$7:$G$150,7,FALSE)","v":"Hischier Pius"},{"$f":"VLOOKUP(D59,Kühe!$A$7:$G$150,2,FALSE)","v":"Pablo"},47,73,{"$f":"VLOOKUP(E59,Kühe!$A$7:$G$150,2,FALSE)","v":"Benika"},{"$f":"VLOOKUP(E59,Kühe!$A$7:$G$150,7,FALSE)","v":"Stallung zum Stäg"}]
["2018-09-09",{"$f":"VLOOKUP(D60,Kühe!$A$7:$G$150,7,FALSE)","v":"Familie Zumoberhaus"},{"$f":"VLOOKUP(D60,Kühe!$A$7:$G$150,2,FALSE)","v":"Nana"},98,34,{"$f":"VLOOKUP(E60,Kühe!$A$7:$G$150,2,FALSE)","v":"Scarlette"},{"$f":"VLOOKUP(E60,Kühe!$A$7:$G$150,7,FALSE)","v":"Fux Wendelin, Jenny & Wyer Piet"}]
["2018-09-09",{"$f":"VLOOKUP(D61,Kühe!$A$7:$G$150,7,FALSE)","v":"Hischier Pius"},{"$f":"VLOOKUP(D61,Kühe!$A$7:$G$150,2,FALSE)","v":"Pablo"},47,100,{"$f":"VLOOKUP(E61,Kühe!$A$7:$G$150,2,FALSE)","v":"Akhira"},{"$f":"VLOOKUP(E61,Kühe!$A$7:$G$150,7,FALSE)","v":"Zumofen / Gattlen"}]
["2018-09-09",{"$f":"VLOOKUP(D62,Kühe!$A$7:$G$150,7,FALSE)","v":"Zumofen / Gattlen"},{"$f":"VLOOKUP(D62,Kühe!$A$7:$G$150,2,FALSE)","v":"Xena"},110,71,{"$f":"VLOOKUP(E62,Kühe!$A$7:$G$150,2,FALSE)","v":"Bonita"},{"$f":"VLOOKUP(E62,Kühe!$A$7:$G$150,7,FALSE)","v":"Stallung Passeraub"}]
["2018-09-09",{"$f":"VLOOKUP(D63,Kühe!$A$7:$G$150,7,FALSE)","v":"Stallung Passeraub"},{"$f":"VLOOKUP(D63,Kühe!$A$7:$G$150,2,FALSE)","v":"Bonita"},71,75,{"$f":"VLOOKUP(E63,Kühe!$A$7:$G$150,2,FALSE)","v":"Pandora"},{"$f":"VLOOKUP(E63,Kühe!$A$7:$G$150,7,FALSE)","v":"Stallung zum Stäg"}]
["2018-09-09",{"$f":"VLOOKUP(D64,Kühe!$A$7:$G$150,7,FALSE)","v":"Williner  Anton"},{"$f":"VLOOKUP(D64,Kühe!$A$7:$G$150,2,FALSE)","v":"Vanessa"},91,70,{"$f":"VLOOKUP(E64,Kühe!$A$7:$G$150,2,FALSE)","v":"Medusa"},{"$f":"VLOOKUP(E64,Kühe!$A$7:$G$150,7,FALSE)","v":"Stallung Passeraub"}]
["2018-09-09",{"$f":"VLOOKUP(D65,Kühe!$A$7:$G$150,7,FALSE)","v":"Zumofen / Gattlen"},{"$f":"VLOOKUP(D65,Kühe!$A$7:$G$150,2,FALSE)","v":"Vulcana"},109,65,{"$f":"VLOOKUP(E65,Kühe!$A$7:$G$150,2,FALSE)","v":"Baghera"},{"$f":"VLOOKUP(E65,Kühe!$A$7:$G$150,7,FALSE)","v":"Stallung Passeraub"}]
["2018-09-09",{"$f":"VLOOKUP(D66,Kühe!$A$7:$G$150,7,FALSE)","v":"Hischier Pius"},{"$f":"VLOOKUP(D66,Kühe!$A$7:$G$150,2,FALSE)","v":"Shakira"},49,76,{"$f":"VLOOKUP(E66,Kühe!$A$7:$G$150,2,FALSE)","v":"Gonda"},{"$f":"VLOOKUP(E66,Kühe!$A$7:$G$150,7,FALSE)","v":"Sewer Ralf & Thommen Steve"}]
["2018-09-09",{"$f":"VLOOKUP(D67,Kühe!$A$7:$G$150,7,FALSE)","v":"Williner  Anton"},{"$f":"VLOOKUP(D67,Kühe!$A$7:$G$150,2,FALSE)","v":"Diva"},89,17,{"$f":"VLOOKUP(E67,Kühe!$A$7:$G$150,2,FALSE)","v":"Pandora"},{"$f":"VLOOKUP(E67,Kühe!$A$7:$G$150,7,FALSE)","v":"Bregy Uli & Pascal"}]
["2018-09-09",{"$f":"VLOOKUP(D68,Kühe!$A$7:$G$150,7,FALSE)","v":"Stallung Passeraub"},{"$f":"VLOOKUP(D68,Kühe!$A$7:$G$150,2,FALSE)","v":"Bombache"},67,71,{"$f":"VLOOKUP(E68,Kühe!$A$7:$G$150,2,FALSE)","v":"Bonita"},{"$f":"VLOOKUP(E68,Kühe!$A$7:$G$150,7,FALSE)","v":"Stallung Passeraub"}]
["2018-09-09",{"$f":"VLOOKUP(D69,Kühe!$A$7:$G$150,7,FALSE)","v":"Zumofen / Gattlen"},{"$f":"VLOOKUP(D69,Kühe!$A$7:$G$150,2,FALSE)","v":"Pengale"},104,40,{"$f":"VLOOKUP(E69,Kühe!$A$7:$G$150,2,FALSE)","v":"Barilona"},{"$f":"VLOOKUP(E69,Kühe!$A$7:$G$150,7,FALSE)","v":"Gebrüder Jäger"}]
["2018-09-09",{"$f":"VLOOKUP(D70,Kühe!$A$7:$G$150,7,FALSE)","v":"Gebrüder Jäger"},{"$f":"VLOOKUP(D70,Kühe!$A$7:$G$150,2,FALSE)","v":"Tirana"},38,59,{"$f":"VLOOKUP(E70,Kühe!$A$7:$G$150,2,FALSE)","v":"Baghira"},{"$f":"VLOOKUP(E70,Kühe!$A$7:$G$150,7,FALSE)","v":"Mathieu Leander & Sascha"}]
["2018-09-09",{"$f":"VLOOKUP(D71,Kühe!$A$7:$G$150,7,FALSE)","v":"Wyssen Diego & Madlen"},{"$f":"VLOOKUP(D71,Kühe!$A$7:$G$150,2,FALSE)","v":"Xanja"},94,100,{"$f":"VLOOKUP(E71,Kühe!$A$7:$G$150,2,FALSE)","v":"Akhira"},{"$f":"VLOOKUP(E71,Kühe!$A$7:$G$150,7,FALSE)","v":"Zumofen / Gattlen"}]
["2018-09-09",{"$f":"VLOOKUP(D72,Kühe!$A$7:$G$150,7,FALSE)","v":"Mathieu Leander & Sascha"},{"$f":"VLOOKUP(D72,Kühe!$A$7:$G$150,2,FALSE)","v":"Bavaria"},62,43,{"$f":"VLOOKUP(E72,Kühe!$A$7:$G$150,2,FALSE)","v":"Dorina"},{"$f":"VLOOKUP(E72,Kühe!$A$7:$G$150,7,FALSE)","v":"Gebrüder Jäger"}]
["2018-09-09",{"$f":"VLOOKUP(D73,Kühe!$A$7:$G$150,7,FALSE)","v":"Bregy Uli & Pascal"},{"$f":"VLOOKUP(D73,Kühe!$A$7:$G$150,2,FALSE)","v":"Cora"},16,28,{"$f":"VLOOKUP(E73,Kühe!$A$7:$G$150,2,FALSE)","v":"Bresil"},{"$f":"VLOOKUP(E73,Kühe!$A$7:$G$150,7,FALSE)","v":"Fux Wendelin, Jenny & Wyer Piet"}]
["2018-09-09",{"$f":"VLOOKUP(D74,Kühe!$A$7:$G$150,7,FALSE)","v":"Williner  Anton"},{"$f":"VLOOKUP(D74,Kühe!$A$7:$G$150,2,FALSE)","v":"Diva"},89,43,{"$f":"VLOOKUP(E74,Kühe!$A$7:$G$150,2,FALSE)","v":"Dorina"},{"$f":"VLOOKUP(E74,Kühe!$A$7:$G$150,7,FALSE)","v":"Gebrüder Jäger"}]
["2018-09-08",{"$f":"VLOOKUP(D75,Kühe!$A$7:$G$150,7,FALSE)","v":"Jäger Carlo"},{"$f":"VLOOKUP(D75,Kühe!$A$7:$G$150,2,FALSE)","v":"Paloma"},54,3,{"$f":"VLOOKUP(E75,Kühe!$A$7:$G$150,2,FALSE)","v":"Pinka"},{"$f":"VLOOKUP(E75,Kühe!$A$7:$G$150,7,FALSE)","v":"Bayard Medard & Gustav"}]
["2018-09-08",{"$f":"VLOOKUP(D76,Kühe!$A$7:$G$150,7,FALSE)","v":"Williner  Anton"},{"$f":"VLOOKUP(D76,Kühe!$A$7:$G$150,2,FALSE)","v":"Tira"},90,55,{"$f":"VLOOKUP(E76,Kühe!$A$7:$G$150,2,FALSE)","v":"Papillon"},{"$f":"VLOOKUP(E76,Kühe!$A$7:$G$150,7,FALSE)","v":"Jäger Carlo"}]
["2018-09-08",{"$f":"VLOOKUP(D77,Kühe!$A$7:$G$150,7,FALSE)","v":"Fux Wendelin, Jenny & Wyer Piet"},{"$f":"VLOOKUP(D77,Kühe!$A$7:$G$150,2,FALSE)","v":"Mystic"},31,70,{"$f":"VLOOKUP(E77,Kühe!$A$7:$G$150,2,FALSE)","v":"Medusa"},{"$f":"VLOOKUP(E77,Kühe!$A$7:$G$150,7,FALSE)","v":"Stallung Passeraub"}]
["2018-09-08",{"$f":"VLOOKUP(D78,Kühe!$A$7:$G$150,7,FALSE)","v":"Zumofen / Gattlen"},{"$f":"VLOOKUP(D78,Kühe!$A$7:$G$150,2,FALSE)","v":"Fangjo"},101,33,{"$f":"VLOOKUP(E78,Kühe!$A$7:$G$150,2,FALSE)","v":"Samantha"},{"$f":"VLOOKUP(E78,Kühe!$A$7:$G$150,7,FALSE)","v":"Fux Wendelin, Jenny & Wyer Piet"}]
["2018-09-08",{"$f":"VLOOKUP(D79,Kühe!$A$7:$G$150,7,FALSE)","v":"Jäger Carlo"},{"$f":"VLOOKUP(D79,Kühe!$A$7:$G$150,2,FALSE)","v":"Guxa"},51,32,{"$f":"VLOOKUP(E79,Kühe!$A$7:$G$150,2,FALSE)","v":"Pigalle"},{"$f":"VLOOKUP(E79,Kühe!$A$7:$G$150,7,FALSE)","v":"Fux Wendelin, Jenny & Wyer Piet"}]
["2018-09-08",{"$f":"VLOOKUP(D80,Kühe!$A$7:$G$150,7,FALSE)","v":"Familie Zumoberhaus"},{"$f":"VLOOKUP(D80,Kühe!$A$7:$G$150,2,FALSE)","v":"Nana"},98,97,{"$f":"VLOOKUP(E80,Kühe!$A$7:$G$150,2,FALSE)","v":"Coucou"},{"$f":"VLOOKUP(E80,Kühe!$A$7:$G$150,7,FALSE)","v":"Familie Zumoberhaus"}]
["2018-09-08",{"$f":"VLOOKUP(D81,Kühe!$A$7:$G$150,7,FALSE)","v":"Zumofen / Gattlen"},{"$f":"VLOOKUP(D81,Kühe!$A$7:$G$150,2,FALSE)","v":"Milou"},103,64,{"$f":"VLOOKUP(E81,Kühe!$A$7:$G$150,2,FALSE)","v":"Bonita"},{"$f":"VLOOKUP(E81,Kühe!$A$7:$G$150,7,FALSE)","v":"Mathieu Leander & Sascha"}]
["2018-09-08",{"$f":"VLOOKUP(D82,Kühe!$A$7:$G$150,7,FALSE)","v":"Jäger Carlo"},{"$f":"VLOOKUP(D82,Kühe!$A$7:$G$150,2,FALSE)","v":"Bandit"},50,72,{"$f":"VLOOKUP(E82,Kühe!$A$7:$G$150,2,FALSE)","v":"Mirette"},{"$f":"VLOOKUP(E82,Kühe!$A$7:$G$150,7,FALSE)","v":"Hutter Richard"}]
["2018-09-08",{"$f":"VLOOKUP(D83,Kühe!$A$7:$G$150,7,FALSE)","v":"Bregy Patrick & Silvan"},{"$f":"VLOOKUP(D83,Kühe!$A$7:$G$150,2,FALSE)","v":"Milow"},12,110,{"$f":"VLOOKUP(E83,Kühe!$A$7:$G$150,2,FALSE)","v":"Xena"},{"$f":"VLOOKUP(E83,Kühe!$A$7:$G$150,7,FALSE)","v":"Zumofen / Gattlen"}]
["2018-09-08",{"$f":"VLOOKUP(D84,Kühe!$A$7:$G$150,7,FALSE)","v":"Bregy Uli & Pascal"},{"$f":"VLOOKUP(D84,Kühe!$A$7:$G$150,2,FALSE)","v":"Catalina"},15,3,{"$f":"VLOOKUP(E84,Kühe!$A$7:$G$150,2,FALSE)","v":"Pinka"},{"$f":"VLOOKUP(E84,Kühe!$A$7:$G$150,7,FALSE)","v":"Bayard Medard & Gustav"}]
["2018-09-08",{"$f":"VLOOKUP(D85,Kühe!$A$7:$G$150,7,FALSE)","v":"Williner  Anton"},{"$f":"VLOOKUP(D85,Kühe!$A$7:$G$150,2,FALSE)","v":"Colonell"},88,59,{"$f":"VLOOKUP(E85,Kühe!$A$7:$G$150,2,FALSE)","v":"Baghira"},{"$f":"VLOOKUP(E85,Kühe!$A$7:$G$150,7,FALSE)","v":"Mathieu Leander & Sascha"}]
["2018-09-08",{"$f":"VLOOKUP(D86,Kühe!$A$7:$G$150,7,FALSE)","v":"Williner  Anton"},{"$f":"VLOOKUP(D86,Kühe!$A$7:$G$150,2,FALSE)","v":"Colonell"},88,49,{"$f":"VLOOKUP(E86,Kühe!$A$7:$G$150,2,FALSE)","v":"Shakira"},{"$f":"VLOOKUP(E86,Kühe!$A$7:$G$150,7,FALSE)","v":"Hischier Pius"}]
["2018-09-08",{"$f":"VLOOKUP(D87,Kühe!$A$7:$G$150,7,FALSE)","v":"Sewer Ralf & Thommen Steve"},{"$f":"VLOOKUP(D87,Kühe!$A$7:$G$150,2,FALSE)","v":"Tinea"},81,69,{"$f":"VLOOKUP(E87,Kühe!$A$7:$G$150,2,FALSE)","v":"Manou"},{"$f":"VLOOKUP(E87,Kühe!$A$7:$G$150,7,FALSE)","v":"Stallung Passeraub"}]
["2018-09-08",{"$f":"VLOOKUP(D88,Kühe!$A$7:$G$150,7,FALSE)","v":"Fux Wendelin, Jenny & Wyer Piet"},{"$f":"VLOOKUP(D88,Kühe!$A$7:$G$150,2,FALSE)","v":"Bolero"},27,51,{"$f":"VLOOKUP(E88,Kühe!$A$7:$G$150,2,FALSE)","v":"Guxa"},{"$f":"VLOOKUP(E88,Kühe!$A$7:$G$150,7,FALSE)","v":"Jäger Carlo"}]
["2018-09-08",{"$f":"VLOOKUP(D89,Kühe!$A$7:$G$150,7,FALSE)","v":"Gebrüder Jäger"},{"$f":"VLOOKUP(D89,Kühe!$A$7:$G$150,2,FALSE)","v":"Lorens"},46,50,{"$f":"VLOOKUP(E89,Kühe!$A$7:$G$150,2,FALSE)","v":"Bandit"},{"$f":"VLOOKUP(E89,Kühe!$A$7:$G$150,7,FALSE)","v":"Jäger Carlo"}]
["2018-09-08",{"$f":"VLOOKUP(D90,Kühe!$A$7:$G$150,7,FALSE)","v":"Gebrüder Jäger"},{"$f":"VLOOKUP(D90,Kühe!$A$7:$G$150,2,FALSE)","v":"Lorens"},46,59,{"$f":"VLOOKUP(E90,Kühe!$A$7:$G$150,2,FALSE)","v":"Baghira"},{"$f":"VLOOKUP(E90,Kühe!$A$7:$G$150,7,FALSE)","v":"Mathieu Leander & Sascha"}]
["2018-09-08",{"$f":"VLOOKUP(D91,Kühe!$A$7:$G$150,7,FALSE)","v":"Bregy Patrick & Silvan"},{"$f":"VLOOKUP(D91,Kühe!$A$7:$G$150,2,FALSE)","v":"Milow"},12,95,{"$f":"VLOOKUP(E91,Kühe!$A$7:$G$150,2,FALSE)","v":"Xena"},{"$f":"VLOOKUP(E91,Kühe!$A$7:$G$150,7,FALSE)","v":"Wyssen Diego & Madlen"}]
["2018-09-08",{"$f":"VLOOKUP(D92,Kühe!$A$7:$G$150,7,FALSE)","v":"Bregy Ralf & Adolf"},{"$f":"VLOOKUP(D92,Kühe!$A$7:$G$150,2,FALSE)","v":"Flacari"},9,61,{"$f":"VLOOKUP(E92,Kühe!$A$7:$G$150,2,FALSE)","v":"Baronesse"},{"$f":"VLOOKUP(E92,Kühe!$A$7:$G$150,7,FALSE)","v":"Mathieu Leander & Sascha"}]
["2018-09-08",{"$f":"VLOOKUP(D93,Kühe!$A$7:$G$150,7,FALSE)","v":"Hischier Pius"},{"$f":"VLOOKUP(D93,Kühe!$A$7:$G$150,2,FALSE)","v":"Pablo"},47,82,{"$f":"VLOOKUP(E93,Kühe!$A$7:$G$150,2,FALSE)","v":"Carolin"},{"$f":"VLOOKUP(E93,Kühe!$A$7:$G$150,7,FALSE)","v":"Tscherry Erwin & Bernhard"}]
["2018-09-08",{"$f":"VLOOKUP(D94,Kühe!$A$7:$G$150,7,FALSE)","v":"Jäger Carlo"},{"$f":"VLOOKUP(D94,Kühe!$A$7:$G$150,2,FALSE)","v":"Maila"},52,38,{"$f":"VLOOKUP(E94,Kühe!$A$7:$G$150,2,FALSE)","v":"Tirana"},{"$f":"VLOOKUP(E94,Kühe!$A$7:$G$150,7,FALSE)","v":"Gebrüder Jäger"}]
["2018-09-08",{"$f":"VLOOKUP(D95,Kühe!$A$7:$G$150,7,FALSE)","v":"Zumofen / Gattlen"},{"$f":"VLOOKUP(D95,Kühe!$A$7:$G$150,2,FALSE)","v":"Vulcana"},109,43,{"$f":"VLOOKUP(E95,Kühe!$A$7:$G$150,2,FALSE)","v":"Dorina"},{"$f":"VLOOKUP(E95,Kühe!$A$7:$G$150,7,FALSE)","v":"Gebrüder Jäger"}]
["2018-09-08",{"$f":"VLOOKUP(D96,Kühe!$A$7:$G$150,7,FALSE)","v":"Tscherry Erwin & Bernhard"},{"$f":"VLOOKUP(D96,Kühe!$A$7:$G$150,2,FALSE)","v":"Carolin"},82,26,{"$f":"VLOOKUP(E96,Kühe!$A$7:$G$150,2,FALSE)","v":"Ares"},{"$f":"VLOOKUP(E96,Kühe!$A$7:$G$150,7,FALSE)","v":"Fux Wendelin, Jenny & Wyer Piet"}]
["2018-09-08",{"$f":"VLOOKUP(D97,Kühe!$A$7:$G$150,7,FALSE)","v":"Fux Wendelin, Jenny & Wyer Piet"},{"$f":"VLOOKUP(D97,Kühe!$A$7:$G$150,2,FALSE)","v":"Ares"},26,68,{"$f":"VLOOKUP(E97,Kühe!$A$7:$G$150,2,FALSE)","v":"Bulle"},{"$f":"VLOOKUP(E97,Kühe!$A$7:$G$150,7,FALSE)","v":"Stallung Passeraub"}]
["2018-09-08",{"$f":"VLOOKUP(D98,Kühe!$A$7:$G$150,7,FALSE)","v":"Fux Wendelin, Jenny & Wyer Piet"},{"$f":"VLOOKUP(D98,Kühe!$A$7:$G$150,2,FALSE)","v":"Pigalle"},32,43,{"$f":"VLOOKUP(E98,Kühe!$A$7:$G$150,2,FALSE)","v":"Dorina"},{"$f":"VLOOKUP(E98,Kühe!$A$7:$G$150,7,FALSE)","v":"Gebrüder Jäger"}]
["2018-09-08",{"$f":"VLOOKUP(D99,Kühe!$A$7:$G$150,7,FALSE)","v":"Tscherry Erwin & Bernhard"},{"$f":"VLOOKUP(D99,Kühe!$A$7:$G$150,2,FALSE)","v":"Carolin"},82,43,{"$f":"VLOOKUP(E99,Kühe!$A$7:$G$150,2,FALSE)","v":"Dorina"},{"$f":"VLOOKUP(E99,Kühe!$A$7:$G$150,7,FALSE)","v":"Gebrüder Jäger"}]
["2018-09-08",{"$f":"VLOOKUP(D100,Kühe!$A$7:$G$150,7,FALSE)","v":"Williner  Anton"},{"$f":"VLOOKUP(D100,Kühe!$A$7:$G$150,2,FALSE)","v":"Colonell"},88,76,{"$f":"VLOOKUP(E100,Kühe!$A$7:$G$150,2,FALSE)","v":"Gonda"},{"$f":"VLOOKUP(E100,Kühe!$A$7:$G$150,7,FALSE)","v":"Sewer Ralf & Thommen Steve"}]
["2018-09-08",{"$f":"VLOOKUP(D101,Kühe!$A$7:$G$150,7,FALSE)","v":"Tscherry Erwin & Bernhard"},{"$f":"VLOOKUP(D101,Kühe!$A$7:$G$150,2,FALSE)","v":"Carolin"},82,36,{"$f":"VLOOKUP(E101,Kühe!$A$7:$G$150,2,FALSE)","v":"Valaisanne"},{"$f":"VLOOKUP(E101,Kühe!$A$7:$G$150,7,FALSE)","v":"Fux Wendelin, Jenny & Wyer Piet"}]
["2018-09-08",{"$f":"VLOOKUP(D102,Kühe!$A$7:$G$150,7,FALSE)","v":"Zumofen / Gattlen"},{"$f":"VLOOKUP(D102,Kühe!$A$7:$G$150,2,FALSE)","v":"Rambo"},106,16,{"$f":"VLOOKUP(E102,Kühe!$A$7:$G$150,2,FALSE)","v":"Cora"},{"$f":"VLOOKUP(E102,Kühe!$A$7:$G$150,7,FALSE)","v":"Bregy Uli & Pascal"}]
["2018-09-08",{"$f":"VLOOKUP(D103,Kühe!$A$7:$G$150,7,FALSE)","v":"Gebrüder Jäger"},{"$f":"VLOOKUP(D103,Kühe!$A$7:$G$150,2,FALSE)","v":"Barilona"},40,43,{"$f":"VLOOKUP(E103,Kühe!$A$7:$G$150,2,FALSE)","v":"Dorina"},{"$f":"VLOOKUP(E103,Kühe!$A$7:$G$150,7,FALSE)","v":"Gebrüder Jäger"}]
["2018-09-08",{"$f":"VLOOKUP(D104,Kühe!$A$7:$G$150,7,FALSE)","v":"Zumofen / Gattlen"},{"$f":"VLOOKUP(D104,Kühe!$A$7:$G$150,2,FALSE)","v":"Milou"},103,70,{"$f":"VLOOKUP(E104,Kühe!$A$7:$G$150,2,FALSE)","v":"Medusa"},{"$f":"VLOOKUP(E104,Kühe!$A$7:$G$150,7,FALSE)","v":"Stallung Passeraub"}]
["2018-09-08",{"$f":"VLOOKUP(D105,Kühe!$A$7:$G$150,7,FALSE)","v":"Zumofen / Gattlen"},{"$f":"VLOOKUP(D105,Kühe!$A$7:$G$150,2,FALSE)","v":"Milou"},103,66,{"$f":"VLOOKUP(E105,Kühe!$A$7:$G$150,2,FALSE)","v":"Bobino"},{"$f":"VLOOKUP(E105,Kühe!$A$7:$G$150,7,FALSE)","v":"Stallung Passeraub"}]
["2018-09-08",{"$f":"VLOOKUP(D106,Kühe!$A$7:$G$150,7,FALSE)","v":"Fux Wendelin, Jenny & Wyer Piet"},{"$f":"VLOOKUP(D106,Kühe!$A$7:$G$150,2,FALSE)","v":"Bolero"},27,75,{"$f":"VLOOKUP(E106,Kühe!$A$7:$G$150,2,FALSE)","v":"Pandora"},{"$f":"VLOOKUP(E106,Kühe!$A$7:$G$150,7,FALSE)","v":"Stallung zum Stäg"}]
["2018-09-07",{"$f":"VLOOKUP(D107,Kühe!$A$7:$G$150,7,FALSE)","v":"Zumofen / Gattlen"},{"$f":"VLOOKUP(D107,Kühe!$A$7:$G$150,2,FALSE)","v":"Puma"},105,57,{"$f":"VLOOKUP(E107,Kühe!$A$7:$G$150,2,FALSE)","v":"Promise"},{"$f":"VLOOKUP(E107,Kühe!$A$7:$G$150,7,FALSE)","v":"Jäger Carlo"}]
["2018-09-07",{"$f":"VLOOKUP(D108,Kühe!$A$7:$G$150,7,FALSE)","v":"Williner  Anton"},{"$f":"VLOOKUP(D108,Kühe!$A$7:$G$150,2,FALSE)","v":"Tira"},90,68,{"$f":"VLOOKUP(E108,Kühe!$A$7:$G$150,2,FALSE)","v":"Bulle"},{"$f":"VLOOKUP(E108,Kühe!$A$7:$G$150,7,FALSE)","v":"Stallung Passeraub"}]
["2018-09-07",{"$f":"VLOOKUP(D109,Kühe!$A$7:$G$150,7,FALSE)","v":"Stallung Passeraub"},{"$f":"VLOOKUP(D109,Kühe!$A$7:$G$150,2,FALSE)","v":"Bulle"},68,36,{"$f":"VLOOKUP(E109,Kühe!$A$7:$G$150,2,FALSE)","v":"Valaisanne"},{"$f":"VLOOKUP(E109,Kühe!$A$7:$G$150,7,FALSE)","v":"Fux Wendelin, Jenny & Wyer Piet"}]
["2018-09-07",{"$f":"VLOOKUP(D110,Kühe!$A$7:$G$150,7,FALSE)","v":"Stallung Passeraub"},{"$f":"VLOOKUP(D110,Kühe!$A$7:$G$150,2,FALSE)","v":"Bobino"},66,53,{"$f":"VLOOKUP(E110,Kühe!$A$7:$G$150,2,FALSE)","v":"Mirtille"},{"$f":"VLOOKUP(E110,Kühe!$A$7:$G$150,7,FALSE)","v":"Jäger Carlo"}]
["2018-09-07",{"$f":"VLOOKUP(D111,Kühe!$A$7:$G$150,7,FALSE)","v":"Gebrüder Jäger"},{"$f":"VLOOKUP(D111,Kühe!$A$7:$G$150,2,FALSE)","v":"Tirana"},38,34,{"$f":"VLOOKUP(E111,Kühe!$A$7:$G$150,2,FALSE)","v":"Scarlette"},{"$f":"VLOOKUP(E111,Kühe!$A$7:$G$150,7,FALSE)","v":"Fux Wendelin, Jenny & Wyer Piet"}]
["2018-09-07",{"$f":"VLOOKUP(D112,Kühe!$A$7:$G$150,7,FALSE)","v":"Familie Zumoberhaus"},{"$f":"VLOOKUP(D112,Kühe!$A$7:$G$150,2,FALSE)","v":"Napapiri"},99,109,{"$f":"VLOOKUP(E112,Kühe!$A$7:$G$150,2,FALSE)","v":"Vulcana"},{"$f":"VLOOKUP(E112,Kühe!$A$7:$G$150,7,FALSE)","v":"Zumofen / Gattlen"}]
["2018-09-07",{"$f":"VLOOKUP(D113,Kühe!$A$7:$G$150,7,FALSE)","v":"Bayard Medard & Gustav"},{"$f":"VLOOKUP(D113,Kühe!$A$7:$G$150,2,FALSE)","v":"Mirabelle"},2,45,{"$f":"VLOOKUP(E113,Kühe!$A$7:$G$150,2,FALSE)","v":"Taylor"},{"$f":"VLOOKUP(E113,Kühe!$A$7:$G$150,7,FALSE)","v":"Gebrüder Jäger"}]
["2018-09-07",{"$f":"VLOOKUP(D114,Kühe!$A$7:$G$150,7,FALSE)","v":"Familie Zumoberhaus"},{"$f":"VLOOKUP(D114,Kühe!$A$7:$G$150,2,FALSE)","v":"Napapiri"},99,65,{"$f":"VLOOKUP(E114,Kühe!$A$7:$G$150,2,FALSE)","v":"Baghera"},{"$f":"VLOOKUP(E114,Kühe!$A$7:$G$150,7,FALSE)","v":"Stallung Passeraub"}]
["2018-09-07",{"$f":"VLOOKUP(D115,Kühe!$A$7:$G$150,7,FALSE)","v":"Jäger Carlo"},{"$f":"VLOOKUP(D115,Kühe!$A$7:$G$150,2,FALSE)","v":"Bandit"},50,36,{"$f":"VLOOKUP(E115,Kühe!$A$7:$G$150,2,FALSE)","v":"Valaisanne"},{"$f":"VLOOKUP(E115,Kühe!$A$7:$G$150,7,FALSE)","v":"Fux Wendelin, Jenny & Wyer Piet"}]
["2018-09-07",{"$f":"VLOOKUP(D116,Kühe!$A$7:$G$150,7,FALSE)","v":"Williner  Anton"},{"$f":"VLOOKUP(D116,Kühe!$A$7:$G$150,2,FALSE)","v":"Tira"},90,34,{"$f":"VLOOKUP(E116,Kühe!$A$7:$G$150,2,FALSE)","v":"Scarlette"},{"$f":"VLOOKUP(E116,Kühe!$A$7:$G$150,7,FALSE)","v":"Fux Wendelin, Jenny & Wyer Piet"}]
["2018-09-07",{"$f":"VLOOKUP(D117,Kühe!$A$7:$G$150,7,FALSE)","v":"Zumofen / Gattlen"},{"$f":"VLOOKUP(D117,Kühe!$A$7:$G$150,2,FALSE)","v":"Pengale"},104,23,{"$f":"VLOOKUP(E117,Kühe!$A$7:$G$150,2,FALSE)","v":"Rebell"},{"$f":"VLOOKUP(E117,Kühe!$A$7:$G$150,7,FALSE)","v":"Familie Leiggener"}]
["2018-09-07",{"$f":"VLOOKUP(D118,Kühe!$A$7:$G$150,7,FALSE)","v":"Gebrüder Jäger"},{"$f":"VLOOKUP(D118,Kühe!$A$7:$G$150,2,FALSE)","v":"Tiger"},42,90,{"$f":"VLOOKUP(E118,Kühe!$A$7:$G$150,2,FALSE)","v":"Tira"},{"$f":"VLOOKUP(E118,Kühe!$A$7:$G$150,7,FALSE)","v":"Williner  Anton"}]
["2018-09-07",{"$f":"VLOOKUP(D119,Kühe!$A$7:$G$150,7,FALSE)","v":"Williner  Anton"},{"$f":"VLOOKUP(D119,Kühe!$A$7:$G$150,2,FALSE)","v":"Tira"},90,101,{"$f":"VLOOKUP(E119,Kühe!$A$7:$G$150,2,FALSE)","v":"Fangjo"},{"$f":"VLOOKUP(E119,Kühe!$A$7:$G$150,7,FALSE)","v":"Zumofen / Gattlen"}]
["2018-09-07",{"$f":"VLOOKUP(D120,Kühe!$A$7:$G$150,7,FALSE)","v":"Gebrüder Jäger"},{"$f":"VLOOKUP(D120,Kühe!$A$7:$G$150,2,FALSE)","v":"Tiger"},42,48,{"$f":"VLOOKUP(E120,Kühe!$A$7:$G$150,2,FALSE)","v":"Pelila"},{"$f":"VLOOKUP(E120,Kühe!$A$7:$G$150,7,FALSE)","v":"Hischier Pius"}]
["2018-09-07",{"$f":"VLOOKUP(D121,Kühe!$A$7:$G$150,7,FALSE)","v":"Bayard Medard & Gustav"},{"$f":"VLOOKUP(D121,Kühe!$A$7:$G$150,2,FALSE)","v":"Diabolo"},1,48,{"$f":"VLOOKUP(E121,Kühe!$A$7:$G$150,2,FALSE)","v":"Pelila"},{"$f":"VLOOKUP(E121,Kühe!$A$7:$G$150,7,FALSE)","v":"Hischier Pius"}]
["2018-09-07",{"$f":"VLOOKUP(D122,Kühe!$A$7:$G$150,7,FALSE)","v":"Gebrüder Jäger"},{"$f":"VLOOKUP(D122,Kühe!$A$7:$G$150,2,FALSE)","v":"Taylor"},45,51,{"$f":"VLOOKUP(E122,Kühe!$A$7:$G$150,2,FALSE)","v":"Guxa"},{"$f":"VLOOKUP(E122,Kühe!$A$7:$G$150,7,FALSE)","v":"Jäger Carlo"}]
["2018-09-06",{"$f":"VLOOKUP(D123,Kühe!$A$7:$G$150,7,FALSE)","v":"Fux Wendelin, Jenny & Wyer Piet"},{"$f":"VLOOKUP(D123,Kühe!$A$7:$G$150,2,FALSE)","v":"Mystic"},31,104,{"$f":"VLOOKUP(E123,Kühe!$A$7:$G$150,2,FALSE)","v":"Pengale"},{"$f":"VLOOKUP(E123,Kühe!$A$7:$G$150,7,FALSE)","v":"Zumofen / Gattlen"}]
["2018-09-06",{"$f":"VLOOKUP(D124,Kühe!$A$7:$G$150,7,FALSE)","v":"Hischier Pius"},{"$f":"VLOOKUP(D124,Kühe!$A$7:$G$150,2,FALSE)","v":"Pelila"},48,81,{"$f":"VLOOKUP(E124,Kühe!$A$7:$G$150,2,FALSE)","v":"Tinea"},{"$f":"VLOOKUP(E124,Kühe!$A$7:$G$150,7,FALSE)","v":"Sewer Ralf & Thommen Steve"}]
["2018-09-06",{"$f":"VLOOKUP(D125,Kühe!$A$7:$G$150,7,FALSE)","v":"Jäger Carlo"},{"$f":"VLOOKUP(D125,Kühe!$A$7:$G$150,2,FALSE)","v":"Turin"},58,60,{"$f":"VLOOKUP(E125,Kühe!$A$7:$G$150,2,FALSE)","v":"Bambino"},{"$f":"VLOOKUP(E125,Kühe!$A$7:$G$150,7,FALSE)","v":"Mathieu Leander & Sascha"}]
["2018-09-06",{"$f":"VLOOKUP(D126,Kühe!$A$7:$G$150,7,FALSE)","v":"Wyssen Diego & Madlen"},{"$f":"VLOOKUP(D126,Kühe!$A$7:$G$150,2,FALSE)","v":"Shagiri"},93,86,{"$f":"VLOOKUP(E126,Kühe!$A$7:$G$150,2,FALSE)","v":"Lotus"},{"$f":"VLOOKUP(E126,Kühe!$A$7:$G$150,7,FALSE)","v":"Williner  Anton"}]
["2018-09-06",{"$f":"VLOOKUP(D127,Kühe!$A$7:$G$150,7,FALSE)","v":"Zumofen / Gattlen"},{"$f":"VLOOKUP(D127,Kühe!$A$7:$G$150,2,FALSE)","v":"Vulcana"},109,61,{"$f":"VLOOKUP(E127,Kühe!$A$7:$G$150,2,FALSE)","v":"Baronesse"},{"$f":"VLOOKUP(E127,Kühe!$A$7:$G$150,7,FALSE)","v":"Mathieu Leander & Sascha"}]
["2018-09-05",{"$f":"VLOOKUP(D128,Kühe!$A$7:$G$150,7,FALSE)","v":"Bregy Ralf & Adolf"},{"$f":"VLOOKUP(D128,Kühe!$A$7:$G$150,2,FALSE)","v":"Flacari"},9,103,{"$f":"VLOOKUP(E128,Kühe!$A$7:$G$150,2,FALSE)","v":"Milou"},{"$f":"VLOOKUP(E128,Kühe!$A$7:$G$150,7,FALSE)","v":"Zumofen / Gattlen"}]
["2018-09-05",{"$f":"VLOOKUP(D129,Kühe!$A$7:$G$150,7,FALSE)","v":"Zumofen / Gattlen"},{"$f":"VLOOKUP(D129,Kühe!$A$7:$G$150,2,FALSE)","v":"Milou"},103,59,{"$f":"VLOOKUP(E129,Kühe!$A$7:$G$150,2,FALSE)","v":"Baghira"},{"$f":"VLOOKUP(E129,Kühe!$A$7:$G$150,7,FALSE)","v":"Mathieu Leander & Sascha"}]
["2018-09-05",{"$f":"VLOOKUP(D130,Kühe!$A$7:$G$150,7,FALSE)","v":"Bregy Ralf & Adolf"},{"$f":"VLOOKUP(D130,Kühe!$A$7:$G$150,2,FALSE)","v":"Creola"},8,92,{"$f":"VLOOKUP(E130,Kühe!$A$7:$G$150,2,FALSE)","v":"Fiorenza"},{"$f":"VLOOKUP(E130,Kühe!$A$7:$G$150,7,FALSE)","v":"Wyssen Diego & Madlen"}]
["2018-09-05",{"$f":"VLOOKUP(D131,Kühe!$A$7:$G$150,7,FALSE)","v":"Tscherry Erwin & Bernhard"},{"$f":"VLOOKUP(D131,Kühe!$A$7:$G$150,2,FALSE)","v":"Tulipe"},85,83,{"$f":"VLOOKUP(E131,Kühe!$A$7:$G$150,2,FALSE)","v":"Cherrico"},{"$f":"VLOOKUP(E131,Kühe!$A$7:$G$150,7,FALSE)","v":"Tscherry Erwin & Bernhard"}]
["2018-09-05",{"$f":"VLOOKUP(D132,Kühe!$A$7:$G$150,7,FALSE)","v":"Bregy Ralf & Adolf"},{"$f":"VLOOKUP(D132,Kühe!$A$7:$G$150,2,FALSE)","v":"Canaille"},7,91,{"$f":"VLOOKUP(E132,Kühe!$A$7:$G$150,2,FALSE)","v":"Vanessa"},{"$f":"VLOOKUP(E132,Kühe!$A$7:$G$150,7,FALSE)","v":"Williner  Anton"}]
["2018-09-05",{"$f":"VLOOKUP(D133,Kühe!$A$7:$G$150,7,FALSE)","v":"Fux Wendelin, Jenny & Wyer Piet"},{"$f":"VLOOKUP(D133,Kühe!$A$7:$G$150,2,FALSE)","v":"Bolero"},27,15,{"$f":"VLOOKUP(E133,Kühe!$A$7:$G$150,2,FALSE)","v":"Catalina"},{"$f":"VLOOKUP(E133,Kühe!$A$7:$G$150,7,FALSE)","v":"Bregy Uli & Pascal"}]
["2018-09-05",{"$f":"VLOOKUP(D134,Kühe!$A$7:$G$150,7,FALSE)","v":"Stallung Passeraub"},{"$f":"VLOOKUP(D134,Kühe!$A$7:$G$150,2,FALSE)","v":"Bonita"},71,17,{"$f":"VLOOKUP(E134,Kühe!$A$7:$G$150,2,FALSE)","v":"Pandora"},{"$f":"VLOOKUP(E134,Kühe!$A$7:$G$150,7,FALSE)","v":"Bregy Uli & Pascal"}]
["2018-09-05",{"$f":"VLOOKUP(D135,Kühe!$A$7:$G$150,7,FALSE)","v":"Zumofen / Gattlen"},{"$f":"VLOOKUP(D135,Kühe!$A$7:$G$150,2,FALSE)","v":"Rambo"},106,16,{"$f":"VLOOKUP(E135,Kühe!$A$7:$G$150,2,FALSE)","v":"Cora"},{"$f":"VLOOKUP(E135,Kühe!$A$7:$G$150,7,FALSE)","v":"Bregy Uli & Pascal"}]
["2018-09-05",{"$f":"VLOOKUP(D136,Kühe!$A$7:$G$150,7,FALSE)","v":"Bayard Medard & Gustav"},{"$f":"VLOOKUP(D136,Kühe!$A$7:$G$150,2,FALSE)","v":"Mirabelle"},2,53,{"$f":"VLOOKUP(E136,Kühe!$A$7:$G$150,2,FALSE)","v":"Mirtille"},{"$f":"VLOOKUP(E136,Kühe!$A$7:$G$150,7,FALSE)","v":"Jäger Carlo"}]
["2018-09-05",{"$f":"VLOOKUP(D137,Kühe!$A$7:$G$150,7,FALSE)","v":"Stallung zum Stäg"},{"$f":"VLOOKUP(D137,Kühe!$A$7:$G$150,2,FALSE)","v":"Benika"},73,83,{"$f":"VLOOKUP(E137,Kühe!$A$7:$G$150,2,FALSE)","v":"Cherrico"},{"$f":"VLOOKUP(E137,Kühe!$A$7:$G$150,7,FALSE)","v":"Tscherry Erwin & Bernhard"}]
["2018-09-05",{"$f":"VLOOKUP(D138,Kühe!$A$7:$G$150,7,FALSE)","v":"Bregy Anja"},{"$f":"VLOOKUP(D138,Kühe!$A$7:$G$150,2,FALSE)","v":"Diabolo"},6,1,{"$f":"VLOOKUP(E138,Kühe!$A$7:$G$150,2,FALSE)","v":"Diabolo"},{"$f":"VLOOKUP(E138,Kühe!$A$7:$G$150,7,FALSE)","v":"Bayard Medard & Gustav"}]
["2018-09-05",{"$f":"VLOOKUP(D139,Kühe!$A$7:$G$150,7,FALSE)","v":"Bregy Ralf & Adolf"},{"$f":"VLOOKUP(D139,Kühe!$A$7:$G$150,2,FALSE)","v":"Lacoste"},10,66,{"$f":"VLOOKUP(E139,Kühe!$A$7:$G$150,2,FALSE)","v":"Bobino"},{"$f":"VLOOKUP(E139,Kühe!$A$7:$G$150,7,FALSE)","v":"Stallung Passeraub"}]
["2018-09-05",{"$f":"VLOOKUP(D140,Kühe!$A$7:$G$150,7,FALSE)","v":"Gebrüder Jäger"},{"$f":"VLOOKUP(D140,Kühe!$A$7:$G$150,2,FALSE)","v":"Barilona"},40,83,{"$f":"VLOOKUP(E140,Kühe!$A$7:$G$150,2,FALSE)","v":"Cherrico"},{"$f":"VLOOKUP(E140,Kühe!$A$7:$G$150,7,FALSE)","v":"Tscherry Erwin & Bernhard"}]
["2018-09-05",{"$f":"VLOOKUP(D141,Kühe!$A$7:$G$150,7,FALSE)","v":"Gebrüder Jäger"},{"$f":"VLOOKUP(D141,Kühe!$A$7:$G$150,2,FALSE)","v":"Tirana"},38,101,{"$f":"VLOOKUP(E141,Kühe!$A$7:$G$150,2,FALSE)","v":"Fangjo"},{"$f":"VLOOKUP(E141,Kühe!$A$7:$G$150,7,FALSE)","v":"Zumofen / Gattlen"}]
["2018-09-05",{"$f":"VLOOKUP(D142,Kühe!$A$7:$G$150,7,FALSE)","v":"Stallung Passeraub"},{"$f":"VLOOKUP(D142,Kühe!$A$7:$G$150,2,FALSE)","v":"Baghera"},65,6,{"$f":"VLOOKUP(E142,Kühe!$A$7:$G$150,2,FALSE)","v":"Diabolo"},{"$f":"VLOOKUP(E142,Kühe!$A$7:$G$150,7,FALSE)","v":"Bregy Anja"}]
["2018-09-05",{"$f":"VLOOKUP(D143,Kühe!$A$7:$G$150,7,FALSE)","v":"Sewer Ralf & Thommen Steve"},{"$f":"VLOOKUP(D143,Kühe!$A$7:$G$150,2,FALSE)","v":"Gonda"},76,100,{"$f":"VLOOKUP(E143,Kühe!$A$7:$G$150,2,FALSE)","v":"Akhira"},{"$f":"VLOOKUP(E143,Kühe!$A$7:$G$150,7,FALSE)","v":"Zumofen / Gattlen"}]
["2018-09-05",{"$f":"VLOOKUP(D144,Kühe!$A$7:$G$150,7,FALSE)","v":"Gebrüder Jäger"},{"$f":"VLOOKUP(D144,Kühe!$A$7:$G$150,2,FALSE)","v":"Tirana"},38,53,{"$f":"VLOOKUP(E144,Kühe!$A$7:$G$150,2,FALSE)","v":"Mirtille"},{"$f":"VLOOKUP(E144,Kühe!$A$7:$G$150,7,FALSE)","v":"Jäger Carlo"}]
["2018-09-05",{"$f":"VLOOKUP(D145,Kühe!$A$7:$G$150,7,FALSE)","v":"Tscherry Erwin & Bernhard"},{"$f":"VLOOKUP(D145,Kühe!$A$7:$G$150,2,FALSE)","v":"Carolin"},82,47,{"$f":"VLOOKUP(E145,Kühe!$A$7:$G$150,2,FALSE)","v":"Pablo"},{"$f":"VLOOKUP(E145,Kühe!$A$7:$G$150,7,FALSE)","v":"Hischier Pius"}]
["2018-09-05",{"$f":"VLOOKUP(D146,Kühe!$A$7:$G$150,7,FALSE)","v":"Hischier Pius"},{"$f":"VLOOKUP(D146,Kühe!$A$7:$G$150,2,FALSE)","v":"Pablo"},47,19,{"$f":"VLOOKUP(E146,Kühe!$A$7:$G$150,2,FALSE)","v":"Tiranie"},{"$f":"VLOOKUP(E146,Kühe!$A$7:$G$150,7,FALSE)","v":"Bregy Uli & Pascal"}]
["2018-09-05",{"$f":"VLOOKUP(D147,Kühe!$A$7:$G$150,7,FALSE)","v":"Bregy Uli & Pascal"},{"$f":"VLOOKUP(D147,Kühe!$A$7:$G$150,2,FALSE)","v":"Pandora"},17,46,{"$f":"VLOOKUP(E147,Kühe!$A$7:$G$150,2,FALSE)","v":"Lorens"},{"$f":"VLOOKUP(E147,Kühe!$A$7:$G$150,7,FALSE)","v":"Gebrüder Jäger"}]
["2018-09-05",{"$f":"VLOOKUP(D148,Kühe!$A$7:$G$150,7,FALSE)","v":"Wyssen Diego & Madlen"},{"$f":"VLOOKUP(D148,Kühe!$A$7:$G$150,2,FALSE)","v":"Fiorenza"},92,52,{"$f":"VLOOKUP(E148,Kühe!$A$7:$G$150,2,FALSE)","v":"Maila"},{"$f":"VLOOKUP(E148,Kühe!$A$7:$G$150,7,FALSE)","v":"Jäger Carlo"}]
["2018-09-05",{"$f":"VLOOKUP(D149,Kühe!$A$7:$G$150,7,FALSE)","v":"Mathieu Leander & Sascha"},{"$f":"VLOOKUP(D149,Kühe!$A$7:$G$150,2,FALSE)","v":"Belon"},63,57,{"$f":"VLOOKUP(E149,Kühe!$A$7:$G$150,2,FALSE)","v":"Promise"},{"$f":"VLOOKUP(E149,Kühe!$A$7:$G$150,7,FALSE)","v":"Jäger Carlo"}]
["2018-09-05",{"$f":"VLOOKUP(D150,Kühe!$A$7:$G$150,7,FALSE)","v":"Zumofen / Gattlen"},{"$f":"VLOOKUP(D150,Kühe!$A$7:$G$150,2,FALSE)","v":"Akhira"},100,80,{"$f":"VLOOKUP(E150,Kühe!$A$7:$G$150,2,FALSE)","v":"Tiara"},{"$f":"VLOOKUP(E150,Kühe!$A$7:$G$150,7,FALSE)","v":"Sewer Ralf & Thommen Steve"}]
["2018-09-05",{"$f":"VLOOKUP(D151,Kühe!$A$7:$G$150,7,FALSE)","v":"Familie Leiggener"},{"$f":"VLOOKUP(D151,Kühe!$A$7:$G$150,2,FALSE)","v":"Rambo"},22,64,{"$f":"VLOOKUP(E151,Kühe!$A$7:$G$150,2,FALSE)","v":"Bonita"},{"$f":"VLOOKUP(E151,Kühe!$A$7:$G$150,7,FALSE)","v":"Mathieu Leander & Sascha"}]
["2018-09-04",{"$f":"VLOOKUP(D152,Kühe!$A$7:$G$150,7,FALSE)","v":"Stallung zum Stäg"},{"$f":"VLOOKUP(D152,Kühe!$A$7:$G$150,2,FALSE)","v":"Diaries"},74,100,{"$f":"VLOOKUP(E152,Kühe!$A$7:$G$150,2,FALSE)","v":"Akhira"},{"$f":"VLOOKUP(E152,Kühe!$A$7:$G$150,7,FALSE)","v":"Zumofen / Gattlen"}]
["2018-09-04",{"$f":"VLOOKUP(D153,Kühe!$A$7:$G$150,7,FALSE)","v":"Williner  Anton"},{"$f":"VLOOKUP(D153,Kühe!$A$7:$G$150,2,FALSE)","v":"Colonell"},88,97,{"$f":"VLOOKUP(E153,Kühe!$A$7:$G$150,2,FALSE)","v":"Coucou"},{"$f":"VLOOKUP(E153,Kühe!$A$7:$G$150,7,FALSE)","v":"Familie Zumoberhaus"}]
["2018-09-04",{"$f":"VLOOKUP(D154,Kühe!$A$7:$G$150,7,FALSE)","v":"Bregy Ralf & Adolf"},{"$f":"VLOOKUP(D154,Kühe!$A$7:$G$150,2,FALSE)","v":"Canaille"},7,57,{"$f":"VLOOKUP(E154,Kühe!$A$7:$G$150,2,FALSE)","v":"Promise"},{"$f":"VLOOKUP(E154,Kühe!$A$7:$G$150,7,FALSE)","v":"Jäger Carlo"}]
["2018-09-04",{"$f":"VLOOKUP(D155,Kühe!$A$7:$G$150,7,FALSE)","v":"Bregy Ralf & Adolf"},{"$f":"VLOOKUP(D155,Kühe!$A$7:$G$150,2,FALSE)","v":"Canaille"},7,72,{"$f":"VLOOKUP(E155,Kühe!$A$7:$G$150,2,FALSE)","v":"Mirette"},{"$f":"VLOOKUP(E155,Kühe!$A$7:$G$150,7,FALSE)","v":"Hutter Richard"}]
["2018-09-04",{"$f":"VLOOKUP(D156,Kühe!$A$7:$G$150,7,FALSE)","v":"Bayard Medard & Gustav"},{"$f":"VLOOKUP(D156,Kühe!$A$7:$G$150,2,FALSE)","v":"Mirabelle"},2,54,{"$f":"VLOOKUP(E156,Kühe!$A$7:$G$150,2,FALSE)","v":"Paloma"},{"$f":"VLOOKUP(E156,Kühe!$A$7:$G$150,7,FALSE)","v":"Jäger Carlo"}]
["2018-09-02",{"$f":"VLOOKUP(D157,Kühe!$A$7:$G$150,7,FALSE)","v":"Bregy Uli & Pascal"},{"$f":"VLOOKUP(D157,Kühe!$A$7:$G$150,2,FALSE)","v":"Pandora"},17,53,{"$f":"VLOOKUP(E157,Kühe!$A$7:$G$150,2,FALSE)","v":"Mirtille"},{"$f":"VLOOKUP(E157,Kühe!$A$7:$G$150,7,FALSE)","v":"Jäger Carlo"}]
["2018-09-02",{"$f":"VLOOKUP(D158,Kühe!$A$7:$G$150,7,FALSE)","v":"Familie Zumoberhaus"},{"$f":"VLOOKUP(D158,Kühe!$A$7:$G$150,2,FALSE)","v":"Coucou"},97,56,{"$f":"VLOOKUP(E158,Kühe!$A$7:$G$150,2,FALSE)","v":"Pisa"},{"$f":"VLOOKUP(E158,Kühe!$A$7:$G$150,7,FALSE)","v":"Jäger Carlo"}]
["2018-09-02",{"$f":"VLOOKUP(D159,Kühe!$A$7:$G$150,7,FALSE)","v":"Zumofen / Gattlen"},{"$f":"VLOOKUP(D159,Kühe!$A$7:$G$150,2,FALSE)","v":"Rambo"},106,73,{"$f":"VLOOKUP(E159,Kühe!$A$7:$G$150,2,FALSE)","v":"Benika"},{"$f":"VLOOKUP(E159,Kühe!$A$7:$G$150,7,FALSE)","v":"Stallung zum Stäg"}]
["2018-09-01",{"$f":"VLOOKUP(D160,Kühe!$A$7:$G$150,7,FALSE)","v":"Bregy Uli & Pascal"},{"$f":"VLOOKUP(D160,Kühe!$A$7:$G$150,2,FALSE)","v":"Souki"},18,72,{"$f":"VLOOKUP(E160,Kühe!$A$7:$G$150,2,FALSE)","v":"Mirette"},{"$f":"VLOOKUP(E160,Kühe!$A$7:$G$150,7,FALSE)","v":"Hutter Richard"}]
["2018-09-01",{"$f":"VLOOKUP(D161,Kühe!$A$7:$G$150,7,FALSE)","v":"Bregy Patrick & Silvan"},{"$f":"VLOOKUP(D161,Kühe!$A$7:$G$150,2,FALSE)","v":"Tequilla"},13,52,{"$f":"VLOOKUP(E161,Kühe!$A$7:$G$150,2,FALSE)","v":"Maila"},{"$f":"VLOOKUP(E161,Kühe!$A$7:$G$150,7,FALSE)","v":"Jäger Carlo"}]
["2018-08-30",{"$f":"VLOOKUP(D162,Kühe!$A$7:$G$150,7,FALSE)","v":"Bregy Ralf & Adolf"},{"$f":"VLOOKUP(D162,Kühe!$A$7:$G$150,2,FALSE)","v":"Creola"},8,37,{"$f":"VLOOKUP(E162,Kühe!$A$7:$G$150,2,FALSE)","v":"Tango"},{"$f":"VLOOKUP(E162,Kühe!$A$7:$G$150,7,FALSE)","v":"Gebrüder Jäger"}]
["2018-08-30",{"$f":"VLOOKUP(D163,Kühe!$A$7:$G$150,7,FALSE)","v":"Stallung Passeraub"},{"$f":"VLOOKUP(D163,Kühe!$A$7:$G$150,2,FALSE)","v":"Bonita"},71,51,{"$f":"VLOOKUP(E163,Kühe!$A$7:$G$150,2,FALSE)","v":"Guxa"},{"$f":"VLOOKUP(E163,Kühe!$A$7:$G$150,7,FALSE)","v":"Jäger Carlo"}]
["2018-08-30",{"$f":"VLOOKUP(D164,Kühe!$A$7:$G$150,7,FALSE)","v":"Bregy Uli & Pascal"},{"$f":"VLOOKUP(D164,Kühe!$A$7:$G$150,2,FALSE)","v":"Cora"},16,64,{"$f":"VLOOKUP(E164,Kühe!$A$7:$G$150,2,FALSE)","v":"Bonita"},{"$f":"VLOOKUP(E164,Kühe!$A$7:$G$150,7,FALSE)","v":"Mathieu Leander & Sascha"}]
["2018-08-30",{"$f":"VLOOKUP(D165,Kühe!$A$7:$G$150,7,FALSE)","v":"Stallung zum Stäg"},{"$f":"VLOOKUP(D165,Kühe!$A$7:$G$150,2,FALSE)","v":"Pandora"},75,64,{"$f":"VLOOKUP(E165,Kühe!$A$7:$G$150,2,FALSE)","v":"Bonita"},{"$f":"VLOOKUP(E165,Kühe!$A$7:$G$150,7,FALSE)","v":"Mathieu Leander & Sascha"}]
["2018-08-30",{"$f":"VLOOKUP(D166,Kühe!$A$7:$G$150,7,FALSE)","v":"Bregy Anja"},{"$f":"VLOOKUP(D166,Kühe!$A$7:$G$150,2,FALSE)","v":"Diabolo"},6,104,{"$f":"VLOOKUP(E166,Kühe!$A$7:$G$150,2,FALSE)","v":"Pengale"},{"$f":"VLOOKUP(E166,Kühe!$A$7:$G$150,7,FALSE)","v":"Zumofen / Gattlen"}]
["2018-08-30",{"$f":"VLOOKUP(D167,Kühe!$A$7:$G$150,7,FALSE)","v":"Bayard Medard & Gustav"},{"$f":"VLOOKUP(D167,Kühe!$A$7:$G$150,2,FALSE)","v":"Diabolo"},1,104,{"$f":"VLOOKUP(E167,Kühe!$A$7:$G$150,2,FALSE)","v":"Pengale"},{"$f":"VLOOKUP(E167,Kühe!$A$7:$G$150,7,FALSE)","v":"Zumofen / Gattlen"}]
["2018-08-30",{"$f":"VLOOKUP(D168,Kühe!$A$7:$G$150,7,FALSE)","v":"Fux Wendelin, Jenny & Wyer Piet"},{"$f":"VLOOKUP(D168,Kühe!$A$7:$G$150,2,FALSE)","v":"Bolero"},27,88,{"$f":"VLOOKUP(E168,Kühe!$A$7:$G$150,2,FALSE)","v":"Colonell"},{"$f":"VLOOKUP(E168,Kühe!$A$7:$G$150,7,FALSE)","v":"Williner  Anton"}]
["2018-08-30",{"$f":"VLOOKUP(D169,Kühe!$A$7:$G$150,7,FALSE)","v":"Bayard Medard & Gustav"},{"$f":"VLOOKUP(D169,Kühe!$A$7:$G$150,2,FALSE)","v":"Mirabelle"},2,31,{"$f":"VLOOKUP(E169,Kühe!$A$7:$G$150,2,FALSE)","v":"Mystic"},{"$f":"VLOOKUP(E169,Kühe!$A$7:$G$150,7,FALSE)","v":"Fux Wendelin, Jenny & Wyer Piet"}]
["2018-08-30",{"$f":"VLOOKUP(D170,Kühe!$A$7:$G$150,7,FALSE)","v":"Familie Leiggener"},{"$f":"VLOOKUP(D170,Kühe!$A$7:$G$150,2,FALSE)","v":"Rambo"},22,10,{"$f":"VLOOKUP(E170,Kühe!$A$7:$G$150,2,FALSE)","v":"Lacoste"},{"$f":"VLOOKUP(E170,Kühe!$A$7:$G$150,7,FALSE)","v":"Bregy Ralf & Adolf"}]
["2018-08-30",{"$f":"VLOOKUP(D171,Kühe!$A$7:$G$150,7,FALSE)","v":"Bregy Ralf & Adolf"},{"$f":"VLOOKUP(D171,Kühe!$A$7:$G$150,2,FALSE)","v":"Canaille"},7,92,{"$f":"VLOOKUP(E171,Kühe!$A$7:$G$150,2,FALSE)","v":"Fiorenza"},{"$f":"VLOOKUP(E171,Kühe!$A$7:$G$150,7,FALSE)","v":"Wyssen Diego & Madlen"}]
["2018-08-30",{"$f":"VLOOKUP(D172,Kühe!$A$7:$G$150,7,FALSE)","v":"Zumofen / Gattlen"},{"$f":"VLOOKUP(D172,Kühe!$A$7:$G$150,2,FALSE)","v":"Pengale"},104,54,{"$f":"VLOOKUP(E172,Kühe!$A$7:$G$150,2,FALSE)","v":"Paloma"},{"$f":"VLOOKUP(E172,Kühe!$A$7:$G$150,7,FALSE)","v":"Jäger Carlo"}]
["2018-08-30",{"$f":"VLOOKUP(D173,Kühe!$A$7:$G$150,7,FALSE)","v":"Stallung Passeraub"},{"$f":"VLOOKUP(D173,Kühe!$A$7:$G$150,2,FALSE)","v":"Bulle"},68,99,{"$f":"VLOOKUP(E173,Kühe!$A$7:$G$150,2,FALSE)","v":"Napapiri"},{"$f":"VLOOKUP(E173,Kühe!$A$7:$G$150,7,FALSE)","v":"Familie Zumoberhaus"}]
["2018-08-29",{"$f":"VLOOKUP(D174,Kühe!$A$7:$G$150,7,FALSE)","v":"Zumofen / Gattlen"},{"$f":"VLOOKUP(D174,Kühe!$A$7:$G$150,2,FALSE)","v":"Fayola"},102,51,{"$f":"VLOOKUP(E174,Kühe!$A$7:$G$150,2,FALSE)","v":"Guxa"},{"$f":"VLOOKUP(E174,Kühe!$A$7:$G$150,7,FALSE)","v":"Jäger Carlo"}]
["2018-08-29",{"$f":"VLOOKUP(D175,Kühe!$A$7:$G$150,7,FALSE)","v":"Bayard Medard & Gustav"},{"$f":"VLOOKUP(D175,Kühe!$A$7:$G$150,2,FALSE)","v":"Diabolo"},1,71,{"$f":"VLOOKUP(E175,Kühe!$A$7:$G$150,2,FALSE)","v":"Bonita"},{"$f":"VLOOKUP(E175,Kühe!$A$7:$G$150,7,FALSE)","v":"Stallung Passeraub"}]
["2018-08-29",{"$f":"VLOOKUP(D176,Kühe!$A$7:$G$150,7,FALSE)","v":"Bayard Medard & Gustav"},{"$f":"VLOOKUP(D176,Kühe!$A$7:$G$150,2,FALSE)","v":"Diabolo"},1,96,{"$f":"VLOOKUP(E176,Kühe!$A$7:$G$150,2,FALSE)","v":"Xhyla"},{"$f":"VLOOKUP(E176,Kühe!$A$7:$G$150,7,FALSE)","v":"Wyssen Diego & Madlen"}]
["2018-08-29",{"$f":"VLOOKUP(D177,Kühe!$A$7:$G$150,7,FALSE)","v":"Bregy Ralf & Adolf"},{"$f":"VLOOKUP(D177,Kühe!$A$7:$G$150,2,FALSE)","v":"Lacoste"},10,4,{"$f":"VLOOKUP(E177,Kühe!$A$7:$G$150,2,FALSE)","v":"Ramona"},{"$f":"VLOOKUP(E177,Kühe!$A$7:$G$150,7,FALSE)","v":"Bayard Medard & Gustav"}]
["2018-08-29",{"$f":"VLOOKUP(D178,Kühe!$A$7:$G$150,7,FALSE)","v":"Fux Wendelin, Jenny & Wyer Piet"},{"$f":"VLOOKUP(D178,Kühe!$A$7:$G$150,2,FALSE)","v":"Samantha"},33,36,{"$f":"VLOOKUP(E178,Kühe!$A$7:$G$150,2,FALSE)","v":"Valaisanne"},{"$f":"VLOOKUP(E178,Kühe!$A$7:$G$150,7,FALSE)","v":"Fux Wendelin, Jenny & Wyer Piet"}]
["2018-08-28",{"$f":"VLOOKUP(D179,Kühe!$A$7:$G$150,7,FALSE)","v":"Bayard Medard & Gustav"},{"$f":"VLOOKUP(D179,Kühe!$A$7:$G$150,2,FALSE)","v":"Pinka"},3,104,{"$f":"VLOOKUP(E179,Kühe!$A$7:$G$150,2,FALSE)","v":"Pengale"},{"$f":"VLOOKUP(E179,Kühe!$A$7:$G$150,7,FALSE)","v":"Zumofen / Gattlen"}]
["2018-08-28",{"$f":"VLOOKUP(D180,Kühe!$A$7:$G$150,7,FALSE)","v":"Bregy Ralf & Adolf"},{"$f":"VLOOKUP(D180,Kühe!$A$7:$G$150,2,FALSE)","v":"Canaille"},7,92,{"$f":"VLOOKUP(E180,Kühe!$A$7:$G$150,2,FALSE)","v":"Fiorenza"},{"$f":"VLOOKUP(E180,Kühe!$A$7:$G$150,7,FALSE)","v":"Wyssen Diego & Madlen"}]
["2018-08-28",{"$f":"VLOOKUP(D181,Kühe!$A$7:$G$150,7,FALSE)","v":"Bayard Medard & Gustav"},{"$f":"VLOOKUP(D181,Kühe!$A$7:$G$150,2,FALSE)","v":"Diabolo"},1,108,{"$f":"VLOOKUP(E181,Kühe!$A$7:$G$150,2,FALSE)","v":"Volero"},{"$f":"VLOOKUP(E181,Kühe!$A$7:$G$150,7,FALSE)","v":"Zumofen / Gattlen"}]
["2018-08-28",{"$f":"VLOOKUP(D182,Kühe!$A$7:$G$150,7,FALSE)","v":"Mathieu Leander & Sascha"},{"$f":"VLOOKUP(D182,Kühe!$A$7:$G$150,2,FALSE)","v":"Belon"},63,104,{"$f":"VLOOKUP(E182,Kühe!$A$7:$G$150,2,FALSE)","v":"Pengale"},{"$f":"VLOOKUP(E182,Kühe!$A$7:$G$150,7,FALSE)","v":"Zumofen / Gattlen"}]
["2018-08-27",{"$f":"VLOOKUP(D183,Kühe!$A$7:$G$150,7,FALSE)","v":"Fux Wendelin, Jenny & Wyer Piet"},{"$f":"VLOOKUP(D183,Kühe!$A$7:$G$150,2,FALSE)","v":"Souris"},35,47,{"$f":"VLOOKUP(E183,Kühe!$A$7:$G$150,2,FALSE)","v":"Pablo"},{"$f":"VLOOKUP(E183,Kühe!$A$7:$G$150,7,FALSE)","v":"Hischier Pius"}]
["2018-08-27",{"$f":"VLOOKUP(D184,Kühe!$A$7:$G$150,7,FALSE)","v":"Stallung Passeraub"},{"$f":"VLOOKUP(D184,Kühe!$A$7:$G$150,2,FALSE)","v":"Bombache"},67,72,{"$f":"VLOOKUP(E184,Kühe!$A$7:$G$150,2,FALSE)","v":"Mirette"},{"$f":"VLOOKUP(E184,Kühe!$A$7:$G$150,7,FALSE)","v":"Hutter Richard"}]
["2018-08-27",{"$f":"VLOOKUP(D185,Kühe!$A$7:$G$150,7,FALSE)","v":"Jäger Carlo"},{"$f":"VLOOKUP(D185,Kühe!$A$7:$G$150,2,FALSE)","v":"Guxa"},51,1,{"$f":"VLOOKUP(E185,Kühe!$A$7:$G$150,2,FALSE)","v":"Diabolo"},{"$f":"VLOOKUP(E185,Kühe!$A$7:$G$150,7,FALSE)","v":"Bayard Medard & Gustav"}]
["2018-08-27",{"$f":"VLOOKUP(D186,Kühe!$A$7:$G$150,7,FALSE)","v":"Zumofen / Gattlen"},{"$f":"VLOOKUP(D186,Kühe!$A$7:$G$150,2,FALSE)","v":"Volero"},108,23,{"$f":"VLOOKUP(E186,Kühe!$A$7:$G$150,2,FALSE)","v":"Rebell"},{"$f":"VLOOKUP(E186,Kühe!$A$7:$G$150,7,FALSE)","v":"Familie Leiggener"}]
["2018-08-27",{"$f":"VLOOKUP(D187,Kühe!$A$7:$G$150,7,FALSE)","v":"Bregy Uli & Pascal"},{"$f":"VLOOKUP(D187,Kühe!$A$7:$G$150,2,FALSE)","v":"Calin"},14,23,{"$f":"VLOOKUP(E187,Kühe!$A$7:$G$150,2,FALSE)","v":"Rebell"},{"$f":"VLOOKUP(E187,Kühe!$A$7:$G$150,7,FALSE)","v":"Familie Leiggener"}]
["2018-08-27",{"$f":"VLOOKUP(D188,Kühe!$A$7:$G$150,7,FALSE)","v":"Williner  Anton"},{"$f":"VLOOKUP(D188,Kühe!$A$7:$G$150,2,FALSE)","v":"Mirabilis"},87,15,{"$f":"VLOOKUP(E188,Kühe!$A$7:$G$150,2,FALSE)","v":"Catalina"},{"$f":"VLOOKUP(E188,Kühe!$A$7:$G$150,7,FALSE)","v":"Bregy Uli & Pascal"}]
["2018-08-27",{"$f":"VLOOKUP(D189,Kühe!$A$7:$G$150,7,FALSE)","v":"Gebrüder Jäger"},{"$f":"VLOOKUP(D189,Kühe!$A$7:$G$150,2,FALSE)","v":"Taylor"},45,82,{"$f":"VLOOKUP(E189,Kühe!$A$7:$G$150,2,FALSE)","v":"Carolin"},{"$f":"VLOOKUP(E189,Kühe!$A$7:$G$150,7,FALSE)","v":"Tscherry Erwin & Bernhard"}]
["2018-08-27",{"$f":"VLOOKUP(D190,Kühe!$A$7:$G$150,7,FALSE)","v":"Bregy Ralf & Adolf"},{"$f":"VLOOKUP(D190,Kühe!$A$7:$G$150,2,FALSE)","v":"Creola"},8,95,{"$f":"VLOOKUP(E190,Kühe!$A$7:$G$150,2,FALSE)","v":"Xena"},{"$f":"VLOOKUP(E190,Kühe!$A$7:$G$150,7,FALSE)","v":"Wyssen Diego & Madlen"}]
["2018-08-27",{"$f":"VLOOKUP(D191,Kühe!$A$7:$G$150,7,FALSE)","v":"Bayard Medard & Gustav"},{"$f":"VLOOKUP(D191,Kühe!$A$7:$G$150,2,FALSE)","v":"Mirabelle"},2,8,{"$f":"VLOOKUP(E191,Kühe!$A$7:$G$150,2,FALSE)","v":"Creola"},{"$f":"VLOOKUP(E191,Kühe!$A$7:$G$150,7,FALSE)","v":"Bregy Ralf & Adolf"}]
["2018-08-27",{"$f":"VLOOKUP(D192,Kühe!$A$7:$G$150,7,FALSE)","v":"Bregy Ralf & Adolf"},{"$f":"VLOOKUP(D192,Kühe!$A$7:$G$150,2,FALSE)","v":"Creola"},8,75,{"$f":"VLOOKUP(E192,Kühe!$A$7:$G$150,2,FALSE)","v":"Pandora"},{"$f":"VLOOKUP(E192,Kühe!$A$7:$G$150,7,FALSE)","v":"Stallung zum Stäg"}]
["2018-08-27",{"$f":"VLOOKUP(D193,Kühe!$A$7:$G$150,7,FALSE)","v":"Jäger Carlo"},{"$f":"VLOOKUP(D193,Kühe!$A$7:$G$150,2,FALSE)","v":"Promise"},57,98,{"$f":"VLOOKUP(E193,Kühe!$A$7:$G$150,2,FALSE)","v":"Nana"},{"$f":"VLOOKUP(E193,Kühe!$A$7:$G$150,7,FALSE)","v":"Familie Zumoberhaus"}]
["2018-08-26",{"$f":"VLOOKUP(D194,Kühe!$A$7:$G$150,7,FALSE)","v":"Hischier Pius"},{"$f":"VLOOKUP(D194,Kühe!$A$7:$G$150,2,FALSE)","v":"Pelila"},48,19,{"$f":"VLOOKUP(E194,Kühe!$A$7:$G$150,2,FALSE)","v":"Tiranie"},{"$f":"VLOOKUP(E194,Kühe!$A$7:$G$150,7,FALSE)","v":"Bregy Uli & Pascal"}]
["2018-08-26",{"$f":"VLOOKUP(D195,Kühe!$A$7:$G$150,7,FALSE)","v":"Tscherry Erwin & Bernhard"},{"$f":"VLOOKUP(D195,Kühe!$A$7:$G$150,2,FALSE)","v":"Tulipe"},85,99,{"$f":"VLOOKUP(E195,Kühe!$A$7:$G$150,2,FALSE)","v":"Napapiri"},{"$f":"VLOOKUP(E195,Kühe!$A$7:$G$150,7,FALSE)","v":"Familie Zumoberhaus"}]
["2018-08-26",{"$f":"VLOOKUP(D196,Kühe!$A$7:$G$150,7,FALSE)","v":"Bregy Uli & Pascal"},{"$f":"VLOOKUP(D196,Kühe!$A$7:$G$150,2,FALSE)","v":"Souki"},18,8,{"$f":"VLOOKUP(E196,Kühe!$A$7:$G$150,2,FALSE)","v":"Creola"},{"$f":"VLOOKUP(E196,Kühe!$A$7:$G$150,7,FALSE)","v":"Bregy Ralf & Adolf"}]
["2018-08-26",{"$f":"VLOOKUP(D197,Kühe!$A$7:$G$150,7,FALSE)","v":"Williner  Anton"},{"$f":"VLOOKUP(D197,Kühe!$A$7:$G$150,2,FALSE)","v":"Tira"},90,43,{"$f":"VLOOKUP(E197,Kühe!$A$7:$G$150,2,FALSE)","v":"Dorina"},{"$f":"VLOOKUP(E197,Kühe!$A$7:$G$150,7,FALSE)","v":"Gebrüder Jäger"}]
["2018-08-26",{"$f":"VLOOKUP(D198,Kühe!$A$7:$G$150,7,FALSE)","v":"Sewer Ralf & Thommen Steve"},{"$f":"VLOOKUP(D198,Kühe!$A$7:$G$150,2,FALSE)","v":"Tinea"},81,65,{"$f":"VLOOKUP(E198,Kühe!$A$7:$G$150,2,FALSE)","v":"Baghera"},{"$f":"VLOOKUP(E198,Kühe!$A$7:$G$150,7,FALSE)","v":"Stallung Passeraub"}]
["2018-08-26",{"$f":"VLOOKUP(D199,Kühe!$A$7:$G$150,7,FALSE)","v":"Jäger Carlo"},{"$f":"VLOOKUP(D199,Kühe!$A$7:$G$150,2,FALSE)","v":"Paloma"},54,60,{"$f":"VLOOKUP(E199,Kühe!$A$7:$G$150,2,FALSE)","v":"Bambino"},{"$f":"VLOOKUP(E199,Kühe!$A$7:$G$150,7,FALSE)","v":"Mathieu Leander & Sascha"}]
["2018-08-26",{"$f":"VLOOKUP(D200,Kühe!$A$7:$G$150,7,FALSE)","v":"Williner  Anton"},{"$f":"VLOOKUP(D200,Kühe!$A$7:$G$150,2,FALSE)","v":"Diva"},89,73,{"$f":"VLOOKUP(E200,Kühe!$A$7:$G$150,2,FALSE)","v":"Benika"},{"$f":"VLOOKUP(E200,Kühe!$A$7:$G$150,7,FALSE)","v":"Stallung zum Stäg"}]
["2018-08-26",{"$f":"VLOOKUP(D201,Kühe!$A$7:$G$150,7,FALSE)","v":"Bregy Ralf & Adolf"},{"$f":"VLOOKUP(D201,Kühe!$A$7:$G$150,2,FALSE)","v":"Flacari"},9,37,{"$f":"VLOOKUP(E201,Kühe!$A$7:$G$150,2,FALSE)","v":"Tango"},{"$f":"VLOOKUP(E201,Kühe!$A$7:$G$150,7,FALSE)","v":"Gebrüder Jäger"}]
["2018-08-26",{"$f":"VLOOKUP(D202,Kühe!$A$7:$G$150,7,FALSE)","v":"Mathieu Leander & Sascha"},{"$f":"VLOOKUP(D202,Kühe!$A$7:$G$150,2,FALSE)","v":"Baghira"},59,19,{"$f":"VLOOKUP(E202,Kühe!$A$7:$G$150,2,FALSE)","v":"Tiranie"},{"$f":"VLOOKUP(E202,Kühe!$A$7:$G$150,7,FALSE)","v":"Bregy Uli & Pascal"}]
["2018-08-26",{"$f":"VLOOKUP(D203,Kühe!$A$7:$G$150,7,FALSE)","v":"Bregy Ralf & Adolf"},{"$f":"VLOOKUP(D203,Kühe!$A$7:$G$150,2,FALSE)","v":"Flacari"},9,92,{"$f":"VLOOKUP(E203,Kühe!$A$7:$G$150,2,FALSE)","v":"Fiorenza"},{"$f":"VLOOKUP(E203,Kühe!$A$7:$G$150,7,FALSE)","v":"Wyssen Diego & Madlen"}]
["2018-08-26",{"$f":"VLOOKUP(D204,Kühe!$A$7:$G$150,7,FALSE)","v":"Bregy Ralf & Adolf"},{"$f":"VLOOKUP(D204,Kühe!$A$7:$G$150,2,FALSE)","v":"Lacoste"},10,96,{"$f":"VLOOKUP(E204,Kühe!$A$7:$G$150,2,FALSE)","v":"Xhyla"},{"$f":"VLOOKUP(E204,Kühe!$A$7:$G$150,7,FALSE)","v":"Wyssen Diego & Madlen"}]
["2018-08-26",{"$f":"VLOOKUP(D205,Kühe!$A$7:$G$150,7,FALSE)","v":"Bregy Ralf & Adolf"},{"$f":"VLOOKUP(D205,Kühe!$A$7:$G$150,2,FALSE)","v":"Creola"},8,75,{"$f":"VLOOKUP(E205,Kühe!$A$7:$G$150,2,FALSE)","v":"Pandora"},{"$f":"VLOOKUP(E205,Kühe!$A$7:$G$150,7,FALSE)","v":"Stallung zum Stäg"}]
["2018-08-26",{"$f":"VLOOKUP(D206,Kühe!$A$7:$G$150,7,FALSE)","v":"Bregy Uli & Pascal"},{"$f":"VLOOKUP(D206,Kühe!$A$7:$G$150,2,FALSE)","v":"Tiranie"},19,96,{"$f":"VLOOKUP(E206,Kühe!$A$7:$G$150,2,FALSE)","v":"Xhyla"},{"$f":"VLOOKUP(E206,Kühe!$A$7:$G$150,7,FALSE)","v":"Wyssen Diego & Madlen"}]
["2018-08-25",{"$f":"VLOOKUP(D207,Kühe!$A$7:$G$150,7,FALSE)","v":"Hischier Pius"},{"$f":"VLOOKUP(D207,Kühe!$A$7:$G$150,2,FALSE)","v":"Shakira"},49,42,{"$f":"VLOOKUP(E207,Kühe!$A$7:$G$150,2,FALSE)","v":"Tiger"},{"$f":"VLOOKUP(E207,Kühe!$A$7:$G$150,7,FALSE)","v":"Gebrüder Jäger"}]
["2018-08-25",{"$f":"VLOOKUP(D208,Kühe!$A$7:$G$150,7,FALSE)","v":"Stallung zum Stäg"},{"$f":"VLOOKUP(D208,Kühe!$A$7:$G$150,2,FALSE)","v":"Pandora"},75,63,{"$f":"VLOOKUP(E208,Kühe!$A$7:$G$150,2,FALSE)","v":"Belon"},{"$f":"VLOOKUP(E208,Kühe!$A$7:$G$150,7,FALSE)","v":"Mathieu Leander & Sascha"}]
["2018-08-25",{"$f":"VLOOKUP(D209,Kühe!$A$7:$G$150,7,FALSE)","v":"Familie Zumoberhaus"},{"$f":"VLOOKUP(D209,Kühe!$A$7:$G$150,2,FALSE)","v":"Nana"},98,68,{"$f":"VLOOKUP(E209,Kühe!$A$7:$G$150,2,FALSE)","v":"Bulle"},{"$f":"VLOOKUP(E209,Kühe!$A$7:$G$150,7,FALSE)","v":"Stallung Passeraub"}]
["2018-08-25",{"$f":"VLOOKUP(D210,Kühe!$A$7:$G$150,7,FALSE)","v":"Williner  Anton"},{"$f":"VLOOKUP(D210,Kühe!$A$7:$G$150,2,FALSE)","v":"Diva"},89,81,{"$f":"VLOOKUP(E210,Kühe!$A$7:$G$150,2,FALSE)","v":"Tinea"},{"$f":"VLOOKUP(E210,Kühe!$A$7:$G$150,7,FALSE)","v":"Sewer Ralf & Thommen Steve"}]
["2018-08-25",{"$f":"VLOOKUP(D211,Kühe!$A$7:$G$150,7,FALSE)","v":"Hischier Pius"},{"$f":"VLOOKUP(D211,Kühe!$A$7:$G$150,2,FALSE)","v":"Shakira"},49,97,{"$f":"VLOOKUP(E211,Kühe!$A$7:$G$150,2,FALSE)","v":"Coucou"},{"$f":"VLOOKUP(E211,Kühe!$A$7:$G$150,7,FALSE)","v":"Familie Zumoberhaus"}]
["2018-08-25",{"$f":"VLOOKUP(D212,Kühe!$A$7:$G$150,7,FALSE)","v":"Bregy Uli & Pascal"},{"$f":"VLOOKUP(D212,Kühe!$A$7:$G$150,2,FALSE)","v":"Pandora"},17,61,{"$f":"VLOOKUP(E212,Kühe!$A$7:$G$150,2,FALSE)","v":"Baronesse"},{"$f":"VLOOKUP(E212,Kühe!$A$7:$G$150,7,FALSE)","v":"Mathieu Leander & Sascha"}]
["2018-08-24",{"$f":"VLOOKUP(D213,Kühe!$A$7:$G$150,7,FALSE)","v":"Stallung Passeraub"},{"$f":"VLOOKUP(D213,Kühe!$A$7:$G$150,2,FALSE)","v":"Bulle"},68,69,{"$f":"VLOOKUP(E213,Kühe!$A$7:$G$150,2,FALSE)","v":"Manou"},{"$f":"VLOOKUP(E213,Kühe!$A$7:$G$150,7,FALSE)","v":"Stallung Passeraub"}]
["2018-08-24",{"$f":"VLOOKUP(D214,Kühe!$A$7:$G$150,7,FALSE)","v":"Zumofen / Gattlen"},{"$f":"VLOOKUP(D214,Kühe!$A$7:$G$150,2,FALSE)","v":"Volero"},108,58,{"$f":"VLOOKUP(E214,Kühe!$A$7:$G$150,2,FALSE)","v":"Turin"},{"$f":"VLOOKUP(E214,Kühe!$A$7:$G$150,7,FALSE)","v":"Jäger Carlo"}]
["2018-08-24",{"$f":"VLOOKUP(D215,Kühe!$A$7:$G$150,7,FALSE)","v":"Williner  Anton"},{"$f":"VLOOKUP(D215,Kühe!$A$7:$G$150,2,FALSE)","v":"Vanessa"},91,65,{"$f":"VLOOKUP(E215,Kühe!$A$7:$G$150,2,FALSE)","v":"Baghera"},{"$f":"VLOOKUP(E215,Kühe!$A$7:$G$150,7,FALSE)","v":"Stallung Passeraub"}]
["2018-08-23",{"$f":"VLOOKUP(D216,Kühe!$A$7:$G$150,7,FALSE)","v":"Gebrüder Jäger"},{"$f":"VLOOKUP(D216,Kühe!$A$7:$G$150,2,FALSE)","v":"Lorens"},46,13,{"$f":"VLOOKUP(E216,Kühe!$A$7:$G$150,2,FALSE)","v":"Tequilla"},{"$f":"VLOOKUP(E216,Kühe!$A$7:$G$150,7,FALSE)","v":"Bregy Patrick & Silvan"}]
["2018-08-23",{"$f":"VLOOKUP(D217,Kühe!$A$7:$G$150,7,FALSE)","v":"Williner  Anton"},{"$f":"VLOOKUP(D217,Kühe!$A$7:$G$150,2,FALSE)","v":"Diva"},89,70,{"$f":"VLOOKUP(E217,Kühe!$A$7:$G$150,2,FALSE)","v":"Medusa"},{"$f":"VLOOKUP(E217,Kühe!$A$7:$G$150,7,FALSE)","v":"Stallung Passeraub"}]
["2018-08-22",{"$f":"VLOOKUP(D218,Kühe!$A$7:$G$150,7,FALSE)","v":"Jäger Carlo"},{"$f":"VLOOKUP(D218,Kühe!$A$7:$G$150,2,FALSE)","v":"Bandit"},50,90,{"$f":"VLOOKUP(E218,Kühe!$A$7:$G$150,2,FALSE)","v":"Tira"},{"$f":"VLOOKUP(E218,Kühe!$A$7:$G$150,7,FALSE)","v":"Williner  Anton"}]
["2018-08-22",{"$f":"VLOOKUP(D219,Kühe!$A$7:$G$150,7,FALSE)","v":"Stallung zum Stäg"},{"$f":"VLOOKUP(D219,Kühe!$A$7:$G$150,2,FALSE)","v":"Benika"},73,40,{"$f":"VLOOKUP(E219,Kühe!$A$7:$G$150,2,FALSE)","v":"Barilona"},{"$f":"VLOOKUP(E219,Kühe!$A$7:$G$150,7,FALSE)","v":"Gebrüder Jäger"}]
["2018-08-22",{"$f":"VLOOKUP(D220,Kühe!$A$7:$G$150,7,FALSE)","v":"Stallung Passeraub"},{"$f":"VLOOKUP(D220,Kühe!$A$7:$G$150,2,FALSE)","v":"Bonita"},71,53,{"$f":"VLOOKUP(E220,Kühe!$A$7:$G$150,2,FALSE)","v":"Mirtille"},{"$f":"VLOOKUP(E220,Kühe!$A$7:$G$150,7,FALSE)","v":"Jäger Carlo"}]
["2018-08-22",{"$f":"VLOOKUP(D221,Kühe!$A$7:$G$150,7,FALSE)","v":"Bayard Medard & Gustav"},{"$f":"VLOOKUP(D221,Kühe!$A$7:$G$150,2,FALSE)","v":"Mirabelle"},2,97,{"$f":"VLOOKUP(E221,Kühe!$A$7:$G$150,2,FALSE)","v":"Coucou"},{"$f":"VLOOKUP(E221,Kühe!$A$7:$G$150,7,FALSE)","v":"Familie Zumoberhaus"}]
["2018-08-22",{"$f":"VLOOKUP(D222,Kühe!$A$7:$G$150,7,FALSE)","v":"Stallung Passeraub"},{"$f":"VLOOKUP(D222,Kühe!$A$7:$G$150,2,FALSE)","v":"Manou"},69,97,{"$f":"VLOOKUP(E222,Kühe!$A$7:$G$150,2,FALSE)","v":"Coucou"},{"$f":"VLOOKUP(E222,Kühe!$A$7:$G$150,7,FALSE)","v":"Familie Zumoberhaus"}]
["2018-08-22",{"$f":"VLOOKUP(D223,Kühe!$A$7:$G$150,7,FALSE)","v":"Familie Leiggener"},{"$f":"VLOOKUP(D223,Kühe!$A$7:$G$150,2,FALSE)","v":"Rebell"},23,97,{"$f":"VLOOKUP(E223,Kühe!$A$7:$G$150,2,FALSE)","v":"Coucou"},{"$f":"VLOOKUP(E223,Kühe!$A$7:$G$150,7,FALSE)","v":"Familie Zumoberhaus"}]
["2018-08-22",{"$f":"VLOOKUP(D224,Kühe!$A$7:$G$150,7,FALSE)","v":"Mathieu Leander & Sascha"},{"$f":"VLOOKUP(D224,Kühe!$A$7:$G$150,2,FALSE)","v":"Baronesse"},61,78,{"$f":"VLOOKUP(E224,Kühe!$A$7:$G$150,2,FALSE)","v":"Tabitha"},{"$f":"VLOOKUP(E224,Kühe!$A$7:$G$150,7,FALSE)","v":"Sewer Ralf & Thommen Steve"}]
["2018-08-20",{"$f":"VLOOKUP(D225,Kühe!$A$7:$G$150,7,FALSE)","v":"Jäger Carlo"},{"$f":"VLOOKUP(D225,Kühe!$A$7:$G$150,2,FALSE)","v":"Bandit"},50,24,{"$f":"VLOOKUP(E225,Kühe!$A$7:$G$150,2,FALSE)","v":"Tigres"},{"$f":"VLOOKUP(E225,Kühe!$A$7:$G$150,7,FALSE)","v":"Familie Leiggener"}]
["2018-08-20",{"$f":"VLOOKUP(D226,Kühe!$A$7:$G$150,7,FALSE)","v":"Jäger Carlo"},{"$f":"VLOOKUP(D226,Kühe!$A$7:$G$150,2,FALSE)","v":"Bandit"},50,105,{"$f":"VLOOKUP(E226,Kühe!$A$7:$G$150,2,FALSE)","v":"Puma"},{"$f":"VLOOKUP(E226,Kühe!$A$7:$G$150,7,FALSE)","v":"Zumofen / Gattlen"}]
["2018-08-20",{"$f":"VLOOKUP(D227,Kühe!$A$7:$G$150,7,FALSE)","v":"Bregy Patrick & Silvan"},{"$f":"VLOOKUP(D227,Kühe!$A$7:$G$150,2,FALSE)","v":"Tequilla"},13,15,{"$f":"VLOOKUP(E227,Kühe!$A$7:$G$150,2,FALSE)","v":"Catalina"},{"$f":"VLOOKUP(E227,Kühe!$A$7:$G$150,7,FALSE)","v":"Bregy Uli & Pascal"}]
["2018-08-20",{"$f":"VLOOKUP(D228,Kühe!$A$7:$G$150,7,FALSE)","v":"Zumofen / Gattlen"},{"$f":"VLOOKUP(D228,Kühe!$A$7:$G$150,2,FALSE)","v":"Puma"},105,57,{"$f":"VLOOKUP(E228,Kühe!$A$7:$G$150,2,FALSE)","v":"Promise"},{"$f":"VLOOKUP(E228,Kühe!$A$7:$G$150,7,FALSE)","v":"Jäger Carlo"}]
["2018-08-20",{"$f":"VLOOKUP(D229,Kühe!$A$7:$G$150,7,FALSE)","v":"Gebrüder Jäger"},{"$f":"VLOOKUP(D229,Kühe!$A$7:$G$150,2,FALSE)","v":"Lorens"},46,13,{"$f":"VLOOKUP(E229,Kühe!$A$7:$G$150,2,FALSE)","v":"Tequilla"},{"$f":"VLOOKUP(E229,Kühe!$A$7:$G$150,7,FALSE)","v":"Bregy Patrick & Silvan"}]
["2018-08-20",{"$f":"VLOOKUP(D230,Kühe!$A$7:$G$150,7,FALSE)","v":"Gebrüder Jäger"},{"$f":"VLOOKUP(D230,Kühe!$A$7:$G$150,2,FALSE)","v":"Lorens"},46,58,{"$f":"VLOOKUP(E230,Kühe!$A$7:$G$150,2,FALSE)","v":"Turin"},{"$f":"VLOOKUP(E230,Kühe!$A$7:$G$150,7,FALSE)","v":"Jäger Carlo"}]
["2018-08-20",{"$f":"VLOOKUP(D231,Kühe!$A$7:$G$150,7,FALSE)","v":"Fux Wendelin, Jenny & Wyer Piet"},{"$f":"VLOOKUP(D231,Kühe!$A$7:$G$150,2,FALSE)","v":"Bolero"},27,21,{"$f":"VLOOKUP(E231,Kühe!$A$7:$G$150,2,FALSE)","v":"Bulle"},{"$f":"VLOOKUP(E231,Kühe!$A$7:$G$150,7,FALSE)","v":"Familie Leiggener"}]
["2018-08-20",{"$f":"VLOOKUP(D232,Kühe!$A$7:$G$150,7,FALSE)","v":"Fux Wendelin, Jenny & Wyer Piet"},{"$f":"VLOOKUP(D232,Kühe!$A$7:$G$150,2,FALSE)","v":"Bresil"},28,73,{"$f":"VLOOKUP(E232,Kühe!$A$7:$G$150,2,FALSE)","v":"Benika"},{"$f":"VLOOKUP(E232,Kühe!$A$7:$G$150,7,FALSE)","v":"Stallung zum Stäg"}]
["2018-08-20",{"$f":"VLOOKUP(D233,Kühe!$A$7:$G$150,7,FALSE)","v":"Stallung zum Stäg"},{"$f":"VLOOKUP(D233,Kühe!$A$7:$G$150,2,FALSE)","v":"Diaries"},74,64,{"$f":"VLOOKUP(E233,Kühe!$A$7:$G$150,2,FALSE)","v":"Bonita"},{"$f":"VLOOKUP(E233,Kühe!$A$7:$G$150,7,FALSE)","v":"Mathieu Leander & Sascha"}]
["2018-08-20",{"$f":"VLOOKUP(D234,Kühe!$A$7:$G$150,7,FALSE)","v":"Zumofen / Gattlen"},{"$f":"VLOOKUP(D234,Kühe!$A$7:$G$150,2,FALSE)","v":"Vulcana"},109,100,{"$f":"VLOOKUP(E234,Kühe!$A$7:$G$150,2,FALSE)","v":"Akhira"},{"$f":"VLOOKUP(E234,Kühe!$A$7:$G$150,7,FALSE)","v":"Zumofen / Gattlen"}]
["2018-08-20",{"$f":"VLOOKUP(D235,Kühe!$A$7:$G$150,7,FALSE)","v":"Bayard Medard & Gustav"},{"$f":"VLOOKUP(D235,Kühe!$A$7:$G$150,2,FALSE)","v":"Mirabelle"},2,11,{"$f":"VLOOKUP(E235,Kühe!$A$7:$G$150,2,FALSE)","v":"Santiago"},{"$f":"VLOOKUP(E235,Kühe!$A$7:$G$150,7,FALSE)","v":"Bregy Ralf & Adolf"}]
["2018-08-19",{"$f":"VLOOKUP(D236,Kühe!$A$7:$G$150,7,FALSE)","v":"Familie Leiggener"},{"$f":"VLOOKUP(D236,Kühe!$A$7:$G$150,2,FALSE)","v":"Rebell"},23,16,{"$f":"VLOOKUP(E236,Kühe!$A$7:$G$150,2,FALSE)","v":"Cora"},{"$f":"VLOOKUP(E236,Kühe!$A$7:$G$150,7,FALSE)","v":"Bregy Uli & Pascal"}]
["2018-08-19",{"$f":"VLOOKUP(D237,Kühe!$A$7:$G$150,7,FALSE)","v":"Bregy Patrick & Silvan"},{"$f":"VLOOKUP(D237,Kühe!$A$7:$G$150,2,FALSE)","v":"Tequilla"},13,94,{"$f":"VLOOKUP(E237,Kühe!$A$7:$G$150,2,FALSE)","v":"Xanja"},{"$f":"VLOOKUP(E237,Kühe!$A$7:$G$150,7,FALSE)","v":"Wyssen Diego & Madlen"}]
["2018-08-19",{"$f":"VLOOKUP(D238,Kühe!$A$7:$G$150,7,FALSE)","v":"Bregy Patrick & Silvan"},{"$f":"VLOOKUP(D238,Kühe!$A$7:$G$150,2,FALSE)","v":"Tequilla"},13,18,{"$f":"VLOOKUP(E238,Kühe!$A$7:$G$150,2,FALSE)","v":"Souki"},{"$f":"VLOOKUP(E238,Kühe!$A$7:$G$150,7,FALSE)","v":"Bregy Uli & Pascal"}]
["2018-08-19",{"$f":"VLOOKUP(D239,Kühe!$A$7:$G$150,7,FALSE)","v":"Zumofen / Gattlen"},{"$f":"VLOOKUP(D239,Kühe!$A$7:$G$150,2,FALSE)","v":"Fangjo"},101,74,{"$f":"VLOOKUP(E239,Kühe!$A$7:$G$150,2,FALSE)","v":"Diaries"},{"$f":"VLOOKUP(E239,Kühe!$A$7:$G$150,7,FALSE)","v":"Stallung zum Stäg"}]
["2018-08-19",{"$f":"VLOOKUP(D240,Kühe!$A$7:$G$150,7,FALSE)","v":"Stallung zum Stäg"},{"$f":"VLOOKUP(D240,Kühe!$A$7:$G$150,2,FALSE)","v":"Diaries"},74,24,{"$f":"VLOOKUP(E240,Kühe!$A$7:$G$150,2,FALSE)","v":"Tigres"},{"$f":"VLOOKUP(E240,Kühe!$A$7:$G$150,7,FALSE)","v":"Familie Leiggener"}]
["2018-08-19",{"$f":"VLOOKUP(D241,Kühe!$A$7:$G$150,7,FALSE)","v":"Jäger Carlo"},{"$f":"VLOOKUP(D241,Kühe!$A$7:$G$150,2,FALSE)","v":"Papillon"},55,94,{"$f":"VLOOKUP(E241,Kühe!$A$7:$G$150,2,FALSE)","v":"Xanja"},{"$f":"VLOOKUP(E241,Kühe!$A$7:$G$150,7,FALSE)","v":"Wyssen Diego & Madlen"}]
["2018-08-19",{"$f":"VLOOKUP(D242,Kühe!$A$7:$G$150,7,FALSE)","v":"Wyssen Diego & Madlen"},{"$f":"VLOOKUP(D242,Kühe!$A$7:$G$150,2,FALSE)","v":"Shagiri"},93,36,{"$f":"VLOOKUP(E242,Kühe!$A$7:$G$150,2,FALSE)","v":"Valaisanne"},{"$f":"VLOOKUP(E242,Kühe!$A$7:$G$150,7,FALSE)","v":"Fux Wendelin, Jenny & Wyer Piet"}]
["2018-08-19",{"$f":"VLOOKUP(D243,Kühe!$A$7:$G$150,7,FALSE)","v":"Familie Leiggener"},{"$f":"VLOOKUP(D243,Kühe!$A$7:$G$150,2,FALSE)","v":"Bulle"},21,94,{"$f":"VLOOKUP(E243,Kühe!$A$7:$G$150,2,FALSE)","v":"Xanja"},{"$f":"VLOOKUP(E243,Kühe!$A$7:$G$150,7,FALSE)","v":"Wyssen Diego & Madlen"}]
["2018-08-18",{"$f":"VLOOKUP(D244,Kühe!$A$7:$G$150,7,FALSE)","v":"Williner  Anton"},{"$f":"VLOOKUP(D244,Kühe!$A$7:$G$150,2,FALSE)","v":"Vanessa"},91,72,{"$f":"VLOOKUP(E244,Kühe!$A$7:$G$150,2,FALSE)","v":"Mirette"},{"$f":"VLOOKUP(E244,Kühe!$A$7:$G$150,7,FALSE)","v":"Hutter Richard"}]
["2018-08-18",{"$f":"VLOOKUP(D245,Kühe!$A$7:$G$150,7,FALSE)","v":"Wyssen Diego & Madlen"},{"$f":"VLOOKUP(D245,Kühe!$A$7:$G$150,2,FALSE)","v":"Fiorenza"},92,45,{"$f":"VLOOKUP(E245,Kühe!$A$7:$G$150,2,FALSE)","v":"Taylor"},{"$f":"VLOOKUP(E245,Kühe!$A$7:$G$150,7,FALSE)","v":"Gebrüder Jäger"}]
["2018-08-18",{"$f":"VLOOKUP(D246,Kühe!$A$7:$G$150,7,FALSE)","v":"Williner  Anton"},{"$f":"VLOOKUP(D246,Kühe!$A$7:$G$150,2,FALSE)","v":"Colonell"},88,84,{"$f":"VLOOKUP(E246,Kühe!$A$7:$G$150,2,FALSE)","v":"Cobra"},{"$f":"VLOOKUP(E246,Kühe!$A$7:$G$150,7,FALSE)","v":"Tscherry Erwin & Bernhard"}]
["2018-08-18",{"$f":"VLOOKUP(D247,Kühe!$A$7:$G$150,7,FALSE)","v":"Zumofen / Gattlen"},{"$f":"VLOOKUP(D247,Kühe!$A$7:$G$150,2,FALSE)","v":"Volero"},108,46,{"$f":"VLOOKUP(E247,Kühe!$A$7:$G$150,2,FALSE)","v":"Lorens"},{"$f":"VLOOKUP(E247,Kühe!$A$7:$G$150,7,FALSE)","v":"Gebrüder Jäger"}]
["2018-08-18",{"$f":"VLOOKUP(D248,Kühe!$A$7:$G$150,7,FALSE)","v":"Jäger Carlo"},{"$f":"VLOOKUP(D248,Kühe!$A$7:$G$150,2,FALSE)","v":"Guxa"},51,10,{"$f":"VLOOKUP(E248,Kühe!$A$7:$G$150,2,FALSE)","v":"Lacoste"},{"$f":"VLOOKUP(E248,Kühe!$A$7:$G$150,7,FALSE)","v":"Bregy Ralf & Adolf"}]
["2018-08-17",{"$f":"VLOOKUP(D249,Kühe!$A$7:$G$150,7,FALSE)","v":"Bayard Medard & Gustav"},{"$f":"VLOOKUP(D249,Kühe!$A$7:$G$150,2,FALSE)","v":"Ramona"},4,15,{"$f":"VLOOKUP(E249,Kühe!$A$7:$G$150,2,FALSE)","v":"Catalina"},{"$f":"VLOOKUP(E249,Kühe!$A$7:$G$150,7,FALSE)","v":"Bregy Uli & Pascal"}]
["2018-08-16",{"$f":"VLOOKUP(D250,Kühe!$A$7:$G$150,7,FALSE)","v":"Familie Leiggener"},{"$f":"VLOOKUP(D250,Kühe!$A$7:$G$150,2,FALSE)","v":"Tigres"},24,67,{"$f":"VLOOKUP(E250,Kühe!$A$7:$G$150,2,FALSE)","v":"Bombache"},{"$f":"VLOOKUP(E250,Kühe!$A$7:$G$150,7,FALSE)","v":"Stallung Passeraub"}]
["2018-08-16",{"$f":"VLOOKUP(D251,Kühe!$A$7:$G$150,7,FALSE)","v":"Fux Wendelin, Jenny & Wyer Piet"},{"$f":"VLOOKUP(D251,Kühe!$A$7:$G$150,2,FALSE)","v":"Souris"},35,82,{"$f":"VLOOKUP(E251,Kühe!$A$7:$G$150,2,FALSE)","v":"Carolin"},{"$f":"VLOOKUP(E251,Kühe!$A$7:$G$150,7,FALSE)","v":"Tscherry Erwin & Bernhard"}]
["2018-08-16",{"$f":"VLOOKUP(D252,Kühe!$A$7:$G$150,7,FALSE)","v":"Familie Zumoberhaus"},{"$f":"VLOOKUP(D252,Kühe!$A$7:$G$150,2,FALSE)","v":"Napapiri"},99,35,{"$f":"VLOOKUP(E252,Kühe!$A$7:$G$150,2,FALSE)","v":"Souris"},{"$f":"VLOOKUP(E252,Kühe!$A$7:$G$150,7,FALSE)","v":"Fux Wendelin, Jenny & Wyer Piet"}]
["2018-08-16",{"$f":"VLOOKUP(D253,Kühe!$A$7:$G$150,7,FALSE)","v":"Familie Leiggener"},{"$f":"VLOOKUP(D253,Kühe!$A$7:$G$150,2,FALSE)","v":"Tigres"},24,53,{"$f":"VLOOKUP(E253,Kühe!$A$7:$G$150,2,FALSE)","v":"Mirtille"},{"$f":"VLOOKUP(E253,Kühe!$A$7:$G$150,7,FALSE)","v":"Jäger Carlo"}]
["2018-08-16",{"$f":"VLOOKUP(D254,Kühe!$A$7:$G$150,7,FALSE)","v":"Familie Leiggener"},{"$f":"VLOOKUP(D254,Kühe!$A$7:$G$150,2,FALSE)","v":"Tigres"},24,16,{"$f":"VLOOKUP(E254,Kühe!$A$7:$G$150,2,FALSE)","v":"Cora"},{"$f":"VLOOKUP(E254,Kühe!$A$7:$G$150,7,FALSE)","v":"Bregy Uli & Pascal"}]
["2018-08-16",{"$f":"VLOOKUP(D255,Kühe!$A$7:$G$150,7,FALSE)","v":"Bregy Ralf & Adolf"},{"$f":"VLOOKUP(D255,Kühe!$A$7:$G$150,2,FALSE)","v":"Flacari"},9,14,{"$f":"VLOOKUP(E255,Kühe!$A$7:$G$150,2,FALSE)","v":"Calin"},{"$f":"VLOOKUP(E255,Kühe!$A$7:$G$150,7,FALSE)","v":"Bregy Uli & Pascal"}]
["2018-08-16",{"$f":"VLOOKUP(D256,Kühe!$A$7:$G$150,7,FALSE)","v":"Familie Leiggener"},{"$f":"VLOOKUP(D256,Kühe!$A$7:$G$150,2,FALSE)","v":"Tigres"},24,72,{"$f":"VLOOKUP(E256,Kühe!$A$7:$G$150,2,FALSE)","v":"Mirette"},{"$f":"VLOOKUP(E256,Kühe!$A$7:$G$150,7,FALSE)","v":"Hutter Richard"}]
["2018-08-15",{"$f":"VLOOKUP(D257,Kühe!$A$7:$G$150,7,FALSE)","v":"Familie Leiggener"},{"$f":"VLOOKUP(D257,Kühe!$A$7:$G$150,2,FALSE)","v":"Rambo"},22,75,{"$f":"VLOOKUP(E257,Kühe!$A$7:$G$150,2,FALSE)","v":"Pandora"},{"$f":"VLOOKUP(E257,Kühe!$A$7:$G$150,7,FALSE)","v":"Stallung zum Stäg"}]
["2018-08-15",{"$f":"VLOOKUP(D258,Kühe!$A$7:$G$150,7,FALSE)","v":"Bayard Medard & Gustav"},{"$f":"VLOOKUP(D258,Kühe!$A$7:$G$150,2,FALSE)","v":"Diabolo"},1,13,{"$f":"VLOOKUP(E258,Kühe!$A$7:$G$150,2,FALSE)","v":"Tequilla"},{"$f":"VLOOKUP(E258,Kühe!$A$7:$G$150,7,FALSE)","v":"Bregy Patrick & Silvan"}]
["2018-08-15",{"$f":"VLOOKUP(D259,Kühe!$A$7:$G$150,7,FALSE)","v":"Zumofen / Gattlen"},{"$f":"VLOOKUP(D259,Kühe!$A$7:$G$150,2,FALSE)","v":"Fayola"},102,91,{"$f":"VLOOKUP(E259,Kühe!$A$7:$G$150,2,FALSE)","v":"Vanessa"},{"$f":"VLOOKUP(E259,Kühe!$A$7:$G$150,7,FALSE)","v":"Williner  Anton"}]
["2018-08-15",{"$f":"VLOOKUP(D260,Kühe!$A$7:$G$150,7,FALSE)","v":"Bregy Uli & Pascal"},{"$f":"VLOOKUP(D260,Kühe!$A$7:$G$150,2,FALSE)","v":"Pandora"},17,33,{"$f":"VLOOKUP(E260,Kühe!$A$7:$G$150,2,FALSE)","v":"Samantha"},{"$f":"VLOOKUP(E260,Kühe!$A$7:$G$150,7,FALSE)","v":"Fux Wendelin, Jenny & Wyer Piet"}]
["2018-08-15",{"$f":"VLOOKUP(D261,Kühe!$A$7:$G$150,7,FALSE)","v":"Sewer Ralf & Thommen Steve"},{"$f":"VLOOKUP(D261,Kühe!$A$7:$G$150,2,FALSE)","v":"Tabitha"},78,45,{"$f":"VLOOKUP(E261,Kühe!$A$7:$G$150,2,FALSE)","v":"Taylor"},{"$f":"VLOOKUP(E261,Kühe!$A$7:$G$150,7,FALSE)","v":"Gebrüder Jäger"}]
["2018-08-15",{"$f":"VLOOKUP(D262,Kühe!$A$7:$G$150,7,FALSE)","v":"Jäger Carlo"},{"$f":"VLOOKUP(D262,Kühe!$A$7:$G$150,2,FALSE)","v":"Bandit"},50,76,{"$f":"VLOOKUP(E262,Kühe!$A$7:$G$150,2,FALSE)","v":"Gonda"},{"$f":"VLOOKUP(E262,Kühe!$A$7:$G$150,7,FALSE)","v":"Sewer Ralf & Thommen Steve"}]
["2018-08-14",{"$f":"VLOOKUP(D263,Kühe!$A$7:$G$150,7,FALSE)","v":"Williner  Anton"},{"$f":"VLOOKUP(D263,Kühe!$A$7:$G$150,2,FALSE)","v":"Lotus"},86,45,{"$f":"VLOOKUP(E263,Kühe!$A$7:$G$150,2,FALSE)","v":"Taylor"},{"$f":"VLOOKUP(E263,Kühe!$A$7:$G$150,7,FALSE)","v":"Gebrüder Jäger"}]
["2018-08-14",{"$f":"VLOOKUP(D264,Kühe!$A$7:$G$150,7,FALSE)","v":"Zumofen / Gattlen"},{"$f":"VLOOKUP(D264,Kühe!$A$7:$G$150,2,FALSE)","v":"Xena"},110,2,{"$f":"VLOOKUP(E264,Kühe!$A$7:$G$150,2,FALSE)","v":"Mirabelle"},{"$f":"VLOOKUP(E264,Kühe!$A$7:$G$150,7,FALSE)","v":"Bayard Medard & Gustav"}]
["2018-08-14",{"$f":"VLOOKUP(D265,Kühe!$A$7:$G$150,7,FALSE)","v":"Fux Wendelin, Jenny & Wyer Piet"},{"$f":"VLOOKUP(D265,Kühe!$A$7:$G$150,2,FALSE)","v":"Samantha"},33,95,{"$f":"VLOOKUP(E265,Kühe!$A$7:$G$150,2,FALSE)","v":"Xena"},{"$f":"VLOOKUP(E265,Kühe!$A$7:$G$150,7,FALSE)","v":"Wyssen Diego & Madlen"}]
["2018-08-14",{"$f":"VLOOKUP(D266,Kühe!$A$7:$G$150,7,FALSE)","v":"Fux Wendelin, Jenny & Wyer Piet"},{"$f":"VLOOKUP(D266,Kühe!$A$7:$G$150,2,FALSE)","v":"Samantha"},33,95,{"$f":"VLOOKUP(E266,Kühe!$A$7:$G$150,2,FALSE)","v":"Xena"},{"$f":"VLOOKUP(E266,Kühe!$A$7:$G$150,7,FALSE)","v":"Wyssen Diego & Madlen"}]
["2018-08-14",{"$f":"VLOOKUP(D267,Kühe!$A$7:$G$150,7,FALSE)","v":"Bregy Ralf & Adolf"},{"$f":"VLOOKUP(D267,Kühe!$A$7:$G$150,2,FALSE)","v":"Canaille"},7,32,{"$f":"VLOOKUP(E267,Kühe!$A$7:$G$150,2,FALSE)","v":"Pigalle"},{"$f":"VLOOKUP(E267,Kühe!$A$7:$G$150,7,FALSE)","v":"Fux Wendelin, Jenny & Wyer Piet"}]
["2018-08-14",{"$f":"VLOOKUP(D268,Kühe!$A$7:$G$150,7,FALSE)","v":"Bayard Medard & Gustav"},{"$f":"VLOOKUP(D268,Kühe!$A$7:$G$150,2,FALSE)","v":"Ramona"},4,95,{"$f":"VLOOKUP(E268,Kühe!$A$7:$G$150,2,FALSE)","v":"Xena"},{"$f":"VLOOKUP(E268,Kühe!$A$7:$G$150,7,FALSE)","v":"Wyssen Diego & Madlen"}]
["2018-08-13",{"$f":"VLOOKUP(D269,Kühe!$A$7:$G$150,7,FALSE)","v":"Stallung Passeraub"},{"$f":"VLOOKUP(D269,Kühe!$A$7:$G$150,2,FALSE)","v":"Bonita"},71,81,{"$f":"VLOOKUP(E269,Kühe!$A$7:$G$150,2,FALSE)","v":"Tinea"},{"$f":"VLOOKUP(E269,Kühe!$A$7:$G$150,7,FALSE)","v":"Sewer Ralf & Thommen Steve"}]
["2018-08-13",{"$f":"VLOOKUP(D270,Kühe!$A$7:$G$150,7,FALSE)","v":"Zumofen / Gattlen"},{"$f":"VLOOKUP(D270,Kühe!$A$7:$G$150,2,FALSE)","v":"Milou"},103,10,{"$f":"VLOOKUP(E270,Kühe!$A$7:$G$150,2,FALSE)","v":"Lacoste"},{"$f":"VLOOKUP(E270,Kühe!$A$7:$G$150,7,FALSE)","v":"Bregy Ralf & Adolf"}]
["2018-08-13",{"$f":"VLOOKUP(D271,Kühe!$A$7:$G$150,7,FALSE)","v":"Zumofen / Gattlen"},{"$f":"VLOOKUP(D271,Kühe!$A$7:$G$150,2,FALSE)","v":"Xena"},110,85,{"$f":"VLOOKUP(E271,Kühe!$A$7:$G$150,2,FALSE)","v":"Tulipe"},{"$f":"VLOOKUP(E271,Kühe!$A$7:$G$150,7,FALSE)","v":"Tscherry Erwin & Bernhard"}]
["2018-08-13",{"$f":"VLOOKUP(D272,Kühe!$A$7:$G$150,7,FALSE)","v":"Stallung zum Stäg"},{"$f":"VLOOKUP(D272,Kühe!$A$7:$G$150,2,FALSE)","v":"Benika"},73,55,{"$f":"VLOOKUP(E272,Kühe!$A$7:$G$150,2,FALSE)","v":"Papillon"},{"$f":"VLOOKUP(E272,Kühe!$A$7:$G$150,7,FALSE)","v":"Jäger Carlo"}]
["2018-08-13",{"$f":"VLOOKUP(D273,Kühe!$A$7:$G$150,7,FALSE)","v":"Zumofen / Gattlen"},{"$f":"VLOOKUP(D273,Kühe!$A$7:$G$150,2,FALSE)","v":"Xena"},110,92,{"$f":"VLOOKUP(E273,Kühe!$A$7:$G$150,2,FALSE)","v":"Fiorenza"},{"$f":"VLOOKUP(E273,Kühe!$A$7:$G$150,7,FALSE)","v":"Wyssen Diego & Madlen"}]
["2018-08-13",{"$f":"VLOOKUP(D274,Kühe!$A$7:$G$150,7,FALSE)","v":"Bregy Patrick & Silvan"},{"$f":"VLOOKUP(D274,Kühe!$A$7:$G$150,2,FALSE)","v":"Tequilla"},13,67,{"$f":"VLOOKUP(E274,Kühe!$A$7:$G$150,2,FALSE)","v":"Bombache"},{"$f":"VLOOKUP(E274,Kühe!$A$7:$G$150,7,FALSE)","v":"Stallung Passeraub"}]
["2018-08-13",{"$f":"VLOOKUP(D275,Kühe!$A$7:$G$150,7,FALSE)","v":"Zumofen / Gattlen"},{"$f":"VLOOKUP(D275,Kühe!$A$7:$G$150,2,FALSE)","v":"Milou"},103,55,{"$f":"VLOOKUP(E275,Kühe!$A$7:$G$150,2,FALSE)","v":"Papillon"},{"$f":"VLOOKUP(E275,Kühe!$A$7:$G$150,7,FALSE)","v":"Jäger Carlo"}]
["2018-08-13",{"$f":"VLOOKUP(D276,Kühe!$A$7:$G$150,7,FALSE)","v":"Bregy Ralf & Adolf"},{"$f":"VLOOKUP(D276,Kühe!$A$7:$G$150,2,FALSE)","v":"Canaille"},7,95,{"$f":"VLOOKUP(E276,Kühe!$A$7:$G$150,2,FALSE)","v":"Xena"},{"$f":"VLOOKUP(E276,Kühe!$A$7:$G$150,7,FALSE)","v":"Wyssen Diego & Madlen"}]
["2018-08-13",{"$f":"VLOOKUP(D277,Kühe!$A$7:$G$150,7,FALSE)","v":"Jäger Carlo"},{"$f":"VLOOKUP(D277,Kühe!$A$7:$G$150,2,FALSE)","v":"Papillon"},55,42,{"$f":"VLOOKUP(E277,Kühe!$A$7:$G$150,2,FALSE)","v":"Tiger"},{"$f":"VLOOKUP(E277,Kühe!$A$7:$G$150,7,FALSE)","v":"Gebrüder Jäger"}]
["2018-08-13",{"$f":"VLOOKUP(D278,Kühe!$A$7:$G$150,7,FALSE)","v":"Familie Zumoberhaus"},{"$f":"VLOOKUP(D278,Kühe!$A$7:$G$150,2,FALSE)","v":"Nana"},98,64,{"$f":"VLOOKUP(E278,Kühe!$A$7:$G$150,2,FALSE)","v":"Bonita"},{"$f":"VLOOKUP(E278,Kühe!$A$7:$G$150,7,FALSE)","v":"Mathieu Leander & Sascha"}]
["2018-08-13",{"$f":"VLOOKUP(D279,Kühe!$A$7:$G$150,7,FALSE)","v":"Familie Leiggener"},{"$f":"VLOOKUP(D279,Kühe!$A$7:$G$150,2,FALSE)","v":"Rambo"},22,73,{"$f":"VLOOKUP(E279,Kühe!$A$7:$G$150,2,FALSE)","v":"Benika"},{"$f":"VLOOKUP(E279,Kühe!$A$7:$G$150,7,FALSE)","v":"Stallung zum Stäg"}]
["2018-08-13",{"$f":"VLOOKUP(D280,Kühe!$A$7:$G$150,7,FALSE)","v":"Sewer Ralf & Thommen Steve"},{"$f":"VLOOKUP(D280,Kühe!$A$7:$G$150,2,FALSE)","v":"Saphira"},77,47,{"$f":"VLOOKUP(E280,Kühe!$A$7:$G$150,2,FALSE)","v":"Pablo"},{"$f":"VLOOKUP(E280,Kühe!$A$7:$G$150,7,FALSE)","v":"Hischier Pius"}]
["2018-08-13",{"$f":"VLOOKUP(D281,Kühe!$A$7:$G$150,7,FALSE)","v":"Jäger Carlo"},{"$f":"VLOOKUP(D281,Kühe!$A$7:$G$150,2,FALSE)","v":"Mirtille"},53,54,{"$f":"VLOOKUP(E281,Kühe!$A$7:$G$150,2,FALSE)","v":"Paloma"},{"$f":"VLOOKUP(E281,Kühe!$A$7:$G$150,7,FALSE)","v":"Jäger Carlo"}]
["2018-08-12",{"$f":"VLOOKUP(D282,Kühe!$A$7:$G$150,7,FALSE)","v":"Jäger Carlo"},{"$f":"VLOOKUP(D282,Kühe!$A$7:$G$150,2,FALSE)","v":"Guxa"},51,8,{"$f":"VLOOKUP(E282,Kühe!$A$7:$G$150,2,FALSE)","v":"Creola"},{"$f":"VLOOKUP(E282,Kühe!$A$7:$G$150,7,FALSE)","v":"Bregy Ralf & Adolf"}]
["2018-08-12",{"$f":"VLOOKUP(D283,Kühe!$A$7:$G$150,7,FALSE)","v":"Bayard Medard & Gustav"},{"$f":"VLOOKUP(D283,Kühe!$A$7:$G$150,2,FALSE)","v":"Ramona"},4,15,{"$f":"VLOOKUP(E283,Kühe!$A$7:$G$150,2,FALSE)","v":"Catalina"},{"$f":"VLOOKUP(E283,Kühe!$A$7:$G$150,7,FALSE)","v":"Bregy Uli & Pascal"}]
["2018-08-12",{"$f":"VLOOKUP(D284,Kühe!$A$7:$G$150,7,FALSE)","v":"Zumofen / Gattlen"},{"$f":"VLOOKUP(D284,Kühe!$A$7:$G$150,2,FALSE)","v":"Xena"},110,92,{"$f":"VLOOKUP(E284,Kühe!$A$7:$G$150,2,FALSE)","v":"Fiorenza"},{"$f":"VLOOKUP(E284,Kühe!$A$7:$G$150,7,FALSE)","v":"Wyssen Diego & Madlen"}]
["2018-08-12",{"$f":"VLOOKUP(D285,Kühe!$A$7:$G$150,7,FALSE)","v":"Gebrüder Jäger"},{"$f":"VLOOKUP(D285,Kühe!$A$7:$G$150,2,FALSE)","v":"Tiger"},42,73,{"$f":"VLOOKUP(E285,Kühe!$A$7:$G$150,2,FALSE)","v":"Benika"},{"$f":"VLOOKUP(E285,Kühe!$A$7:$G$150,7,FALSE)","v":"Stallung zum Stäg"}]
["2018-08-12",{"$f":"VLOOKUP(D286,Kühe!$A$7:$G$150,7,FALSE)","v":"Jäger Carlo"},{"$f":"VLOOKUP(D286,Kühe!$A$7:$G$150,2,FALSE)","v":"Turin"},58,53,{"$f":"VLOOKUP(E286,Kühe!$A$7:$G$150,2,FALSE)","v":"Mirtille"},{"$f":"VLOOKUP(E286,Kühe!$A$7:$G$150,7,FALSE)","v":"Jäger Carlo"}]
["2018-08-12",{"$f":"VLOOKUP(D287,Kühe!$A$7:$G$150,7,FALSE)","v":"Stallung Passeraub"},{"$f":"VLOOKUP(D287,Kühe!$A$7:$G$150,2,FALSE)","v":"Bobino"},66,96,{"$f":"VLOOKUP(E287,Kühe!$A$7:$G$150,2,FALSE)","v":"Xhyla"},{"$f":"VLOOKUP(E287,Kühe!$A$7:$G$150,7,FALSE)","v":"Wyssen Diego & Madlen"}]
["2018-08-12",{"$f":"VLOOKUP(D288,Kühe!$A$7:$G$150,7,FALSE)","v":"Bregy Ralf & Adolf"},{"$f":"VLOOKUP(D288,Kühe!$A$7:$G$150,2,FALSE)","v":"Canaille"},7,45,{"$f":"VLOOKUP(E288,Kühe!$A$7:$G$150,2,FALSE)","v":"Taylor"},{"$f":"VLOOKUP(E288,Kühe!$A$7:$G$150,7,FALSE)","v":"Gebrüder Jäger"}]
["2018-08-12",{"$f":"VLOOKUP(D289,Kühe!$A$7:$G$150,7,FALSE)","v":"Jäger Carlo"},{"$f":"VLOOKUP(D289,Kühe!$A$7:$G$150,2,FALSE)","v":"Turin"},58,45,{"$f":"VLOOKUP(E289,Kühe!$A$7:$G$150,2,FALSE)","v":"Taylor"},{"$f":"VLOOKUP(E289,Kühe!$A$7:$G$150,7,FALSE)","v":"Gebrüder Jäger"}]
["2018-08-12",{"$f":"VLOOKUP(D290,Kühe!$A$7:$G$150,7,FALSE)","v":"Bayard Medard & Gustav"},{"$f":"VLOOKUP(D290,Kühe!$A$7:$G$150,2,FALSE)","v":"Diabolo"},1,71,{"$f":"VLOOKUP(E290,Kühe!$A$7:$G$150,2,FALSE)","v":"Bonita"},{"$f":"VLOOKUP(E290,Kühe!$A$7:$G$150,7,FALSE)","v":"Stallung Passeraub"}]
["2018-08-12",{"$f":"VLOOKUP(D291,Kühe!$A$7:$G$150,7,FALSE)","v":"Wyssen Diego & Madlen"},{"$f":"VLOOKUP(D291,Kühe!$A$7:$G$150,2,FALSE)","v":"Fiorenza"},92,63,{"$f":"VLOOKUP(E291,Kühe!$A$7:$G$150,2,FALSE)","v":"Belon"},{"$f":"VLOOKUP(E291,Kühe!$A$7:$G$150,7,FALSE)","v":"Mathieu Leander & Sascha"}]
["2018-08-12",{"$f":"VLOOKUP(D292,Kühe!$A$7:$G$150,7,FALSE)","v":"Gebrüder Jäger"},{"$f":"VLOOKUP(D292,Kühe!$A$7:$G$150,2,FALSE)","v":"Bandit"},39,106,{"$f":"VLOOKUP(E292,Kühe!$A$7:$G$150,2,FALSE)","v":"Rambo"},{"$f":"VLOOKUP(E292,Kühe!$A$7:$G$150,7,FALSE)","v":"Zumofen / Gattlen"}]
["2018-08-12",{"$f":"VLOOKUP(D293,Kühe!$A$7:$G$150,7,FALSE)","v":"Zumofen / Gattlen"},{"$f":"VLOOKUP(D293,Kühe!$A$7:$G$150,2,FALSE)","v":"Fangjo"},101,39,{"$f":"VLOOKUP(E293,Kühe!$A$7:$G$150,2,FALSE)","v":"Bandit"},{"$f":"VLOOKUP(E293,Kühe!$A$7:$G$150,7,FALSE)","v":"Gebrüder Jäger"}]
["2018-08-12",{"$f":"VLOOKUP(D294,Kühe!$A$7:$G$150,7,FALSE)","v":"Bayard Medard & Gustav"},{"$f":"VLOOKUP(D294,Kühe!$A$7:$G$150,2,FALSE)","v":"Diabolo"},1,63,{"$f":"VLOOKUP(E294,Kühe!$A$7:$G$150,2,FALSE)","v":"Belon"},{"$f":"VLOOKUP(E294,Kühe!$A$7:$G$150,7,FALSE)","v":"Mathieu Leander & Sascha"}]
["2018-08-12",{"$f":"VLOOKUP(D295,Kühe!$A$7:$G$150,7,FALSE)","v":"Jäger Carlo"},{"$f":"VLOOKUP(D295,Kühe!$A$7:$G$150,2,FALSE)","v":"Paloma"},54,106,{"$f":"VLOOKUP(E295,Kühe!$A$7:$G$150,2,FALSE)","v":"Rambo"},{"$f":"VLOOKUP(E295,Kühe!$A$7:$G$150,7,FALSE)","v":"Zumofen / Gattlen"}]
["2018-08-11",{"$f":"VLOOKUP(D296,Kühe!$A$7:$G$150,7,FALSE)","v":"Zumofen / Gattlen"},{"$f":"VLOOKUP(D296,Kühe!$A$7:$G$150,2,FALSE)","v":"Milou"},103,23,{"$f":"VLOOKUP(E296,Kühe!$A$7:$G$150,2,FALSE)","v":"Rebell"},{"$f":"VLOOKUP(E296,Kühe!$A$7:$G$150,7,FALSE)","v":"Familie Leiggener"}]
["2018-08-11",{"$f":"VLOOKUP(D297,Kühe!$A$7:$G$150,7,FALSE)","v":"Zumofen / Gattlen"},{"$f":"VLOOKUP(D297,Kühe!$A$7:$G$150,2,FALSE)","v":"Fangjo"},101,46,{"$f":"VLOOKUP(E297,Kühe!$A$7:$G$150,2,FALSE)","v":"Lorens"},{"$f":"VLOOKUP(E297,Kühe!$A$7:$G$150,7,FALSE)","v":"Gebrüder Jäger"}]
["2018-08-11",{"$f":"VLOOKUP(D298,Kühe!$A$7:$G$150,7,FALSE)","v":"Fux Wendelin, Jenny & Wyer Piet"},{"$f":"VLOOKUP(D298,Kühe!$A$7:$G$150,2,FALSE)","v":"Souris"},35,98,{"$f":"VLOOKUP(E298,Kühe!$A$7:$G$150,2,FALSE)","v":"Nana"},{"$f":"VLOOKUP(E298,Kühe!$A$7:$G$150,7,FALSE)","v":"Familie Zumoberhaus"}]
["2018-08-11",{"$f":"VLOOKUP(D299,Kühe!$A$7:$G$150,7,FALSE)","v":"Stallung Passeraub"},{"$f":"VLOOKUP(D299,Kühe!$A$7:$G$150,2,FALSE)","v":"Bulle"},68,85,{"$f":"VLOOKUP(E299,Kühe!$A$7:$G$150,2,FALSE)","v":"Tulipe"},{"$f":"VLOOKUP(E299,Kühe!$A$7:$G$150,7,FALSE)","v":"Tscherry Erwin & Bernhard"}]
["2018-08-11",{"$f":"VLOOKUP(D300,Kühe!$A$7:$G$150,7,FALSE)","v":"Jäger Carlo"},{"$f":"VLOOKUP(D300,Kühe!$A$7:$G$150,2,FALSE)","v":"Promise"},57,8,{"$f":"VLOOKUP(E300,Kühe!$A$7:$G$150,2,FALSE)","v":"Creola"},{"$f":"VLOOKUP(E300,Kühe!$A$7:$G$150,7,FALSE)","v":"Bregy Ralf & Adolf"}]
["2018-08-11",{"$f":"VLOOKUP(D301,Kühe!$A$7:$G$150,7,FALSE)","v":"Bayard Medard & Gustav"},{"$f":"VLOOKUP(D301,Kühe!$A$7:$G$150,2,FALSE)","v":"Diabolo"},1,63,{"$f":"VLOOKUP(E301,Kühe!$A$7:$G$150,2,FALSE)","v":"Belon"},{"$f":"VLOOKUP(E301,Kühe!$A$7:$G$150,7,FALSE)","v":"Mathieu Leander & Sascha"}]
["2018-08-11",{"$f":"VLOOKUP(D302,Kühe!$A$7:$G$150,7,FALSE)","v":"Stallung Passeraub"},{"$f":"VLOOKUP(D302,Kühe!$A$7:$G$150,2,FALSE)","v":"Manou"},69,4,{"$f":"VLOOKUP(E302,Kühe!$A$7:$G$150,2,FALSE)","v":"Ramona"},{"$f":"VLOOKUP(E302,Kühe!$A$7:$G$150,7,FALSE)","v":"Bayard Medard & Gustav"}]
["2018-08-11",{"$f":"VLOOKUP(D303,Kühe!$A$7:$G$150,7,FALSE)","v":"Stallung zum Stäg"},{"$f":"VLOOKUP(D303,Kühe!$A$7:$G$150,2,FALSE)","v":"Benika"},73,79,{"$f":"VLOOKUP(E303,Kühe!$A$7:$G$150,2,FALSE)","v":"Tacona"},{"$f":"VLOOKUP(E303,Kühe!$A$7:$G$150,7,FALSE)","v":"Sewer Ralf & Thommen Steve"}]
["2018-08-11",{"$f":"VLOOKUP(D304,Kühe!$A$7:$G$150,7,FALSE)","v":"Jäger Carlo"},{"$f":"VLOOKUP(D304,Kühe!$A$7:$G$150,2,FALSE)","v":"Promise"},57,63,{"$f":"VLOOKUP(E304,Kühe!$A$7:$G$150,2,FALSE)","v":"Belon"},{"$f":"VLOOKUP(E304,Kühe!$A$7:$G$150,7,FALSE)","v":"Mathieu Leander & Sascha"}]
["2018-08-10",{"$f":"VLOOKUP(D305,Kühe!$A$7:$G$150,7,FALSE)","v":"Mathieu Leander & Sascha"},{"$f":"VLOOKUP(D305,Kühe!$A$7:$G$150,2,FALSE)","v":"Bambino"},60,106,{"$f":"VLOOKUP(E305,Kühe!$A$7:$G$150,2,FALSE)","v":"Rambo"},{"$f":"VLOOKUP(E305,Kühe!$A$7:$G$150,7,FALSE)","v":"Zumofen / Gattlen"}]
["2018-08-10",{"$f":"VLOOKUP(D306,Kühe!$A$7:$G$150,7,FALSE)","v":"Zumofen / Gattlen"},{"$f":"VLOOKUP(D306,Kühe!$A$7:$G$150,2,FALSE)","v":"Fangjo"},101,38,{"$f":"VLOOKUP(E306,Kühe!$A$7:$G$150,2,FALSE)","v":"Tirana"},{"$f":"VLOOKUP(E306,Kühe!$A$7:$G$150,7,FALSE)","v":"Gebrüder Jäger"}]
["2018-08-10",{"$f":"VLOOKUP(D307,Kühe!$A$7:$G$150,7,FALSE)","v":"Bayard Medard & Gustav"},{"$f":"VLOOKUP(D307,Kühe!$A$7:$G$150,2,FALSE)","v":"Diabolo"},1,38,{"$f":"VLOOKUP(E307,Kühe!$A$7:$G$150,2,FALSE)","v":"Tirana"},{"$f":"VLOOKUP(E307,Kühe!$A$7:$G$150,7,FALSE)","v":"Gebrüder Jäger"}]
["2018-08-10",{"$f":"VLOOKUP(D308,Kühe!$A$7:$G$150,7,FALSE)","v":"Stallung Passeraub"},{"$f":"VLOOKUP(D308,Kühe!$A$7:$G$150,2,FALSE)","v":"Manou"},69,6,{"$f":"VLOOKUP(E308,Kühe!$A$7:$G$150,2,FALSE)","v":"Diabolo"},{"$f":"VLOOKUP(E308,Kühe!$A$7:$G$150,7,FALSE)","v":"Bregy Anja"}]
["2018-08-10",{"$f":"VLOOKUP(D309,Kühe!$A$7:$G$150,7,FALSE)","v":"Tscherry Erwin & Bernhard"},{"$f":"VLOOKUP(D309,Kühe!$A$7:$G$150,2,FALSE)","v":"Carolin"},82,83,{"$f":"VLOOKUP(E309,Kühe!$A$7:$G$150,2,FALSE)","v":"Cherrico"},{"$f":"VLOOKUP(E309,Kühe!$A$7:$G$150,7,FALSE)","v":"Tscherry Erwin & Bernhard"}]
["2018-08-10",{"$f":"VLOOKUP(D310,Kühe!$A$7:$G$150,7,FALSE)","v":"Bayard Medard & Gustav"},{"$f":"VLOOKUP(D310,Kühe!$A$7:$G$150,2,FALSE)","v":"Diabolo"},1,32,{"$f":"VLOOKUP(E310,Kühe!$A$7:$G$150,2,FALSE)","v":"Pigalle"},{"$f":"VLOOKUP(E310,Kühe!$A$7:$G$150,7,FALSE)","v":"Fux Wendelin, Jenny & Wyer Piet"}]
["2018-08-10",{"$f":"VLOOKUP(D311,Kühe!$A$7:$G$150,7,FALSE)","v":"Stallung Passeraub"},{"$f":"VLOOKUP(D311,Kühe!$A$7:$G$150,2,FALSE)","v":"Bonita"},71,51,{"$f":"VLOOKUP(E311,Kühe!$A$7:$G$150,2,FALSE)","v":"Guxa"},{"$f":"VLOOKUP(E311,Kühe!$A$7:$G$150,7,FALSE)","v":"Jäger Carlo"}]
["2018-08-10",{"$f":"VLOOKUP(D312,Kühe!$A$7:$G$150,7,FALSE)","v":"Gebrüder Jäger"},{"$f":"VLOOKUP(D312,Kühe!$A$7:$G$150,2,FALSE)","v":"Taylor"},45,40,{"$f":"VLOOKUP(E312,Kühe!$A$7:$G$150,2,FALSE)","v":"Barilona"},{"$f":"VLOOKUP(E312,Kühe!$A$7:$G$150,7,FALSE)","v":"Gebrüder Jäger"}]
["2018-08-10",{"$f":"VLOOKUP(D313,Kühe!$A$7:$G$150,7,FALSE)","v":"Bayard Medard & Gustav"},{"$f":"VLOOKUP(D313,Kühe!$A$7:$G$150,2,FALSE)","v":"Ramona"},4,77,{"$f":"VLOOKUP(E313,Kühe!$A$7:$G$150,2,FALSE)","v":"Saphira"},{"$f":"VLOOKUP(E313,Kühe!$A$7:$G$150,7,FALSE)","v":"Sewer Ralf & Thommen Steve"}]
["2018-08-10",{"$f":"VLOOKUP(D314,Kühe!$A$7:$G$150,7,FALSE)","v":"Mathieu Leander & Sascha"},{"$f":"VLOOKUP(D314,Kühe!$A$7:$G$150,2,FALSE)","v":"Bavaria"},62,109,{"$f":"VLOOKUP(E314,Kühe!$A$7:$G$150,2,FALSE)","v":"Vulcana"},{"$f":"VLOOKUP(E314,Kühe!$A$7:$G$150,7,FALSE)","v":"Zumofen / Gattlen"}]
["2018-08-10",{"$f":"VLOOKUP(D315,Kühe!$A$7:$G$150,7,FALSE)","v":"Gebrüder Jäger"},{"$f":"VLOOKUP(D315,Kühe!$A$7:$G$150,2,FALSE)","v":"Tirana"},38,71,{"$f":"VLOOKUP(E315,Kühe!$A$7:$G$150,2,FALSE)","v":"Bonita"},{"$f":"VLOOKUP(E315,Kühe!$A$7:$G$150,7,FALSE)","v":"Stallung Passeraub"}]
["2018-08-10",{"$f":"VLOOKUP(D316,Kühe!$A$7:$G$150,7,FALSE)","v":"Fux Wendelin, Jenny & Wyer Piet"},{"$f":"VLOOKUP(D316,Kühe!$A$7:$G$150,2,FALSE)","v":"Mystic"},31,11,{"$f":"VLOOKUP(E316,Kühe!$A$7:$G$150,2,FALSE)","v":"Santiago"},{"$f":"VLOOKUP(E316,Kühe!$A$7:$G$150,7,FALSE)","v":"Bregy Ralf & Adolf"}]
["2018-08-10",{"$f":"VLOOKUP(D317,Kühe!$A$7:$G$150,7,FALSE)","v":"Fux Wendelin, Jenny & Wyer Piet"},{"$f":"VLOOKUP(D317,Kühe!$A$7:$G$150,2,FALSE)","v":"Samantha"},33,11,{"$f":"VLOOKUP(E317,Kühe!$A$7:$G$150,2,FALSE)","v":"Santiago"},{"$f":"VLOOKUP(E317,Kühe!$A$7:$G$150,7,FALSE)","v":"Bregy Ralf & Adolf"}]
["2018-08-10",{"$f":"VLOOKUP(D318,Kühe!$A$7:$G$150,7,FALSE)","v":"Jäger Carlo"},{"$f":"VLOOKUP(D318,Kühe!$A$7:$G$150,2,FALSE)","v":"Pisa"},56,45,{"$f":"VLOOKUP(E318,Kühe!$A$7:$G$150,2,FALSE)","v":"Taylor"},{"$f":"VLOOKUP(E318,Kühe!$A$7:$G$150,7,FALSE)","v":"Gebrüder Jäger"}]
["2018-08-10",{"$f":"VLOOKUP(D319,Kühe!$A$7:$G$150,7,FALSE)","v":"Mathieu Leander & Sascha"},{"$f":"VLOOKUP(D319,Kühe!$A$7:$G$150,2,FALSE)","v":"Bambino"},60,73,{"$f":"VLOOKUP(E319,Kühe!$A$7:$G$150,2,FALSE)","v":"Benika"},{"$f":"VLOOKUP(E319,Kühe!$A$7:$G$150,7,FALSE)","v":"Stallung zum Stäg"}]
["2018-08-10",{"$f":"VLOOKUP(D320,Kühe!$A$7:$G$150,7,FALSE)","v":"Bregy Ralf & Adolf"},{"$f":"VLOOKUP(D320,Kühe!$A$7:$G$150,2,FALSE)","v":"Flacari"},9,11,{"$f":"VLOOKUP(E320,Kühe!$A$7:$G$150,2,FALSE)","v":"Santiago"},{"$f":"VLOOKUP(E320,Kühe!$A$7:$G$150,7,FALSE)","v":"Bregy Ralf & Adolf"}]
["2018-08-10",{"$f":"VLOOKUP(D321,Kühe!$A$7:$G$150,7,FALSE)","v":"Familie Leiggener"},{"$f":"VLOOKUP(D321,Kühe!$A$7:$G$150,2,FALSE)","v":"Bulle"},21,96,{"$f":"VLOOKUP(E321,Kühe!$A$7:$G$150,2,FALSE)","v":"Xhyla"},{"$f":"VLOOKUP(E321,Kühe!$A$7:$G$150,7,FALSE)","v":"Wyssen Diego & Madlen"}]
["2018-08-09",{"$f":"VLOOKUP(D322,Kühe!$A$7:$G$150,7,FALSE)","v":"Zumofen / Gattlen"},{"$f":"VLOOKUP(D322,Kühe!$A$7:$G$150,2,FALSE)","v":"Akhira"},100,97,{"$f":"VLOOKUP(E322,Kühe!$A$7:$G$150,2,FALSE)","v":"Coucou"},{"$f":"VLOOKUP(E322,Kühe!$A$7:$G$150,7,FALSE)","v":"Familie Zumoberhaus"}]
["2018-08-09",{"$f":"VLOOKUP(D323,Kühe!$A$7:$G$150,7,FALSE)","v":"Sewer Ralf & Thommen Steve"},{"$f":"VLOOKUP(D323,Kühe!$A$7:$G$150,2,FALSE)","v":"Tabitha"},78,45,{"$f":"VLOOKUP(E323,Kühe!$A$7:$G$150,2,FALSE)","v":"Taylor"},{"$f":"VLOOKUP(E323,Kühe!$A$7:$G$150,7,FALSE)","v":"Gebrüder Jäger"}]
["2018-08-09",{"$f":"VLOOKUP(D324,Kühe!$A$7:$G$150,7,FALSE)","v":"Zumofen / Gattlen"},{"$f":"VLOOKUP(D324,Kühe!$A$7:$G$150,2,FALSE)","v":"Fangjo"},101,6,{"$f":"VLOOKUP(E324,Kühe!$A$7:$G$150,2,FALSE)","v":"Diabolo"},{"$f":"VLOOKUP(E324,Kühe!$A$7:$G$150,7,FALSE)","v":"Bregy Anja"}]
["2018-08-09",{"$f":"VLOOKUP(D325,Kühe!$A$7:$G$150,7,FALSE)","v":"Sewer Ralf & Thommen Steve"},{"$f":"VLOOKUP(D325,Kühe!$A$7:$G$150,2,FALSE)","v":"Gonda"},76,109,{"$f":"VLOOKUP(E325,Kühe!$A$7:$G$150,2,FALSE)","v":"Vulcana"},{"$f":"VLOOKUP(E325,Kühe!$A$7:$G$150,7,FALSE)","v":"Zumofen / Gattlen"}]
["2018-08-09",{"$f":"VLOOKUP(D326,Kühe!$A$7:$G$150,7,FALSE)","v":"Fux Wendelin, Jenny & Wyer Piet"},{"$f":"VLOOKUP(D326,Kühe!$A$7:$G$150,2,FALSE)","v":"Pigalle"},32,29,{"$f":"VLOOKUP(E326,Kühe!$A$7:$G$150,2,FALSE)","v":"Caprise"},{"$f":"VLOOKUP(E326,Kühe!$A$7:$G$150,7,FALSE)","v":"Fux Wendelin, Jenny & Wyer Piet"}]
["2018-08-08",{"$f":"VLOOKUP(D327,Kühe!$A$7:$G$150,7,FALSE)","v":"Tscherry Erwin & Bernhard"},{"$f":"VLOOKUP(D327,Kühe!$A$7:$G$150,2,FALSE)","v":"Tulipe"},85,49,{"$f":"VLOOKUP(E327,Kühe!$A$7:$G$150,2,FALSE)","v":"Shakira"},{"$f":"VLOOKUP(E327,Kühe!$A$7:$G$150,7,FALSE)","v":"Hischier Pius"}]
["2018-08-08",{"$f":"VLOOKUP(D328,Kühe!$A$7:$G$150,7,FALSE)","v":"Stallung Passeraub"},{"$f":"VLOOKUP(D328,Kühe!$A$7:$G$150,2,FALSE)","v":"Medusa"},70,77,{"$f":"VLOOKUP(E328,Kühe!$A$7:$G$150,2,FALSE)","v":"Saphira"},{"$f":"VLOOKUP(E328,Kühe!$A$7:$G$150,7,FALSE)","v":"Sewer Ralf & Thommen Steve"}]
["2018-08-08",{"$f":"VLOOKUP(D329,Kühe!$A$7:$G$150,7,FALSE)","v":"Stallung zum Stäg"},{"$f":"VLOOKUP(D329,Kühe!$A$7:$G$150,2,FALSE)","v":"Diaries"},74,30,{"$f":"VLOOKUP(E329,Kühe!$A$7:$G$150,2,FALSE)","v":"Dixence"},{"$f":"VLOOKUP(E329,Kühe!$A$7:$G$150,7,FALSE)","v":"Fux Wendelin, Jenny & Wyer Piet"}]
["2018-08-08",{"$f":"VLOOKUP(D330,Kühe!$A$7:$G$150,7,FALSE)","v":"Bregy Uli & Pascal"},{"$f":"VLOOKUP(D330,Kühe!$A$7:$G$150,2,FALSE)","v":"Souki"},18,30,{"$f":"VLOOKUP(E330,Kühe!$A$7:$G$150,2,FALSE)","v":"Dixence"},{"$f":"VLOOKUP(E330,Kühe!$A$7:$G$150,7,FALSE)","v":"Fux Wendelin, Jenny & Wyer Piet"}]
["2018-08-08",{"$f":"VLOOKUP(D331,Kühe!$A$7:$G$150,7,FALSE)","v":"Williner  Anton"},{"$f":"VLOOKUP(D331,Kühe!$A$7:$G$150,2,FALSE)","v":"Vanessa"},91,72,{"$f":"VLOOKUP(E331,Kühe!$A$7:$G$150,2,FALSE)","v":"Mirette"},{"$f":"VLOOKUP(E331,Kühe!$A$7:$G$150,7,FALSE)","v":"Hutter Richard"}]
["2018-08-08",{"$f":"VLOOKUP(D332,Kühe!$A$7:$G$150,7,FALSE)","v":"Stallung zum Stäg"},{"$f":"VLOOKUP(D332,Kühe!$A$7:$G$150,2,FALSE)","v":"Benika"},73,64,{"$f":"VLOOKUP(E332,Kühe!$A$7:$G$150,2,FALSE)","v":"Bonita"},{"$f":"VLOOKUP(E332,Kühe!$A$7:$G$150,7,FALSE)","v":"Mathieu Leander & Sascha"}]
["2018-08-08",{"$f":"VLOOKUP(D333,Kühe!$A$7:$G$150,7,FALSE)","v":"Gebrüder Jäger"},{"$f":"VLOOKUP(D333,Kühe!$A$7:$G$150,2,FALSE)","v":"Barilona"},40,85,{"$f":"VLOOKUP(E333,Kühe!$A$7:$G$150,2,FALSE)","v":"Tulipe"},{"$f":"VLOOKUP(E333,Kühe!$A$7:$G$150,7,FALSE)","v":"Tscherry Erwin & Bernhard"}]
["2018-08-08",{"$f":"VLOOKUP(D334,Kühe!$A$7:$G$150,7,FALSE)","v":"Familie Zumoberhaus"},{"$f":"VLOOKUP(D334,Kühe!$A$7:$G$150,2,FALSE)","v":"Nana"},98,11,{"$f":"VLOOKUP(E334,Kühe!$A$7:$G$150,2,FALSE)","v":"Santiago"},{"$f":"VLOOKUP(E334,Kühe!$A$7:$G$150,7,FALSE)","v":"Bregy Ralf & Adolf"}]
["2018-08-08",{"$f":"VLOOKUP(D335,Kühe!$A$7:$G$150,7,FALSE)","v":"Familie Leiggener"},{"$f":"VLOOKUP(D335,Kühe!$A$7:$G$150,2,FALSE)","v":"Bulle"},21,96,{"$f":"VLOOKUP(E335,Kühe!$A$7:$G$150,2,FALSE)","v":"Xhyla"},{"$f":"VLOOKUP(E335,Kühe!$A$7:$G$150,7,FALSE)","v":"Wyssen Diego & Madlen"}]
["2018-08-08",{"$f":"VLOOKUP(D336,Kühe!$A$7:$G$150,7,FALSE)","v":"Bayard Medard & Gustav"},{"$f":"VLOOKUP(D336,Kühe!$A$7:$G$150,2,FALSE)","v":"Mirabelle"},2,61,{"$f":"VLOOKUP(E336,Kühe!$A$7:$G$150,2,FALSE)","v":"Baronesse"},{"$f":"VLOOKUP(E336,Kühe!$A$7:$G$150,7,FALSE)","v":"Mathieu Leander & Sascha"}]
["2018-08-08",{"$f":"VLOOKUP(D337,Kühe!$A$7:$G$150,7,FALSE)","v":"Stallung Passeraub"},{"$f":"VLOOKUP(D337,Kühe!$A$7:$G$150,2,FALSE)","v":"Baghera"},65,87,{"$f":"VLOOKUP(E337,Kühe!$A$7:$G$150,2,FALSE)","v":"Mirabilis"},{"$f":"VLOOKUP(E337,Kühe!$A$7:$G$150,7,FALSE)","v":"Williner  Anton"}]
["2018-08-08",{"$f":"VLOOKUP(D338,Kühe!$A$7:$G$150,7,FALSE)","v":"Bregy Ralf & Adolf"},{"$f":"VLOOKUP(D338,Kühe!$A$7:$G$150,2,FALSE)","v":"Creola"},8,91,{"$f":"VLOOKUP(E338,Kühe!$A$7:$G$150,2,FALSE)","v":"Vanessa"},{"$f":"VLOOKUP(E338,Kühe!$A$7:$G$150,7,FALSE)","v":"Williner  Anton"}]
["2018-08-07",{"$f":"VLOOKUP(D339,Kühe!$A$7:$G$150,7,FALSE)","v":"Hischier Pius"},{"$f":"VLOOKUP(D339,Kühe!$A$7:$G$150,2,FALSE)","v":"Pelila"},48,6,{"$f":"VLOOKUP(E339,Kühe!$A$7:$G$150,2,FALSE)","v":"Diabolo"},{"$f":"VLOOKUP(E339,Kühe!$A$7:$G$150,7,FALSE)","v":"Bregy Anja"}]
["2018-08-07",{"$f":"VLOOKUP(D340,Kühe!$A$7:$G$150,7,FALSE)","v":"Stallung zum Stäg"},{"$f":"VLOOKUP(D340,Kühe!$A$7:$G$150,2,FALSE)","v":"Benika"},73,79,{"$f":"VLOOKUP(E340,Kühe!$A$7:$G$150,2,FALSE)","v":"Tacona"},{"$f":"VLOOKUP(E340,Kühe!$A$7:$G$150,7,FALSE)","v":"Sewer Ralf & Thommen Steve"}]
["2018-08-07",{"$f":"VLOOKUP(D341,Kühe!$A$7:$G$150,7,FALSE)","v":"Zumofen / Gattlen"},{"$f":"VLOOKUP(D341,Kühe!$A$7:$G$150,2,FALSE)","v":"Milou"},103,23,{"$f":"VLOOKUP(E341,Kühe!$A$7:$G$150,2,FALSE)","v":"Rebell"},{"$f":"VLOOKUP(E341,Kühe!$A$7:$G$150,7,FALSE)","v":"Familie Leiggener"}]
["2018-08-07",{"$f":"VLOOKUP(D342,Kühe!$A$7:$G$150,7,FALSE)","v":"Bregy Ralf & Adolf"},{"$f":"VLOOKUP(D342,Kühe!$A$7:$G$150,2,FALSE)","v":"Creola"},8,14,{"$f":"VLOOKUP(E342,Kühe!$A$7:$G$150,2,FALSE)","v":"Calin"},{"$f":"VLOOKUP(E342,Kühe!$A$7:$G$150,7,FALSE)","v":"Bregy Uli & Pascal"}]
["2018-08-07",{"$f":"VLOOKUP(D343,Kühe!$A$7:$G$150,7,FALSE)","v":"Bregy Ralf & Adolf"},{"$f":"VLOOKUP(D343,Kühe!$A$7:$G$150,2,FALSE)","v":"Canaille"},7,57,{"$f":"VLOOKUP(E343,Kühe!$A$7:$G$150,2,FALSE)","v":"Promise"},{"$f":"VLOOKUP(E343,Kühe!$A$7:$G$150,7,FALSE)","v":"Jäger Carlo"}]
["2018-08-07",{"$f":"VLOOKUP(D344,Kühe!$A$7:$G$150,7,FALSE)","v":"Stallung Passeraub"},{"$f":"VLOOKUP(D344,Kühe!$A$7:$G$150,2,FALSE)","v":"Bombache"},67,13,{"$f":"VLOOKUP(E344,Kühe!$A$7:$G$150,2,FALSE)","v":"Tequilla"},{"$f":"VLOOKUP(E344,Kühe!$A$7:$G$150,7,FALSE)","v":"Bregy Patrick & Silvan"}]
["2018-08-07",{"$f":"VLOOKUP(D345,Kühe!$A$7:$G$150,7,FALSE)","v":"Sewer Ralf & Thommen Steve"},{"$f":"VLOOKUP(D345,Kühe!$A$7:$G$150,2,FALSE)","v":"Saphira"},77,99,{"$f":"VLOOKUP(E345,Kühe!$A$7:$G$150,2,FALSE)","v":"Napapiri"},{"$f":"VLOOKUP(E345,Kühe!$A$7:$G$150,7,FALSE)","v":"Familie Zumoberhaus"}]
["2018-08-07",{"$f":"VLOOKUP(D346,Kühe!$A$7:$G$150,7,FALSE)","v":"Familie Leiggener"},{"$f":"VLOOKUP(D346,Kühe!$A$7:$G$150,2,FALSE)","v":"Tigres"},24,67,{"$f":"VLOOKUP(E346,Kühe!$A$7:$G$150,2,FALSE)","v":"Bombache"},{"$f":"VLOOKUP(E346,Kühe!$A$7:$G$150,7,FALSE)","v":"Stallung Passeraub"}]
["2018-08-07",{"$f":"VLOOKUP(D347,Kühe!$A$7:$G$150,7,FALSE)","v":"Familie Zumoberhaus"},{"$f":"VLOOKUP(D347,Kühe!$A$7:$G$150,2,FALSE)","v":"Nana"},98,36,{"$f":"VLOOKUP(E347,Kühe!$A$7:$G$150,2,FALSE)","v":"Valaisanne"},{"$f":"VLOOKUP(E347,Kühe!$A$7:$G$150,7,FALSE)","v":"Fux Wendelin, Jenny & Wyer Piet"}]
["2018-08-07",{"$f":"VLOOKUP(D348,Kühe!$A$7:$G$150,7,FALSE)","v":"Hischier Pius"},{"$f":"VLOOKUP(D348,Kühe!$A$7:$G$150,2,FALSE)","v":"Pelila"},48,2,{"$f":"VLOOKUP(E348,Kühe!$A$7:$G$150,2,FALSE)","v":"Mirabelle"},{"$f":"VLOOKUP(E348,Kühe!$A$7:$G$150,7,FALSE)","v":"Bayard Medard & Gustav"}]
["2018-08-06",{"$f":"VLOOKUP(D349,Kühe!$A$7:$G$150,7,FALSE)","v":"Jäger Carlo"},{"$f":"VLOOKUP(D349,Kühe!$A$7:$G$150,2,FALSE)","v":"Promise"},57,99,{"$f":"VLOOKUP(E349,Kühe!$A$7:$G$150,2,FALSE)","v":"Napapiri"},{"$f":"VLOOKUP(E349,Kühe!$A$7:$G$150,7,FALSE)","v":"Familie Zumoberhaus"}]
["2018-08-06",{"$f":"VLOOKUP(D350,Kühe!$A$7:$G$150,7,FALSE)","v":"Zumofen / Gattlen"},{"$f":"VLOOKUP(D350,Kühe!$A$7:$G$150,2,FALSE)","v":"Puma"},105,15,{"$f":"VLOOKUP(E350,Kühe!$A$7:$G$150,2,FALSE)","v":"Catalina"},{"$f":"VLOOKUP(E350,Kühe!$A$7:$G$150,7,FALSE)","v":"Bregy Uli & Pascal"}]
["2018-08-06",{"$f":"VLOOKUP(D351,Kühe!$A$7:$G$150,7,FALSE)","v":"Tscherry Erwin & Bernhard"},{"$f":"VLOOKUP(D351,Kühe!$A$7:$G$150,2,FALSE)","v":"Tulipe"},85,99,{"$f":"VLOOKUP(E351,Kühe!$A$7:$G$150,2,FALSE)","v":"Napapiri"},{"$f":"VLOOKUP(E351,Kühe!$A$7:$G$150,7,FALSE)","v":"Familie Zumoberhaus"}]
["2018-08-06",{"$f":"VLOOKUP(D352,Kühe!$A$7:$G$150,7,FALSE)","v":"Fux Wendelin, Jenny & Wyer Piet"},{"$f":"VLOOKUP(D352,Kühe!$A$7:$G$150,2,FALSE)","v":"Dixence"},30,29,{"$f":"VLOOKUP(E352,Kühe!$A$7:$G$150,2,FALSE)","v":"Caprise"},{"$f":"VLOOKUP(E352,Kühe!$A$7:$G$150,7,FALSE)","v":"Fux Wendelin, Jenny & Wyer Piet"}]
["2018-08-06",{"$f":"VLOOKUP(D353,Kühe!$A$7:$G$150,7,FALSE)","v":"Bregy Ralf & Adolf"},{"$f":"VLOOKUP(D353,Kühe!$A$7:$G$150,2,FALSE)","v":"Lacoste"},10,51,{"$f":"VLOOKUP(E353,Kühe!$A$7:$G$150,2,FALSE)","v":"Guxa"},{"$f":"VLOOKUP(E353,Kühe!$A$7:$G$150,7,FALSE)","v":"Jäger Carlo"}]
["2018-08-06",{"$f":"VLOOKUP(D354,Kühe!$A$7:$G$150,7,FALSE)","v":"Zumofen / Gattlen"},{"$f":"VLOOKUP(D354,Kühe!$A$7:$G$150,2,FALSE)","v":"Puma"},105,71,{"$f":"VLOOKUP(E354,Kühe!$A$7:$G$150,2,FALSE)","v":"Bonita"},{"$f":"VLOOKUP(E354,Kühe!$A$7:$G$150,7,FALSE)","v":"Stallung Passeraub"}]
["2018-08-05",{"$f":"VLOOKUP(D355,Kühe!$A$7:$G$150,7,FALSE)","v":"Bregy Patrick & Silvan"},{"$f":"VLOOKUP(D355,Kühe!$A$7:$G$150,2,FALSE)","v":"Tequilla"},13,36,{"$f":"VLOOKUP(E355,Kühe!$A$7:$G$150,2,FALSE)","v":"Valaisanne"},{"$f":"VLOOKUP(E355,Kühe!$A$7:$G$150,7,FALSE)","v":"Fux Wendelin, Jenny & Wyer Piet"}]
["2018-08-05",{"$f":"VLOOKUP(D356,Kühe!$A$7:$G$150,7,FALSE)","v":"Wyssen Diego & Madlen"},{"$f":"VLOOKUP(D356,Kühe!$A$7:$G$150,2,FALSE)","v":"Fiorenza"},92,13,{"$f":"VLOOKUP(E356,Kühe!$A$7:$G$150,2,FALSE)","v":"Tequilla"},{"$f":"VLOOKUP(E356,Kühe!$A$7:$G$150,7,FALSE)","v":"Bregy Patrick & Silvan"}]
["2018-08-05",{"$f":"VLOOKUP(D357,Kühe!$A$7:$G$150,7,FALSE)","v":"Familie Leiggener"},{"$f":"VLOOKUP(D357,Kühe!$A$7:$G$150,2,FALSE)","v":"Bulle"},21,42,{"$f":"VLOOKUP(E357,Kühe!$A$7:$G$150,2,FALSE)","v":"Tiger"},{"$f":"VLOOKUP(E357,Kühe!$A$7:$G$150,7,FALSE)","v":"Gebrüder Jäger"}]
["2018-08-05",{"$f":"VLOOKUP(D358,Kühe!$A$7:$G$150,7,FALSE)","v":"Williner  Anton"},{"$f":"VLOOKUP(D358,Kühe!$A$7:$G$150,2,FALSE)","v":"Tira"},90,40,{"$f":"VLOOKUP(E358,Kühe!$A$7:$G$150,2,FALSE)","v":"Barilona"},{"$f":"VLOOKUP(E358,Kühe!$A$7:$G$150,7,FALSE)","v":"Gebrüder Jäger"}]
["2018-08-05",{"$f":"VLOOKUP(D359,Kühe!$A$7:$G$150,7,FALSE)","v":"Sewer Ralf & Thommen Steve"},{"$f":"VLOOKUP(D359,Kühe!$A$7:$G$150,2,FALSE)","v":"Saphira"},77,86,{"$f":"VLOOKUP(E359,Kühe!$A$7:$G$150,2,FALSE)","v":"Lotus"},{"$f":"VLOOKUP(E359,Kühe!$A$7:$G$150,7,FALSE)","v":"Williner  Anton"}]
["2018-08-05",{"$f":"VLOOKUP(D360,Kühe!$A$7:$G$150,7,FALSE)","v":"Bregy Uli & Pascal"},{"$f":"VLOOKUP(D360,Kühe!$A$7:$G$150,2,FALSE)","v":"Catalina"},15,73,{"$f":"VLOOKUP(E360,Kühe!$A$7:$G$150,2,FALSE)","v":"Benika"},{"$f":"VLOOKUP(E360,Kühe!$A$7:$G$150,7,FALSE)","v":"Stallung zum Stäg"}]
["2018-08-05",{"$f":"VLOOKUP(D361,Kühe!$A$7:$G$150,7,FALSE)","v":"Gebrüder Jäger"},{"$f":"VLOOKUP(D361,Kühe!$A$7:$G$150,2,FALSE)","v":"Tango"},37,53,{"$f":"VLOOKUP(E361,Kühe!$A$7:$G$150,2,FALSE)","v":"Mirtille"},{"$f":"VLOOKUP(E361,Kühe!$A$7:$G$150,7,FALSE)","v":"Jäger Carlo"}]
["2018-08-05",{"$f":"VLOOKUP(D362,Kühe!$A$7:$G$150,7,FALSE)","v":"Williner  Anton"},{"$f":"VLOOKUP(D362,Kühe!$A$7:$G$150,2,FALSE)","v":"Vanessa"},91,72,{"$f":"VLOOKUP(E362,Kühe!$A$7:$G$150,2,FALSE)","v":"Mirette"},{"$f":"VLOOKUP(E362,Kühe!$A$7:$G$150,7,FALSE)","v":"Hutter Richard"}]
["2018-08-05",{"$f":"VLOOKUP(D363,Kühe!$A$7:$G$150,7,FALSE)","v":"Bregy Uli & Pascal"},{"$f":"VLOOKUP(D363,Kühe!$A$7:$G$150,2,FALSE)","v":"Souki"},18,72,{"$f":"VLOOKUP(E363,Kühe!$A$7:$G$150,2,FALSE)","v":"Mirette"},{"$f":"VLOOKUP(E363,Kühe!$A$7:$G$150,7,FALSE)","v":"Hutter Richard"}]
["2018-08-05",{"$f":"VLOOKUP(D364,Kühe!$A$7:$G$150,7,FALSE)","v":"Zumofen / Gattlen"},{"$f":"VLOOKUP(D364,Kühe!$A$7:$G$150,2,FALSE)","v":"Puma"},105,72,{"$f":"VLOOKUP(E364,Kühe!$A$7:$G$150,2,FALSE)","v":"Mirette"},{"$f":"VLOOKUP(E364,Kühe!$A$7:$G$150,7,FALSE)","v":"Hutter Richard"}]
["2018-08-05",{"$f":"VLOOKUP(D365,Kühe!$A$7:$G$150,7,FALSE)","v":"Sewer Ralf & Thommen Steve"},{"$f":"VLOOKUP(D365,Kühe!$A$7:$G$150,2,FALSE)","v":"Tinea"},81,49,{"$f":"VLOOKUP(E365,Kühe!$A$7:$G$150,2,FALSE)","v":"Shakira"},{"$f":"VLOOKUP(E365,Kühe!$A$7:$G$150,7,FALSE)","v":"Hischier Pius"}]
["2018-08-05",{"$f":"VLOOKUP(D366,Kühe!$A$7:$G$150,7,FALSE)","v":"Stallung Passeraub"},{"$f":"VLOOKUP(D366,Kühe!$A$7:$G$150,2,FALSE)","v":"Baghera"},65,77,{"$f":"VLOOKUP(E366,Kühe!$A$7:$G$150,2,FALSE)","v":"Saphira"},{"$f":"VLOOKUP(E366,Kühe!$A$7:$G$150,7,FALSE)","v":"Sewer Ralf & Thommen Steve"}]
["2018-08-05",{"$f":"VLOOKUP(D367,Kühe!$A$7:$G$150,7,FALSE)","v":"Stallung Passeraub"},{"$f":"VLOOKUP(D367,Kühe!$A$7:$G$150,2,FALSE)","v":"Bobino"},66,86,{"$f":"VLOOKUP(E367,Kühe!$A$7:$G$150,2,FALSE)","v":"Lotus"},{"$f":"VLOOKUP(E367,Kühe!$A$7:$G$150,7,FALSE)","v":"Williner  Anton"}]
["2018-08-05",{"$f":"VLOOKUP(D368,Kühe!$A$7:$G$150,7,FALSE)","v":"Stallung Passeraub"},{"$f":"VLOOKUP(D368,Kühe!$A$7:$G$150,2,FALSE)","v":"Bobino"},66,77,{"$f":"VLOOKUP(E368,Kühe!$A$7:$G$150,2,FALSE)","v":"Saphira"},{"$f":"VLOOKUP(E368,Kühe!$A$7:$G$150,7,FALSE)","v":"Sewer Ralf & Thommen Steve"}]
["2018-08-05",{"$f":"VLOOKUP(D369,Kühe!$A$7:$G$150,7,FALSE)","v":"Familie Leiggener"},{"$f":"VLOOKUP(D369,Kühe!$A$7:$G$150,2,FALSE)","v":"Rambo"},22,55,{"$f":"VLOOKUP(E369,Kühe!$A$7:$G$150,2,FALSE)","v":"Papillon"},{"$f":"VLOOKUP(E369,Kühe!$A$7:$G$150,7,FALSE)","v":"Jäger Carlo"}]
["2018-08-05",{"$f":"VLOOKUP(D370,Kühe!$A$7:$G$150,7,FALSE)","v":"Sewer Ralf & Thommen Steve"},{"$f":"VLOOKUP(D370,Kühe!$A$7:$G$150,2,FALSE)","v":"Saphira"},77,70,{"$f":"VLOOKUP(E370,Kühe!$A$7:$G$150,2,FALSE)","v":"Medusa"},{"$f":"VLOOKUP(E370,Kühe!$A$7:$G$150,7,FALSE)","v":"Stallung Passeraub"}]
["2018-08-05",{"$f":"VLOOKUP(D371,Kühe!$A$7:$G$150,7,FALSE)","v":"Jäger Carlo"},{"$f":"VLOOKUP(D371,Kühe!$A$7:$G$150,2,FALSE)","v":"Papillon"},55,70,{"$f":"VLOOKUP(E371,Kühe!$A$7:$G$150,2,FALSE)","v":"Medusa"},{"$f":"VLOOKUP(E371,Kühe!$A$7:$G$150,7,FALSE)","v":"Stallung Passeraub"}]
["2018-08-04",{"$f":"VLOOKUP(D372,Kühe!$A$7:$G$150,7,FALSE)","v":"Zumofen / Gattlen"},{"$f":"VLOOKUP(D372,Kühe!$A$7:$G$150,2,FALSE)","v":"Fayola"},102,70,{"$f":"VLOOKUP(E372,Kühe!$A$7:$G$150,2,FALSE)","v":"Medusa"},{"$f":"VLOOKUP(E372,Kühe!$A$7:$G$150,7,FALSE)","v":"Stallung Passeraub"}]
["2018-08-04",{"$f":"VLOOKUP(D373,Kühe!$A$7:$G$150,7,FALSE)","v":"Zumofen / Gattlen"},{"$f":"VLOOKUP(D373,Kühe!$A$7:$G$150,2,FALSE)","v":"Milou"},103,10,{"$f":"VLOOKUP(E373,Kühe!$A$7:$G$150,2,FALSE)","v":"Lacoste"},{"$f":"VLOOKUP(E373,Kühe!$A$7:$G$150,7,FALSE)","v":"Bregy Ralf & Adolf"}]
["2018-08-04",{"$f":"VLOOKUP(D374,Kühe!$A$7:$G$150,7,FALSE)","v":"Wyssen Diego & Madlen"},{"$f":"VLOOKUP(D374,Kühe!$A$7:$G$150,2,FALSE)","v":"Fiorenza"},92,29,{"$f":"VLOOKUP(E374,Kühe!$A$7:$G$150,2,FALSE)","v":"Caprise"},{"$f":"VLOOKUP(E374,Kühe!$A$7:$G$150,7,FALSE)","v":"Fux Wendelin, Jenny & Wyer Piet"}]
["2018-08-04",{"$f":"VLOOKUP(D375,Kühe!$A$7:$G$150,7,FALSE)","v":"Familie Leiggener"},{"$f":"VLOOKUP(D375,Kühe!$A$7:$G$150,2,FALSE)","v":"Tigres"},24,18,{"$f":"VLOOKUP(E375,Kühe!$A$7:$G$150,2,FALSE)","v":"Souki"},{"$f":"VLOOKUP(E375,Kühe!$A$7:$G$150,7,FALSE)","v":"Bregy Uli & Pascal"}]
["2018-08-04",{"$f":"VLOOKUP(D376,Kühe!$A$7:$G$150,7,FALSE)","v":"Jäger Carlo"},{"$f":"VLOOKUP(D376,Kühe!$A$7:$G$150,2,FALSE)","v":"Paloma"},54,3,{"$f":"VLOOKUP(E376,Kühe!$A$7:$G$150,2,FALSE)","v":"Pinka"},{"$f":"VLOOKUP(E376,Kühe!$A$7:$G$150,7,FALSE)","v":"Bayard Medard & Gustav"}]
["2018-08-04",{"$f":"VLOOKUP(D377,Kühe!$A$7:$G$150,7,FALSE)","v":"Zumofen / Gattlen"},{"$f":"VLOOKUP(D377,Kühe!$A$7:$G$150,2,FALSE)","v":"Fayola"},102,95,{"$f":"VLOOKUP(E377,Kühe!$A$7:$G$150,2,FALSE)","v":"Xena"},{"$f":"VLOOKUP(E377,Kühe!$A$7:$G$150,7,FALSE)","v":"Wyssen Diego & Madlen"}]
["2018-08-03",{"$f":"VLOOKUP(D378,Kühe!$A$7:$G$150,7,FALSE)","v":"Zumofen / Gattlen"},{"$f":"VLOOKUP(D378,Kühe!$A$7:$G$150,2,FALSE)","v":"Milou"},103,9,{"$f":"VLOOKUP(E378,Kühe!$A$7:$G$150,2,FALSE)","v":"Flacari"},{"$f":"VLOOKUP(E378,Kühe!$A$7:$G$150,7,FALSE)","v":"Bregy Ralf & Adolf"}]
["2018-08-03",{"$f":"VLOOKUP(D379,Kühe!$A$7:$G$150,7,FALSE)","v":"Wyssen Diego & Madlen"},{"$f":"VLOOKUP(D379,Kühe!$A$7:$G$150,2,FALSE)","v":"Xanja"},94,53,{"$f":"VLOOKUP(E379,Kühe!$A$7:$G$150,2,FALSE)","v":"Mirtille"},{"$f":"VLOOKUP(E379,Kühe!$A$7:$G$150,7,FALSE)","v":"Jäger Carlo"}]
["2018-08-03",{"$f":"VLOOKUP(D380,Kühe!$A$7:$G$150,7,FALSE)","v":"Gebrüder Jäger"},{"$f":"VLOOKUP(D380,Kühe!$A$7:$G$150,2,FALSE)","v":"Lorens"},46,21,{"$f":"VLOOKUP(E380,Kühe!$A$7:$G$150,2,FALSE)","v":"Bulle"},{"$f":"VLOOKUP(E380,Kühe!$A$7:$G$150,7,FALSE)","v":"Familie Leiggener"}]
["2018-08-03",{"$f":"VLOOKUP(D381,Kühe!$A$7:$G$150,7,FALSE)","v":"Sewer Ralf & Thommen Steve"},{"$f":"VLOOKUP(D381,Kühe!$A$7:$G$150,2,FALSE)","v":"Tabitha"},78,81,{"$f":"VLOOKUP(E381,Kühe!$A$7:$G$150,2,FALSE)","v":"Tinea"},{"$f":"VLOOKUP(E381,Kühe!$A$7:$G$150,7,FALSE)","v":"Sewer Ralf & Thommen Steve"}]
["2018-08-03",{"$f":"VLOOKUP(D382,Kühe!$A$7:$G$150,7,FALSE)","v":"Bayard Medard & Gustav"},{"$f":"VLOOKUP(D382,Kühe!$A$7:$G$150,2,FALSE)","v":"Diabolo"},1,75,{"$f":"VLOOKUP(E382,Kühe!$A$7:$G$150,2,FALSE)","v":"Pandora"},{"$f":"VLOOKUP(E382,Kühe!$A$7:$G$150,7,FALSE)","v":"Stallung zum Stäg"}]
["2018-08-03",{"$f":"VLOOKUP(D383,Kühe!$A$7:$G$150,7,FALSE)","v":"Bregy Uli & Pascal"},{"$f":"VLOOKUP(D383,Kühe!$A$7:$G$150,2,FALSE)","v":"Cora"},16,77,{"$f":"VLOOKUP(E383,Kühe!$A$7:$G$150,2,FALSE)","v":"Saphira"},{"$f":"VLOOKUP(E383,Kühe!$A$7:$G$150,7,FALSE)","v":"Sewer Ralf & Thommen Steve"}]
["2018-08-03",{"$f":"VLOOKUP(D384,Kühe!$A$7:$G$150,7,FALSE)","v":"Gebrüder Jäger"},{"$f":"VLOOKUP(D384,Kühe!$A$7:$G$150,2,FALSE)","v":"Tiger"},42,30,{"$f":"VLOOKUP(E384,Kühe!$A$7:$G$150,2,FALSE)","v":"Dixence"},{"$f":"VLOOKUP(E384,Kühe!$A$7:$G$150,7,FALSE)","v":"Fux Wendelin, Jenny & Wyer Piet"}]
["2018-08-02",{"$f":"VLOOKUP(D385,Kühe!$A$7:$G$150,7,FALSE)","v":"Williner  Anton"},{"$f":"VLOOKUP(D385,Kühe!$A$7:$G$150,2,FALSE)","v":"Colonell"},88,55,{"$f":"VLOOKUP(E385,Kühe!$A$7:$G$150,2,FALSE)","v":"Papillon"},{"$f":"VLOOKUP(E385,Kühe!$A$7:$G$150,7,FALSE)","v":"Jäger Carlo"}]
["2018-08-01",{"$f":"VLOOKUP(D386,Kühe!$A$7:$G$150,7,FALSE)","v":"Wyssen Diego & Madlen"},{"$f":"VLOOKUP(D386,Kühe!$A$7:$G$150,2,FALSE)","v":"Xhyla"},96,100,{"$f":"VLOOKUP(E386,Kühe!$A$7:$G$150,2,FALSE)","v":"Akhira"},{"$f":"VLOOKUP(E386,Kühe!$A$7:$G$150,7,FALSE)","v":"Zumofen / Gattlen"}]
["2018-08-01",{"$f":"VLOOKUP(D387,Kühe!$A$7:$G$150,7,FALSE)","v":"Gebrüder Jäger"},{"$f":"VLOOKUP(D387,Kühe!$A$7:$G$150,2,FALSE)","v":"Lorens"},46,97,{"$f":"VLOOKUP(E387,Kühe!$A$7:$G$150,2,FALSE)","v":"Coucou"},{"$f":"VLOOKUP(E387,Kühe!$A$7:$G$150,7,FALSE)","v":"Familie Zumoberhaus"}]
["2018-08-01",{"$f":"VLOOKUP(D388,Kühe!$A$7:$G$150,7,FALSE)","v":"Bregy Ralf & Adolf"},{"$f":"VLOOKUP(D388,Kühe!$A$7:$G$150,2,FALSE)","v":"Lacoste"},10,21,{"$f":"VLOOKUP(E388,Kühe!$A$7:$G$150,2,FALSE)","v":"Bulle"},{"$f":"VLOOKUP(E388,Kühe!$A$7:$G$150,7,FALSE)","v":"Familie Leiggener"}]
["2018-08-01",{"$f":"VLOOKUP(D389,Kühe!$A$7:$G$150,7,FALSE)","v":"Bregy Patrick & Silvan"},{"$f":"VLOOKUP(D389,Kühe!$A$7:$G$150,2,FALSE)","v":"Milow"},12,57,{"$f":"VLOOKUP(E389,Kühe!$A$7:$G$150,2,FALSE)","v":"Promise"},{"$f":"VLOOKUP(E389,Kühe!$A$7:$G$150,7,FALSE)","v":"Jäger Carlo"}]
["2018-07-31",{"$f":"VLOOKUP(D390,Kühe!$A$7:$G$150,7,FALSE)","v":"Hutter Richard"},{"$f":"VLOOKUP(D390,Kühe!$A$7:$G$150,2,FALSE)","v":"Mirette"},72,32,{"$f":"VLOOKUP(E390,Kühe!$A$7:$G$150,2,FALSE)","v":"Pigalle"},{"$f":"VLOOKUP(E390,Kühe!$A$7:$G$150,7,FALSE)","v":"Fux Wendelin, Jenny & Wyer Piet"}]
["2018-07-31",{"$f":"VLOOKUP(D391,Kühe!$A$7:$G$150,7,FALSE)","v":"Bayard Medard & Gustav"},{"$f":"VLOOKUP(D391,Kühe!$A$7:$G$150,2,FALSE)","v":"Mirabelle"},2,15,{"$f":"VLOOKUP(E391,Kühe!$A$7:$G$150,2,FALSE)","v":"Catalina"},{"$f":"VLOOKUP(E391,Kühe!$A$7:$G$150,7,FALSE)","v":"Bregy Uli & Pascal"}]
["2018-07-31",{"$f":"VLOOKUP(D392,Kühe!$A$7:$G$150,7,FALSE)","v":"Bayard Medard & Gustav"},{"$f":"VLOOKUP(D392,Kühe!$A$7:$G$150,2,FALSE)","v":"Mirabelle"},2,55,{"$f":"VLOOKUP(E392,Kühe!$A$7:$G$150,2,FALSE)","v":"Papillon"},{"$f":"VLOOKUP(E392,Kühe!$A$7:$G$150,7,FALSE)","v":"Jäger Carlo"}]
["2018-07-31",{"$f":"VLOOKUP(D393,Kühe!$A$7:$G$150,7,FALSE)","v":"Stallung Passeraub"},{"$f":"VLOOKUP(D393,Kühe!$A$7:$G$150,2,FALSE)","v":"Bonita"},71,40,{"$f":"VLOOKUP(E393,Kühe!$A$7:$G$150,2,FALSE)","v":"Barilona"},{"$f":"VLOOKUP(E393,Kühe!$A$7:$G$150,7,FALSE)","v":"Gebrüder Jäger"}]
["2018-07-31",{"$f":"VLOOKUP(D394,Kühe!$A$7:$G$150,7,FALSE)","v":"Jäger Carlo"},{"$f":"VLOOKUP(D394,Kühe!$A$7:$G$150,2,FALSE)","v":"Pisa"},56,42,{"$f":"VLOOKUP(E394,Kühe!$A$7:$G$150,2,FALSE)","v":"Tiger"},{"$f":"VLOOKUP(E394,Kühe!$A$7:$G$150,7,FALSE)","v":"Gebrüder Jäger"}]
["2018-07-31",{"$f":"VLOOKUP(D395,Kühe!$A$7:$G$150,7,FALSE)","v":"Zumofen / Gattlen"},{"$f":"VLOOKUP(D395,Kühe!$A$7:$G$150,2,FALSE)","v":"Fayola"},102,58,{"$f":"VLOOKUP(E395,Kühe!$A$7:$G$150,2,FALSE)","v":"Turin"},{"$f":"VLOOKUP(E395,Kühe!$A$7:$G$150,7,FALSE)","v":"Jäger Carlo"}]
["2018-07-31",{"$f":"VLOOKUP(D396,Kühe!$A$7:$G$150,7,FALSE)","v":"Bayard Medard & Gustav"},{"$f":"VLOOKUP(D396,Kühe!$A$7:$G$150,2,FALSE)","v":"Mirabelle"},2,6,{"$f":"VLOOKUP(E396,Kühe!$A$7:$G$150,2,FALSE)","v":"Diabolo"},{"$f":"VLOOKUP(E396,Kühe!$A$7:$G$150,7,FALSE)","v":"Bregy Anja"}]
["2018-07-31",{"$f":"VLOOKUP(D397,Kühe!$A$7:$G$150,7,FALSE)","v":"Zumofen / Gattlen"},{"$f":"VLOOKUP(D397,Kühe!$A$7:$G$150,2,FALSE)","v":"Fangjo"},101,94,{"$f":"VLOOKUP(E397,Kühe!$A$7:$G$150,2,FALSE)","v":"Xanja"},{"$f":"VLOOKUP(E397,Kühe!$A$7:$G$150,7,FALSE)","v":"Wyssen Diego & Madlen"}]
["2018-07-31",{"$f":"VLOOKUP(D398,Kühe!$A$7:$G$150,7,FALSE)","v":"Jäger Carlo"},{"$f":"VLOOKUP(D398,Kühe!$A$7:$G$150,2,FALSE)","v":"Promise"},57,91,{"$f":"VLOOKUP(E398,Kühe!$A$7:$G$150,2,FALSE)","v":"Vanessa"},{"$f":"VLOOKUP(E398,Kühe!$A$7:$G$150,7,FALSE)","v":"Williner  Anton"}]
["2018-07-31",{"$f":"VLOOKUP(D399,Kühe!$A$7:$G$150,7,FALSE)","v":"Bayard Medard & Gustav"},{"$f":"VLOOKUP(D399,Kühe!$A$7:$G$150,2,FALSE)","v":"Diabolo"},1,86,{"$f":"VLOOKUP(E399,Kühe!$A$7:$G$150,2,FALSE)","v":"Lotus"},{"$f":"VLOOKUP(E399,Kühe!$A$7:$G$150,7,FALSE)","v":"Williner  Anton"}]
["2018-07-31",{"$f":"VLOOKUP(D400,Kühe!$A$7:$G$150,7,FALSE)","v":"Jäger Carlo"},{"$f":"VLOOKUP(D400,Kühe!$A$7:$G$150,2,FALSE)","v":"Pisa"},56,80,{"$f":"VLOOKUP(E400,Kühe!$A$7:$G$150,2,FALSE)","v":"Tiara"},{"$f":"VLOOKUP(E400,Kühe!$A$7:$G$150,7,FALSE)","v":"Sewer Ralf & Thommen Steve"}]
["2018-07-31",{"$f":"VLOOKUP(D401,Kühe!$A$7:$G$150,7,FALSE)","v":"Zumofen / Gattlen"},{"$f":"VLOOKUP(D401,Kühe!$A$7:$G$150,2,FALSE)","v":"Xena"},110,11,{"$f":"VLOOKUP(E401,Kühe!$A$7:$G$150,2,FALSE)","v":"Santiago"},{"$f":"VLOOKUP(E401,Kühe!$A$7:$G$150,7,FALSE)","v":"Bregy Ralf & Adolf"}]
["2018-07-31",{"$f":"VLOOKUP(D402,Kühe!$A$7:$G$150,7,FALSE)","v":"Bayard Medard & Gustav"},{"$f":"VLOOKUP(D402,Kühe!$A$7:$G$150,2,FALSE)","v":"Diabolo"},1,59,{"$f":"VLOOKUP(E402,Kühe!$A$7:$G$150,2,FALSE)","v":"Baghira"},{"$f":"VLOOKUP(E402,Kühe!$A$7:$G$150,7,FALSE)","v":"Mathieu Leander & Sascha"}]
["2018-07-31",{"$f":"VLOOKUP(D403,Kühe!$A$7:$G$150,7,FALSE)","v":"Bregy Ralf & Adolf"},{"$f":"VLOOKUP(D403,Kühe!$A$7:$G$150,2,FALSE)","v":"Flacari"},9,59,{"$f":"VLOOKUP(E403,Kühe!$A$7:$G$150,2,FALSE)","v":"Baghira"},{"$f":"VLOOKUP(E403,Kühe!$A$7:$G$150,7,FALSE)","v":"Mathieu Leander & Sascha"}]
["2018-07-31",{"$f":"VLOOKUP(D404,Kühe!$A$7:$G$150,7,FALSE)","v":"Zumofen / Gattlen"},{"$f":"VLOOKUP(D404,Kühe!$A$7:$G$150,2,FALSE)","v":"Fayola"},102,54,{"$f":"VLOOKUP(E404,Kühe!$A$7:$G$150,2,FALSE)","v":"Paloma"},{"$f":"VLOOKUP(E404,Kühe!$A$7:$G$150,7,FALSE)","v":"Jäger Carlo"}]
["2018-07-31",{"$f":"VLOOKUP(D405,Kühe!$A$7:$G$150,7,FALSE)","v":"Hischier Pius"},{"$f":"VLOOKUP(D405,Kühe!$A$7:$G$150,2,FALSE)","v":"Pelila"},48,1,{"$f":"VLOOKUP(E405,Kühe!$A$7:$G$150,2,FALSE)","v":"Diabolo"},{"$f":"VLOOKUP(E405,Kühe!$A$7:$G$150,7,FALSE)","v":"Bayard Medard & Gustav"}]
["2018-07-31",{"$f":"VLOOKUP(D406,Kühe!$A$7:$G$150,7,FALSE)","v":"Bregy Uli & Pascal"},{"$f":"VLOOKUP(D406,Kühe!$A$7:$G$150,2,FALSE)","v":"Souki"},18,1,{"$f":"VLOOKUP(E406,Kühe!$A$7:$G$150,2,FALSE)","v":"Diabolo"},{"$f":"VLOOKUP(E406,Kühe!$A$7:$G$150,7,FALSE)","v":"Bayard Medard & Gustav"}]
["2018-07-31",{"$f":"VLOOKUP(D407,Kühe!$A$7:$G$150,7,FALSE)","v":"Zumofen / Gattlen"},{"$f":"VLOOKUP(D407,Kühe!$A$7:$G$150,2,FALSE)","v":"Pengale"},104,91,{"$f":"VLOOKUP(E407,Kühe!$A$7:$G$150,2,FALSE)","v":"Vanessa"},{"$f":"VLOOKUP(E407,Kühe!$A$7:$G$150,7,FALSE)","v":"Williner  Anton"}]
["2018-07-31",{"$f":"VLOOKUP(D408,Kühe!$A$7:$G$150,7,FALSE)","v":"Familie Zumoberhaus"},{"$f":"VLOOKUP(D408,Kühe!$A$7:$G$150,2,FALSE)","v":"Nana"},98,19,{"$f":"VLOOKUP(E408,Kühe!$A$7:$G$150,2,FALSE)","v":"Tiranie"},{"$f":"VLOOKUP(E408,Kühe!$A$7:$G$150,7,FALSE)","v":"Bregy Uli & Pascal"}]
["2018-07-31",{"$f":"VLOOKUP(D409,Kühe!$A$7:$G$150,7,FALSE)","v":"Zumofen / Gattlen"},{"$f":"VLOOKUP(D409,Kühe!$A$7:$G$150,2,FALSE)","v":"Fayola"},102,96,{"$f":"VLOOKUP(E409,Kühe!$A$7:$G$150,2,FALSE)","v":"Xhyla"},{"$f":"VLOOKUP(E409,Kühe!$A$7:$G$150,7,FALSE)","v":"Wyssen Diego & Madlen"}]
["2018-07-31",{"$f":"VLOOKUP(D410,Kühe!$A$7:$G$150,7,FALSE)","v":"Zumofen / Gattlen"},{"$f":"VLOOKUP(D410,Kühe!$A$7:$G$150,2,FALSE)","v":"Puma"},105,51,{"$f":"VLOOKUP(E410,Kühe!$A$7:$G$150,2,FALSE)","v":"Guxa"},{"$f":"VLOOKUP(E410,Kühe!$A$7:$G$150,7,FALSE)","v":"Jäger Carlo"}]
["2018-07-30",{"$f":"VLOOKUP(D411,Kühe!$A$7:$G$150,7,FALSE)","v":"Jäger Carlo"},{"$f":"VLOOKUP(D411,Kühe!$A$7:$G$150,2,FALSE)","v":"Papillon"},55,29,{"$f":"VLOOKUP(E411,Kühe!$A$7:$G$150,2,FALSE)","v":"Caprise"},{"$f":"VLOOKUP(E411,Kühe!$A$7:$G$150,7,FALSE)","v":"Fux Wendelin, Jenny & Wyer Piet"}]
["2018-07-30",{"$f":"VLOOKUP(D412,Kühe!$A$7:$G$150,7,FALSE)","v":"Zumofen / Gattlen"},{"$f":"VLOOKUP(D412,Kühe!$A$7:$G$150,2,FALSE)","v":"Rambo"},106,91,{"$f":"VLOOKUP(E412,Kühe!$A$7:$G$150,2,FALSE)","v":"Vanessa"},{"$f":"VLOOKUP(E412,Kühe!$A$7:$G$150,7,FALSE)","v":"Williner  Anton"}]
["2018-07-30",{"$f":"VLOOKUP(D413,Kühe!$A$7:$G$150,7,FALSE)","v":"Mathieu Leander & Sascha"},{"$f":"VLOOKUP(D413,Kühe!$A$7:$G$150,2,FALSE)","v":"Baghira"},59,82,{"$f":"VLOOKUP(E413,Kühe!$A$7:$G$150,2,FALSE)","v":"Carolin"},{"$f":"VLOOKUP(E413,Kühe!$A$7:$G$150,7,FALSE)","v":"Tscherry Erwin & Bernhard"}]
["2018-07-30",{"$f":"VLOOKUP(D414,Kühe!$A$7:$G$150,7,FALSE)","v":"Mathieu Leander & Sascha"},{"$f":"VLOOKUP(D414,Kühe!$A$7:$G$150,2,FALSE)","v":"Bavaria"},62,97,{"$f":"VLOOKUP(E414,Kühe!$A$7:$G$150,2,FALSE)","v":"Coucou"},{"$f":"VLOOKUP(E414,Kühe!$A$7:$G$150,7,FALSE)","v":"Familie Zumoberhaus"}]
["2018-07-29",{"$f":"VLOOKUP(D415,Kühe!$A$7:$G$150,7,FALSE)","v":"Jäger Carlo"},{"$f":"VLOOKUP(D415,Kühe!$A$7:$G$150,2,FALSE)","v":"Mirtille"},53,60,{"$f":"VLOOKUP(E415,Kühe!$A$7:$G$150,2,FALSE)","v":"Bambino"},{"$f":"VLOOKUP(E415,Kühe!$A$7:$G$150,7,FALSE)","v":"Mathieu Leander & Sascha"}]
["2018-07-29",{"$f":"VLOOKUP(D416,Kühe!$A$7:$G$150,7,FALSE)","v":"Jäger Carlo"},{"$f":"VLOOKUP(D416,Kühe!$A$7:$G$150,2,FALSE)","v":"Bandit"},50,81,{"$f":"VLOOKUP(E416,Kühe!$A$7:$G$150,2,FALSE)","v":"Tinea"},{"$f":"VLOOKUP(E416,Kühe!$A$7:$G$150,7,FALSE)","v":"Sewer Ralf & Thommen Steve"}]
["2018-07-29",{"$f":"VLOOKUP(D417,Kühe!$A$7:$G$150,7,FALSE)","v":"Jäger Carlo"},{"$f":"VLOOKUP(D417,Kühe!$A$7:$G$150,2,FALSE)","v":"Paloma"},54,88,{"$f":"VLOOKUP(E417,Kühe!$A$7:$G$150,2,FALSE)","v":"Colonell"},{"$f":"VLOOKUP(E417,Kühe!$A$7:$G$150,7,FALSE)","v":"Williner  Anton"}]
["2018-07-29",{"$f":"VLOOKUP(D418,Kühe!$A$7:$G$150,7,FALSE)","v":"Jäger Carlo"},{"$f":"VLOOKUP(D418,Kühe!$A$7:$G$150,2,FALSE)","v":"Guxa"},51,89,{"$f":"VLOOKUP(E418,Kühe!$A$7:$G$150,2,FALSE)","v":"Diva"},{"$f":"VLOOKUP(E418,Kühe!$A$7:$G$150,7,FALSE)","v":"Williner  Anton"}]
["2018-07-28",{"$f":"VLOOKUP(D419,Kühe!$A$7:$G$150,7,FALSE)","v":"Bregy Uli & Pascal"},{"$f":"VLOOKUP(D419,Kühe!$A$7:$G$150,2,FALSE)","v":"Tiranie"},19,99,{"$f":"VLOOKUP(E419,Kühe!$A$7:$G$150,2,FALSE)","v":"Napapiri"},{"$f":"VLOOKUP(E419,Kühe!$A$7:$G$150,7,FALSE)","v":"Familie Zumoberhaus"}]
["2018-07-28",{"$f":"VLOOKUP(D420,Kühe!$A$7:$G$150,7,FALSE)","v":"Zumofen / Gattlen"},{"$f":"VLOOKUP(D420,Kühe!$A$7:$G$150,2,FALSE)","v":"Akhira"},100,60,{"$f":"VLOOKUP(E420,Kühe!$A$7:$G$150,2,FALSE)","v":"Bambino"},{"$f":"VLOOKUP(E420,Kühe!$A$7:$G$150,7,FALSE)","v":"Mathieu Leander & Sascha"}]
["2018-07-27",{"$f":"VLOOKUP(D421,Kühe!$A$7:$G$150,7,FALSE)","v":"Zumofen / Gattlen"},{"$f":"VLOOKUP(D421,Kühe!$A$7:$G$150,2,FALSE)","v":"Akhira"},100,19,{"$f":"VLOOKUP(E421,Kühe!$A$7:$G$150,2,FALSE)","v":"Tiranie"},{"$f":"VLOOKUP(E421,Kühe!$A$7:$G$150,7,FALSE)","v":"Bregy Uli & Pascal"}]
["2018-07-27",{"$f":"VLOOKUP(D422,Kühe!$A$7:$G$150,7,FALSE)","v":"Bregy Patrick & Silvan"},{"$f":"VLOOKUP(D422,Kühe!$A$7:$G$150,2,FALSE)","v":"Milow"},12,67,{"$f":"VLOOKUP(E422,Kühe!$A$7:$G$150,2,FALSE)","v":"Bombache"},{"$f":"VLOOKUP(E422,Kühe!$A$7:$G$150,7,FALSE)","v":"Stallung Passeraub"}]
["2018-07-27",{"$f":"VLOOKUP(D423,Kühe!$A$7:$G$150,7,FALSE)","v":"Jäger Carlo"},{"$f":"VLOOKUP(D423,Kühe!$A$7:$G$150,2,FALSE)","v":"Guxa"},51,65,{"$f":"VLOOKUP(E423,Kühe!$A$7:$G$150,2,FALSE)","v":"Baghera"},{"$f":"VLOOKUP(E423,Kühe!$A$7:$G$150,7,FALSE)","v":"Stallung Passeraub"}]
["2018-07-27",{"$f":"VLOOKUP(D424,Kühe!$A$7:$G$150,7,FALSE)","v":"Jäger Carlo"},{"$f":"VLOOKUP(D424,Kühe!$A$7:$G$150,2,FALSE)","v":"Guxa"},51,70,{"$f":"VLOOKUP(E424,Kühe!$A$7:$G$150,2,FALSE)","v":"Medusa"},{"$f":"VLOOKUP(E424,Kühe!$A$7:$G$150,7,FALSE)","v":"Stallung Passeraub"}]
["2018-07-27",{"$f":"VLOOKUP(D425,Kühe!$A$7:$G$150,7,FALSE)","v":"Bregy Patrick & Silvan"},{"$f":"VLOOKUP(D425,Kühe!$A$7:$G$150,2,FALSE)","v":"Milow"},12,110,{"$f":"VLOOKUP(E425,Kühe!$A$7:$G$150,2,FALSE)","v":"Xena"},{"$f":"VLOOKUP(E425,Kühe!$A$7:$G$150,7,FALSE)","v":"Zumofen / Gattlen"}]
["2018-07-27",{"$f":"VLOOKUP(D426,Kühe!$A$7:$G$150,7,FALSE)","v":"Jäger Carlo"},{"$f":"VLOOKUP(D426,Kühe!$A$7:$G$150,2,FALSE)","v":"Guxa"},51,87,{"$f":"VLOOKUP(E426,Kühe!$A$7:$G$150,2,FALSE)","v":"Mirabilis"},{"$f":"VLOOKUP(E426,Kühe!$A$7:$G$150,7,FALSE)","v":"Williner  Anton"}]
["2018-07-26",{"$f":"VLOOKUP(D427,Kühe!$A$7:$G$150,7,FALSE)","v":"Williner  Anton"},{"$f":"VLOOKUP(D427,Kühe!$A$7:$G$150,2,FALSE)","v":"Mirabilis"},87,51,{"$f":"VLOOKUP(E427,Kühe!$A$7:$G$150,2,FALSE)","v":"Guxa"},{"$f":"VLOOKUP(E427,Kühe!$A$7:$G$150,7,FALSE)","v":"Jäger Carlo"}]
["2018-07-26",{"$f":"VLOOKUP(D428,Kühe!$A$7:$G$150,7,FALSE)","v":"Wyssen Diego & Madlen"},{"$f":"VLOOKUP(D428,Kühe!$A$7:$G$150,2,FALSE)","v":"Xhyla"},96,39,{"$f":"VLOOKUP(E428,Kühe!$A$7:$G$150,2,FALSE)","v":"Bandit"},{"$f":"VLOOKUP(E428,Kühe!$A$7:$G$150,7,FALSE)","v":"Gebrüder Jäger"}]
["2018-07-26",{"$f":"VLOOKUP(D429,Kühe!$A$7:$G$150,7,FALSE)","v":"Bregy Patrick & Silvan"},{"$f":"VLOOKUP(D429,Kühe!$A$7:$G$150,2,FALSE)","v":"Tequilla"},13,91,{"$f":"VLOOKUP(E429,Kühe!$A$7:$G$150,2,FALSE)","v":"Vanessa"},{"$f":"VLOOKUP(E429,Kühe!$A$7:$G$150,7,FALSE)","v":"Williner  Anton"}]
["2018-07-26",{"$f":"VLOOKUP(D430,Kühe!$A$7:$G$150,7,FALSE)","v":"Familie Zumoberhaus"},{"$f":"VLOOKUP(D430,Kühe!$A$7:$G$150,2,FALSE)","v":"Coucou"},97,19,{"$f":"VLOOKUP(E430,Kühe!$A$7:$G$150,2,FALSE)","v":"Tiranie"},{"$f":"VLOOKUP(E430,Kühe!$A$7:$G$150,7,FALSE)","v":"Bregy Uli & Pascal"}]
["2018-07-26",{"$f":"VLOOKUP(D431,Kühe!$A$7:$G$150,7,FALSE)","v":"Bregy Patrick & Silvan"},{"$f":"VLOOKUP(D431,Kühe!$A$7:$G$150,2,FALSE)","v":"Milow"},12,37,{"$f":"VLOOKUP(E431,Kühe!$A$7:$G$150,2,FALSE)","v":"Tango"},{"$f":"VLOOKUP(E431,Kühe!$A$7:$G$150,7,FALSE)","v":"Gebrüder Jäger"}]
["2018-07-26",{"$f":"VLOOKUP(D432,Kühe!$A$7:$G$150,7,FALSE)","v":"Mathieu Leander & Sascha"},{"$f":"VLOOKUP(D432,Kühe!$A$7:$G$150,2,FALSE)","v":"Bavaria"},62,84,{"$f":"VLOOKUP(E432,Kühe!$A$7:$G$150,2,FALSE)","v":"Cobra"},{"$f":"VLOOKUP(E432,Kühe!$A$7:$G$150,7,FALSE)","v":"Tscherry Erwin & Bernhard"}]
["2018-07-26",{"$f":"VLOOKUP(D433,Kühe!$A$7:$G$150,7,FALSE)","v":"Bregy Uli & Pascal"},{"$f":"VLOOKUP(D433,Kühe!$A$7:$G$150,2,FALSE)","v":"Pandora"},17,19,{"$f":"VLOOKUP(E433,Kühe!$A$7:$G$150,2,FALSE)","v":"Tiranie"},{"$f":"VLOOKUP(E433,Kühe!$A$7:$G$150,7,FALSE)","v":"Bregy Uli & Pascal"}]
["2018-07-26",{"$f":"VLOOKUP(D434,Kühe!$A$7:$G$150,7,FALSE)","v":"Jäger Carlo"},{"$f":"VLOOKUP(D434,Kühe!$A$7:$G$150,2,FALSE)","v":"Turin"},58,106,{"$f":"VLOOKUP(E434,Kühe!$A$7:$G$150,2,FALSE)","v":"Rambo"},{"$f":"VLOOKUP(E434,Kühe!$A$7:$G$150,7,FALSE)","v":"Zumofen / Gattlen"}]
["2018-07-26",{"$f":"VLOOKUP(D435,Kühe!$A$7:$G$150,7,FALSE)","v":"Hischier Pius"},{"$f":"VLOOKUP(D435,Kühe!$A$7:$G$150,2,FALSE)","v":"Shakira"},49,77,{"$f":"VLOOKUP(E435,Kühe!$A$7:$G$150,2,FALSE)","v":"Saphira"},{"$f":"VLOOKUP(E435,Kühe!$A$7:$G$150,7,FALSE)","v":"Sewer Ralf & Thommen Steve"}]
["2018-07-25",{"$f":"VLOOKUP(D436,Kühe!$A$7:$G$150,7,FALSE)","v":"Bregy Ralf & Adolf"},{"$f":"VLOOKUP(D436,Kühe!$A$7:$G$150,2,FALSE)","v":"Santiago"},11,108,{"$f":"VLOOKUP(E436,Kühe!$A$7:$G$150,2,FALSE)","v":"Volero"},{"$f":"VLOOKUP(E436,Kühe!$A$7:$G$150,7,FALSE)","v":"Zumofen / Gattlen"}]
["2018-07-25",{"$f":"VLOOKUP(D437,Kühe!$A$7:$G$150,7,FALSE)","v":"Bregy Ralf & Adolf"},{"$f":"VLOOKUP(D437,Kühe!$A$7:$G$150,2,FALSE)","v":"Creola"},8,103,{"$f":"VLOOKUP(E437,Kühe!$A$7:$G$150,2,FALSE)","v":"Milou"},{"$f":"VLOOKUP(E437,Kühe!$A$7:$G$150,7,FALSE)","v":"Zumofen / Gattlen"}]
["2018-07-25",{"$f":"VLOOKUP(D438,Kühe!$A$7:$G$150,7,FALSE)","v":"Bregy Ralf & Adolf"},{"$f":"VLOOKUP(D438,Kühe!$A$7:$G$150,2,FALSE)","v":"Flacari"},9,11,{"$f":"VLOOKUP(E438,Kühe!$A$7:$G$150,2,FALSE)","v":"Santiago"},{"$f":"VLOOKUP(E438,Kühe!$A$7:$G$150,7,FALSE)","v":"Bregy Ralf & Adolf"}]
["2018-07-25",{"$f":"VLOOKUP(D439,Kühe!$A$7:$G$150,7,FALSE)","v":"Hischier Pius"},{"$f":"VLOOKUP(D439,Kühe!$A$7:$G$150,2,FALSE)","v":"Shakira"},49,97,{"$f":"VLOOKUP(E439,Kühe!$A$7:$G$150,2,FALSE)","v":"Coucou"},{"$f":"VLOOKUP(E439,Kühe!$A$7:$G$150,7,FALSE)","v":"Familie Zumoberhaus"}]
["2018-07-25",{"$f":"VLOOKUP(D440,Kühe!$A$7:$G$150,7,FALSE)","v":"Sewer Ralf & Thommen Steve"},{"$f":"VLOOKUP(D440,Kühe!$A$7:$G$150,2,FALSE)","v":"Saphira"},77,97,{"$f":"VLOOKUP(E440,Kühe!$A$7:$G$150,2,FALSE)","v":"Coucou"},{"$f":"VLOOKUP(E440,Kühe!$A$7:$G$150,7,FALSE)","v":"Familie Zumoberhaus"}]
["2018-07-24",{"$f":"VLOOKUP(D441,Kühe!$A$7:$G$150,7,FALSE)","v":"Williner  Anton"},{"$f":"VLOOKUP(D441,Kühe!$A$7:$G$150,2,FALSE)","v":"Tira"},90,53,{"$f":"VLOOKUP(E441,Kühe!$A$7:$G$150,2,FALSE)","v":"Mirtille"},{"$f":"VLOOKUP(E441,Kühe!$A$7:$G$150,7,FALSE)","v":"Jäger Carlo"}]
["2018-07-24",{"$f":"VLOOKUP(D442,Kühe!$A$7:$G$150,7,FALSE)","v":"Jäger Carlo"},{"$f":"VLOOKUP(D442,Kühe!$A$7:$G$150,2,FALSE)","v":"Maila"},52,51,{"$f":"VLOOKUP(E442,Kühe!$A$7:$G$150,2,FALSE)","v":"Guxa"},{"$f":"VLOOKUP(E442,Kühe!$A$7:$G$150,7,FALSE)","v":"Jäger Carlo"}]
["2018-07-24",{"$f":"VLOOKUP(D443,Kühe!$A$7:$G$150,7,FALSE)","v":"Bayard Medard & Gustav"},{"$f":"VLOOKUP(D443,Kühe!$A$7:$G$150,2,FALSE)","v":"Mirabelle"},2,63,{"$f":"VLOOKUP(E443,Kühe!$A$7:$G$150,2,FALSE)","v":"Belon"},{"$f":"VLOOKUP(E443,Kühe!$A$7:$G$150,7,FALSE)","v":"Mathieu Leander & Sascha"}]
["2018-07-23",{"$f":"VLOOKUP(D444,Kühe!$A$7:$G$150,7,FALSE)","v":"Hutter Richard"},{"$f":"VLOOKUP(D444,Kühe!$A$7:$G$150,2,FALSE)","v":"Mirette"},72,38,{"$f":"VLOOKUP(E444,Kühe!$A$7:$G$150,2,FALSE)","v":"Tirana"},{"$f":"VLOOKUP(E444,Kühe!$A$7:$G$150,7,FALSE)","v":"Gebrüder Jäger"}]
["2018-07-23",{"$f":"VLOOKUP(D445,Kühe!$A$7:$G$150,7,FALSE)","v":"Sewer Ralf & Thommen Steve"},{"$f":"VLOOKUP(D445,Kühe!$A$7:$G$150,2,FALSE)","v":"Saphira"},77,68,{"$f":"VLOOKUP(E445,Kühe!$A$7:$G$150,2,FALSE)","v":"Bulle"},{"$f":"VLOOKUP(E445,Kühe!$A$7:$G$150,7,FALSE)","v":"Stallung Passeraub"}]
["2018-07-23",{"$f":"VLOOKUP(D446,Kühe!$A$7:$G$150,7,FALSE)","v":"Gebrüder Jäger"},{"$f":"VLOOKUP(D446,Kühe!$A$7:$G$150,2,FALSE)","v":"Lorens"},46,3,{"$f":"VLOOKUP(E446,Kühe!$A$7:$G$150,2,FALSE)","v":"Pinka"},{"$f":"VLOOKUP(E446,Kühe!$A$7:$G$150,7,FALSE)","v":"Bayard Medard & Gustav"}]
["2018-07-23",{"$f":"VLOOKUP(D447,Kühe!$A$7:$G$150,7,FALSE)","v":"Bregy Ralf & Adolf"},{"$f":"VLOOKUP(D447,Kühe!$A$7:$G$150,2,FALSE)","v":"Flacari"},9,11,{"$f":"VLOOKUP(E447,Kühe!$A$7:$G$150,2,FALSE)","v":"Santiago"},{"$f":"VLOOKUP(E447,Kühe!$A$7:$G$150,7,FALSE)","v":"Bregy Ralf & Adolf"}]
["2018-07-23",{"$f":"VLOOKUP(D448,Kühe!$A$7:$G$150,7,FALSE)","v":"Hischier Pius"},{"$f":"VLOOKUP(D448,Kühe!$A$7:$G$150,2,FALSE)","v":"Pelila"},48,3,{"$f":"VLOOKUP(E448,Kühe!$A$7:$G$150,2,FALSE)","v":"Pinka"},{"$f":"VLOOKUP(E448,Kühe!$A$7:$G$150,7,FALSE)","v":"Bayard Medard & Gustav"}]
["2018-07-23",{"$f":"VLOOKUP(D449,Kühe!$A$7:$G$150,7,FALSE)","v":"Bayard Medard & Gustav"},{"$f":"VLOOKUP(D449,Kühe!$A$7:$G$150,2,FALSE)","v":"Mirabelle"},2,104,{"$f":"VLOOKUP(E449,Kühe!$A$7:$G$150,2,FALSE)","v":"Pengale"},{"$f":"VLOOKUP(E449,Kühe!$A$7:$G$150,7,FALSE)","v":"Zumofen / Gattlen"}]
["2018-07-23",{"$f":"VLOOKUP(D450,Kühe!$A$7:$G$150,7,FALSE)","v":"Jäger Carlo"},{"$f":"VLOOKUP(D450,Kühe!$A$7:$G$150,2,FALSE)","v":"Mirtille"},53,56,{"$f":"VLOOKUP(E450,Kühe!$A$7:$G$150,2,FALSE)","v":"Pisa"},{"$f":"VLOOKUP(E450,Kühe!$A$7:$G$150,7,FALSE)","v":"Jäger Carlo"}]
["2018-07-23",{"$f":"VLOOKUP(D451,Kühe!$A$7:$G$150,7,FALSE)","v":"Jäger Carlo"},{"$f":"VLOOKUP(D451,Kühe!$A$7:$G$150,2,FALSE)","v":"Guxa"},51,94,{"$f":"VLOOKUP(E451,Kühe!$A$7:$G$150,2,FALSE)","v":"Xanja"},{"$f":"VLOOKUP(E451,Kühe!$A$7:$G$150,7,FALSE)","v":"Wyssen Diego & Madlen"}]
["2018-07-23",{"$f":"VLOOKUP(D452,Kühe!$A$7:$G$150,7,FALSE)","v":"Wyssen Diego & Madlen"},{"$f":"VLOOKUP(D452,Kühe!$A$7:$G$150,2,FALSE)","v":"Xanja"},94,106,{"$f":"VLOOKUP(E452,Kühe!$A$7:$G$150,2,FALSE)","v":"Rambo"},{"$f":"VLOOKUP(E452,Kühe!$A$7:$G$150,7,FALSE)","v":"Zumofen / Gattlen"}]
["2018-07-23",{"$f":"VLOOKUP(D453,Kühe!$A$7:$G$150,7,FALSE)","v":"Gebrüder Jäger"},{"$f":"VLOOKUP(D453,Kühe!$A$7:$G$150,2,FALSE)","v":"Tirana"},38,18,{"$f":"VLOOKUP(E453,Kühe!$A$7:$G$150,2,FALSE)","v":"Souki"},{"$f":"VLOOKUP(E453,Kühe!$A$7:$G$150,7,FALSE)","v":"Bregy Uli & Pascal"}]
["2018-07-23",{"$f":"VLOOKUP(D454,Kühe!$A$7:$G$150,7,FALSE)","v":"Williner  Anton"},{"$f":"VLOOKUP(D454,Kühe!$A$7:$G$150,2,FALSE)","v":"Vanessa"},91,6,{"$f":"VLOOKUP(E454,Kühe!$A$7:$G$150,2,FALSE)","v":"Diabolo"},{"$f":"VLOOKUP(E454,Kühe!$A$7:$G$150,7,FALSE)","v":"Bregy Anja"}]
["2018-07-23",{"$f":"VLOOKUP(D455,Kühe!$A$7:$G$150,7,FALSE)","v":"Stallung Passeraub"},{"$f":"VLOOKUP(D455,Kühe!$A$7:$G$150,2,FALSE)","v":"Bonita"},71,81,{"$f":"VLOOKUP(E455,Kühe!$A$7:$G$150,2,FALSE)","v":"Tinea"},{"$f":"VLOOKUP(E455,Kühe!$A$7:$G$150,7,FALSE)","v":"Sewer Ralf & Thommen Steve"}]
["2018-07-23",{"$f":"VLOOKUP(D456,Kühe!$A$7:$G$150,7,FALSE)","v":"Fux Wendelin, Jenny & Wyer Piet"},{"$f":"VLOOKUP(D456,Kühe!$A$7:$G$150,2,FALSE)","v":"Mystic"},31,24,{"$f":"VLOOKUP(E456,Kühe!$A$7:$G$150,2,FALSE)","v":"Tigres"},{"$f":"VLOOKUP(E456,Kühe!$A$7:$G$150,7,FALSE)","v":"Familie Leiggener"}]
["2018-07-23",{"$f":"VLOOKUP(D457,Kühe!$A$7:$G$150,7,FALSE)","v":"Gebrüder Jäger"},{"$f":"VLOOKUP(D457,Kühe!$A$7:$G$150,2,FALSE)","v":"Lorens"},46,17,{"$f":"VLOOKUP(E457,Kühe!$A$7:$G$150,2,FALSE)","v":"Pandora"},{"$f":"VLOOKUP(E457,Kühe!$A$7:$G$150,7,FALSE)","v":"Bregy Uli & Pascal"}]
["2018-07-23",{"$f":"VLOOKUP(D458,Kühe!$A$7:$G$150,7,FALSE)","v":"Gebrüder Jäger"},{"$f":"VLOOKUP(D458,Kühe!$A$7:$G$150,2,FALSE)","v":"Bandit"},39,11,{"$f":"VLOOKUP(E458,Kühe!$A$7:$G$150,2,FALSE)","v":"Santiago"},{"$f":"VLOOKUP(E458,Kühe!$A$7:$G$150,7,FALSE)","v":"Bregy Ralf & Adolf"}]
["2018-07-23",{"$f":"VLOOKUP(D459,Kühe!$A$7:$G$150,7,FALSE)","v":"Gebrüder Jäger"},{"$f":"VLOOKUP(D459,Kühe!$A$7:$G$150,2,FALSE)","v":"Tirana"},38,57,{"$f":"VLOOKUP(E459,Kühe!$A$7:$G$150,2,FALSE)","v":"Promise"},{"$f":"VLOOKUP(E459,Kühe!$A$7:$G$150,7,FALSE)","v":"Jäger Carlo"}]
["2018-07-23",{"$f":"VLOOKUP(D460,Kühe!$A$7:$G$150,7,FALSE)","v":"Familie Leiggener"},{"$f":"VLOOKUP(D460,Kühe!$A$7:$G$150,2,FALSE)","v":"Rebell"},23,91,{"$f":"VLOOKUP(E460,Kühe!$A$7:$G$150,2,FALSE)","v":"Vanessa"},{"$f":"VLOOKUP(E460,Kühe!$A$7:$G$150,7,FALSE)","v":"Williner  Anton"}]
["2018-07-23",{"$f":"VLOOKUP(D461,Kühe!$A$7:$G$150,7,FALSE)","v":"Wyssen Diego & Madlen"},{"$f":"VLOOKUP(D461,Kühe!$A$7:$G$150,2,FALSE)","v":"Xena"},95,31,{"$f":"VLOOKUP(E461,Kühe!$A$7:$G$150,2,FALSE)","v":"Mystic"},{"$f":"VLOOKUP(E461,Kühe!$A$7:$G$150,7,FALSE)","v":"Fux Wendelin, Jenny & Wyer Piet"}]
["2018-07-23",{"$f":"VLOOKUP(D462,Kühe!$A$7:$G$150,7,FALSE)","v":"Zumofen / Gattlen"},{"$f":"VLOOKUP(D462,Kühe!$A$7:$G$150,2,FALSE)","v":"Fayola"},102,95,{"$f":"VLOOKUP(E462,Kühe!$A$7:$G$150,2,FALSE)","v":"Xena"},{"$f":"VLOOKUP(E462,Kühe!$A$7:$G$150,7,FALSE)","v":"Wyssen Diego & Madlen"}]
["2018-07-22",{"$f":"VLOOKUP(D463,Kühe!$A$7:$G$150,7,FALSE)","v":"Stallung Passeraub"},{"$f":"VLOOKUP(D463,Kühe!$A$7:$G$150,2,FALSE)","v":"Bonita"},71,45,{"$f":"VLOOKUP(E463,Kühe!$A$7:$G$150,2,FALSE)","v":"Taylor"},{"$f":"VLOOKUP(E463,Kühe!$A$7:$G$150,7,FALSE)","v":"Gebrüder Jäger"}]
["2018-07-22",{"$f":"VLOOKUP(D464,Kühe!$A$7:$G$150,7,FALSE)","v":"Williner  Anton"},{"$f":"VLOOKUP(D464,Kühe!$A$7:$G$150,2,FALSE)","v":"Vanessa"},91,32,{"$f":"VLOOKUP(E464,Kühe!$A$7:$G$150,2,FALSE)","v":"Pigalle"},{"$f":"VLOOKUP(E464,Kühe!$A$7:$G$150,7,FALSE)","v":"Fux Wendelin, Jenny & Wyer Piet"}]
["2018-07-22",{"$f":"VLOOKUP(D465,Kühe!$A$7:$G$150,7,FALSE)","v":"Mathieu Leander & Sascha"},{"$f":"VLOOKUP(D465,Kühe!$A$7:$G$150,2,FALSE)","v":"Bambino"},60,30,{"$f":"VLOOKUP(E465,Kühe!$A$7:$G$150,2,FALSE)","v":"Dixence"},{"$f":"VLOOKUP(E465,Kühe!$A$7:$G$150,7,FALSE)","v":"Fux Wendelin, Jenny & Wyer Piet"}]
["2018-07-22",{"$f":"VLOOKUP(D466,Kühe!$A$7:$G$150,7,FALSE)","v":"Sewer Ralf & Thommen Steve"},{"$f":"VLOOKUP(D466,Kühe!$A$7:$G$150,2,FALSE)","v":"Tinea"},81,21,{"$f":"VLOOKUP(E466,Kühe!$A$7:$G$150,2,FALSE)","v":"Bulle"},{"$f":"VLOOKUP(E466,Kühe!$A$7:$G$150,7,FALSE)","v":"Familie Leiggener"}]
["2018-07-22",{"$f":"VLOOKUP(D467,Kühe!$A$7:$G$150,7,FALSE)","v":"Hischier Pius"},{"$f":"VLOOKUP(D467,Kühe!$A$7:$G$150,2,FALSE)","v":"Pablo"},47,48,{"$f":"VLOOKUP(E467,Kühe!$A$7:$G$150,2,FALSE)","v":"Pelila"},{"$f":"VLOOKUP(E467,Kühe!$A$7:$G$150,7,FALSE)","v":"Hischier Pius"}]
["2018-07-22",{"$f":"VLOOKUP(D468,Kühe!$A$7:$G$150,7,FALSE)","v":"Zumofen / Gattlen"},{"$f":"VLOOKUP(D468,Kühe!$A$7:$G$150,2,FALSE)","v":"Akhira"},100,30,{"$f":"VLOOKUP(E468,Kühe!$A$7:$G$150,2,FALSE)","v":"Dixence"},{"$f":"VLOOKUP(E468,Kühe!$A$7:$G$150,7,FALSE)","v":"Fux Wendelin, Jenny & Wyer Piet"}]
["2018-07-22",{"$f":"VLOOKUP(D469,Kühe!$A$7:$G$150,7,FALSE)","v":"Bregy Uli & Pascal"},{"$f":"VLOOKUP(D469,Kühe!$A$7:$G$150,2,FALSE)","v":"Pandora"},17,46,{"$f":"VLOOKUP(E469,Kühe!$A$7:$G$150,2,FALSE)","v":"Lorens"},{"$f":"VLOOKUP(E469,Kühe!$A$7:$G$150,7,FALSE)","v":"Gebrüder Jäger"}]
["2018-07-22",{"$f":"VLOOKUP(D470,Kühe!$A$7:$G$150,7,FALSE)","v":"Familie Zumoberhaus"},{"$f":"VLOOKUP(D470,Kühe!$A$7:$G$150,2,FALSE)","v":"Nana"},98,109,{"$f":"VLOOKUP(E470,Kühe!$A$7:$G$150,2,FALSE)","v":"Vulcana"},{"$f":"VLOOKUP(E470,Kühe!$A$7:$G$150,7,FALSE)","v":"Zumofen / Gattlen"}]
["2018-07-22",{"$f":"VLOOKUP(D471,Kühe!$A$7:$G$150,7,FALSE)","v":"Gebrüder Jäger"},{"$f":"VLOOKUP(D471,Kühe!$A$7:$G$150,2,FALSE)","v":"Barilona"},40,99,{"$f":"VLOOKUP(E471,Kühe!$A$7:$G$150,2,FALSE)","v":"Napapiri"},{"$f":"VLOOKUP(E471,Kühe!$A$7:$G$150,7,FALSE)","v":"Familie Zumoberhaus"}]
["2018-07-21",{"$f":"VLOOKUP(D472,Kühe!$A$7:$G$150,7,FALSE)","v":"Bregy Uli & Pascal"},{"$f":"VLOOKUP(D472,Kühe!$A$7:$G$150,2,FALSE)","v":"Pandora"},17,16,{"$f":"VLOOKUP(E472,Kühe!$A$7:$G$150,2,FALSE)","v":"Cora"},{"$f":"VLOOKUP(E472,Kühe!$A$7:$G$150,7,FALSE)","v":"Bregy Uli & Pascal"}]
["2018-07-21",{"$f":"VLOOKUP(D473,Kühe!$A$7:$G$150,7,FALSE)","v":"Jäger Carlo"},{"$f":"VLOOKUP(D473,Kühe!$A$7:$G$150,2,FALSE)","v":"Paloma"},54,89,{"$f":"VLOOKUP(E473,Kühe!$A$7:$G$150,2,FALSE)","v":"Diva"},{"$f":"VLOOKUP(E473,Kühe!$A$7:$G$150,7,FALSE)","v":"Williner  Anton"}]
["2018-07-21",{"$f":"VLOOKUP(D474,Kühe!$A$7:$G$150,7,FALSE)","v":"Bregy Uli & Pascal"},{"$f":"VLOOKUP(D474,Kühe!$A$7:$G$150,2,FALSE)","v":"Pandora"},17,87,{"$f":"VLOOKUP(E474,Kühe!$A$7:$G$150,2,FALSE)","v":"Mirabilis"},{"$f":"VLOOKUP(E474,Kühe!$A$7:$G$150,7,FALSE)","v":"Williner  Anton"}]
["2018-07-21",{"$f":"VLOOKUP(D475,Kühe!$A$7:$G$150,7,FALSE)","v":"Bregy Ralf & Adolf"},{"$f":"VLOOKUP(D475,Kühe!$A$7:$G$150,2,FALSE)","v":"Santiago"},11,57,{"$f":"VLOOKUP(E475,Kühe!$A$7:$G$150,2,FALSE)","v":"Promise"},{"$f":"VLOOKUP(E475,Kühe!$A$7:$G$150,7,FALSE)","v":"Jäger Carlo"}]
["2018-07-21",{"$f":"VLOOKUP(D476,Kühe!$A$7:$G$150,7,FALSE)","v":"Sewer Ralf & Thommen Steve"},{"$f":"VLOOKUP(D476,Kühe!$A$7:$G$150,2,FALSE)","v":"Tacona"},79,99,{"$f":"VLOOKUP(E476,Kühe!$A$7:$G$150,2,FALSE)","v":"Napapiri"},{"$f":"VLOOKUP(E476,Kühe!$A$7:$G$150,7,FALSE)","v":"Familie Zumoberhaus"}]
["2018-07-21",{"$f":"VLOOKUP(D477,Kühe!$A$7:$G$150,7,FALSE)","v":"Bregy Uli & Pascal"},{"$f":"VLOOKUP(D477,Kühe!$A$7:$G$150,2,FALSE)","v":"Souki"},18,103,{"$f":"VLOOKUP(E477,Kühe!$A$7:$G$150,2,FALSE)","v":"Milou"},{"$f":"VLOOKUP(E477,Kühe!$A$7:$G$150,7,FALSE)","v":"Zumofen / Gattlen"}]
["2018-07-21",{"$f":"VLOOKUP(D478,Kühe!$A$7:$G$150,7,FALSE)","v":"Mathieu Leander & Sascha"},{"$f":"VLOOKUP(D478,Kühe!$A$7:$G$150,2,FALSE)","v":"Bavaria"},62,40,{"$f":"VLOOKUP(E478,Kühe!$A$7:$G$150,2,FALSE)","v":"Barilona"},{"$f":"VLOOKUP(E478,Kühe!$A$7:$G$150,7,FALSE)","v":"Gebrüder Jäger"}]
["2018-07-20",{"$f":"VLOOKUP(D479,Kühe!$A$7:$G$150,7,FALSE)","v":"Jäger Carlo"},{"$f":"VLOOKUP(D479,Kühe!$A$7:$G$150,2,FALSE)","v":"Turin"},58,21,{"$f":"VLOOKUP(E479,Kühe!$A$7:$G$150,2,FALSE)","v":"Bulle"},{"$f":"VLOOKUP(E479,Kühe!$A$7:$G$150,7,FALSE)","v":"Familie Leiggener"}]
["2018-07-20",{"$f":"VLOOKUP(D480,Kühe!$A$7:$G$150,7,FALSE)","v":"Williner  Anton"},{"$f":"VLOOKUP(D480,Kühe!$A$7:$G$150,2,FALSE)","v":"Mirabilis"},87,43,{"$f":"VLOOKUP(E480,Kühe!$A$7:$G$150,2,FALSE)","v":"Dorina"},{"$f":"VLOOKUP(E480,Kühe!$A$7:$G$150,7,FALSE)","v":"Gebrüder Jäger"}]
["2018-07-20",{"$f":"VLOOKUP(D481,Kühe!$A$7:$G$150,7,FALSE)","v":"Bayard Medard & Gustav"},{"$f":"VLOOKUP(D481,Kühe!$A$7:$G$150,2,FALSE)","v":"Mirabelle"},2,25,{"$f":"VLOOKUP(E481,Kühe!$A$7:$G$150,2,FALSE)","v":"Andora"},{"$f":"VLOOKUP(E481,Kühe!$A$7:$G$150,7,FALSE)","v":"Fux Wendelin, Jenny & Wyer Piet"}]
["2018-07-20",{"$f":"VLOOKUP(D482,Kühe!$A$7:$G$150,7,FALSE)","v":"Zumofen / Gattlen"},{"$f":"VLOOKUP(D482,Kühe!$A$7:$G$150,2,FALSE)","v":"Rambo"},106,55,{"$f":"VLOOKUP(E482,Kühe!$A$7:$G$150,2,FALSE)","v":"Papillon"},{"$f":"VLOOKUP(E482,Kühe!$A$7:$G$150,7,FALSE)","v":"Jäger Carlo"}]
["2018-07-20",{"$f":"VLOOKUP(D483,Kühe!$A$7:$G$150,7,FALSE)","v":"Familie Leiggener"},{"$f":"VLOOKUP(D483,Kühe!$A$7:$G$150,2,FALSE)","v":"Rambo"},22,21,{"$f":"VLOOKUP(E483,Kühe!$A$7:$G$150,2,FALSE)","v":"Bulle"},{"$f":"VLOOKUP(E483,Kühe!$A$7:$G$150,7,FALSE)","v":"Familie Leiggener"}]
["2018-07-20",{"$f":"VLOOKUP(D484,Kühe!$A$7:$G$150,7,FALSE)","v":"Familie Leiggener"},{"$f":"VLOOKUP(D484,Kühe!$A$7:$G$150,2,FALSE)","v":"Bulle"},21,46,{"$f":"VLOOKUP(E484,Kühe!$A$7:$G$150,2,FALSE)","v":"Lorens"},{"$f":"VLOOKUP(E484,Kühe!$A$7:$G$150,7,FALSE)","v":"Gebrüder Jäger"}]
["2018-07-20",{"$f":"VLOOKUP(D485,Kühe!$A$7:$G$150,7,FALSE)","v":"Bregy Uli & Pascal"},{"$f":"VLOOKUP(D485,Kühe!$A$7:$G$150,2,FALSE)","v":"Souki"},18,72,{"$f":"VLOOKUP(E485,Kühe!$A$7:$G$150,2,FALSE)","v":"Mirette"},{"$f":"VLOOKUP(E485,Kühe!$A$7:$G$150,7,FALSE)","v":"Hutter Richard"}]
["2018-07-20",{"$f":"VLOOKUP(D486,Kühe!$A$7:$G$150,7,FALSE)","v":"Stallung Passeraub"},{"$f":"VLOOKUP(D486,Kühe!$A$7:$G$150,2,FALSE)","v":"Bobino"},66,42,{"$f":"VLOOKUP(E486,Kühe!$A$7:$G$150,2,FALSE)","v":"Tiger"},{"$f":"VLOOKUP(E486,Kühe!$A$7:$G$150,7,FALSE)","v":"Gebrüder Jäger"}]
["2018-07-19",{"$f":"VLOOKUP(D487,Kühe!$A$7:$G$150,7,FALSE)","v":"Bregy Ralf & Adolf"},{"$f":"VLOOKUP(D487,Kühe!$A$7:$G$150,2,FALSE)","v":"Lacoste"},10,100,{"$f":"VLOOKUP(E487,Kühe!$A$7:$G$150,2,FALSE)","v":"Akhira"},{"$f":"VLOOKUP(E487,Kühe!$A$7:$G$150,7,FALSE)","v":"Zumofen / Gattlen"}]
["2018-07-19",{"$f":"VLOOKUP(D488,Kühe!$A$7:$G$150,7,FALSE)","v":"Wyssen Diego & Madlen"},{"$f":"VLOOKUP(D488,Kühe!$A$7:$G$150,2,FALSE)","v":"Fiorenza"},92,7,{"$f":"VLOOKUP(E488,Kühe!$A$7:$G$150,2,FALSE)","v":"Canaille"},{"$f":"VLOOKUP(E488,Kühe!$A$7:$G$150,7,FALSE)","v":"Bregy Ralf & Adolf"}]
["2018-07-19",{"$f":"VLOOKUP(D489,Kühe!$A$7:$G$150,7,FALSE)","v":"Stallung Passeraub"},{"$f":"VLOOKUP(D489,Kühe!$A$7:$G$150,2,FALSE)","v":"Bonita"},71,40,{"$f":"VLOOKUP(E489,Kühe!$A$7:$G$150,2,FALSE)","v":"Barilona"},{"$f":"VLOOKUP(E489,Kühe!$A$7:$G$150,7,FALSE)","v":"Gebrüder Jäger"}]
["2018-07-18",{"$f":"VLOOKUP(D490,Kühe!$A$7:$G$150,7,FALSE)","v":"Fux Wendelin, Jenny & Wyer Piet"},{"$f":"VLOOKUP(D490,Kühe!$A$7:$G$150,2,FALSE)","v":"Souris"},35,77,{"$f":"VLOOKUP(E490,Kühe!$A$7:$G$150,2,FALSE)","v":"Saphira"},{"$f":"VLOOKUP(E490,Kühe!$A$7:$G$150,7,FALSE)","v":"Sewer Ralf & Thommen Steve"}]
["2018-07-18",{"$f":"VLOOKUP(D491,Kühe!$A$7:$G$150,7,FALSE)","v":"Zumofen / Gattlen"},{"$f":"VLOOKUP(D491,Kühe!$A$7:$G$150,2,FALSE)","v":"Xena"},110,72,{"$f":"VLOOKUP(E491,Kühe!$A$7:$G$150,2,FALSE)","v":"Mirette"},{"$f":"VLOOKUP(E491,Kühe!$A$7:$G$150,7,FALSE)","v":"Hutter Richard"}]
["2018-07-18",{"$f":"VLOOKUP(D492,Kühe!$A$7:$G$150,7,FALSE)","v":"Gebrüder Jäger"},{"$f":"VLOOKUP(D492,Kühe!$A$7:$G$150,2,FALSE)","v":"Tirana"},38,2,{"$f":"VLOOKUP(E492,Kühe!$A$7:$G$150,2,FALSE)","v":"Mirabelle"},{"$f":"VLOOKUP(E492,Kühe!$A$7:$G$150,7,FALSE)","v":"Bayard Medard & Gustav"}]
["2018-07-17",{"$f":"VLOOKUP(D493,Kühe!$A$7:$G$150,7,FALSE)","v":"Bregy Ralf & Adolf"},{"$f":"VLOOKUP(D493,Kühe!$A$7:$G$150,2,FALSE)","v":"Canaille"},7,45,{"$f":"VLOOKUP(E493,Kühe!$A$7:$G$150,2,FALSE)","v":"Taylor"},{"$f":"VLOOKUP(E493,Kühe!$A$7:$G$150,7,FALSE)","v":"Gebrüder Jäger"}]
["2018-07-17",{"$f":"VLOOKUP(D494,Kühe!$A$7:$G$150,7,FALSE)","v":"Gebrüder Jäger"},{"$f":"VLOOKUP(D494,Kühe!$A$7:$G$150,2,FALSE)","v":"Barilona"},40,53,{"$f":"VLOOKUP(E494,Kühe!$A$7:$G$150,2,FALSE)","v":"Mirtille"},{"$f":"VLOOKUP(E494,Kühe!$A$7:$G$150,7,FALSE)","v":"Jäger Carlo"}]
["2018-07-17",{"$f":"VLOOKUP(D495,Kühe!$A$7:$G$150,7,FALSE)","v":"Bregy Ralf & Adolf"},{"$f":"VLOOKUP(D495,Kühe!$A$7:$G$150,2,FALSE)","v":"Creola"},8,37,{"$f":"VLOOKUP(E495,Kühe!$A$7:$G$150,2,FALSE)","v":"Tango"},{"$f":"VLOOKUP(E495,Kühe!$A$7:$G$150,7,FALSE)","v":"Gebrüder Jäger"}]
["2018-07-17",{"$f":"VLOOKUP(D496,Kühe!$A$7:$G$150,7,FALSE)","v":"Jäger Carlo"},{"$f":"VLOOKUP(D496,Kühe!$A$7:$G$150,2,FALSE)","v":"Mirtille"},53,102,{"$f":"VLOOKUP(E496,Kühe!$A$7:$G$150,2,FALSE)","v":"Fayola"},{"$f":"VLOOKUP(E496,Kühe!$A$7:$G$150,7,FALSE)","v":"Zumofen / Gattlen"}]
["2018-07-17",{"$f":"VLOOKUP(D497,Kühe!$A$7:$G$150,7,FALSE)","v":"Zumofen / Gattlen"},{"$f":"VLOOKUP(D497,Kühe!$A$7:$G$150,2,FALSE)","v":"Xena"},110,7,{"$f":"VLOOKUP(E497,Kühe!$A$7:$G$150,2,FALSE)","v":"Canaille"},{"$f":"VLOOKUP(E497,Kühe!$A$7:$G$150,7,FALSE)","v":"Bregy Ralf & Adolf"}]
["2018-07-16",{"$f":"VLOOKUP(D498,Kühe!$A$7:$G$150,7,FALSE)","v":"Bregy Ralf & Adolf"},{"$f":"VLOOKUP(D498,Kühe!$A$7:$G$150,2,FALSE)","v":"Santiago"},11,27,{"$f":"VLOOKUP(E498,Kühe!$A$7:$G$150,2,FALSE)","v":"Bolero"},{"$f":"VLOOKUP(E498,Kühe!$A$7:$G$150,7,FALSE)","v":"Fux Wendelin, Jenny & Wyer Piet"}]
["2018-07-16",{"$f":"VLOOKUP(D499,Kühe!$A$7:$G$150,7,FALSE)","v":"Bregy Ralf & Adolf"},{"$f":"VLOOKUP(D499,Kühe!$A$7:$G$150,2,FALSE)","v":"Santiago"},11,31,{"$f":"VLOOKUP(E499,Kühe!$A$7:$G$150,2,FALSE)","v":"Mystic"},{"$f":"VLOOKUP(E499,Kühe!$A$7:$G$150,7,FALSE)","v":"Fux Wendelin, Jenny & Wyer Piet"}]
["2018-07-16",{"$f":"VLOOKUP(D500,Kühe!$A$7:$G$150,7,FALSE)","v":"Jäger Carlo"},{"$f":"VLOOKUP(D500,Kühe!$A$7:$G$150,2,FALSE)","v":"Paloma"},54,43,{"$f":"VLOOKUP(E500,Kühe!$A$7:$G$150,2,FALSE)","v":"Dorina"},{"$f":"VLOOKUP(E500,Kühe!$A$7:$G$150,7,FALSE)","v":"Gebrüder Jäger"}]
["2018-07-16",{"$f":"VLOOKUP(D501,Kühe!$A$7:$G$150,7,FALSE)","v":"Fux Wendelin, Jenny & Wyer Piet"},{"$f":"VLOOKUP(D501,Kühe!$A$7:$G$150,2,FALSE)","v":"Mystic"},31,98,{"$f":"VLOOKUP(E501,Kühe!$A$7:$G$150,2,FALSE)","v":"Nana"},{"$f":"VLOOKUP(E501,Kühe!$A$7:$G$150,7,FALSE)","v":"Familie Zumoberhaus"}]
["2018-07-16",{"$f":"VLOOKUP(D502,Kühe!$A$7:$G$150,7,FALSE)","v":"Bregy Uli & Pascal"},{"$f":"VLOOKUP(D502,Kühe!$A$7:$G$150,2,FALSE)","v":"Calin"},14,38,{"$f":"VLOOKUP(E502,Kühe!$A$7:$G$150,2,FALSE)","v":"Tirana"},{"$f":"VLOOKUP(E502,Kühe!$A$7:$G$150,7,FALSE)","v":"Gebrüder Jäger"}]
["2018-07-16",{"$f":"VLOOKUP(D503,Kühe!$A$7:$G$150,7,FALSE)","v":"Familie Zumoberhaus"},{"$f":"VLOOKUP(D503,Kühe!$A$7:$G$150,2,FALSE)","v":"Nana"},98,31,{"$f":"VLOOKUP(E503,Kühe!$A$7:$G$150,2,FALSE)","v":"Mystic"},{"$f":"VLOOKUP(E503,Kühe!$A$7:$G$150,7,FALSE)","v":"Fux Wendelin, Jenny & Wyer Piet"}]
["2018-07-16",{"$f":"VLOOKUP(D504,Kühe!$A$7:$G$150,7,FALSE)","v":"Williner  Anton"},{"$f":"VLOOKUP(D504,Kühe!$A$7:$G$150,2,FALSE)","v":"Colonell"},88,55,{"$f":"VLOOKUP(E504,Kühe!$A$7:$G$150,2,FALSE)","v":"Papillon"},{"$f":"VLOOKUP(E504,Kühe!$A$7:$G$150,7,FALSE)","v":"Jäger Carlo"}]
["2018-07-16",{"$f":"VLOOKUP(D505,Kühe!$A$7:$G$150,7,FALSE)","v":"Gebrüder Jäger"},{"$f":"VLOOKUP(D505,Kühe!$A$7:$G$150,2,FALSE)","v":"Tiger"},42,30,{"$f":"VLOOKUP(E505,Kühe!$A$7:$G$150,2,FALSE)","v":"Dixence"},{"$f":"VLOOKUP(E505,Kühe!$A$7:$G$150,7,FALSE)","v":"Fux Wendelin, Jenny & Wyer Piet"}]
["2018-07-15",{"$f":"VLOOKUP(D506,Kühe!$A$7:$G$150,7,FALSE)","v":"Bregy Ralf & Adolf"},{"$f":"VLOOKUP(D506,Kühe!$A$7:$G$150,2,FALSE)","v":"Santiago"},11,27,{"$f":"VLOOKUP(E506,Kühe!$A$7:$G$150,2,FALSE)","v":"Bolero"},{"$f":"VLOOKUP(E506,Kühe!$A$7:$G$150,7,FALSE)","v":"Fux Wendelin, Jenny & Wyer Piet"}]
["2018-07-15",{"$f":"VLOOKUP(D507,Kühe!$A$7:$G$150,7,FALSE)","v":"Bayard Medard & Gustav"},{"$f":"VLOOKUP(D507,Kühe!$A$7:$G$150,2,FALSE)","v":"Mirabelle"},2,66,{"$f":"VLOOKUP(E507,Kühe!$A$7:$G$150,2,FALSE)","v":"Bobino"},{"$f":"VLOOKUP(E507,Kühe!$A$7:$G$150,7,FALSE)","v":"Stallung Passeraub"}]
["2018-07-15",{"$f":"VLOOKUP(D508,Kühe!$A$7:$G$150,7,FALSE)","v":"Fux Wendelin, Jenny & Wyer Piet"},{"$f":"VLOOKUP(D508,Kühe!$A$7:$G$150,2,FALSE)","v":"Bolero"},27,76,{"$f":"VLOOKUP(E508,Kühe!$A$7:$G$150,2,FALSE)","v":"Gonda"},{"$f":"VLOOKUP(E508,Kühe!$A$7:$G$150,7,FALSE)","v":"Sewer Ralf & Thommen Steve"}]
["2018-07-15",{"$f":"VLOOKUP(D509,Kühe!$A$7:$G$150,7,FALSE)","v":"Wyssen Diego & Madlen"},{"$f":"VLOOKUP(D509,Kühe!$A$7:$G$150,2,FALSE)","v":"Xanja"},94,102,{"$f":"VLOOKUP(E509,Kühe!$A$7:$G$150,2,FALSE)","v":"Fayola"},{"$f":"VLOOKUP(E509,Kühe!$A$7:$G$150,7,FALSE)","v":"Zumofen / Gattlen"}]
["2018-07-15",{"$f":"VLOOKUP(D510,Kühe!$A$7:$G$150,7,FALSE)","v":"Gebrüder Jäger"},{"$f":"VLOOKUP(D510,Kühe!$A$7:$G$150,2,FALSE)","v":"Tiger"},42,30,{"$f":"VLOOKUP(E510,Kühe!$A$7:$G$150,2,FALSE)","v":"Dixence"},{"$f":"VLOOKUP(E510,Kühe!$A$7:$G$150,7,FALSE)","v":"Fux Wendelin, Jenny & Wyer Piet"}]
["2018-07-15",{"$f":"VLOOKUP(D511,Kühe!$A$7:$G$150,7,FALSE)","v":"Williner  Anton"},{"$f":"VLOOKUP(D511,Kühe!$A$7:$G$150,2,FALSE)","v":"Vanessa"},91,52,{"$f":"VLOOKUP(E511,Kühe!$A$7:$G$150,2,FALSE)","v":"Maila"},{"$f":"VLOOKUP(E511,Kühe!$A$7:$G$150,7,FALSE)","v":"Jäger Carlo"}]
["2018-07-15",{"$f":"VLOOKUP(D512,Kühe!$A$7:$G$150,7,FALSE)","v":"Tscherry Erwin & Bernhard"},{"$f":"VLOOKUP(D512,Kühe!$A$7:$G$150,2,FALSE)","v":"Tulipe"},85,80,{"$f":"VLOOKUP(E512,Kühe!$A$7:$G$150,2,FALSE)","v":"Tiara"},{"$f":"VLOOKUP(E512,Kühe!$A$7:$G$150,7,FALSE)","v":"Sewer Ralf & Thommen Steve"}]
["2018-07-15",{"$f":"VLOOKUP(D513,Kühe!$A$7:$G$150,7,FALSE)","v":"Bregy Uli & Pascal"},{"$f":"VLOOKUP(D513,Kühe!$A$7:$G$150,2,FALSE)","v":"Tiranie"},19,63,{"$f":"VLOOKUP(E513,Kühe!$A$7:$G$150,2,FALSE)","v":"Belon"},{"$f":"VLOOKUP(E513,Kühe!$A$7:$G$150,7,FALSE)","v":"Mathieu Leander & Sascha"}]
["2018-07-15",{"$f":"VLOOKUP(D514,Kühe!$A$7:$G$150,7,FALSE)","v":"Bregy Uli & Pascal"},{"$f":"VLOOKUP(D514,Kühe!$A$7:$G$150,2,FALSE)","v":"Pandora"},17,30,{"$f":"VLOOKUP(E514,Kühe!$A$7:$G$150,2,FALSE)","v":"Dixence"},{"$f":"VLOOKUP(E514,Kühe!$A$7:$G$150,7,FALSE)","v":"Fux Wendelin, Jenny & Wyer Piet"}]
["2018-07-14",{"$f":"VLOOKUP(D515,Kühe!$A$7:$G$150,7,FALSE)","v":"Familie Zumoberhaus"},{"$f":"VLOOKUP(D515,Kühe!$A$7:$G$150,2,FALSE)","v":"Nana"},98,1,{"$f":"VLOOKUP(E515,Kühe!$A$7:$G$150,2,FALSE)","v":"Diabolo"},{"$f":"VLOOKUP(E515,Kühe!$A$7:$G$150,7,FALSE)","v":"Bayard Medard & Gustav"}]
["2018-07-14",{"$f":"VLOOKUP(D516,Kühe!$A$7:$G$150,7,FALSE)","v":"Wyssen Diego & Madlen"},{"$f":"VLOOKUP(D516,Kühe!$A$7:$G$150,2,FALSE)","v":"Fiorenza"},92,11,{"$f":"VLOOKUP(E516,Kühe!$A$7:$G$150,2,FALSE)","v":"Santiago"},{"$f":"VLOOKUP(E516,Kühe!$A$7:$G$150,7,FALSE)","v":"Bregy Ralf & Adolf"}]
["2018-07-14",{"$f":"VLOOKUP(D517,Kühe!$A$7:$G$150,7,FALSE)","v":"Stallung Passeraub"},{"$f":"VLOOKUP(D517,Kühe!$A$7:$G$150,2,FALSE)","v":"Baghera"},65,42,{"$f":"VLOOKUP(E517,Kühe!$A$7:$G$150,2,FALSE)","v":"Tiger"},{"$f":"VLOOKUP(E517,Kühe!$A$7:$G$150,7,FALSE)","v":"Gebrüder Jäger"}]
["2018-07-14",{"$f":"VLOOKUP(D518,Kühe!$A$7:$G$150,7,FALSE)","v":"Stallung Passeraub"},{"$f":"VLOOKUP(D518,Kühe!$A$7:$G$150,2,FALSE)","v":"Bonita"},71,94,{"$f":"VLOOKUP(E518,Kühe!$A$7:$G$150,2,FALSE)","v":"Xanja"},{"$f":"VLOOKUP(E518,Kühe!$A$7:$G$150,7,FALSE)","v":"Wyssen Diego & Madlen"}]
["2018-07-14",{"$f":"VLOOKUP(D519,Kühe!$A$7:$G$150,7,FALSE)","v":"Hischier Pius"},{"$f":"VLOOKUP(D519,Kühe!$A$7:$G$150,2,FALSE)","v":"Shakira"},49,97,{"$f":"VLOOKUP(E519,Kühe!$A$7:$G$150,2,FALSE)","v":"Coucou"},{"$f":"VLOOKUP(E519,Kühe!$A$7:$G$150,7,FALSE)","v":"Familie Zumoberhaus"}]
["2018-07-14",{"$f":"VLOOKUP(D520,Kühe!$A$7:$G$150,7,FALSE)","v":"Stallung Passeraub"},{"$f":"VLOOKUP(D520,Kühe!$A$7:$G$150,2,FALSE)","v":"Bonita"},71,27,{"$f":"VLOOKUP(E520,Kühe!$A$7:$G$150,2,FALSE)","v":"Bolero"},{"$f":"VLOOKUP(E520,Kühe!$A$7:$G$150,7,FALSE)","v":"Fux Wendelin, Jenny & Wyer Piet"}]
["2018-07-14",{"$f":"VLOOKUP(D521,Kühe!$A$7:$G$150,7,FALSE)","v":"Familie Leiggener"},{"$f":"VLOOKUP(D521,Kühe!$A$7:$G$150,2,FALSE)","v":"Tigres"},24,51,{"$f":"VLOOKUP(E521,Kühe!$A$7:$G$150,2,FALSE)","v":"Guxa"},{"$f":"VLOOKUP(E521,Kühe!$A$7:$G$150,7,FALSE)","v":"Jäger Carlo"}]
["2018-07-13",{"$f":"VLOOKUP(D522,Kühe!$A$7:$G$150,7,FALSE)","v":"Gebrüder Jäger"},{"$f":"VLOOKUP(D522,Kühe!$A$7:$G$150,2,FALSE)","v":"Tiger"},42,61,{"$f":"VLOOKUP(E522,Kühe!$A$7:$G$150,2,FALSE)","v":"Baronesse"},{"$f":"VLOOKUP(E522,Kühe!$A$7:$G$150,7,FALSE)","v":"Mathieu Leander & Sascha"}]
["2018-07-13",{"$f":"VLOOKUP(D523,Kühe!$A$7:$G$150,7,FALSE)","v":"Gebrüder Jäger"},{"$f":"VLOOKUP(D523,Kühe!$A$7:$G$150,2,FALSE)","v":"Bessy"},41,9,{"$f":"VLOOKUP(E523,Kühe!$A$7:$G$150,2,FALSE)","v":"Flacari"},{"$f":"VLOOKUP(E523,Kühe!$A$7:$G$150,7,FALSE)","v":"Bregy Ralf & Adolf"}]
["2018-07-13",{"$f":"VLOOKUP(D524,Kühe!$A$7:$G$150,7,FALSE)","v":"Familie Leiggener"},{"$f":"VLOOKUP(D524,Kühe!$A$7:$G$150,2,FALSE)","v":"Bulle"},21,19,{"$f":"VLOOKUP(E524,Kühe!$A$7:$G$150,2,FALSE)","v":"Tiranie"},{"$f":"VLOOKUP(E524,Kühe!$A$7:$G$150,7,FALSE)","v":"Bregy Uli & Pascal"}]
["2018-07-13",{"$f":"VLOOKUP(D525,Kühe!$A$7:$G$150,7,FALSE)","v":"Jäger Carlo"},{"$f":"VLOOKUP(D525,Kühe!$A$7:$G$150,2,FALSE)","v":"Guxa"},51,21,{"$f":"VLOOKUP(E525,Kühe!$A$7:$G$150,2,FALSE)","v":"Bulle"},{"$f":"VLOOKUP(E525,Kühe!$A$7:$G$150,7,FALSE)","v":"Familie Leiggener"}]
["2018-07-13",{"$f":"VLOOKUP(D526,Kühe!$A$7:$G$150,7,FALSE)","v":"Jäger Carlo"},{"$f":"VLOOKUP(D526,Kühe!$A$7:$G$150,2,FALSE)","v":"Maila"},52,21,{"$f":"VLOOKUP(E526,Kühe!$A$7:$G$150,2,FALSE)","v":"Bulle"},{"$f":"VLOOKUP(E526,Kühe!$A$7:$G$150,7,FALSE)","v":"Familie Leiggener"}]
["2018-07-12",{"$f":"VLOOKUP(D527,Kühe!$A$7:$G$150,7,FALSE)","v":"Familie Zumoberhaus"},{"$f":"VLOOKUP(D527,Kühe!$A$7:$G$150,2,FALSE)","v":"Napapiri"},99,97,{"$f":"VLOOKUP(E527,Kühe!$A$7:$G$150,2,FALSE)","v":"Coucou"},{"$f":"VLOOKUP(E527,Kühe!$A$7:$G$150,7,FALSE)","v":"Familie Zumoberhaus"}]
["2018-07-12",{"$f":"VLOOKUP(D528,Kühe!$A$7:$G$150,7,FALSE)","v":"Tscherry Erwin & Bernhard"},{"$f":"VLOOKUP(D528,Kühe!$A$7:$G$150,2,FALSE)","v":"Tulipe"},85,53,{"$f":"VLOOKUP(E528,Kühe!$A$7:$G$150,2,FALSE)","v":"Mirtille"},{"$f":"VLOOKUP(E528,Kühe!$A$7:$G$150,7,FALSE)","v":"Jäger Carlo"}]
["2018-07-12",{"$f":"VLOOKUP(D529,Kühe!$A$7:$G$150,7,FALSE)","v":"Fux Wendelin, Jenny & Wyer Piet"},{"$f":"VLOOKUP(D529,Kühe!$A$7:$G$150,2,FALSE)","v":"Bresil"},28,42,{"$f":"VLOOKUP(E529,Kühe!$A$7:$G$150,2,FALSE)","v":"Tiger"},{"$f":"VLOOKUP(E529,Kühe!$A$7:$G$150,7,FALSE)","v":"Gebrüder Jäger"}]
["2018-07-11",{"$f":"VLOOKUP(D530,Kühe!$A$7:$G$150,7,FALSE)","v":"Zumofen / Gattlen"},{"$f":"VLOOKUP(D530,Kühe!$A$7:$G$150,2,FALSE)","v":"Milou"},103,63,{"$f":"VLOOKUP(E530,Kühe!$A$7:$G$150,2,FALSE)","v":"Belon"},{"$f":"VLOOKUP(E530,Kühe!$A$7:$G$150,7,FALSE)","v":"Mathieu Leander & Sascha"}]
["2018-07-11",{"$f":"VLOOKUP(D531,Kühe!$A$7:$G$150,7,FALSE)","v":"Zumofen / Gattlen"},{"$f":"VLOOKUP(D531,Kühe!$A$7:$G$150,2,FALSE)","v":"Xena"},110,105,{"$f":"VLOOKUP(E531,Kühe!$A$7:$G$150,2,FALSE)","v":"Puma"},{"$f":"VLOOKUP(E531,Kühe!$A$7:$G$150,7,FALSE)","v":"Zumofen / Gattlen"}]
["2018-07-11",{"$f":"VLOOKUP(D532,Kühe!$A$7:$G$150,7,FALSE)","v":"Familie Leiggener"},{"$f":"VLOOKUP(D532,Kühe!$A$7:$G$150,2,FALSE)","v":"Bulle"},21,48,{"$f":"VLOOKUP(E532,Kühe!$A$7:$G$150,2,FALSE)","v":"Pelila"},{"$f":"VLOOKUP(E532,Kühe!$A$7:$G$150,7,FALSE)","v":"Hischier Pius"}]
["2018-07-11",{"$f":"VLOOKUP(D533,Kühe!$A$7:$G$150,7,FALSE)","v":"Gebrüder Jäger"},{"$f":"VLOOKUP(D533,Kühe!$A$7:$G$150,2,FALSE)","v":"Tamango"},44,12,{"$f":"VLOOKUP(E533,Kühe!$A$7:$G$150,2,FALSE)","v":"Milow"},{"$f":"VLOOKUP(E533,Kühe!$A$7:$G$150,7,FALSE)","v":"Bregy Patrick & Silvan"}]
["2018-07-10",{"$f":"VLOOKUP(D534,Kühe!$A$7:$G$150,7,FALSE)","v":"Familie Leiggener"},{"$f":"VLOOKUP(D534,Kühe!$A$7:$G$150,2,FALSE)","v":"Rebell"},23,14,{"$f":"VLOOKUP(E534,Kühe!$A$7:$G$150,2,FALSE)","v":"Calin"},{"$f":"VLOOKUP(E534,Kühe!$A$7:$G$150,7,FALSE)","v":"Bregy Uli & Pascal"}]
["2018-07-10",{"$f":"VLOOKUP(D535,Kühe!$A$7:$G$150,7,FALSE)","v":"Stallung Passeraub"},{"$f":"VLOOKUP(D535,Kühe!$A$7:$G$150,2,FALSE)","v":"Bobino"},66,40,{"$f":"VLOOKUP(E535,Kühe!$A$7:$G$150,2,FALSE)","v":"Barilona"},{"$f":"VLOOKUP(E535,Kühe!$A$7:$G$150,7,FALSE)","v":"Gebrüder Jäger"}]
["2018-07-10",{"$f":"VLOOKUP(D536,Kühe!$A$7:$G$150,7,FALSE)","v":"Zumofen / Gattlen"},{"$f":"VLOOKUP(D536,Kühe!$A$7:$G$150,2,FALSE)","v":"Xena"},110,105,{"$f":"VLOOKUP(E536,Kühe!$A$7:$G$150,2,FALSE)","v":"Puma"},{"$f":"VLOOKUP(E536,Kühe!$A$7:$G$150,7,FALSE)","v":"Zumofen / Gattlen"}]
["2018-07-10",{"$f":"VLOOKUP(D537,Kühe!$A$7:$G$150,7,FALSE)","v":"Gebrüder Jäger"},{"$f":"VLOOKUP(D537,Kühe!$A$7:$G$150,2,FALSE)","v":"Tamango"},44,24,{"$f":"VLOOKUP(E537,Kühe!$A$7:$G$150,2,FALSE)","v":"Tigres"},{"$f":"VLOOKUP(E537,Kühe!$A$7:$G$150,7,FALSE)","v":"Familie Leiggener"}]
["2018-07-10",{"$f":"VLOOKUP(D538,Kühe!$A$7:$G$150,7,FALSE)","v":"Fux Wendelin, Jenny & Wyer Piet"},{"$f":"VLOOKUP(D538,Kühe!$A$7:$G$150,2,FALSE)","v":"Bolero"},27,81,{"$f":"VLOOKUP(E538,Kühe!$A$7:$G$150,2,FALSE)","v":"Tinea"},{"$f":"VLOOKUP(E538,Kühe!$A$7:$G$150,7,FALSE)","v":"Sewer Ralf & Thommen Steve"}]
["2018-07-09",{"$f":"VLOOKUP(D539,Kühe!$A$7:$G$150,7,FALSE)","v":"Bayard Medard & Gustav"},{"$f":"VLOOKUP(D539,Kühe!$A$7:$G$150,2,FALSE)","v":"Mirabelle"},2,90,{"$f":"VLOOKUP(E539,Kühe!$A$7:$G$150,2,FALSE)","v":"Tira"},{"$f":"VLOOKUP(E539,Kühe!$A$7:$G$150,7,FALSE)","v":"Williner  Anton"}]
["2018-07-09",{"$f":"VLOOKUP(D540,Kühe!$A$7:$G$150,7,FALSE)","v":"Wyssen Diego & Madlen"},{"$f":"VLOOKUP(D540,Kühe!$A$7:$G$150,2,FALSE)","v":"Fiorenza"},92,2,{"$f":"VLOOKUP(E540,Kühe!$A$7:$G$150,2,FALSE)","v":"Mirabelle"},{"$f":"VLOOKUP(E540,Kühe!$A$7:$G$150,7,FALSE)","v":"Bayard Medard & Gustav"}]
["2018-07-09",{"$f":"VLOOKUP(D541,Kühe!$A$7:$G$150,7,FALSE)","v":"Stallung zum Stäg"},{"$f":"VLOOKUP(D541,Kühe!$A$7:$G$150,2,FALSE)","v":"Pandora"},75,67,{"$f":"VLOOKUP(E541,Kühe!$A$7:$G$150,2,FALSE)","v":"Bombache"},{"$f":"VLOOKUP(E541,Kühe!$A$7:$G$150,7,FALSE)","v":"Stallung Passeraub"}]
["2018-07-09",{"$f":"VLOOKUP(D542,Kühe!$A$7:$G$150,7,FALSE)","v":"Wyssen Diego & Madlen"},{"$f":"VLOOKUP(D542,Kühe!$A$7:$G$150,2,FALSE)","v":"Fiorenza"},92,54,{"$f":"VLOOKUP(E542,Kühe!$A$7:$G$150,2,FALSE)","v":"Paloma"},{"$f":"VLOOKUP(E542,Kühe!$A$7:$G$150,7,FALSE)","v":"Jäger Carlo"}]
["2018-07-09",{"$f":"VLOOKUP(D543,Kühe!$A$7:$G$150,7,FALSE)","v":"Gebrüder Jäger"},{"$f":"VLOOKUP(D543,Kühe!$A$7:$G$150,2,FALSE)","v":"Bessy"},41,47,{"$f":"VLOOKUP(E543,Kühe!$A$7:$G$150,2,FALSE)","v":"Pablo"},{"$f":"VLOOKUP(E543,Kühe!$A$7:$G$150,7,FALSE)","v":"Hischier Pius"}]
["2018-07-09",{"$f":"VLOOKUP(D544,Kühe!$A$7:$G$150,7,FALSE)","v":"Gebrüder Jäger"},{"$f":"VLOOKUP(D544,Kühe!$A$7:$G$150,2,FALSE)","v":"Bessy"},41,49,{"$f":"VLOOKUP(E544,Kühe!$A$7:$G$150,2,FALSE)","v":"Shakira"},{"$f":"VLOOKUP(E544,Kühe!$A$7:$G$150,7,FALSE)","v":"Hischier Pius"}]
["2018-07-09",{"$f":"VLOOKUP(D545,Kühe!$A$7:$G$150,7,FALSE)","v":"Jäger Carlo"},{"$f":"VLOOKUP(D545,Kühe!$A$7:$G$150,2,FALSE)","v":"Paloma"},54,60,{"$f":"VLOOKUP(E545,Kühe!$A$7:$G$150,2,FALSE)","v":"Bambino"},{"$f":"VLOOKUP(E545,Kühe!$A$7:$G$150,7,FALSE)","v":"Mathieu Leander & Sascha"}]
["2018-07-09",{"$f":"VLOOKUP(D546,Kühe!$A$7:$G$150,7,FALSE)","v":"Gebrüder Jäger"},{"$f":"VLOOKUP(D546,Kühe!$A$7:$G$150,2,FALSE)","v":"Bessy"},41,86,{"$f":"VLOOKUP(E546,Kühe!$A$7:$G$150,2,FALSE)","v":"Lotus"},{"$f":"VLOOKUP(E546,Kühe!$A$7:$G$150,7,FALSE)","v":"Williner  Anton"}]
["2018-07-09",{"$f":"VLOOKUP(D547,Kühe!$A$7:$G$150,7,FALSE)","v":"Gebrüder Jäger"},{"$f":"VLOOKUP(D547,Kühe!$A$7:$G$150,2,FALSE)","v":"Lorens"},46,29,{"$f":"VLOOKUP(E547,Kühe!$A$7:$G$150,2,FALSE)","v":"Caprise"},{"$f":"VLOOKUP(E547,Kühe!$A$7:$G$150,7,FALSE)","v":"Fux Wendelin, Jenny & Wyer Piet"}]
["2018-07-09",{"$f":"VLOOKUP(D548,Kühe!$A$7:$G$150,7,FALSE)","v":"Gebrüder Jäger"},{"$f":"VLOOKUP(D548,Kühe!$A$7:$G$150,2,FALSE)","v":"Bessy"},41,84,{"$f":"VLOOKUP(E548,Kühe!$A$7:$G$150,2,FALSE)","v":"Cobra"},{"$f":"VLOOKUP(E548,Kühe!$A$7:$G$150,7,FALSE)","v":"Tscherry Erwin & Bernhard"}]
["2018-07-09",{"$f":"VLOOKUP(D549,Kühe!$A$7:$G$150,7,FALSE)","v":"Gebrüder Jäger"},{"$f":"VLOOKUP(D549,Kühe!$A$7:$G$150,2,FALSE)","v":"Bessy"},41,53,{"$f":"VLOOKUP(E549,Kühe!$A$7:$G$150,2,FALSE)","v":"Mirtille"},{"$f":"VLOOKUP(E549,Kühe!$A$7:$G$150,7,FALSE)","v":"Jäger Carlo"}]
["2018-07-09",{"$f":"VLOOKUP(D550,Kühe!$A$7:$G$150,7,FALSE)","v":"Zumofen / Gattlen"},{"$f":"VLOOKUP(D550,Kühe!$A$7:$G$150,2,FALSE)","v":"Xena"},110,9,{"$f":"VLOOKUP(E550,Kühe!$A$7:$G$150,2,FALSE)","v":"Flacari"},{"$f":"VLOOKUP(E550,Kühe!$A$7:$G$150,7,FALSE)","v":"Bregy Ralf & Adolf"}]
["2018-07-09",{"$f":"VLOOKUP(D551,Kühe!$A$7:$G$150,7,FALSE)","v":"Bregy Patrick & Silvan"},{"$f":"VLOOKUP(D551,Kühe!$A$7:$G$150,2,FALSE)","v":"Tequilla"},13,3,{"$f":"VLOOKUP(E551,Kühe!$A$7:$G$150,2,FALSE)","v":"Pinka"},{"$f":"VLOOKUP(E551,Kühe!$A$7:$G$150,7,FALSE)","v":"Bayard Medard & Gustav"}]
["2018-07-09",{"$f":"VLOOKUP(D552,Kühe!$A$7:$G$150,7,FALSE)","v":"Jäger Carlo"},{"$f":"VLOOKUP(D552,Kühe!$A$7:$G$150,2,FALSE)","v":"Mirtille"},53,39,{"$f":"VLOOKUP(E552,Kühe!$A$7:$G$150,2,FALSE)","v":"Bandit"},{"$f":"VLOOKUP(E552,Kühe!$A$7:$G$150,7,FALSE)","v":"Gebrüder Jäger"}]
["2018-07-09",{"$f":"VLOOKUP(D553,Kühe!$A$7:$G$150,7,FALSE)","v":"Stallung Passeraub"},{"$f":"VLOOKUP(D553,Kühe!$A$7:$G$150,2,FALSE)","v":"Baghera"},65,98,{"$f":"VLOOKUP(E553,Kühe!$A$7:$G$150,2,FALSE)","v":"Nana"},{"$f":"VLOOKUP(E553,Kühe!$A$7:$G$150,7,FALSE)","v":"Familie Zumoberhaus"}]
["2018-07-09",{"$f":"VLOOKUP(D554,Kühe!$A$7:$G$150,7,FALSE)","v":"Jäger Carlo"},{"$f":"VLOOKUP(D554,Kühe!$A$7:$G$150,2,FALSE)","v":"Paloma"},54,28,{"$f":"VLOOKUP(E554,Kühe!$A$7:$G$150,2,FALSE)","v":"Bresil"},{"$f":"VLOOKUP(E554,Kühe!$A$7:$G$150,7,FALSE)","v":"Fux Wendelin, Jenny & Wyer Piet"}]
["2018-07-09",{"$f":"VLOOKUP(D555,Kühe!$A$7:$G$150,7,FALSE)","v":"Fux Wendelin, Jenny & Wyer Piet"},{"$f":"VLOOKUP(D555,Kühe!$A$7:$G$150,2,FALSE)","v":"Samantha"},33,6,{"$f":"VLOOKUP(E555,Kühe!$A$7:$G$150,2,FALSE)","v":"Diabolo"},{"$f":"VLOOKUP(E555,Kühe!$A$7:$G$150,7,FALSE)","v":"Bregy Anja"}]
["2018-07-09",{"$f":"VLOOKUP(D556,Kühe!$A$7:$G$150,7,FALSE)","v":"Bayard Medard & Gustav"},{"$f":"VLOOKUP(D556,Kühe!$A$7:$G$150,2,FALSE)","v":"Diabolo"},1,53,{"$f":"VLOOKUP(E556,Kühe!$A$7:$G$150,2,FALSE)","v":"Mirtille"},{"$f":"VLOOKUP(E556,Kühe!$A$7:$G$150,7,FALSE)","v":"Jäger Carlo"}]
["2018-07-09",{"$f":"VLOOKUP(D557,Kühe!$A$7:$G$150,7,FALSE)","v":"Zumofen / Gattlen"},{"$f":"VLOOKUP(D557,Kühe!$A$7:$G$150,2,FALSE)","v":"Pengale"},104,41,{"$f":"VLOOKUP(E557,Kühe!$A$7:$G$150,2,FALSE)","v":"Bessy"},{"$f":"VLOOKUP(E557,Kühe!$A$7:$G$150,7,FALSE)","v":"Gebrüder Jäger"}]
["2018-07-09",{"$f":"VLOOKUP(D558,Kühe!$A$7:$G$150,7,FALSE)","v":"Stallung Passeraub"},{"$f":"VLOOKUP(D558,Kühe!$A$7:$G$150,2,FALSE)","v":"Bulle"},68,55,{"$f":"VLOOKUP(E558,Kühe!$A$7:$G$150,2,FALSE)","v":"Papillon"},{"$f":"VLOOKUP(E558,Kühe!$A$7:$G$150,7,FALSE)","v":"Jäger Carlo"}]
["2018-07-09",{"$f":"VLOOKUP(D559,Kühe!$A$7:$G$150,7,FALSE)","v":"Stallung zum Stäg"},{"$f":"VLOOKUP(D559,Kühe!$A$7:$G$150,2,FALSE)","v":"Benika"},73,82,{"$f":"VLOOKUP(E559,Kühe!$A$7:$G$150,2,FALSE)","v":"Carolin"},{"$f":"VLOOKUP(E559,Kühe!$A$7:$G$150,7,FALSE)","v":"Tscherry Erwin & Bernhard"}]
["2018-07-09",{"$f":"VLOOKUP(D560,Kühe!$A$7:$G$150,7,FALSE)","v":"Mathieu Leander & Sascha"},{"$f":"VLOOKUP(D560,Kühe!$A$7:$G$150,2,FALSE)","v":"Belon"},63,36,{"$f":"VLOOKUP(E560,Kühe!$A$7:$G$150,2,FALSE)","v":"Valaisanne"},{"$f":"VLOOKUP(E560,Kühe!$A$7:$G$150,7,FALSE)","v":"Fux Wendelin, Jenny & Wyer Piet"}]
["2018-07-09",{"$f":"VLOOKUP(D561,Kühe!$A$7:$G$150,7,FALSE)","v":"Fux Wendelin, Jenny & Wyer Piet"},{"$f":"VLOOKUP(D561,Kühe!$A$7:$G$150,2,FALSE)","v":"Ares"},26,76,{"$f":"VLOOKUP(E561,Kühe!$A$7:$G$150,2,FALSE)","v":"Gonda"},{"$f":"VLOOKUP(E561,Kühe!$A$7:$G$150,7,FALSE)","v":"Sewer Ralf & Thommen Steve"}]
["2018-07-08",{"$f":"VLOOKUP(D562,Kühe!$A$7:$G$150,7,FALSE)","v":"Williner  Anton"},{"$f":"VLOOKUP(D562,Kühe!$A$7:$G$150,2,FALSE)","v":"Colonell"},88,81,{"$f":"VLOOKUP(E562,Kühe!$A$7:$G$150,2,FALSE)","v":"Tinea"},{"$f":"VLOOKUP(E562,Kühe!$A$7:$G$150,7,FALSE)","v":"Sewer Ralf & Thommen Steve"}]
["2018-07-08",{"$f":"VLOOKUP(D563,Kühe!$A$7:$G$150,7,FALSE)","v":"Stallung zum Stäg"},{"$f":"VLOOKUP(D563,Kühe!$A$7:$G$150,2,FALSE)","v":"Diaries"},74,98,{"$f":"VLOOKUP(E563,Kühe!$A$7:$G$150,2,FALSE)","v":"Nana"},{"$f":"VLOOKUP(E563,Kühe!$A$7:$G$150,7,FALSE)","v":"Familie Zumoberhaus"}]
["2018-07-08",{"$f":"VLOOKUP(D564,Kühe!$A$7:$G$150,7,FALSE)","v":"Zumofen / Gattlen"},{"$f":"VLOOKUP(D564,Kühe!$A$7:$G$150,2,FALSE)","v":"Fayola"},102,99,{"$f":"VLOOKUP(E564,Kühe!$A$7:$G$150,2,FALSE)","v":"Napapiri"},{"$f":"VLOOKUP(E564,Kühe!$A$7:$G$150,7,FALSE)","v":"Familie Zumoberhaus"}]
["2018-07-08",{"$f":"VLOOKUP(D565,Kühe!$A$7:$G$150,7,FALSE)","v":"Gebrüder Jäger"},{"$f":"VLOOKUP(D565,Kühe!$A$7:$G$150,2,FALSE)","v":"Dorina"},43,21,{"$f":"VLOOKUP(E565,Kühe!$A$7:$G$150,2,FALSE)","v":"Bulle"},{"$f":"VLOOKUP(E565,Kühe!$A$7:$G$150,7,FALSE)","v":"Familie Leiggener"}]
["2018-07-08",{"$f":"VLOOKUP(D566,Kühe!$A$7:$G$150,7,FALSE)","v":"Zumofen / Gattlen"},{"$f":"VLOOKUP(D566,Kühe!$A$7:$G$150,2,FALSE)","v":"Fangjo"},101,69,{"$f":"VLOOKUP(E566,Kühe!$A$7:$G$150,2,FALSE)","v":"Manou"},{"$f":"VLOOKUP(E566,Kühe!$A$7:$G$150,7,FALSE)","v":"Stallung Passeraub"}]
["2018-07-08",{"$f":"VLOOKUP(D567,Kühe!$A$7:$G$150,7,FALSE)","v":"Bregy Uli & Pascal"},{"$f":"VLOOKUP(D567,Kühe!$A$7:$G$150,2,FALSE)","v":"Calin"},14,23,{"$f":"VLOOKUP(E567,Kühe!$A$7:$G$150,2,FALSE)","v":"Rebell"},{"$f":"VLOOKUP(E567,Kühe!$A$7:$G$150,7,FALSE)","v":"Familie Leiggener"}]
["2018-07-08",{"$f":"VLOOKUP(D568,Kühe!$A$7:$G$150,7,FALSE)","v":"Wyssen Diego & Madlen"},{"$f":"VLOOKUP(D568,Kühe!$A$7:$G$150,2,FALSE)","v":"Fiorenza"},92,36,{"$f":"VLOOKUP(E568,Kühe!$A$7:$G$150,2,FALSE)","v":"Valaisanne"},{"$f":"VLOOKUP(E568,Kühe!$A$7:$G$150,7,FALSE)","v":"Fux Wendelin, Jenny & Wyer Piet"}]
["2018-07-08",{"$f":"VLOOKUP(D569,Kühe!$A$7:$G$150,7,FALSE)","v":"Wyssen Diego & Madlen"},{"$f":"VLOOKUP(D569,Kühe!$A$7:$G$150,2,FALSE)","v":"Shagiri"},93,27,{"$f":"VLOOKUP(E569,Kühe!$A$7:$G$150,2,FALSE)","v":"Bolero"},{"$f":"VLOOKUP(E569,Kühe!$A$7:$G$150,7,FALSE)","v":"Fux Wendelin, Jenny & Wyer Piet"}]
["2018-07-08",{"$f":"VLOOKUP(D570,Kühe!$A$7:$G$150,7,FALSE)","v":"Wyssen Diego & Madlen"},{"$f":"VLOOKUP(D570,Kühe!$A$7:$G$150,2,FALSE)","v":"Fiorenza"},92,11,{"$f":"VLOOKUP(E570,Kühe!$A$7:$G$150,2,FALSE)","v":"Santiago"},{"$f":"VLOOKUP(E570,Kühe!$A$7:$G$150,7,FALSE)","v":"Bregy Ralf & Adolf"}]
["2018-07-08",{"$f":"VLOOKUP(D571,Kühe!$A$7:$G$150,7,FALSE)","v":"Hischier Pius"},{"$f":"VLOOKUP(D571,Kühe!$A$7:$G$150,2,FALSE)","v":"Pablo"},47,36,{"$f":"VLOOKUP(E571,Kühe!$A$7:$G$150,2,FALSE)","v":"Valaisanne"},{"$f":"VLOOKUP(E571,Kühe!$A$7:$G$150,7,FALSE)","v":"Fux Wendelin, Jenny & Wyer Piet"}]
["2018-07-08",{"$f":"VLOOKUP(D572,Kühe!$A$7:$G$150,7,FALSE)","v":"Williner  Anton"},{"$f":"VLOOKUP(D572,Kühe!$A$7:$G$150,2,FALSE)","v":"Vanessa"},91,2,{"$f":"VLOOKUP(E572,Kühe!$A$7:$G$150,2,FALSE)","v":"Mirabelle"},{"$f":"VLOOKUP(E572,Kühe!$A$7:$G$150,7,FALSE)","v":"Bayard Medard & Gustav"}]
["2018-07-08",{"$f":"VLOOKUP(D573,Kühe!$A$7:$G$150,7,FALSE)","v":"Fux Wendelin, Jenny & Wyer Piet"},{"$f":"VLOOKUP(D573,Kühe!$A$7:$G$150,2,FALSE)","v":"Mystic"},31,13,{"$f":"VLOOKUP(E573,Kühe!$A$7:$G$150,2,FALSE)","v":"Tequilla"},{"$f":"VLOOKUP(E573,Kühe!$A$7:$G$150,7,FALSE)","v":"Bregy Patrick & Silvan"}]
["2018-07-07",{"$f":"VLOOKUP(D574,Kühe!$A$7:$G$150,7,FALSE)","v":"Fux Wendelin, Jenny & Wyer Piet"},{"$f":"VLOOKUP(D574,Kühe!$A$7:$G$150,2,FALSE)","v":"Dixence"},30,71,{"$f":"VLOOKUP(E574,Kühe!$A$7:$G$150,2,FALSE)","v":"Bonita"},{"$f":"VLOOKUP(E574,Kühe!$A$7:$G$150,7,FALSE)","v":"Stallung Passeraub"}]
["2018-07-07",{"$f":"VLOOKUP(D575,Kühe!$A$7:$G$150,7,FALSE)","v":"Stallung Passeraub"},{"$f":"VLOOKUP(D575,Kühe!$A$7:$G$150,2,FALSE)","v":"Baghera"},65,36,{"$f":"VLOOKUP(E575,Kühe!$A$7:$G$150,2,FALSE)","v":"Valaisanne"},{"$f":"VLOOKUP(E575,Kühe!$A$7:$G$150,7,FALSE)","v":"Fux Wendelin, Jenny & Wyer Piet"}]
["2018-07-07",{"$f":"VLOOKUP(D576,Kühe!$A$7:$G$150,7,FALSE)","v":"Stallung Passeraub"},{"$f":"VLOOKUP(D576,Kühe!$A$7:$G$150,2,FALSE)","v":"Medusa"},70,40,{"$f":"VLOOKUP(E576,Kühe!$A$7:$G$150,2,FALSE)","v":"Barilona"},{"$f":"VLOOKUP(E576,Kühe!$A$7:$G$150,7,FALSE)","v":"Gebrüder Jäger"}]
["2018-07-07",{"$f":"VLOOKUP(D577,Kühe!$A$7:$G$150,7,FALSE)","v":"Gebrüder Jäger"},{"$f":"VLOOKUP(D577,Kühe!$A$7:$G$150,2,FALSE)","v":"Lorens"},46,55,{"$f":"VLOOKUP(E577,Kühe!$A$7:$G$150,2,FALSE)","v":"Papillon"},{"$f":"VLOOKUP(E577,Kühe!$A$7:$G$150,7,FALSE)","v":"Jäger Carlo"}]
["2018-07-07",{"$f":"VLOOKUP(D578,Kühe!$A$7:$G$150,7,FALSE)","v":"Gebrüder Jäger"},{"$f":"VLOOKUP(D578,Kühe!$A$7:$G$150,2,FALSE)","v":"Tiger"},42,36,{"$f":"VLOOKUP(E578,Kühe!$A$7:$G$150,2,FALSE)","v":"Valaisanne"},{"$f":"VLOOKUP(E578,Kühe!$A$7:$G$150,7,FALSE)","v":"Fux Wendelin, Jenny & Wyer Piet"}]
["2018-07-07",{"$f":"VLOOKUP(D579,Kühe!$A$7:$G$150,7,FALSE)","v":"Sewer Ralf & Thommen Steve"},{"$f":"VLOOKUP(D579,Kühe!$A$7:$G$150,2,FALSE)","v":"Tabitha"},78,97,{"$f":"VLOOKUP(E579,Kühe!$A$7:$G$150,2,FALSE)","v":"Coucou"},{"$f":"VLOOKUP(E579,Kühe!$A$7:$G$150,7,FALSE)","v":"Familie Zumoberhaus"}]
["2018-07-07",{"$f":"VLOOKUP(D580,Kühe!$A$7:$G$150,7,FALSE)","v":"Jäger Carlo"},{"$f":"VLOOKUP(D580,Kühe!$A$7:$G$150,2,FALSE)","v":"Guxa"},51,2,{"$f":"VLOOKUP(E580,Kühe!$A$7:$G$150,2,FALSE)","v":"Mirabelle"},{"$f":"VLOOKUP(E580,Kühe!$A$7:$G$150,7,FALSE)","v":"Bayard Medard & Gustav"}]
["2018-07-07",{"$f":"VLOOKUP(D581,Kühe!$A$7:$G$150,7,FALSE)","v":"Zumofen / Gattlen"},{"$f":"VLOOKUP(D581,Kühe!$A$7:$G$150,2,FALSE)","v":"Xena"},110,54,{"$f":"VLOOKUP(E581,Kühe!$A$7:$G$150,2,FALSE)","v":"Paloma"},{"$f":"VLOOKUP(E581,Kühe!$A$7:$G$150,7,FALSE)","v":"Jäger Carlo"}]
["2018-07-07",{"$f":"VLOOKUP(D582,Kühe!$A$7:$G$150,7,FALSE)","v":"Jäger Carlo"},{"$f":"VLOOKUP(D582,Kühe!$A$7:$G$150,2,FALSE)","v":"Paloma"},54,105,{"$f":"VLOOKUP(E582,Kühe!$A$7:$G$150,2,FALSE)","v":"Puma"},{"$f":"VLOOKUP(E582,Kühe!$A$7:$G$150,7,FALSE)","v":"Zumofen / Gattlen"}]
["2018-07-07",{"$f":"VLOOKUP(D583,Kühe!$A$7:$G$150,7,FALSE)","v":"Bregy Patrick & Silvan"},{"$f":"VLOOKUP(D583,Kühe!$A$7:$G$150,2,FALSE)","v":"Tequilla"},13,46,{"$f":"VLOOKUP(E583,Kühe!$A$7:$G$150,2,FALSE)","v":"Lorens"},{"$f":"VLOOKUP(E583,Kühe!$A$7:$G$150,7,FALSE)","v":"Gebrüder Jäger"}]
["2018-07-07",{"$f":"VLOOKUP(D584,Kühe!$A$7:$G$150,7,FALSE)","v":"Williner  Anton"},{"$f":"VLOOKUP(D584,Kühe!$A$7:$G$150,2,FALSE)","v":"Tira"},90,71,{"$f":"VLOOKUP(E584,Kühe!$A$7:$G$150,2,FALSE)","v":"Bonita"},{"$f":"VLOOKUP(E584,Kühe!$A$7:$G$150,7,FALSE)","v":"Stallung Passeraub"}]
["2018-07-07",{"$f":"VLOOKUP(D585,Kühe!$A$7:$G$150,7,FALSE)","v":"Bregy Patrick & Silvan"},{"$f":"VLOOKUP(D585,Kühe!$A$7:$G$150,2,FALSE)","v":"Tequilla"},13,79,{"$f":"VLOOKUP(E585,Kühe!$A$7:$G$150,2,FALSE)","v":"Tacona"},{"$f":"VLOOKUP(E585,Kühe!$A$7:$G$150,7,FALSE)","v":"Sewer Ralf & Thommen Steve"}]
["2018-07-07",{"$f":"VLOOKUP(D586,Kühe!$A$7:$G$150,7,FALSE)","v":"Bregy Ralf & Adolf"},{"$f":"VLOOKUP(D586,Kühe!$A$7:$G$150,2,FALSE)","v":"Lacoste"},10,23,{"$f":"VLOOKUP(E586,Kühe!$A$7:$G$150,2,FALSE)","v":"Rebell"},{"$f":"VLOOKUP(E586,Kühe!$A$7:$G$150,7,FALSE)","v":"Familie Leiggener"}]
["2018-07-07",{"$f":"VLOOKUP(D587,Kühe!$A$7:$G$150,7,FALSE)","v":"Wyssen Diego & Madlen"},{"$f":"VLOOKUP(D587,Kühe!$A$7:$G$150,2,FALSE)","v":"Xanja"},94,30,{"$f":"VLOOKUP(E587,Kühe!$A$7:$G$150,2,FALSE)","v":"Dixence"},{"$f":"VLOOKUP(E587,Kühe!$A$7:$G$150,7,FALSE)","v":"Fux Wendelin, Jenny & Wyer Piet"}]
["2018-07-07",{"$f":"VLOOKUP(D588,Kühe!$A$7:$G$150,7,FALSE)","v":"Stallung Passeraub"},{"$f":"VLOOKUP(D588,Kühe!$A$7:$G$150,2,FALSE)","v":"Bonita"},71,59,{"$f":"VLOOKUP(E588,Kühe!$A$7:$G$150,2,FALSE)","v":"Baghira"},{"$f":"VLOOKUP(E588,Kühe!$A$7:$G$150,7,FALSE)","v":"Mathieu Leander & Sascha"}]
["2018-07-06",{"$f":"VLOOKUP(D589,Kühe!$A$7:$G$150,7,FALSE)","v":"Wyssen Diego & Madlen"},{"$f":"VLOOKUP(D589,Kühe!$A$7:$G$150,2,FALSE)","v":"Xanja"},94,30,{"$f":"VLOOKUP(E589,Kühe!$A$7:$G$150,2,FALSE)","v":"Dixence"},{"$f":"VLOOKUP(E589,Kühe!$A$7:$G$150,7,FALSE)","v":"Fux Wendelin, Jenny & Wyer Piet"}]
["2018-07-06",{"$f":"VLOOKUP(D590,Kühe!$A$7:$G$150,7,FALSE)","v":"Stallung Passeraub"},{"$f":"VLOOKUP(D590,Kühe!$A$7:$G$150,2,FALSE)","v":"Bonita"},71,59,{"$f":"VLOOKUP(E590,Kühe!$A$7:$G$150,2,FALSE)","v":"Baghira"},{"$f":"VLOOKUP(E590,Kühe!$A$7:$G$150,7,FALSE)","v":"Mathieu Leander & Sascha"}]
["2018-07-05",{"$f":"VLOOKUP(D591,Kühe!$A$7:$G$150,7,FALSE)","v":"Mathieu Leander & Sascha"},{"$f":"VLOOKUP(D591,Kühe!$A$7:$G$150,2,FALSE)","v":"Baghira"},59,41,{"$f":"VLOOKUP(E591,Kühe!$A$7:$G$150,2,FALSE)","v":"Bessy"},{"$f":"VLOOKUP(E591,Kühe!$A$7:$G$150,7,FALSE)","v":"Gebrüder Jäger"}]
["2018-07-05",{"$f":"VLOOKUP(D592,Kühe!$A$7:$G$150,7,FALSE)","v":"Tscherry Erwin & Bernhard"},{"$f":"VLOOKUP(D592,Kühe!$A$7:$G$150,2,FALSE)","v":"Tulipe"},85,89,{"$f":"VLOOKUP(E592,Kühe!$A$7:$G$150,2,FALSE)","v":"Diva"},{"$f":"VLOOKUP(E592,Kühe!$A$7:$G$150,7,FALSE)","v":"Williner  Anton"}]
["2018-07-05",{"$f":"VLOOKUP(D593,Kühe!$A$7:$G$150,7,FALSE)","v":"Zumofen / Gattlen"},{"$f":"VLOOKUP(D593,Kühe!$A$7:$G$150,2,FALSE)","v":"Xena"},110,98,{"$f":"VLOOKUP(E593,Kühe!$A$7:$G$150,2,FALSE)","v":"Nana"},{"$f":"VLOOKUP(E593,Kühe!$A$7:$G$150,7,FALSE)","v":"Familie Zumoberhaus"}]
["2018-07-05",{"$f":"VLOOKUP(D594,Kühe!$A$7:$G$150,7,FALSE)","v":"Bayard Medard & Gustav"},{"$f":"VLOOKUP(D594,Kühe!$A$7:$G$150,2,FALSE)","v":"Pinka"},3,79,{"$f":"VLOOKUP(E594,Kühe!$A$7:$G$150,2,FALSE)","v":"Tacona"},{"$f":"VLOOKUP(E594,Kühe!$A$7:$G$150,7,FALSE)","v":"Sewer Ralf & Thommen Steve"}]
["2018-07-05",{"$f":"VLOOKUP(D595,Kühe!$A$7:$G$150,7,FALSE)","v":"Gebrüder Jäger"},{"$f":"VLOOKUP(D595,Kühe!$A$7:$G$150,2,FALSE)","v":"Tiger"},42,36,{"$f":"VLOOKUP(E595,Kühe!$A$7:$G$150,2,FALSE)","v":"Valaisanne"},{"$f":"VLOOKUP(E595,Kühe!$A$7:$G$150,7,FALSE)","v":"Fux Wendelin, Jenny & Wyer Piet"}]
["2018-07-05",{"$f":"VLOOKUP(D596,Kühe!$A$7:$G$150,7,FALSE)","v":"Fux Wendelin, Jenny & Wyer Piet"},{"$f":"VLOOKUP(D596,Kühe!$A$7:$G$150,2,FALSE)","v":"Valaisanne"},36,29,{"$f":"VLOOKUP(E596,Kühe!$A$7:$G$150,2,FALSE)","v":"Caprise"},{"$f":"VLOOKUP(E596,Kühe!$A$7:$G$150,7,FALSE)","v":"Fux Wendelin, Jenny & Wyer Piet"}]
["2018-07-04",{"$f":"VLOOKUP(D597,Kühe!$A$7:$G$150,7,FALSE)","v":"Stallung zum Stäg"},{"$f":"VLOOKUP(D597,Kühe!$A$7:$G$150,2,FALSE)","v":"Pandora"},75,21,{"$f":"VLOOKUP(E597,Kühe!$A$7:$G$150,2,FALSE)","v":"Bulle"},{"$f":"VLOOKUP(E597,Kühe!$A$7:$G$150,7,FALSE)","v":"Familie Leiggener"}]
["2018-07-04",{"$f":"VLOOKUP(D598,Kühe!$A$7:$G$150,7,FALSE)","v":"Stallung Passeraub"},{"$f":"VLOOKUP(D598,Kühe!$A$7:$G$150,2,FALSE)","v":"Bombache"},67,91,{"$f":"VLOOKUP(E598,Kühe!$A$7:$G$150,2,FALSE)","v":"Vanessa"},{"$f":"VLOOKUP(E598,Kühe!$A$7:$G$150,7,FALSE)","v":"Williner  Anton"}]
["2018-07-04",{"$f":"VLOOKUP(D599,Kühe!$A$7:$G$150,7,FALSE)","v":"Jäger Carlo"},{"$f":"VLOOKUP(D599,Kühe!$A$7:$G$150,2,FALSE)","v":"Promise"},57,103,{"$f":"VLOOKUP(E599,Kühe!$A$7:$G$150,2,FALSE)","v":"Milou"},{"$f":"VLOOKUP(E599,Kühe!$A$7:$G$150,7,FALSE)","v":"Zumofen / Gattlen"}]
["2018-07-04",{"$f":"VLOOKUP(D600,Kühe!$A$7:$G$150,7,FALSE)","v":"Stallung Passeraub"},{"$f":"VLOOKUP(D600,Kühe!$A$7:$G$150,2,FALSE)","v":"Bulle"},68,85,{"$f":"VLOOKUP(E600,Kühe!$A$7:$G$150,2,FALSE)","v":"Tulipe"},{"$f":"VLOOKUP(E600,Kühe!$A$7:$G$150,7,FALSE)","v":"Tscherry Erwin & Bernhard"}]
["2018-07-04",{"$f":"VLOOKUP(D601,Kühe!$A$7:$G$150,7,FALSE)","v":"Wyssen Diego & Madlen"},{"$f":"VLOOKUP(D601,Kühe!$A$7:$G$150,2,FALSE)","v":"Xanja"},94,106,{"$f":"VLOOKUP(E601,Kühe!$A$7:$G$150,2,FALSE)","v":"Rambo"},{"$f":"VLOOKUP(E601,Kühe!$A$7:$G$150,7,FALSE)","v":"Zumofen / Gattlen"}]
["2018-07-04",{"$f":"VLOOKUP(D602,Kühe!$A$7:$G$150,7,FALSE)","v":"Bayard Medard & Gustav"},{"$f":"VLOOKUP(D602,Kühe!$A$7:$G$150,2,FALSE)","v":"Mirabelle"},2,19,{"$f":"VLOOKUP(E602,Kühe!$A$7:$G$150,2,FALSE)","v":"Tiranie"},{"$f":"VLOOKUP(E602,Kühe!$A$7:$G$150,7,FALSE)","v":"Bregy Uli & Pascal"}]
["2018-07-04",{"$f":"VLOOKUP(D603,Kühe!$A$7:$G$150,7,FALSE)","v":"Bayard Medard & Gustav"},{"$f":"VLOOKUP(D603,Kühe!$A$7:$G$150,2,FALSE)","v":"Mirabelle"},2,65,{"$f":"VLOOKUP(E603,Kühe!$A$7:$G$150,2,FALSE)","v":"Baghera"},{"$f":"VLOOKUP(E603,Kühe!$A$7:$G$150,7,FALSE)","v":"Stallung Passeraub"}]
["2018-07-04",{"$f":"VLOOKUP(D604,Kühe!$A$7:$G$150,7,FALSE)","v":"Mathieu Leander & Sascha"},{"$f":"VLOOKUP(D604,Kühe!$A$7:$G$150,2,FALSE)","v":"Belon"},63,85,{"$f":"VLOOKUP(E604,Kühe!$A$7:$G$150,2,FALSE)","v":"Tulipe"},{"$f":"VLOOKUP(E604,Kühe!$A$7:$G$150,7,FALSE)","v":"Tscherry Erwin & Bernhard"}]
["2018-07-04",{"$f":"VLOOKUP(D605,Kühe!$A$7:$G$150,7,FALSE)","v":"Stallung Passeraub"},{"$f":"VLOOKUP(D605,Kühe!$A$7:$G$150,2,FALSE)","v":"Baghera"},65,87,{"$f":"VLOOKUP(E605,Kühe!$A$7:$G$150,2,FALSE)","v":"Mirabilis"},{"$f":"VLOOKUP(E605,Kühe!$A$7:$G$150,7,FALSE)","v":"Williner  Anton"}]
["2018-07-04",{"$f":"VLOOKUP(D606,Kühe!$A$7:$G$150,7,FALSE)","v":"Mathieu Leander & Sascha"},{"$f":"VLOOKUP(D606,Kühe!$A$7:$G$150,2,FALSE)","v":"Belon"},63,91,{"$f":"VLOOKUP(E606,Kühe!$A$7:$G$150,2,FALSE)","v":"Vanessa"},{"$f":"VLOOKUP(E606,Kühe!$A$7:$G$150,7,FALSE)","v":"Williner  Anton"}]
["2018-07-04",{"$f":"VLOOKUP(D607,Kühe!$A$7:$G$150,7,FALSE)","v":"Stallung zum Stäg"},{"$f":"VLOOKUP(D607,Kühe!$A$7:$G$150,2,FALSE)","v":"Pandora"},75,70,{"$f":"VLOOKUP(E607,Kühe!$A$7:$G$150,2,FALSE)","v":"Medusa"},{"$f":"VLOOKUP(E607,Kühe!$A$7:$G$150,7,FALSE)","v":"Stallung Passeraub"}]
["2018-07-04",{"$f":"VLOOKUP(D608,Kühe!$A$7:$G$150,7,FALSE)","v":"Bayard Medard & Gustav"},{"$f":"VLOOKUP(D608,Kühe!$A$7:$G$150,2,FALSE)","v":"Mirabelle"},2,58,{"$f":"VLOOKUP(E608,Kühe!$A$7:$G$150,2,FALSE)","v":"Turin"},{"$f":"VLOOKUP(E608,Kühe!$A$7:$G$150,7,FALSE)","v":"Jäger Carlo"}]
["2018-07-04",{"$f":"VLOOKUP(D609,Kühe!$A$7:$G$150,7,FALSE)","v":"Bayard Medard & Gustav"},{"$f":"VLOOKUP(D609,Kühe!$A$7:$G$150,2,FALSE)","v":"Diabolo"},1,13,{"$f":"VLOOKUP(E609,Kühe!$A$7:$G$150,2,FALSE)","v":"Tequilla"},{"$f":"VLOOKUP(E609,Kühe!$A$7:$G$150,7,FALSE)","v":"Bregy Patrick & Silvan"}]
["2018-07-04",{"$f":"VLOOKUP(D610,Kühe!$A$7:$G$150,7,FALSE)","v":"Williner  Anton"},{"$f":"VLOOKUP(D610,Kühe!$A$7:$G$150,2,FALSE)","v":"Tira"},90,97,{"$f":"VLOOKUP(E610,Kühe!$A$7:$G$150,2,FALSE)","v":"Coucou"},{"$f":"VLOOKUP(E610,Kühe!$A$7:$G$150,7,FALSE)","v":"Familie Zumoberhaus"}]
["2018-07-04",{"$f":"VLOOKUP(D611,Kühe!$A$7:$G$150,7,FALSE)","v":"Sewer Ralf & Thommen Steve"},{"$f":"VLOOKUP(D611,Kühe!$A$7:$G$150,2,FALSE)","v":"Tinea"},81,71,{"$f":"VLOOKUP(E611,Kühe!$A$7:$G$150,2,FALSE)","v":"Bonita"},{"$f":"VLOOKUP(E611,Kühe!$A$7:$G$150,7,FALSE)","v":"Stallung Passeraub"}]
["2018-07-04",{"$f":"VLOOKUP(D612,Kühe!$A$7:$G$150,7,FALSE)","v":"Tscherry Erwin & Bernhard"},{"$f":"VLOOKUP(D612,Kühe!$A$7:$G$150,2,FALSE)","v":"Tulipe"},85,49,{"$f":"VLOOKUP(E612,Kühe!$A$7:$G$150,2,FALSE)","v":"Shakira"},{"$f":"VLOOKUP(E612,Kühe!$A$7:$G$150,7,FALSE)","v":"Hischier Pius"}]
["2018-07-04",{"$f":"VLOOKUP(D613,Kühe!$A$7:$G$150,7,FALSE)","v":"Bayard Medard & Gustav"},{"$f":"VLOOKUP(D613,Kühe!$A$7:$G$150,2,FALSE)","v":"Ramona"},4,27,{"$f":"VLOOKUP(E613,Kühe!$A$7:$G$150,2,FALSE)","v":"Bolero"},{"$f":"VLOOKUP(E613,Kühe!$A$7:$G$150,7,FALSE)","v":"Fux Wendelin, Jenny & Wyer Piet"}]
["2018-07-04",{"$f":"VLOOKUP(D614,Kühe!$A$7:$G$150,7,FALSE)","v":"Zumofen / Gattlen"},{"$f":"VLOOKUP(D614,Kühe!$A$7:$G$150,2,FALSE)","v":"Xena"},110,8,{"$f":"VLOOKUP(E614,Kühe!$A$7:$G$150,2,FALSE)","v":"Creola"},{"$f":"VLOOKUP(E614,Kühe!$A$7:$G$150,7,FALSE)","v":"Bregy Ralf & Adolf"}]
["2018-07-03",{"$f":"VLOOKUP(D615,Kühe!$A$7:$G$150,7,FALSE)","v":"Fux Wendelin, Jenny & Wyer Piet"},{"$f":"VLOOKUP(D615,Kühe!$A$7:$G$150,2,FALSE)","v":"Bolero"},27,15,{"$f":"VLOOKUP(E615,Kühe!$A$7:$G$150,2,FALSE)","v":"Catalina"},{"$f":"VLOOKUP(E615,Kühe!$A$7:$G$150,7,FALSE)","v":"Bregy Uli & Pascal"}]
["2018-07-03",{"$f":"VLOOKUP(D616,Kühe!$A$7:$G$150,7,FALSE)","v":"Hischier Pius"},{"$f":"VLOOKUP(D616,Kühe!$A$7:$G$150,2,FALSE)","v":"Pelila"},48,104,{"$f":"VLOOKUP(E616,Kühe!$A$7:$G$150,2,FALSE)","v":"Pengale"},{"$f":"VLOOKUP(E616,Kühe!$A$7:$G$150,7,FALSE)","v":"Zumofen / Gattlen"}]
["2018-07-03",{"$f":"VLOOKUP(D617,Kühe!$A$7:$G$150,7,FALSE)","v":"Bayard Medard & Gustav"},{"$f":"VLOOKUP(D617,Kühe!$A$7:$G$150,2,FALSE)","v":"Mirabelle"},2,6,{"$f":"VLOOKUP(E617,Kühe!$A$7:$G$150,2,FALSE)","v":"Diabolo"},{"$f":"VLOOKUP(E617,Kühe!$A$7:$G$150,7,FALSE)","v":"Bregy Anja"}]
["2018-07-03",{"$f":"VLOOKUP(D618,Kühe!$A$7:$G$150,7,FALSE)","v":"Stallung Passeraub"},{"$f":"VLOOKUP(D618,Kühe!$A$7:$G$150,2,FALSE)","v":"Bonita"},71,51,{"$f":"VLOOKUP(E618,Kühe!$A$7:$G$150,2,FALSE)","v":"Guxa"},{"$f":"VLOOKUP(E618,Kühe!$A$7:$G$150,7,FALSE)","v":"Jäger Carlo"}]
["2018-07-03",{"$f":"VLOOKUP(D619,Kühe!$A$7:$G$150,7,FALSE)","v":"Gebrüder Jäger"},{"$f":"VLOOKUP(D619,Kühe!$A$7:$G$150,2,FALSE)","v":"Tirana"},38,53,{"$f":"VLOOKUP(E619,Kühe!$A$7:$G$150,2,FALSE)","v":"Mirtille"},{"$f":"VLOOKUP(E619,Kühe!$A$7:$G$150,7,FALSE)","v":"Jäger Carlo"}]
["2018-07-03",{"$f":"VLOOKUP(D620,Kühe!$A$7:$G$150,7,FALSE)","v":"Jäger Carlo"},{"$f":"VLOOKUP(D620,Kühe!$A$7:$G$150,2,FALSE)","v":"Paloma"},54,21,{"$f":"VLOOKUP(E620,Kühe!$A$7:$G$150,2,FALSE)","v":"Bulle"},{"$f":"VLOOKUP(E620,Kühe!$A$7:$G$150,7,FALSE)","v":"Familie Leiggener"}]
["2018-07-03",{"$f":"VLOOKUP(D621,Kühe!$A$7:$G$150,7,FALSE)","v":"Sewer Ralf & Thommen Steve"},{"$f":"VLOOKUP(D621,Kühe!$A$7:$G$150,2,FALSE)","v":"Tinea"},81,50,{"$f":"VLOOKUP(E621,Kühe!$A$7:$G$150,2,FALSE)","v":"Bandit"},{"$f":"VLOOKUP(E621,Kühe!$A$7:$G$150,7,FALSE)","v":"Jäger Carlo"}]
["2018-07-02",{"$f":"VLOOKUP(D622,Kühe!$A$7:$G$150,7,FALSE)","v":"Jäger Carlo"},{"$f":"VLOOKUP(D622,Kühe!$A$7:$G$150,2,FALSE)","v":"Promise"},57,8,{"$f":"VLOOKUP(E622,Kühe!$A$7:$G$150,2,FALSE)","v":"Creola"},{"$f":"VLOOKUP(E622,Kühe!$A$7:$G$150,7,FALSE)","v":"Bregy Ralf & Adolf"}]
["2018-07-02",{"$f":"VLOOKUP(D623,Kühe!$A$7:$G$150,7,FALSE)","v":"Sewer Ralf & Thommen Steve"},{"$f":"VLOOKUP(D623,Kühe!$A$7:$G$150,2,FALSE)","v":"Tinea"},81,26,{"$f":"VLOOKUP(E623,Kühe!$A$7:$G$150,2,FALSE)","v":"Ares"},{"$f":"VLOOKUP(E623,Kühe!$A$7:$G$150,7,FALSE)","v":"Fux Wendelin, Jenny & Wyer Piet"}]
["2018-07-02",{"$f":"VLOOKUP(D624,Kühe!$A$7:$G$150,7,FALSE)","v":"Gebrüder Jäger"},{"$f":"VLOOKUP(D624,Kühe!$A$7:$G$150,2,FALSE)","v":"Tamango"},44,103,{"$f":"VLOOKUP(E624,Kühe!$A$7:$G$150,2,FALSE)","v":"Milou"},{"$f":"VLOOKUP(E624,Kühe!$A$7:$G$150,7,FALSE)","v":"Zumofen / Gattlen"}]
["2018-07-02",{"$f":"VLOOKUP(D625,Kühe!$A$7:$G$150,7,FALSE)","v":"Gebrüder Jäger"},{"$f":"VLOOKUP(D625,Kühe!$A$7:$G$150,2,FALSE)","v":"Tamango"},44,10,{"$f":"VLOOKUP(E625,Kühe!$A$7:$G$150,2,FALSE)","v":"Lacoste"},{"$f":"VLOOKUP(E625,Kühe!$A$7:$G$150,7,FALSE)","v":"Bregy Ralf & Adolf"}]
["2018-07-01",{"$f":"VLOOKUP(D626,Kühe!$A$7:$G$150,7,FALSE)","v":"Wyssen Diego & Madlen"},{"$f":"VLOOKUP(D626,Kühe!$A$7:$G$150,2,FALSE)","v":"Xanja"},94,31,{"$f":"VLOOKUP(E626,Kühe!$A$7:$G$150,2,FALSE)","v":"Mystic"},{"$f":"VLOOKUP(E626,Kühe!$A$7:$G$150,7,FALSE)","v":"Fux Wendelin, Jenny & Wyer Piet"}]
["2018-07-01",{"$f":"VLOOKUP(D627,Kühe!$A$7:$G$150,7,FALSE)","v":"Mathieu Leander & Sascha"},{"$f":"VLOOKUP(D627,Kühe!$A$7:$G$150,2,FALSE)","v":"Belon"},63,35,{"$f":"VLOOKUP(E627,Kühe!$A$7:$G$150,2,FALSE)","v":"Souris"},{"$f":"VLOOKUP(E627,Kühe!$A$7:$G$150,7,FALSE)","v":"Fux Wendelin, Jenny & Wyer Piet"}]
["2018-07-01",{"$f":"VLOOKUP(D628,Kühe!$A$7:$G$150,7,FALSE)","v":"Bayard Medard & Gustav"},{"$f":"VLOOKUP(D628,Kühe!$A$7:$G$150,2,FALSE)","v":"Ramona"},4,54,{"$f":"VLOOKUP(E628,Kühe!$A$7:$G$150,2,FALSE)","v":"Paloma"},{"$f":"VLOOKUP(E628,Kühe!$A$7:$G$150,7,FALSE)","v":"Jäger Carlo"}]
["2018-07-01",{"$f":"VLOOKUP(D629,Kühe!$A$7:$G$150,7,FALSE)","v":"Familie Zumoberhaus"},{"$f":"VLOOKUP(D629,Kühe!$A$7:$G$150,2,FALSE)","v":"Coucou"},97,32,{"$f":"VLOOKUP(E629,Kühe!$A$7:$G$150,2,FALSE)","v":"Pigalle"},{"$f":"VLOOKUP(E629,Kühe!$A$7:$G$150,7,FALSE)","v":"Fux Wendelin, Jenny & Wyer Piet"}]
["2018-07-01",{"$f":"VLOOKUP(D630,Kühe!$A$7:$G$150,7,FALSE)","v":"Jäger Carlo"},{"$f":"VLOOKUP(D630,Kühe!$A$7:$G$150,2,FALSE)","v":"Paloma"},54,21,{"$f":"VLOOKUP(E630,Kühe!$A$7:$G$150,2,FALSE)","v":"Bulle"},{"$f":"VLOOKUP(E630,Kühe!$A$7:$G$150,7,FALSE)","v":"Familie Leiggener"}]
["2018-07-01",{"$f":"VLOOKUP(D631,Kühe!$A$7:$G$150,7,FALSE)","v":"Stallung Passeraub"},{"$f":"VLOOKUP(D631,Kühe!$A$7:$G$150,2,FALSE)","v":"Bombache"},67,36,{"$f":"VLOOKUP(E631,Kühe!$A$7:$G$150,2,FALSE)","v":"Valaisanne"},{"$f":"VLOOKUP(E631,Kühe!$A$7:$G$150,7,FALSE)","v":"Fux Wendelin, Jenny & Wyer Piet"}]
["2018-06-30",{"$f":"VLOOKUP(D632,Kühe!$A$7:$G$150,7,FALSE)","v":"Stallung Passeraub"},{"$f":"VLOOKUP(D632,Kühe!$A$7:$G$150,2,FALSE)","v":"Bonita"},71,36,{"$f":"VLOOKUP(E632,Kühe!$A$7:$G$150,2,FALSE)","v":"Valaisanne"},{"$f":"VLOOKUP(E632,Kühe!$A$7:$G$150,7,FALSE)","v":"Fux Wendelin, Jenny & Wyer Piet"}]
["2018-06-30",{"$f":"VLOOKUP(D633,Kühe!$A$7:$G$150,7,FALSE)","v":"Fux Wendelin, Jenny & Wyer Piet"},{"$f":"VLOOKUP(D633,Kühe!$A$7:$G$150,2,FALSE)","v":"Bresil"},28,31,{"$f":"VLOOKUP(E633,Kühe!$A$7:$G$150,2,FALSE)","v":"Mystic"},{"$f":"VLOOKUP(E633,Kühe!$A$7:$G$150,7,FALSE)","v":"Fux Wendelin, Jenny & Wyer Piet"}]
["2018-06-30",{"$f":"VLOOKUP(D634,Kühe!$A$7:$G$150,7,FALSE)","v":"Stallung Passeraub"},{"$f":"VLOOKUP(D634,Kühe!$A$7:$G$150,2,FALSE)","v":"Bombache"},67,6,{"$f":"VLOOKUP(E634,Kühe!$A$7:$G$150,2,FALSE)","v":"Diabolo"},{"$f":"VLOOKUP(E634,Kühe!$A$7:$G$150,7,FALSE)","v":"Bregy Anja"}]
["2018-06-30",{"$f":"VLOOKUP(D635,Kühe!$A$7:$G$150,7,FALSE)","v":"Bregy Patrick & Silvan"},{"$f":"VLOOKUP(D635,Kühe!$A$7:$G$150,2,FALSE)","v":"Tequilla"},13,77,{"$f":"VLOOKUP(E635,Kühe!$A$7:$G$150,2,FALSE)","v":"Saphira"},{"$f":"VLOOKUP(E635,Kühe!$A$7:$G$150,7,FALSE)","v":"Sewer Ralf & Thommen Steve"}]
["2018-06-30",{"$f":"VLOOKUP(D636,Kühe!$A$7:$G$150,7,FALSE)","v":"Wyssen Diego & Madlen"},{"$f":"VLOOKUP(D636,Kühe!$A$7:$G$150,2,FALSE)","v":"Xhyla"},96,52,{"$f":"VLOOKUP(E636,Kühe!$A$7:$G$150,2,FALSE)","v":"Maila"},{"$f":"VLOOKUP(E636,Kühe!$A$7:$G$150,7,FALSE)","v":"Jäger Carlo"}]
["2018-06-30",{"$f":"VLOOKUP(D637,Kühe!$A$7:$G$150,7,FALSE)","v":"Williner  Anton"},{"$f":"VLOOKUP(D637,Kühe!$A$7:$G$150,2,FALSE)","v":"Diva"},89,58,{"$f":"VLOOKUP(E637,Kühe!$A$7:$G$150,2,FALSE)","v":"Turin"},{"$f":"VLOOKUP(E637,Kühe!$A$7:$G$150,7,FALSE)","v":"Jäger Carlo"}]
["2018-06-30",{"$f":"VLOOKUP(D638,Kühe!$A$7:$G$150,7,FALSE)","v":"Zumofen / Gattlen"},{"$f":"VLOOKUP(D638,Kühe!$A$7:$G$150,2,FALSE)","v":"Fayola"},102,81,{"$f":"VLOOKUP(E638,Kühe!$A$7:$G$150,2,FALSE)","v":"Tinea"},{"$f":"VLOOKUP(E638,Kühe!$A$7:$G$150,7,FALSE)","v":"Sewer Ralf & Thommen Steve"}]
["2018-06-30",{"$f":"VLOOKUP(D639,Kühe!$A$7:$G$150,7,FALSE)","v":"Fux Wendelin, Jenny & Wyer Piet"},{"$f":"VLOOKUP(D639,Kühe!$A$7:$G$150,2,FALSE)","v":"Souris"},35,41,{"$f":"VLOOKUP(E639,Kühe!$A$7:$G$150,2,FALSE)","v":"Bessy"},{"$f":"VLOOKUP(E639,Kühe!$A$7:$G$150,7,FALSE)","v":"Gebrüder Jäger"}]
["2018-06-30",{"$f":"VLOOKUP(D640,Kühe!$A$7:$G$150,7,FALSE)","v":"Zumofen / Gattlen"},{"$f":"VLOOKUP(D640,Kühe!$A$7:$G$150,2,FALSE)","v":"Fayola"},102,45,{"$f":"VLOOKUP(E640,Kühe!$A$7:$G$150,2,FALSE)","v":"Taylor"},{"$f":"VLOOKUP(E640,Kühe!$A$7:$G$150,7,FALSE)","v":"Gebrüder Jäger"}]
["2018-06-30",{"$f":"VLOOKUP(D641,Kühe!$A$7:$G$150,7,FALSE)","v":"Zumofen / Gattlen"},{"$f":"VLOOKUP(D641,Kühe!$A$7:$G$150,2,FALSE)","v":"Puma"},105,109,{"$f":"VLOOKUP(E641,Kühe!$A$7:$G$150,2,FALSE)","v":"Vulcana"},{"$f":"VLOOKUP(E641,Kühe!$A$7:$G$150,7,FALSE)","v":"Zumofen / Gattlen"}]
["2018-06-30",{"$f":"VLOOKUP(D642,Kühe!$A$7:$G$150,7,FALSE)","v":"Fux Wendelin, Jenny & Wyer Piet"},{"$f":"VLOOKUP(D642,Kühe!$A$7:$G$150,2,FALSE)","v":"Mystic"},31,54,{"$f":"VLOOKUP(E642,Kühe!$A$7:$G$150,2,FALSE)","v":"Paloma"},{"$f":"VLOOKUP(E642,Kühe!$A$7:$G$150,7,FALSE)","v":"Jäger Carlo"}]
["2018-06-30",{"$f":"VLOOKUP(D643,Kühe!$A$7:$G$150,7,FALSE)","v":"Fux Wendelin, Jenny & Wyer Piet"},{"$f":"VLOOKUP(D643,Kühe!$A$7:$G$150,2,FALSE)","v":"Bolero"},27,39,{"$f":"VLOOKUP(E643,Kühe!$A$7:$G$150,2,FALSE)","v":"Bandit"},{"$f":"VLOOKUP(E643,Kühe!$A$7:$G$150,7,FALSE)","v":"Gebrüder Jäger"}]
["2018-06-30",{"$f":"VLOOKUP(D644,Kühe!$A$7:$G$150,7,FALSE)","v":"Wyssen Diego & Madlen"},{"$f":"VLOOKUP(D644,Kühe!$A$7:$G$150,2,FALSE)","v":"Xhyla"},96,30,{"$f":"VLOOKUP(E644,Kühe!$A$7:$G$150,2,FALSE)","v":"Dixence"},{"$f":"VLOOKUP(E644,Kühe!$A$7:$G$150,7,FALSE)","v":"Fux Wendelin, Jenny & Wyer Piet"}]
["2018-06-29",{"$f":"VLOOKUP(D645,Kühe!$A$7:$G$150,7,FALSE)","v":"Fux Wendelin, Jenny & Wyer Piet"},{"$f":"VLOOKUP(D645,Kühe!$A$7:$G$150,2,FALSE)","v":"Ares"},26,40,{"$f":"VLOOKUP(E645,Kühe!$A$7:$G$150,2,FALSE)","v":"Barilona"},{"$f":"VLOOKUP(E645,Kühe!$A$7:$G$150,7,FALSE)","v":"Gebrüder Jäger"}]
["2018-06-29",{"$f":"VLOOKUP(D646,Kühe!$A$7:$G$150,7,FALSE)","v":"Bregy Ralf & Adolf"},{"$f":"VLOOKUP(D646,Kühe!$A$7:$G$150,2,FALSE)","v":"Lacoste"},10,22,{"$f":"VLOOKUP(E646,Kühe!$A$7:$G$150,2,FALSE)","v":"Rambo"},{"$f":"VLOOKUP(E646,Kühe!$A$7:$G$150,7,FALSE)","v":"Familie Leiggener"}]
["2018-06-29",{"$f":"VLOOKUP(D647,Kühe!$A$7:$G$150,7,FALSE)","v":"Jäger Carlo"},{"$f":"VLOOKUP(D647,Kühe!$A$7:$G$150,2,FALSE)","v":"Guxa"},51,59,{"$f":"VLOOKUP(E647,Kühe!$A$7:$G$150,2,FALSE)","v":"Baghira"},{"$f":"VLOOKUP(E647,Kühe!$A$7:$G$150,7,FALSE)","v":"Mathieu Leander & Sascha"}]
["2018-06-29",{"$f":"VLOOKUP(D648,Kühe!$A$7:$G$150,7,FALSE)","v":"Stallung zum Stäg"},{"$f":"VLOOKUP(D648,Kühe!$A$7:$G$150,2,FALSE)","v":"Pandora"},75,35,{"$f":"VLOOKUP(E648,Kühe!$A$7:$G$150,2,FALSE)","v":"Souris"},{"$f":"VLOOKUP(E648,Kühe!$A$7:$G$150,7,FALSE)","v":"Fux Wendelin, Jenny & Wyer Piet"}]
["2018-06-29",{"$f":"VLOOKUP(D649,Kühe!$A$7:$G$150,7,FALSE)","v":"Bayard Medard & Gustav"},{"$f":"VLOOKUP(D649,Kühe!$A$7:$G$150,2,FALSE)","v":"Mirabelle"},2,16,{"$f":"VLOOKUP(E649,Kühe!$A$7:$G$150,2,FALSE)","v":"Cora"},{"$f":"VLOOKUP(E649,Kühe!$A$7:$G$150,7,FALSE)","v":"Bregy Uli & Pascal"}]
["2018-06-29",{"$f":"VLOOKUP(D650,Kühe!$A$7:$G$150,7,FALSE)","v":"Bregy Ralf & Adolf"},{"$f":"VLOOKUP(D650,Kühe!$A$7:$G$150,2,FALSE)","v":"Flacari"},9,38,{"$f":"VLOOKUP(E650,Kühe!$A$7:$G$150,2,FALSE)","v":"Tirana"},{"$f":"VLOOKUP(E650,Kühe!$A$7:$G$150,7,FALSE)","v":"Gebrüder Jäger"}]
["2018-06-29",{"$f":"VLOOKUP(D651,Kühe!$A$7:$G$150,7,FALSE)","v":"Familie Leiggener"},{"$f":"VLOOKUP(D651,Kühe!$A$7:$G$150,2,FALSE)","v":"Bulle"},21,80,{"$f":"VLOOKUP(E651,Kühe!$A$7:$G$150,2,FALSE)","v":"Tiara"},{"$f":"VLOOKUP(E651,Kühe!$A$7:$G$150,7,FALSE)","v":"Sewer Ralf & Thommen Steve"}]
["2018-06-29",{"$f":"VLOOKUP(D652,Kühe!$A$7:$G$150,7,FALSE)","v":"Wyssen Diego & Madlen"},{"$f":"VLOOKUP(D652,Kühe!$A$7:$G$150,2,FALSE)","v":"Xhyla"},96,104,{"$f":"VLOOKUP(E652,Kühe!$A$7:$G$150,2,FALSE)","v":"Pengale"},{"$f":"VLOOKUP(E652,Kühe!$A$7:$G$150,7,FALSE)","v":"Zumofen / Gattlen"}]
["2018-06-29",{"$f":"VLOOKUP(D653,Kühe!$A$7:$G$150,7,FALSE)","v":"Jäger Carlo"},{"$f":"VLOOKUP(D653,Kühe!$A$7:$G$150,2,FALSE)","v":"Turin"},58,69,{"$f":"VLOOKUP(E653,Kühe!$A$7:$G$150,2,FALSE)","v":"Manou"},{"$f":"VLOOKUP(E653,Kühe!$A$7:$G$150,7,FALSE)","v":"Stallung Passeraub"}]
["2018-06-29",{"$f":"VLOOKUP(D654,Kühe!$A$7:$G$150,7,FALSE)","v":"Zumofen / Gattlen"},{"$f":"VLOOKUP(D654,Kühe!$A$7:$G$150,2,FALSE)","v":"Fayola"},102,99,{"$f":"VLOOKUP(E654,Kühe!$A$7:$G$150,2,FALSE)","v":"Napapiri"},{"$f":"VLOOKUP(E654,Kühe!$A$7:$G$150,7,FALSE)","v":"Familie Zumoberhaus"}]
["2018-06-29",{"$f":"VLOOKUP(D655,Kühe!$A$7:$G$150,7,FALSE)","v":"Mathieu Leander & Sascha"},{"$f":"VLOOKUP(D655,Kühe!$A$7:$G$150,2,FALSE)","v":"Bambino"},60,66,{"$f":"VLOOKUP(E655,Kühe!$A$7:$G$150,2,FALSE)","v":"Bobino"},{"$f":"VLOOKUP(E655,Kühe!$A$7:$G$150,7,FALSE)","v":"Stallung Passeraub"}]
["2018-06-28",{"$f":"VLOOKUP(D656,Kühe!$A$7:$G$150,7,FALSE)","v":"Wyssen Diego & Madlen"},{"$f":"VLOOKUP(D656,Kühe!$A$7:$G$150,2,FALSE)","v":"Xanja"},94,107,{"$f":"VLOOKUP(E656,Kühe!$A$7:$G$150,2,FALSE)","v":"Violin"},{"$f":"VLOOKUP(E656,Kühe!$A$7:$G$150,7,FALSE)","v":"Zumofen / Gattlen"}]
["2018-06-28",{"$f":"VLOOKUP(D657,Kühe!$A$7:$G$150,7,FALSE)","v":"Zumofen / Gattlen"},{"$f":"VLOOKUP(D657,Kühe!$A$7:$G$150,2,FALSE)","v":"Volero"},108,94,{"$f":"VLOOKUP(E657,Kühe!$A$7:$G$150,2,FALSE)","v":"Xanja"},{"$f":"VLOOKUP(E657,Kühe!$A$7:$G$150,7,FALSE)","v":"Wyssen Diego & Madlen"}]
["2018-06-28",{"$f":"VLOOKUP(D658,Kühe!$A$7:$G$150,7,FALSE)","v":"Gebrüder Jäger"},{"$f":"VLOOKUP(D658,Kühe!$A$7:$G$150,2,FALSE)","v":"Bandit"},39,27,{"$f":"VLOOKUP(E658,Kühe!$A$7:$G$150,2,FALSE)","v":"Bolero"},{"$f":"VLOOKUP(E658,Kühe!$A$7:$G$150,7,FALSE)","v":"Fux Wendelin, Jenny & Wyer Piet"}]
["2018-06-28",{"$f":"VLOOKUP(D659,Kühe!$A$7:$G$150,7,FALSE)","v":"Fux Wendelin, Jenny & Wyer Piet"},{"$f":"VLOOKUP(D659,Kühe!$A$7:$G$150,2,FALSE)","v":"Bolero"},27,11,{"$f":"VLOOKUP(E659,Kühe!$A$7:$G$150,2,FALSE)","v":"Santiago"},{"$f":"VLOOKUP(E659,Kühe!$A$7:$G$150,7,FALSE)","v":"Bregy Ralf & Adolf"}]
["2018-06-28",{"$f":"VLOOKUP(D660,Kühe!$A$7:$G$150,7,FALSE)","v":"Familie Leiggener"},{"$f":"VLOOKUP(D660,Kühe!$A$7:$G$150,2,FALSE)","v":"Rebell"},23,10,{"$f":"VLOOKUP(E660,Kühe!$A$7:$G$150,2,FALSE)","v":"Lacoste"},{"$f":"VLOOKUP(E660,Kühe!$A$7:$G$150,7,FALSE)","v":"Bregy Ralf & Adolf"}]
["2018-06-28",{"$f":"VLOOKUP(D661,Kühe!$A$7:$G$150,7,FALSE)","v":"Jäger Carlo"},{"$f":"VLOOKUP(D661,Kühe!$A$7:$G$150,2,FALSE)","v":"Paloma"},54,27,{"$f":"VLOOKUP(E661,Kühe!$A$7:$G$150,2,FALSE)","v":"Bolero"},{"$f":"VLOOKUP(E661,Kühe!$A$7:$G$150,7,FALSE)","v":"Fux Wendelin, Jenny & Wyer Piet"}]
["2018-06-28",{"$f":"VLOOKUP(D662,Kühe!$A$7:$G$150,7,FALSE)","v":"Bregy Ralf & Adolf"},{"$f":"VLOOKUP(D662,Kühe!$A$7:$G$150,2,FALSE)","v":"Lacoste"},10,24,{"$f":"VLOOKUP(E662,Kühe!$A$7:$G$150,2,FALSE)","v":"Tigres"},{"$f":"VLOOKUP(E662,Kühe!$A$7:$G$150,7,FALSE)","v":"Familie Leiggener"}]
["2018-06-28",{"$f":"VLOOKUP(D663,Kühe!$A$7:$G$150,7,FALSE)","v":"Zumofen / Gattlen"},{"$f":"VLOOKUP(D663,Kühe!$A$7:$G$150,2,FALSE)","v":"Volero"},108,11,{"$f":"VLOOKUP(E663,Kühe!$A$7:$G$150,2,FALSE)","v":"Santiago"},{"$f":"VLOOKUP(E663,Kühe!$A$7:$G$150,7,FALSE)","v":"Bregy Ralf & Adolf"}]
["2018-06-28",{"$f":"VLOOKUP(D664,Kühe!$A$7:$G$150,7,FALSE)","v":"Fux Wendelin, Jenny & Wyer Piet"},{"$f":"VLOOKUP(D664,Kühe!$A$7:$G$150,2,FALSE)","v":"Dixence"},30,67,{"$f":"VLOOKUP(E664,Kühe!$A$7:$G$150,2,FALSE)","v":"Bombache"},{"$f":"VLOOKUP(E664,Kühe!$A$7:$G$150,7,FALSE)","v":"Stallung Passeraub"}]
["2018-06-28",{"$f":"VLOOKUP(D665,Kühe!$A$7:$G$150,7,FALSE)","v":"Fux Wendelin, Jenny & Wyer Piet"},{"$f":"VLOOKUP(D665,Kühe!$A$7:$G$150,2,FALSE)","v":"Bolero"},27,77,{"$f":"VLOOKUP(E665,Kühe!$A$7:$G$150,2,FALSE)","v":"Saphira"},{"$f":"VLOOKUP(E665,Kühe!$A$7:$G$150,7,FALSE)","v":"Sewer Ralf & Thommen Steve"}]
["2018-06-28",{"$f":"VLOOKUP(D666,Kühe!$A$7:$G$150,7,FALSE)","v":"Stallung Passeraub"},{"$f":"VLOOKUP(D666,Kühe!$A$7:$G$150,2,FALSE)","v":"Medusa"},70,81,{"$f":"VLOOKUP(E666,Kühe!$A$7:$G$150,2,FALSE)","v":"Tinea"},{"$f":"VLOOKUP(E666,Kühe!$A$7:$G$150,7,FALSE)","v":"Sewer Ralf & Thommen Steve"}]
["2018-06-28",{"$f":"VLOOKUP(D667,Kühe!$A$7:$G$150,7,FALSE)","v":"Mathieu Leander & Sascha"},{"$f":"VLOOKUP(D667,Kühe!$A$7:$G$150,2,FALSE)","v":"Baronesse"},61,77,{"$f":"VLOOKUP(E667,Kühe!$A$7:$G$150,2,FALSE)","v":"Saphira"},{"$f":"VLOOKUP(E667,Kühe!$A$7:$G$150,7,FALSE)","v":"Sewer Ralf & Thommen Steve"}]
["2018-06-28",{"$f":"VLOOKUP(D668,Kühe!$A$7:$G$150,7,FALSE)","v":"Bregy Ralf & Adolf"},{"$f":"VLOOKUP(D668,Kühe!$A$7:$G$150,2,FALSE)","v":"Santiago"},11,31,{"$f":"VLOOKUP(E668,Kühe!$A$7:$G$150,2,FALSE)","v":"Mystic"},{"$f":"VLOOKUP(E668,Kühe!$A$7:$G$150,7,FALSE)","v":"Fux Wendelin, Jenny & Wyer Piet"}]
["2018-06-28",{"$f":"VLOOKUP(D669,Kühe!$A$7:$G$150,7,FALSE)","v":"Stallung Passeraub"},{"$f":"VLOOKUP(D669,Kühe!$A$7:$G$150,2,FALSE)","v":"Bombache"},67,51,{"$f":"VLOOKUP(E669,Kühe!$A$7:$G$150,2,FALSE)","v":"Guxa"},{"$f":"VLOOKUP(E669,Kühe!$A$7:$G$150,7,FALSE)","v":"Jäger Carlo"}]
["2018-06-28",{"$f":"VLOOKUP(D670,Kühe!$A$7:$G$150,7,FALSE)","v":"Bregy Ralf & Adolf"},{"$f":"VLOOKUP(D670,Kühe!$A$7:$G$150,2,FALSE)","v":"Santiago"},11,60,{"$f":"VLOOKUP(E670,Kühe!$A$7:$G$150,2,FALSE)","v":"Bambino"},{"$f":"VLOOKUP(E670,Kühe!$A$7:$G$150,7,FALSE)","v":"Mathieu Leander & Sascha"}]
["2018-06-28",{"$f":"VLOOKUP(D671,Kühe!$A$7:$G$150,7,FALSE)","v":"Wyssen Diego & Madlen"},{"$f":"VLOOKUP(D671,Kühe!$A$7:$G$150,2,FALSE)","v":"Xanja"},94,99,{"$f":"VLOOKUP(E671,Kühe!$A$7:$G$150,2,FALSE)","v":"Napapiri"},{"$f":"VLOOKUP(E671,Kühe!$A$7:$G$150,7,FALSE)","v":"Familie Zumoberhaus"}]
["2018-06-28",{"$f":"VLOOKUP(D672,Kühe!$A$7:$G$150,7,FALSE)","v":"Tscherry Erwin & Bernhard"},{"$f":"VLOOKUP(D672,Kühe!$A$7:$G$150,2,FALSE)","v":"Tulipe"},85,97,{"$f":"VLOOKUP(E672,Kühe!$A$7:$G$150,2,FALSE)","v":"Coucou"},{"$f":"VLOOKUP(E672,Kühe!$A$7:$G$150,7,FALSE)","v":"Familie Zumoberhaus"}]
["2018-06-27",{"$f":"VLOOKUP(D673,Kühe!$A$7:$G$150,7,FALSE)","v":"Fux Wendelin, Jenny & Wyer Piet"},{"$f":"VLOOKUP(D673,Kühe!$A$7:$G$150,2,FALSE)","v":"Mystic"},31,88,{"$f":"VLOOKUP(E673,Kühe!$A$7:$G$150,2,FALSE)","v":"Colonell"},{"$f":"VLOOKUP(E673,Kühe!$A$7:$G$150,7,FALSE)","v":"Williner  Anton"}]
["2018-06-27",{"$f":"VLOOKUP(D674,Kühe!$A$7:$G$150,7,FALSE)","v":"Fux Wendelin, Jenny & Wyer Piet"},{"$f":"VLOOKUP(D674,Kühe!$A$7:$G$150,2,FALSE)","v":"Valaisanne"},36,70,{"$f":"VLOOKUP(E674,Kühe!$A$7:$G$150,2,FALSE)","v":"Medusa"},{"$f":"VLOOKUP(E674,Kühe!$A$7:$G$150,7,FALSE)","v":"Stallung Passeraub"}]
["2018-06-27",{"$f":"VLOOKUP(D675,Kühe!$A$7:$G$150,7,FALSE)","v":"Jäger Carlo"},{"$f":"VLOOKUP(D675,Kühe!$A$7:$G$150,2,FALSE)","v":"Mirtille"},53,27,{"$f":"VLOOKUP(E675,Kühe!$A$7:$G$150,2,FALSE)","v":"Bolero"},{"$f":"VLOOKUP(E675,Kühe!$A$7:$G$150,7,FALSE)","v":"Fux Wendelin, Jenny & Wyer Piet"}]
["2018-06-27",{"$f":"VLOOKUP(D676,Kühe!$A$7:$G$150,7,FALSE)","v":"Fux Wendelin, Jenny & Wyer Piet"},{"$f":"VLOOKUP(D676,Kühe!$A$7:$G$150,2,FALSE)","v":"Caprise"},29,70,{"$f":"VLOOKUP(E676,Kühe!$A$7:$G$150,2,FALSE)","v":"Medusa"},{"$f":"VLOOKUP(E676,Kühe!$A$7:$G$150,7,FALSE)","v":"Stallung Passeraub"}]
["2018-06-27",{"$f":"VLOOKUP(D677,Kühe!$A$7:$G$150,7,FALSE)","v":"Fux Wendelin, Jenny & Wyer Piet"},{"$f":"VLOOKUP(D677,Kühe!$A$7:$G$150,2,FALSE)","v":"Bolero"},27,67,{"$f":"VLOOKUP(E677,Kühe!$A$7:$G$150,2,FALSE)","v":"Bombache"},{"$f":"VLOOKUP(E677,Kühe!$A$7:$G$150,7,FALSE)","v":"Stallung Passeraub"}]
["2018-06-27",{"$f":"VLOOKUP(D678,Kühe!$A$7:$G$150,7,FALSE)","v":"Stallung Passeraub"},{"$f":"VLOOKUP(D678,Kühe!$A$7:$G$150,2,FALSE)","v":"Bombache"},67,87,{"$f":"VLOOKUP(E678,Kühe!$A$7:$G$150,2,FALSE)","v":"Mirabilis"},{"$f":"VLOOKUP(E678,Kühe!$A$7:$G$150,7,FALSE)","v":"Williner  Anton"}]
["2018-06-27",{"$f":"VLOOKUP(D679,Kühe!$A$7:$G$150,7,FALSE)","v":"Gebrüder Jäger"},{"$f":"VLOOKUP(D679,Kühe!$A$7:$G$150,2,FALSE)","v":"Dorina"},43,81,{"$f":"VLOOKUP(E679,Kühe!$A$7:$G$150,2,FALSE)","v":"Tinea"},{"$f":"VLOOKUP(E679,Kühe!$A$7:$G$150,7,FALSE)","v":"Sewer Ralf & Thommen Steve"}]
["2018-06-27",{"$f":"VLOOKUP(D680,Kühe!$A$7:$G$150,7,FALSE)","v":"Mathieu Leander & Sascha"},{"$f":"VLOOKUP(D680,Kühe!$A$7:$G$150,2,FALSE)","v":"Bambino"},60,87,{"$f":"VLOOKUP(E680,Kühe!$A$7:$G$150,2,FALSE)","v":"Mirabilis"},{"$f":"VLOOKUP(E680,Kühe!$A$7:$G$150,7,FALSE)","v":"Williner  Anton"}]
["2018-06-27",{"$f":"VLOOKUP(D681,Kühe!$A$7:$G$150,7,FALSE)","v":"Familie Leiggener"},{"$f":"VLOOKUP(D681,Kühe!$A$7:$G$150,2,FALSE)","v":"Rambo"},22,100,{"$f":"VLOOKUP(E681,Kühe!$A$7:$G$150,2,FALSE)","v":"Akhira"},{"$f":"VLOOKUP(E681,Kühe!$A$7:$G$150,7,FALSE)","v":"Zumofen / Gattlen"}]
["2018-06-27",{"$f":"VLOOKUP(D682,Kühe!$A$7:$G$150,7,FALSE)","v":"Zumofen / Gattlen"},{"$f":"VLOOKUP(D682,Kühe!$A$7:$G$150,2,FALSE)","v":"Xena"},110,37,{"$f":"VLOOKUP(E682,Kühe!$A$7:$G$150,2,FALSE)","v":"Tango"},{"$f":"VLOOKUP(E682,Kühe!$A$7:$G$150,7,FALSE)","v":"Gebrüder Jäger"}]
["2018-06-27",{"$f":"VLOOKUP(D683,Kühe!$A$7:$G$150,7,FALSE)","v":"Stallung Passeraub"},{"$f":"VLOOKUP(D683,Kühe!$A$7:$G$150,2,FALSE)","v":"Medusa"},70,39,{"$f":"VLOOKUP(E683,Kühe!$A$7:$G$150,2,FALSE)","v":"Bandit"},{"$f":"VLOOKUP(E683,Kühe!$A$7:$G$150,7,FALSE)","v":"Gebrüder Jäger"}]
["2018-06-26",{"$f":"VLOOKUP(D684,Kühe!$A$7:$G$150,7,FALSE)","v":"Jäger Carlo"},{"$f":"VLOOKUP(D684,Kühe!$A$7:$G$150,2,FALSE)","v":"Turin"},58,3,{"$f":"VLOOKUP(E684,Kühe!$A$7:$G$150,2,FALSE)","v":"Pinka"},{"$f":"VLOOKUP(E684,Kühe!$A$7:$G$150,7,FALSE)","v":"Bayard Medard & Gustav"}]
["2018-06-26",{"$f":"VLOOKUP(D685,Kühe!$A$7:$G$150,7,FALSE)","v":"Stallung Passeraub"},{"$f":"VLOOKUP(D685,Kühe!$A$7:$G$150,2,FALSE)","v":"Medusa"},70,81,{"$f":"VLOOKUP(E685,Kühe!$A$7:$G$150,2,FALSE)","v":"Tinea"},{"$f":"VLOOKUP(E685,Kühe!$A$7:$G$150,7,FALSE)","v":"Sewer Ralf & Thommen Steve"}]
["2018-06-26",{"$f":"VLOOKUP(D686,Kühe!$A$7:$G$150,7,FALSE)","v":"Williner  Anton"},{"$f":"VLOOKUP(D686,Kühe!$A$7:$G$150,2,FALSE)","v":"Mirabilis"},87,68,{"$f":"VLOOKUP(E686,Kühe!$A$7:$G$150,2,FALSE)","v":"Bulle"},{"$f":"VLOOKUP(E686,Kühe!$A$7:$G$150,7,FALSE)","v":"Stallung Passeraub"}]
["2018-06-26",{"$f":"VLOOKUP(D687,Kühe!$A$7:$G$150,7,FALSE)","v":"Bayard Medard & Gustav"},{"$f":"VLOOKUP(D687,Kühe!$A$7:$G$150,2,FALSE)","v":"Mirabelle"},2,63,{"$f":"VLOOKUP(E687,Kühe!$A$7:$G$150,2,FALSE)","v":"Belon"},{"$f":"VLOOKUP(E687,Kühe!$A$7:$G$150,7,FALSE)","v":"Mathieu Leander & Sascha"}]
["2018-06-26",{"$f":"VLOOKUP(D688,Kühe!$A$7:$G$150,7,FALSE)","v":"Wyssen Diego & Madlen"},{"$f":"VLOOKUP(D688,Kühe!$A$7:$G$150,2,FALSE)","v":"Shagiri"},93,84,{"$f":"VLOOKUP(E688,Kühe!$A$7:$G$150,2,FALSE)","v":"Cobra"},{"$f":"VLOOKUP(E688,Kühe!$A$7:$G$150,7,FALSE)","v":"Tscherry Erwin & Bernhard"}]
["2018-06-26",{"$f":"VLOOKUP(D689,Kühe!$A$7:$G$150,7,FALSE)","v":"Bayard Medard & Gustav"},{"$f":"VLOOKUP(D689,Kühe!$A$7:$G$150,2,FALSE)","v":"Ramona"},4,71,{"$f":"VLOOKUP(E689,Kühe!$A$7:$G$150,2,FALSE)","v":"Bonita"},{"$f":"VLOOKUP(E689,Kühe!$A$7:$G$150,7,FALSE)","v":"Stallung Passeraub"}]
["2018-06-26",{"$f":"VLOOKUP(D690,Kühe!$A$7:$G$150,7,FALSE)","v":"Mathieu Leander & Sascha"},{"$f":"VLOOKUP(D690,Kühe!$A$7:$G$150,2,FALSE)","v":"Belon"},63,51,{"$f":"VLOOKUP(E690,Kühe!$A$7:$G$150,2,FALSE)","v":"Guxa"},{"$f":"VLOOKUP(E690,Kühe!$A$7:$G$150,7,FALSE)","v":"Jäger Carlo"}]
["2018-06-26",{"$f":"VLOOKUP(D691,Kühe!$A$7:$G$150,7,FALSE)","v":"Familie Zumoberhaus"},{"$f":"VLOOKUP(D691,Kühe!$A$7:$G$150,2,FALSE)","v":"Coucou"},97,64,{"$f":"VLOOKUP(E691,Kühe!$A$7:$G$150,2,FALSE)","v":"Bonita"},{"$f":"VLOOKUP(E691,Kühe!$A$7:$G$150,7,FALSE)","v":"Mathieu Leander & Sascha"}]
["2018-06-26",{"$f":"VLOOKUP(D692,Kühe!$A$7:$G$150,7,FALSE)","v":"Zumofen / Gattlen"},{"$f":"VLOOKUP(D692,Kühe!$A$7:$G$150,2,FALSE)","v":"Violin"},107,46,{"$f":"VLOOKUP(E692,Kühe!$A$7:$G$150,2,FALSE)","v":"Lorens"},{"$f":"VLOOKUP(E692,Kühe!$A$7:$G$150,7,FALSE)","v":"Gebrüder Jäger"}]
["2018-06-26",{"$f":"VLOOKUP(D693,Kühe!$A$7:$G$150,7,FALSE)","v":"Jäger Carlo"},{"$f":"VLOOKUP(D693,Kühe!$A$7:$G$150,2,FALSE)","v":"Paloma"},54,100,{"$f":"VLOOKUP(E693,Kühe!$A$7:$G$150,2,FALSE)","v":"Akhira"},{"$f":"VLOOKUP(E693,Kühe!$A$7:$G$150,7,FALSE)","v":"Zumofen / Gattlen"}]
["2018-06-26",{"$f":"VLOOKUP(D694,Kühe!$A$7:$G$150,7,FALSE)","v":"Mathieu Leander & Sascha"},{"$f":"VLOOKUP(D694,Kühe!$A$7:$G$150,2,FALSE)","v":"Bavaria"},62,42,{"$f":"VLOOKUP(E694,Kühe!$A$7:$G$150,2,FALSE)","v":"Tiger"},{"$f":"VLOOKUP(E694,Kühe!$A$7:$G$150,7,FALSE)","v":"Gebrüder Jäger"}]
["2018-06-26",{"$f":"VLOOKUP(D695,Kühe!$A$7:$G$150,7,FALSE)","v":"Stallung Passeraub"},{"$f":"VLOOKUP(D695,Kühe!$A$7:$G$150,2,FALSE)","v":"Bobino"},66,87,{"$f":"VLOOKUP(E695,Kühe!$A$7:$G$150,2,FALSE)","v":"Mirabilis"},{"$f":"VLOOKUP(E695,Kühe!$A$7:$G$150,7,FALSE)","v":"Williner  Anton"}]
["2018-06-26",{"$f":"VLOOKUP(D696,Kühe!$A$7:$G$150,7,FALSE)","v":"Bregy Uli & Pascal"},{"$f":"VLOOKUP(D696,Kühe!$A$7:$G$150,2,FALSE)","v":"Pandora"},17,56,{"$f":"VLOOKUP(E696,Kühe!$A$7:$G$150,2,FALSE)","v":"Pisa"},{"$f":"VLOOKUP(E696,Kühe!$A$7:$G$150,7,FALSE)","v":"Jäger Carlo"}]
["2018-06-26",{"$f":"VLOOKUP(D697,Kühe!$A$7:$G$150,7,FALSE)","v":"Gebrüder Jäger"},{"$f":"VLOOKUP(D697,Kühe!$A$7:$G$150,2,FALSE)","v":"Bessy"},41,61,{"$f":"VLOOKUP(E697,Kühe!$A$7:$G$150,2,FALSE)","v":"Baronesse"},{"$f":"VLOOKUP(E697,Kühe!$A$7:$G$150,7,FALSE)","v":"Mathieu Leander & Sascha"}]
["2018-06-26",{"$f":"VLOOKUP(D698,Kühe!$A$7:$G$150,7,FALSE)","v":"Hischier Pius"},{"$f":"VLOOKUP(D698,Kühe!$A$7:$G$150,2,FALSE)","v":"Pelila"},48,28,{"$f":"VLOOKUP(E698,Kühe!$A$7:$G$150,2,FALSE)","v":"Bresil"},{"$f":"VLOOKUP(E698,Kühe!$A$7:$G$150,7,FALSE)","v":"Fux Wendelin, Jenny & Wyer Piet"}]
["2018-06-26",{"$f":"VLOOKUP(D699,Kühe!$A$7:$G$150,7,FALSE)","v":"Familie Zumoberhaus"},{"$f":"VLOOKUP(D699,Kühe!$A$7:$G$150,2,FALSE)","v":"Napapiri"},99,88,{"$f":"VLOOKUP(E699,Kühe!$A$7:$G$150,2,FALSE)","v":"Colonell"},{"$f":"VLOOKUP(E699,Kühe!$A$7:$G$150,7,FALSE)","v":"Williner  Anton"}]
["2018-06-26",{"$f":"VLOOKUP(D700,Kühe!$A$7:$G$150,7,FALSE)","v":"Familie Leiggener"},{"$f":"VLOOKUP(D700,Kühe!$A$7:$G$150,2,FALSE)","v":"Rambo"},22,10,{"$f":"VLOOKUP(E700,Kühe!$A$7:$G$150,2,FALSE)","v":"Lacoste"},{"$f":"VLOOKUP(E700,Kühe!$A$7:$G$150,7,FALSE)","v":"Bregy Ralf & Adolf"}]
["2018-06-26",{"$f":"VLOOKUP(D701,Kühe!$A$7:$G$150,7,FALSE)","v":"Zumofen / Gattlen"},{"$f":"VLOOKUP(D701,Kühe!$A$7:$G$150,2,FALSE)","v":"Volero"},108,51,{"$f":"VLOOKUP(E701,Kühe!$A$7:$G$150,2,FALSE)","v":"Guxa"},{"$f":"VLOOKUP(E701,Kühe!$A$7:$G$150,7,FALSE)","v":"Jäger Carlo"}]
["2018-06-26",{"$f":"VLOOKUP(D702,Kühe!$A$7:$G$150,7,FALSE)","v":"Hischier Pius"},{"$f":"VLOOKUP(D702,Kühe!$A$7:$G$150,2,FALSE)","v":"Pelila"},48,85,{"$f":"VLOOKUP(E702,Kühe!$A$7:$G$150,2,FALSE)","v":"Tulipe"},{"$f":"VLOOKUP(E702,Kühe!$A$7:$G$150,7,FALSE)","v":"Tscherry Erwin & Bernhard"}]
["2018-06-26",{"$f":"VLOOKUP(D703,Kühe!$A$7:$G$150,7,FALSE)","v":"Fux Wendelin, Jenny & Wyer Piet"},{"$f":"VLOOKUP(D703,Kühe!$A$7:$G$150,2,FALSE)","v":"Souris"},35,60,{"$f":"VLOOKUP(E703,Kühe!$A$7:$G$150,2,FALSE)","v":"Bambino"},{"$f":"VLOOKUP(E703,Kühe!$A$7:$G$150,7,FALSE)","v":"Mathieu Leander & Sascha"}]
["2018-06-25",{"$f":"VLOOKUP(D704,Kühe!$A$7:$G$150,7,FALSE)","v":"Stallung zum Stäg"},{"$f":"VLOOKUP(D704,Kühe!$A$7:$G$150,2,FALSE)","v":"Benika"},73,36,{"$f":"VLOOKUP(E704,Kühe!$A$7:$G$150,2,FALSE)","v":"Valaisanne"},{"$f":"VLOOKUP(E704,Kühe!$A$7:$G$150,7,FALSE)","v":"Fux Wendelin, Jenny & Wyer Piet"}]
["2018-06-25",{"$f":"VLOOKUP(D705,Kühe!$A$7:$G$150,7,FALSE)","v":"Gebrüder Jäger"},{"$f":"VLOOKUP(D705,Kühe!$A$7:$G$150,2,FALSE)","v":"Dorina"},43,73,{"$f":"VLOOKUP(E705,Kühe!$A$7:$G$150,2,FALSE)","v":"Benika"},{"$f":"VLOOKUP(E705,Kühe!$A$7:$G$150,7,FALSE)","v":"Stallung zum Stäg"}]
["2018-06-25",{"$f":"VLOOKUP(D706,Kühe!$A$7:$G$150,7,FALSE)","v":"Stallung Passeraub"},{"$f":"VLOOKUP(D706,Kühe!$A$7:$G$150,2,FALSE)","v":"Bobino"},66,28,{"$f":"VLOOKUP(E706,Kühe!$A$7:$G$150,2,FALSE)","v":"Bresil"},{"$f":"VLOOKUP(E706,Kühe!$A$7:$G$150,7,FALSE)","v":"Fux Wendelin, Jenny & Wyer Piet"}]
["2018-06-25",{"$f":"VLOOKUP(D707,Kühe!$A$7:$G$150,7,FALSE)","v":"Bregy Patrick & Silvan"},{"$f":"VLOOKUP(D707,Kühe!$A$7:$G$150,2,FALSE)","v":"Tequilla"},13,40,{"$f":"VLOOKUP(E707,Kühe!$A$7:$G$150,2,FALSE)","v":"Barilona"},{"$f":"VLOOKUP(E707,Kühe!$A$7:$G$150,7,FALSE)","v":"Gebrüder Jäger"}]
["2018-06-25",{"$f":"VLOOKUP(D708,Kühe!$A$7:$G$150,7,FALSE)","v":"Tscherry Erwin & Bernhard"},{"$f":"VLOOKUP(D708,Kühe!$A$7:$G$150,2,FALSE)","v":"Carolin"},82,26,{"$f":"VLOOKUP(E708,Kühe!$A$7:$G$150,2,FALSE)","v":"Ares"},{"$f":"VLOOKUP(E708,Kühe!$A$7:$G$150,7,FALSE)","v":"Fux Wendelin, Jenny & Wyer Piet"}]
["2018-06-25",{"$f":"VLOOKUP(D709,Kühe!$A$7:$G$150,7,FALSE)","v":"Stallung Passeraub"},{"$f":"VLOOKUP(D709,Kühe!$A$7:$G$150,2,FALSE)","v":"Bombache"},67,91,{"$f":"VLOOKUP(E709,Kühe!$A$7:$G$150,2,FALSE)","v":"Vanessa"},{"$f":"VLOOKUP(E709,Kühe!$A$7:$G$150,7,FALSE)","v":"Williner  Anton"}]
["2018-06-25",{"$f":"VLOOKUP(D710,Kühe!$A$7:$G$150,7,FALSE)","v":"Bregy Ralf & Adolf"},{"$f":"VLOOKUP(D710,Kühe!$A$7:$G$150,2,FALSE)","v":"Santiago"},11,5,{"$f":"VLOOKUP(E710,Kühe!$A$7:$G$150,2,FALSE)","v":"Violette"},{"$f":"VLOOKUP(E710,Kühe!$A$7:$G$150,7,FALSE)","v":"Bayard Medard & Gustav"}]
["2018-06-25",{"$f":"VLOOKUP(D711,Kühe!$A$7:$G$150,7,FALSE)","v":"Bayard Medard & Gustav"},{"$f":"VLOOKUP(D711,Kühe!$A$7:$G$150,2,FALSE)","v":"Violette"},5,6,{"$f":"VLOOKUP(E711,Kühe!$A$7:$G$150,2,FALSE)","v":"Diabolo"},{"$f":"VLOOKUP(E711,Kühe!$A$7:$G$150,7,FALSE)","v":"Bregy Anja"}]
["2018-06-25",{"$f":"VLOOKUP(D712,Kühe!$A$7:$G$150,7,FALSE)","v":"Bregy Patrick & Silvan"},{"$f":"VLOOKUP(D712,Kühe!$A$7:$G$150,2,FALSE)","v":"Tequilla"},13,95,{"$f":"VLOOKUP(E712,Kühe!$A$7:$G$150,2,FALSE)","v":"Xena"},{"$f":"VLOOKUP(E712,Kühe!$A$7:$G$150,7,FALSE)","v":"Wyssen Diego & Madlen"}]
["2018-06-25",{"$f":"VLOOKUP(D713,Kühe!$A$7:$G$150,7,FALSE)","v":"Hischier Pius"},{"$f":"VLOOKUP(D713,Kühe!$A$7:$G$150,2,FALSE)","v":"Pablo"},47,97,{"$f":"VLOOKUP(E713,Kühe!$A$7:$G$150,2,FALSE)","v":"Coucou"},{"$f":"VLOOKUP(E713,Kühe!$A$7:$G$150,7,FALSE)","v":"Familie Zumoberhaus"}]
["2018-06-25",{"$f":"VLOOKUP(D714,Kühe!$A$7:$G$150,7,FALSE)","v":"Gebrüder Jäger"},{"$f":"VLOOKUP(D714,Kühe!$A$7:$G$150,2,FALSE)","v":"Tamango"},44,15,{"$f":"VLOOKUP(E714,Kühe!$A$7:$G$150,2,FALSE)","v":"Catalina"},{"$f":"VLOOKUP(E714,Kühe!$A$7:$G$150,7,FALSE)","v":"Bregy Uli & Pascal"}]
["2018-06-25",{"$f":"VLOOKUP(D715,Kühe!$A$7:$G$150,7,FALSE)","v":"Bregy Patrick & Silvan"},{"$f":"VLOOKUP(D715,Kühe!$A$7:$G$150,2,FALSE)","v":"Tequilla"},13,94,{"$f":"VLOOKUP(E715,Kühe!$A$7:$G$150,2,FALSE)","v":"Xanja"},{"$f":"VLOOKUP(E715,Kühe!$A$7:$G$150,7,FALSE)","v":"Wyssen Diego & Madlen"}]
["2018-06-25",{"$f":"VLOOKUP(D716,Kühe!$A$7:$G$150,7,FALSE)","v":"Zumofen / Gattlen"},{"$f":"VLOOKUP(D716,Kühe!$A$7:$G$150,2,FALSE)","v":"Pengale"},104,95,{"$f":"VLOOKUP(E716,Kühe!$A$7:$G$150,2,FALSE)","v":"Xena"},{"$f":"VLOOKUP(E716,Kühe!$A$7:$G$150,7,FALSE)","v":"Wyssen Diego & Madlen"}]
["2018-06-25",{"$f":"VLOOKUP(D717,Kühe!$A$7:$G$150,7,FALSE)","v":"Bayard Medard & Gustav"},{"$f":"VLOOKUP(D717,Kühe!$A$7:$G$150,2,FALSE)","v":"Pinka"},3,99,{"$f":"VLOOKUP(E717,Kühe!$A$7:$G$150,2,FALSE)","v":"Napapiri"},{"$f":"VLOOKUP(E717,Kühe!$A$7:$G$150,7,FALSE)","v":"Familie Zumoberhaus"}]
["2018-06-25",{"$f":"VLOOKUP(D718,Kühe!$A$7:$G$150,7,FALSE)","v":"Zumofen / Gattlen"},{"$f":"VLOOKUP(D718,Kühe!$A$7:$G$150,2,FALSE)","v":"Puma"},105,52,{"$f":"VLOOKUP(E718,Kühe!$A$7:$G$150,2,FALSE)","v":"Maila"},{"$f":"VLOOKUP(E718,Kühe!$A$7:$G$150,7,FALSE)","v":"Jäger Carlo"}]
["2018-06-25",{"$f":"VLOOKUP(D719,Kühe!$A$7:$G$150,7,FALSE)","v":"Jäger Carlo"},{"$f":"VLOOKUP(D719,Kühe!$A$7:$G$150,2,FALSE)","v":"Maila"},52,91,{"$f":"VLOOKUP(E719,Kühe!$A$7:$G$150,2,FALSE)","v":"Vanessa"},{"$f":"VLOOKUP(E719,Kühe!$A$7:$G$150,7,FALSE)","v":"Williner  Anton"}]
["2018-06-25",{"$f":"VLOOKUP(D720,Kühe!$A$7:$G$150,7,FALSE)","v":"Wyssen Diego & Madlen"},{"$f":"VLOOKUP(D720,Kühe!$A$7:$G$150,2,FALSE)","v":"Shagiri"},93,76,{"$f":"VLOOKUP(E720,Kühe!$A$7:$G$150,2,FALSE)","v":"Gonda"},{"$f":"VLOOKUP(E720,Kühe!$A$7:$G$150,7,FALSE)","v":"Sewer Ralf & Thommen Steve"}]
["2018-06-25",{"$f":"VLOOKUP(D721,Kühe!$A$7:$G$150,7,FALSE)","v":"Bregy Anja"},{"$f":"VLOOKUP(D721,Kühe!$A$7:$G$150,2,FALSE)","v":"Diabolo"},6,108,{"$f":"VLOOKUP(E721,Kühe!$A$7:$G$150,2,FALSE)","v":"Volero"},{"$f":"VLOOKUP(E721,Kühe!$A$7:$G$150,7,FALSE)","v":"Zumofen / Gattlen"}]
["2018-06-25",{"$f":"VLOOKUP(D722,Kühe!$A$7:$G$150,7,FALSE)","v":"Zumofen / Gattlen"},{"$f":"VLOOKUP(D722,Kühe!$A$7:$G$150,2,FALSE)","v":"Violin"},107,13,{"$f":"VLOOKUP(E722,Kühe!$A$7:$G$150,2,FALSE)","v":"Tequilla"},{"$f":"VLOOKUP(E722,Kühe!$A$7:$G$150,7,FALSE)","v":"Bregy Patrick & Silvan"}]
["2018-06-25",{"$f":"VLOOKUP(D723,Kühe!$A$7:$G$150,7,FALSE)","v":"Bregy Anja"},{"$f":"VLOOKUP(D723,Kühe!$A$7:$G$150,2,FALSE)","v":"Diabolo"},6,51,{"$f":"VLOOKUP(E723,Kühe!$A$7:$G$150,2,FALSE)","v":"Guxa"},{"$f":"VLOOKUP(E723,Kühe!$A$7:$G$150,7,FALSE)","v":"Jäger Carlo"}]
["2018-06-25",{"$f":"VLOOKUP(D724,Kühe!$A$7:$G$150,7,FALSE)","v":"Williner  Anton"},{"$f":"VLOOKUP(D724,Kühe!$A$7:$G$150,2,FALSE)","v":"Colonell"},88,55,{"$f":"VLOOKUP(E724,Kühe!$A$7:$G$150,2,FALSE)","v":"Papillon"},{"$f":"VLOOKUP(E724,Kühe!$A$7:$G$150,7,FALSE)","v":"Jäger Carlo"}]
["2018-06-25",{"$f":"VLOOKUP(D725,Kühe!$A$7:$G$150,7,FALSE)","v":"Mathieu Leander & Sascha"},{"$f":"VLOOKUP(D725,Kühe!$A$7:$G$150,2,FALSE)","v":"Baronesse"},61,82,{"$f":"VLOOKUP(E725,Kühe!$A$7:$G$150,2,FALSE)","v":"Carolin"},{"$f":"VLOOKUP(E725,Kühe!$A$7:$G$150,7,FALSE)","v":"Tscherry Erwin & Bernhard"}]
["2018-06-25",{"$f":"VLOOKUP(D726,Kühe!$A$7:$G$150,7,FALSE)","v":"Stallung Passeraub"},{"$f":"VLOOKUP(D726,Kühe!$A$7:$G$150,2,FALSE)","v":"Bonita"},71,21,{"$f":"VLOOKUP(E726,Kühe!$A$7:$G$150,2,FALSE)","v":"Bulle"},{"$f":"VLOOKUP(E726,Kühe!$A$7:$G$150,7,FALSE)","v":"Familie Leiggener"}]
["2018-06-25",{"$f":"VLOOKUP(D727,Kühe!$A$7:$G$150,7,FALSE)","v":"Bregy Ralf & Adolf"},{"$f":"VLOOKUP(D727,Kühe!$A$7:$G$150,2,FALSE)","v":"Lacoste"},10,33,{"$f":"VLOOKUP(E727,Kühe!$A$7:$G$150,2,FALSE)","v":"Samantha"},{"$f":"VLOOKUP(E727,Kühe!$A$7:$G$150,7,FALSE)","v":"Fux Wendelin, Jenny & Wyer Piet"}]
["2018-06-25",{"$f":"VLOOKUP(D728,Kühe!$A$7:$G$150,7,FALSE)","v":"Jäger Carlo"},{"$f":"VLOOKUP(D728,Kühe!$A$7:$G$150,2,FALSE)","v":"Guxa"},51,36,{"$f":"VLOOKUP(E728,Kühe!$A$7:$G$150,2,FALSE)","v":"Valaisanne"},{"$f":"VLOOKUP(E728,Kühe!$A$7:$G$150,7,FALSE)","v":"Fux Wendelin, Jenny & Wyer Piet"}]
["2018-06-25",{"$f":"VLOOKUP(D729,Kühe!$A$7:$G$150,7,FALSE)","v":"Fux Wendelin, Jenny & Wyer Piet"},{"$f":"VLOOKUP(D729,Kühe!$A$7:$G$150,2,FALSE)","v":"Bresil"},28,99,{"$f":"VLOOKUP(E729,Kühe!$A$7:$G$150,2,FALSE)","v":"Napapiri"},{"$f":"VLOOKUP(E729,Kühe!$A$7:$G$150,7,FALSE)","v":"Familie Zumoberhaus"}]
["2018-06-25",{"$f":"VLOOKUP(D730,Kühe!$A$7:$G$150,7,FALSE)","v":"Mathieu Leander & Sascha"},{"$f":"VLOOKUP(D730,Kühe!$A$7:$G$150,2,FALSE)","v":"Bambino"},60,56,{"$f":"VLOOKUP(E730,Kühe!$A$7:$G$150,2,FALSE)","v":"Pisa"},{"$f":"VLOOKUP(E730,Kühe!$A$7:$G$150,7,FALSE)","v":"Jäger Carlo"}]
["2018-06-25",{"$f":"VLOOKUP(D731,Kühe!$A$7:$G$150,7,FALSE)","v":"Familie Zumoberhaus"},{"$f":"VLOOKUP(D731,Kühe!$A$7:$G$150,2,FALSE)","v":"Napapiri"},99,100,{"$f":"VLOOKUP(E731,Kühe!$A$7:$G$150,2,FALSE)","v":"Akhira"},{"$f":"VLOOKUP(E731,Kühe!$A$7:$G$150,7,FALSE)","v":"Zumofen / Gattlen"}]
["2018-06-25",{"$f":"VLOOKUP(D732,Kühe!$A$7:$G$150,7,FALSE)","v":"Wyssen Diego & Madlen"},{"$f":"VLOOKUP(D732,Kühe!$A$7:$G$150,2,FALSE)","v":"Fiorenza"},92,21,{"$f":"VLOOKUP(E732,Kühe!$A$7:$G$150,2,FALSE)","v":"Bulle"},{"$f":"VLOOKUP(E732,Kühe!$A$7:$G$150,7,FALSE)","v":"Familie Leiggener"}]
["2018-06-25",{"$f":"VLOOKUP(D733,Kühe!$A$7:$G$150,7,FALSE)","v":"Gebrüder Jäger"},{"$f":"VLOOKUP(D733,Kühe!$A$7:$G$150,2,FALSE)","v":"Barilona"},40,85,{"$f":"VLOOKUP(E733,Kühe!$A$7:$G$150,2,FALSE)","v":"Tulipe"},{"$f":"VLOOKUP(E733,Kühe!$A$7:$G$150,7,FALSE)","v":"Tscherry Erwin & Bernhard"}]
["2018-06-25",{"$f":"VLOOKUP(D734,Kühe!$A$7:$G$150,7,FALSE)","v":"Stallung Passeraub"},{"$f":"VLOOKUP(D734,Kühe!$A$7:$G$150,2,FALSE)","v":"Bonita"},71,56,{"$f":"VLOOKUP(E734,Kühe!$A$7:$G$150,2,FALSE)","v":"Pisa"},{"$f":"VLOOKUP(E734,Kühe!$A$7:$G$150,7,FALSE)","v":"Jäger Carlo"}]
["2018-06-25",{"$f":"VLOOKUP(D735,Kühe!$A$7:$G$150,7,FALSE)","v":"Zumofen / Gattlen"},{"$f":"VLOOKUP(D735,Kühe!$A$7:$G$150,2,FALSE)","v":"Milou"},103,10,{"$f":"VLOOKUP(E735,Kühe!$A$7:$G$150,2,FALSE)","v":"Lacoste"},{"$f":"VLOOKUP(E735,Kühe!$A$7:$G$150,7,FALSE)","v":"Bregy Ralf & Adolf"}]
["2018-06-25",{"$f":"VLOOKUP(D736,Kühe!$A$7:$G$150,7,FALSE)","v":"Wyssen Diego & Madlen"},{"$f":"VLOOKUP(D736,Kühe!$A$7:$G$150,2,FALSE)","v":"Fiorenza"},92,10,{"$f":"VLOOKUP(E736,Kühe!$A$7:$G$150,2,FALSE)","v":"Lacoste"},{"$f":"VLOOKUP(E736,Kühe!$A$7:$G$150,7,FALSE)","v":"Bregy Ralf & Adolf"}]
["2018-06-25",{"$f":"VLOOKUP(D737,Kühe!$A$7:$G$150,7,FALSE)","v":"Zumofen / Gattlen"},{"$f":"VLOOKUP(D737,Kühe!$A$7:$G$150,2,FALSE)","v":"Pengale"},104,87,{"$f":"VLOOKUP(E737,Kühe!$A$7:$G$150,2,FALSE)","v":"Mirabilis"},{"$f":"VLOOKUP(E737,Kühe!$A$7:$G$150,7,FALSE)","v":"Williner  Anton"}]
["2018-06-25",{"$f":"VLOOKUP(D738,Kühe!$A$7:$G$150,7,FALSE)","v":"Jäger Carlo"},{"$f":"VLOOKUP(D738,Kühe!$A$7:$G$150,2,FALSE)","v":"Papillon"},55,78,{"$f":"VLOOKUP(E738,Kühe!$A$7:$G$150,2,FALSE)","v":"Tabitha"},{"$f":"VLOOKUP(E738,Kühe!$A$7:$G$150,7,FALSE)","v":"Sewer Ralf & Thommen Steve"}]
["2018-06-25",{"$f":"VLOOKUP(D739,Kühe!$A$7:$G$150,7,FALSE)","v":"Bayard Medard & Gustav"},{"$f":"VLOOKUP(D739,Kühe!$A$7:$G$150,2,FALSE)","v":"Ramona"},4,87,{"$f":"VLOOKUP(E739,Kühe!$A$7:$G$150,2,FALSE)","v":"Mirabilis"},{"$f":"VLOOKUP(E739,Kühe!$A$7:$G$150,7,FALSE)","v":"Williner  Anton"}]
["2018-06-25",{"$f":"VLOOKUP(D740,Kühe!$A$7:$G$150,7,FALSE)","v":"Williner  Anton"},{"$f":"VLOOKUP(D740,Kühe!$A$7:$G$150,2,FALSE)","v":"Vanessa"},91,75,{"$f":"VLOOKUP(E740,Kühe!$A$7:$G$150,2,FALSE)","v":"Pandora"},{"$f":"VLOOKUP(E740,Kühe!$A$7:$G$150,7,FALSE)","v":"Stallung zum Stäg"}]
["2018-06-25",{"$f":"VLOOKUP(D741,Kühe!$A$7:$G$150,7,FALSE)","v":"Bregy Ralf & Adolf"},{"$f":"VLOOKUP(D741,Kühe!$A$7:$G$150,2,FALSE)","v":"Canaille"},7,110,{"$f":"VLOOKUP(E741,Kühe!$A$7:$G$150,2,FALSE)","v":"Xena"},{"$f":"VLOOKUP(E741,Kühe!$A$7:$G$150,7,FALSE)","v":"Zumofen / Gattlen"}]
["2018-06-25",{"$f":"VLOOKUP(D742,Kühe!$A$7:$G$150,7,FALSE)","v":"Zumofen / Gattlen"},{"$f":"VLOOKUP(D742,Kühe!$A$7:$G$150,2,FALSE)","v":"Puma"},105,94,{"$f":"VLOOKUP(E742,Kühe!$A$7:$G$150,2,FALSE)","v":"Xanja"},{"$f":"VLOOKUP(E742,Kühe!$A$7:$G$150,7,FALSE)","v":"Wyssen Diego & Madlen"}]
["2018-06-25",{"$f":"VLOOKUP(D743,Kühe!$A$7:$G$150,7,FALSE)","v":"Gebrüder Jäger"},{"$f":"VLOOKUP(D743,Kühe!$A$7:$G$150,2,FALSE)","v":"Tamango"},44,2,{"$f":"VLOOKUP(E743,Kühe!$A$7:$G$150,2,FALSE)","v":"Mirabelle"},{"$f":"VLOOKUP(E743,Kühe!$A$7:$G$150,7,FALSE)","v":"Bayard Medard & Gustav"}]
["2018-06-25",{"$f":"VLOOKUP(D744,Kühe!$A$7:$G$150,7,FALSE)","v":"Stallung zum Stäg"},{"$f":"VLOOKUP(D744,Kühe!$A$7:$G$150,2,FALSE)","v":"Pandora"},75,79,{"$f":"VLOOKUP(E744,Kühe!$A$7:$G$150,2,FALSE)","v":"Tacona"},{"$f":"VLOOKUP(E744,Kühe!$A$7:$G$150,7,FALSE)","v":"Sewer Ralf & Thommen Steve"}]
["2018-06-25",{"$f":"VLOOKUP(D745,Kühe!$A$7:$G$150,7,FALSE)","v":"Bayard Medard & Gustav"},{"$f":"VLOOKUP(D745,Kühe!$A$7:$G$150,2,FALSE)","v":"Ramona"},4,38,{"$f":"VLOOKUP(E745,Kühe!$A$7:$G$150,2,FALSE)","v":"Tirana"},{"$f":"VLOOKUP(E745,Kühe!$A$7:$G$150,7,FALSE)","v":"Gebrüder Jäger"}]
["2018-06-25",{"$f":"VLOOKUP(D746,Kühe!$A$7:$G$150,7,FALSE)","v":"Jäger Carlo"},{"$f":"VLOOKUP(D746,Kühe!$A$7:$G$150,2,FALSE)","v":"Maila"},52,76,{"$f":"VLOOKUP(E746,Kühe!$A$7:$G$150,2,FALSE)","v":"Gonda"},{"$f":"VLOOKUP(E746,Kühe!$A$7:$G$150,7,FALSE)","v":"Sewer Ralf & Thommen Steve"}]
["2018-06-25",{"$f":"VLOOKUP(D747,Kühe!$A$7:$G$150,7,FALSE)","v":"Williner  Anton"},{"$f":"VLOOKUP(D747,Kühe!$A$7:$G$150,2,FALSE)","v":"Vanessa"},91,96,{"$f":"VLOOKUP(E747,Kühe!$A$7:$G$150,2,FALSE)","v":"Xhyla"},{"$f":"VLOOKUP(E747,Kühe!$A$7:$G$150,7,FALSE)","v":"Wyssen Diego & Madlen"}]
["2018-06-25",{"$f":"VLOOKUP(D748,Kühe!$A$7:$G$150,7,FALSE)","v":"Fux Wendelin, Jenny & Wyer Piet"},{"$f":"VLOOKUP(D748,Kühe!$A$7:$G$150,2,FALSE)","v":"Bresil"},28,100,{"$f":"VLOOKUP(E748,Kühe!$A$7:$G$150,2,FALSE)","v":"Akhira"},{"$f":"VLOOKUP(E748,Kühe!$A$7:$G$150,7,FALSE)","v":"Zumofen / Gattlen"}]
["2018-06-25",{"$f":"VLOOKUP(D749,Kühe!$A$7:$G$150,7,FALSE)","v":"Zumofen / Gattlen"},{"$f":"VLOOKUP(D749,Kühe!$A$7:$G$150,2,FALSE)","v":"Fayola"},102,101,{"$f":"VLOOKUP(E749,Kühe!$A$7:$G$150,2,FALSE)","v":"Fangjo"},{"$f":"VLOOKUP(E749,Kühe!$A$7:$G$150,7,FALSE)","v":"Zumofen / Gattlen"}]
["2018-06-25",{"$f":"VLOOKUP(D750,Kühe!$A$7:$G$150,7,FALSE)","v":"Zumofen / Gattlen"},{"$f":"VLOOKUP(D750,Kühe!$A$7:$G$150,2,FALSE)","v":"Akhira"},100,27,{"$f":"VLOOKUP(E750,Kühe!$A$7:$G$150,2,FALSE)","v":"Bolero"},{"$f":"VLOOKUP(E750,Kühe!$A$7:$G$150,7,FALSE)","v":"Fux Wendelin, Jenny & Wyer Piet"}]
["2018-06-25",{"$f":"VLOOKUP(D751,Kühe!$A$7:$G$150,7,FALSE)","v":"Jäger Carlo"},{"$f":"VLOOKUP(D751,Kühe!$A$7:$G$150,2,FALSE)","v":"Paloma"},54,38,{"$f":"VLOOKUP(E751,Kühe!$A$7:$G$150,2,FALSE)","v":"Tirana"},{"$f":"VLOOKUP(E751,Kühe!$A$7:$G$150,7,FALSE)","v":"Gebrüder Jäger"}]
["2018-06-25",{"$f":"VLOOKUP(D752,Kühe!$A$7:$G$150,7,FALSE)","v":"Fux Wendelin, Jenny & Wyer Piet"},{"$f":"VLOOKUP(D752,Kühe!$A$7:$G$150,2,FALSE)","v":"Mystic"},31,52,{"$f":"VLOOKUP(E752,Kühe!$A$7:$G$150,2,FALSE)","v":"Maila"},{"$f":"VLOOKUP(E752,Kühe!$A$7:$G$150,7,FALSE)","v":"Jäger Carlo"}]
["2018-06-25",{"$f":"VLOOKUP(D753,Kühe!$A$7:$G$150,7,FALSE)","v":"Jäger Carlo"},{"$f":"VLOOKUP(D753,Kühe!$A$7:$G$150,2,FALSE)","v":"Maila"},52,30,{"$f":"VLOOKUP(E753,Kühe!$A$7:$G$150,2,FALSE)","v":"Dixence"},{"$f":"VLOOKUP(E753,Kühe!$A$7:$G$150,7,FALSE)","v":"Fux Wendelin, Jenny & Wyer Piet"}]
["2018-06-25",{"$f":"VLOOKUP(D754,Kühe!$A$7:$G$150,7,FALSE)","v":"Zumofen / Gattlen"},{"$f":"VLOOKUP(D754,Kühe!$A$7:$G$150,2,FALSE)","v":"Xena"},110,20,{"$f":"VLOOKUP(E754,Kühe!$A$7:$G$150,2,FALSE)","v":"Bijoux"},{"$f":"VLOOKUP(E754,Kühe!$A$7:$G$150,7,FALSE)","v":"Familie Leiggener"}]
["2018-06-25",{"$f":"VLOOKUP(D755,Kühe!$A$7:$G$150,7,FALSE)","v":"Jäger Carlo"},{"$f":"VLOOKUP(D755,Kühe!$A$7:$G$150,2,FALSE)","v":"Maila"},52,25,{"$f":"VLOOKUP(E755,Kühe!$A$7:$G$150,2,FALSE)","v":"Andora"},{"$f":"VLOOKUP(E755,Kühe!$A$7:$G$150,7,FALSE)","v":"Fux Wendelin, Jenny & Wyer Piet"}]
["2018-06-25",{"$f":"VLOOKUP(D756,Kühe!$A$7:$G$150,7,FALSE)","v":"Fux Wendelin, Jenny & Wyer Piet"},{"$f":"VLOOKUP(D756,Kühe!$A$7:$G$150,2,FALSE)","v":"Andora"},25,52,{"$f":"VLOOKUP(E756,Kühe!$A$7:$G$150,2,FALSE)","v":"Maila"},{"$f":"VLOOKUP(E756,Kühe!$A$7:$G$150,7,FALSE)","v":"Jäger Carlo"}]
["2018-06-25",{"$f":"VLOOKUP(D757,Kühe!$A$7:$G$150,7,FALSE)","v":"Bayard Medard & Gustav"},{"$f":"VLOOKUP(D757,Kühe!$A$7:$G$150,2,FALSE)","v":"Ramona"},4,43,{"$f":"VLOOKUP(E757,Kühe!$A$7:$G$150,2,FALSE)","v":"Dorina"},{"$f":"VLOOKUP(E757,Kühe!$A$7:$G$150,7,FALSE)","v":"Gebrüder Jäger"}]
["2018-06-25",{"$f":"VLOOKUP(D758,Kühe!$A$7:$G$150,7,FALSE)","v":"Bayard Medard & Gustav"},{"$f":"VLOOKUP(D758,Kühe!$A$7:$G$150,2,FALSE)","v":"Ramona"},4,69,{"$f":"VLOOKUP(E758,Kühe!$A$7:$G$150,2,FALSE)","v":"Manou"},{"$f":"VLOOKUP(E758,Kühe!$A$7:$G$150,7,FALSE)","v":"Stallung Passeraub"}]
["2018-06-25",{"$f":"VLOOKUP(D759,Kühe!$A$7:$G$150,7,FALSE)","v":"Mathieu Leander & Sascha"},{"$f":"VLOOKUP(D759,Kühe!$A$7:$G$150,2,FALSE)","v":"Bambino"},60,47,{"$f":"VLOOKUP(E759,Kühe!$A$7:$G$150,2,FALSE)","v":"Pablo"},{"$f":"VLOOKUP(E759,Kühe!$A$7:$G$150,7,FALSE)","v":"Hischier Pius"}]
["2018-06-24",{"$f":"VLOOKUP(D760,Kühe!$A$7:$G$150,7,FALSE)","v":"Mathieu Leander & Sascha"},{"$f":"VLOOKUP(D760,Kühe!$A$7:$G$150,2,FALSE)","v":"Bavaria"},62,55,{"$f":"VLOOKUP(E760,Kühe!$A$7:$G$150,2,FALSE)","v":"Papillon"},{"$f":"VLOOKUP(E760,Kühe!$A$7:$G$150,7,FALSE)","v":"Jäger Carlo"}]
["2018-06-24",{"$f":"VLOOKUP(D761,Kühe!$A$7:$G$150,7,FALSE)","v":"Familie Leiggener"},{"$f":"VLOOKUP(D761,Kühe!$A$7:$G$150,2,FALSE)","v":"Rebell"},23,56,{"$f":"VLOOKUP(E761,Kühe!$A$7:$G$150,2,FALSE)","v":"Pisa"},{"$f":"VLOOKUP(E761,Kühe!$A$7:$G$150,7,FALSE)","v":"Jäger Carlo"}]
["2018-06-24",{"$f":"VLOOKUP(D762,Kühe!$A$7:$G$150,7,FALSE)","v":"Williner  Anton"},{"$f":"VLOOKUP(D762,Kühe!$A$7:$G$150,2,FALSE)","v":"Vanessa"},91,49,{"$f":"VLOOKUP(E762,Kühe!$A$7:$G$150,2,FALSE)","v":"Shakira"},{"$f":"VLOOKUP(E762,Kühe!$A$7:$G$150,7,FALSE)","v":"Hischier Pius"}]
["2018-06-24",{"$f":"VLOOKUP(D763,Kühe!$A$7:$G$150,7,FALSE)","v":"Sewer Ralf & Thommen Steve"},{"$f":"VLOOKUP(D763,Kühe!$A$7:$G$150,2,FALSE)","v":"Tacona"},79,97,{"$f":"VLOOKUP(E763,Kühe!$A$7:$G$150,2,FALSE)","v":"Coucou"},{"$f":"VLOOKUP(E763,Kühe!$A$7:$G$150,7,FALSE)","v":"Familie Zumoberhaus"}]
["2018-06-24",{"$f":"VLOOKUP(D764,Kühe!$A$7:$G$150,7,FALSE)","v":"Familie Zumoberhaus"},{"$f":"VLOOKUP(D764,Kühe!$A$7:$G$150,2,FALSE)","v":"Napapiri"},99,36,{"$f":"VLOOKUP(E764,Kühe!$A$7:$G$150,2,FALSE)","v":"Valaisanne"},{"$f":"VLOOKUP(E764,Kühe!$A$7:$G$150,7,FALSE)","v":"Fux Wendelin, Jenny & Wyer Piet"}]
["2018-06-24",{"$f":"VLOOKUP(D765,Kühe!$A$7:$G$150,7,FALSE)","v":"Familie Zumoberhaus"},{"$f":"VLOOKUP(D765,Kühe!$A$7:$G$150,2,FALSE)","v":"Napapiri"},99,21,{"$f":"VLOOKUP(E765,Kühe!$A$7:$G$150,2,FALSE)","v":"Bulle"},{"$f":"VLOOKUP(E765,Kühe!$A$7:$G$150,7,FALSE)","v":"Familie Leiggener"}]
["2018-06-24",{"$f":"VLOOKUP(D766,Kühe!$A$7:$G$150,7,FALSE)","v":"Stallung zum Stäg"},{"$f":"VLOOKUP(D766,Kühe!$A$7:$G$150,2,FALSE)","v":"Pandora"},75,102,{"$f":"VLOOKUP(E766,Kühe!$A$7:$G$150,2,FALSE)","v":"Fayola"},{"$f":"VLOOKUP(E766,Kühe!$A$7:$G$150,7,FALSE)","v":"Zumofen / Gattlen"}]
["2018-06-24",{"$f":"VLOOKUP(D767,Kühe!$A$7:$G$150,7,FALSE)","v":"Wyssen Diego & Madlen"},{"$f":"VLOOKUP(D767,Kühe!$A$7:$G$150,2,FALSE)","v":"Xena"},95,52,{"$f":"VLOOKUP(E767,Kühe!$A$7:$G$150,2,FALSE)","v":"Maila"},{"$f":"VLOOKUP(E767,Kühe!$A$7:$G$150,7,FALSE)","v":"Jäger Carlo"}]
["2018-06-24",{"$f":"VLOOKUP(D768,Kühe!$A$7:$G$150,7,FALSE)","v":"Zumofen / Gattlen"},{"$f":"VLOOKUP(D768,Kühe!$A$7:$G$150,2,FALSE)","v":"Violin"},107,67,{"$f":"VLOOKUP(E768,Kühe!$A$7:$G$150,2,FALSE)","v":"Bombache"},{"$f":"VLOOKUP(E768,Kühe!$A$7:$G$150,7,FALSE)","v":"Stallung Passeraub"}]
["2018-06-24",{"$f":"VLOOKUP(D769,Kühe!$A$7:$G$150,7,FALSE)","v":"Stallung Passeraub"},{"$f":"VLOOKUP(D769,Kühe!$A$7:$G$150,2,FALSE)","v":"Bonita"},71,102,{"$f":"VLOOKUP(E769,Kühe!$A$7:$G$150,2,FALSE)","v":"Fayola"},{"$f":"VLOOKUP(E769,Kühe!$A$7:$G$150,7,FALSE)","v":"Zumofen / Gattlen"}]
["2018-06-24",{"$f":"VLOOKUP(D770,Kühe!$A$7:$G$150,7,FALSE)","v":"Williner  Anton"},{"$f":"VLOOKUP(D770,Kühe!$A$7:$G$150,2,FALSE)","v":"Vanessa"},91,69,{"$f":"VLOOKUP(E770,Kühe!$A$7:$G$150,2,FALSE)","v":"Manou"},{"$f":"VLOOKUP(E770,Kühe!$A$7:$G$150,7,FALSE)","v":"Stallung Passeraub"}]
["2018-06-24",{"$f":"VLOOKUP(D771,Kühe!$A$7:$G$150,7,FALSE)","v":"Bayard Medard & Gustav"},{"$f":"VLOOKUP(D771,Kühe!$A$7:$G$150,2,FALSE)","v":"Violette"},5,75,{"$f":"VLOOKUP(E771,Kühe!$A$7:$G$150,2,FALSE)","v":"Pandora"},{"$f":"VLOOKUP(E771,Kühe!$A$7:$G$150,7,FALSE)","v":"Stallung zum Stäg"}]
["2018-06-24",{"$f":"VLOOKUP(D772,Kühe!$A$7:$G$150,7,FALSE)","v":"Jäger Carlo"},{"$f":"VLOOKUP(D772,Kühe!$A$7:$G$150,2,FALSE)","v":"Paloma"},54,19,{"$f":"VLOOKUP(E772,Kühe!$A$7:$G$150,2,FALSE)","v":"Tiranie"},{"$f":"VLOOKUP(E772,Kühe!$A$7:$G$150,7,FALSE)","v":"Bregy Uli & Pascal"}]
["2018-06-24",{"$f":"VLOOKUP(D773,Kühe!$A$7:$G$150,7,FALSE)","v":"Jäger Carlo"},{"$f":"VLOOKUP(D773,Kühe!$A$7:$G$150,2,FALSE)","v":"Bandit"},50,81,{"$f":"VLOOKUP(E773,Kühe!$A$7:$G$150,2,FALSE)","v":"Tinea"},{"$f":"VLOOKUP(E773,Kühe!$A$7:$G$150,7,FALSE)","v":"Sewer Ralf & Thommen Steve"}]
["2018-06-24",{"$f":"VLOOKUP(D774,Kühe!$A$7:$G$150,7,FALSE)","v":"Fux Wendelin, Jenny & Wyer Piet"},{"$f":"VLOOKUP(D774,Kühe!$A$7:$G$150,2,FALSE)","v":"Bresil"},28,55,{"$f":"VLOOKUP(E774,Kühe!$A$7:$G$150,2,FALSE)","v":"Papillon"},{"$f":"VLOOKUP(E774,Kühe!$A$7:$G$150,7,FALSE)","v":"Jäger Carlo"}]
["2018-06-24",{"$f":"VLOOKUP(D775,Kühe!$A$7:$G$150,7,FALSE)","v":"Zumofen / Gattlen"},{"$f":"VLOOKUP(D775,Kühe!$A$7:$G$150,2,FALSE)","v":"Fayola"},102,74,{"$f":"VLOOKUP(E775,Kühe!$A$7:$G$150,2,FALSE)","v":"Diaries"},{"$f":"VLOOKUP(E775,Kühe!$A$7:$G$150,7,FALSE)","v":"Stallung zum Stäg"}]
["2018-06-24",{"$f":"VLOOKUP(D776,Kühe!$A$7:$G$150,7,FALSE)","v":"Bregy Uli & Pascal"},{"$f":"VLOOKUP(D776,Kühe!$A$7:$G$150,2,FALSE)","v":"Calin"},14,75,{"$f":"VLOOKUP(E776,Kühe!$A$7:$G$150,2,FALSE)","v":"Pandora"},{"$f":"VLOOKUP(E776,Kühe!$A$7:$G$150,7,FALSE)","v":"Stallung zum Stäg"}]
["2018-06-24",{"$f":"VLOOKUP(D777,Kühe!$A$7:$G$150,7,FALSE)","v":"Stallung Passeraub"},{"$f":"VLOOKUP(D777,Kühe!$A$7:$G$150,2,FALSE)","v":"Medusa"},70,81,{"$f":"VLOOKUP(E777,Kühe!$A$7:$G$150,2,FALSE)","v":"Tinea"},{"$f":"VLOOKUP(E777,Kühe!$A$7:$G$150,7,FALSE)","v":"Sewer Ralf & Thommen Steve"}]
["2018-06-24",{"$f":"VLOOKUP(D778,Kühe!$A$7:$G$150,7,FALSE)","v":"Jäger Carlo"},{"$f":"VLOOKUP(D778,Kühe!$A$7:$G$150,2,FALSE)","v":"Maila"},52,36,{"$f":"VLOOKUP(E778,Kühe!$A$7:$G$150,2,FALSE)","v":"Valaisanne"},{"$f":"VLOOKUP(E778,Kühe!$A$7:$G$150,7,FALSE)","v":"Fux Wendelin, Jenny & Wyer Piet"}]
["2018-06-24",{"$f":"VLOOKUP(D779,Kühe!$A$7:$G$150,7,FALSE)","v":"Jäger Carlo"},{"$f":"VLOOKUP(D779,Kühe!$A$7:$G$150,2,FALSE)","v":"Mirtille"},53,35,{"$f":"VLOOKUP(E779,Kühe!$A$7:$G$150,2,FALSE)","v":"Souris"},{"$f":"VLOOKUP(E779,Kühe!$A$7:$G$150,7,FALSE)","v":"Fux Wendelin, Jenny & Wyer Piet"}]
["2018-06-24",{"$f":"VLOOKUP(D780,Kühe!$A$7:$G$150,7,FALSE)","v":"Jäger Carlo"},{"$f":"VLOOKUP(D780,Kühe!$A$7:$G$150,2,FALSE)","v":"Promise"},57,103,{"$f":"VLOOKUP(E780,Kühe!$A$7:$G$150,2,FALSE)","v":"Milou"},{"$f":"VLOOKUP(E780,Kühe!$A$7:$G$150,7,FALSE)","v":"Zumofen / Gattlen"}]
["2018-06-24",{"$f":"VLOOKUP(D781,Kühe!$A$7:$G$150,7,FALSE)","v":"Familie Zumoberhaus"},{"$f":"VLOOKUP(D781,Kühe!$A$7:$G$150,2,FALSE)","v":"Napapiri"},99,40,{"$f":"VLOOKUP(E781,Kühe!$A$7:$G$150,2,FALSE)","v":"Barilona"},{"$f":"VLOOKUP(E781,Kühe!$A$7:$G$150,7,FALSE)","v":"Gebrüder Jäger"}]
["2018-06-24",{"$f":"VLOOKUP(D782,Kühe!$A$7:$G$150,7,FALSE)","v":"Zumofen / Gattlen"},{"$f":"VLOOKUP(D782,Kühe!$A$7:$G$150,2,FALSE)","v":"Fayola"},102,88,{"$f":"VLOOKUP(E782,Kühe!$A$7:$G$150,2,FALSE)","v":"Colonell"},{"$f":"VLOOKUP(E782,Kühe!$A$7:$G$150,7,FALSE)","v":"Williner  Anton"}]
["2018-06-24",{"$f":"VLOOKUP(D783,Kühe!$A$7:$G$150,7,FALSE)","v":"Gebrüder Jäger"},{"$f":"VLOOKUP(D783,Kühe!$A$7:$G$150,2,FALSE)","v":"Barilona"},40,65,{"$f":"VLOOKUP(E783,Kühe!$A$7:$G$150,2,FALSE)","v":"Baghera"},{"$f":"VLOOKUP(E783,Kühe!$A$7:$G$150,7,FALSE)","v":"Stallung Passeraub"}]
["2018-06-24",{"$f":"VLOOKUP(D784,Kühe!$A$7:$G$150,7,FALSE)","v":"Hutter Richard"},{"$f":"VLOOKUP(D784,Kühe!$A$7:$G$150,2,FALSE)","v":"Mirette"},72,54,{"$f":"VLOOKUP(E784,Kühe!$A$7:$G$150,2,FALSE)","v":"Paloma"},{"$f":"VLOOKUP(E784,Kühe!$A$7:$G$150,7,FALSE)","v":"Jäger Carlo"}]
["2018-06-24",{"$f":"VLOOKUP(D785,Kühe!$A$7:$G$150,7,FALSE)","v":"Gebrüder Jäger"},{"$f":"VLOOKUP(D785,Kühe!$A$7:$G$150,2,FALSE)","v":"Dorina"},43,67,{"$f":"VLOOKUP(E785,Kühe!$A$7:$G$150,2,FALSE)","v":"Bombache"},{"$f":"VLOOKUP(E785,Kühe!$A$7:$G$150,7,FALSE)","v":"Stallung Passeraub"}]
["2018-06-24",{"$f":"VLOOKUP(D786,Kühe!$A$7:$G$150,7,FALSE)","v":"Fux Wendelin, Jenny & Wyer Piet"},{"$f":"VLOOKUP(D786,Kühe!$A$7:$G$150,2,FALSE)","v":"Pigalle"},32,17,{"$f":"VLOOKUP(E786,Kühe!$A$7:$G$150,2,FALSE)","v":"Pandora"},{"$f":"VLOOKUP(E786,Kühe!$A$7:$G$150,7,FALSE)","v":"Bregy Uli & Pascal"}]
["2018-06-24",{"$f":"VLOOKUP(D787,Kühe!$A$7:$G$150,7,FALSE)","v":"Gebrüder Jäger"},{"$f":"VLOOKUP(D787,Kühe!$A$7:$G$150,2,FALSE)","v":"Dorina"},43,34,{"$f":"VLOOKUP(E787,Kühe!$A$7:$G$150,2,FALSE)","v":"Scarlette"},{"$f":"VLOOKUP(E787,Kühe!$A$7:$G$150,7,FALSE)","v":"Fux Wendelin, Jenny & Wyer Piet"}]
["2018-06-24",{"$f":"VLOOKUP(D788,Kühe!$A$7:$G$150,7,FALSE)","v":"Williner  Anton"},{"$f":"VLOOKUP(D788,Kühe!$A$7:$G$150,2,FALSE)","v":"Vanessa"},91,57,{"$f":"VLOOKUP(E788,Kühe!$A$7:$G$150,2,FALSE)","v":"Promise"},{"$f":"VLOOKUP(E788,Kühe!$A$7:$G$150,7,FALSE)","v":"Jäger Carlo"}]
["2018-06-24",{"$f":"VLOOKUP(D789,Kühe!$A$7:$G$150,7,FALSE)","v":"Gebrüder Jäger"},{"$f":"VLOOKUP(D789,Kühe!$A$7:$G$150,2,FALSE)","v":"Tiger"},42,62,{"$f":"VLOOKUP(E789,Kühe!$A$7:$G$150,2,FALSE)","v":"Bavaria"},{"$f":"VLOOKUP(E789,Kühe!$A$7:$G$150,7,FALSE)","v":"Mathieu Leander & Sascha"}]
["2018-06-24",{"$f":"VLOOKUP(D790,Kühe!$A$7:$G$150,7,FALSE)","v":"Fux Wendelin, Jenny & Wyer Piet"},{"$f":"VLOOKUP(D790,Kühe!$A$7:$G$150,2,FALSE)","v":"Souris"},35,43,{"$f":"VLOOKUP(E790,Kühe!$A$7:$G$150,2,FALSE)","v":"Dorina"},{"$f":"VLOOKUP(E790,Kühe!$A$7:$G$150,7,FALSE)","v":"Gebrüder Jäger"}]
["2018-06-24",{"$f":"VLOOKUP(D791,Kühe!$A$7:$G$150,7,FALSE)","v":"Bayard Medard & Gustav"},{"$f":"VLOOKUP(D791,Kühe!$A$7:$G$150,2,FALSE)","v":"Violette"},5,66,{"$f":"VLOOKUP(E791,Kühe!$A$7:$G$150,2,FALSE)","v":"Bobino"},{"$f":"VLOOKUP(E791,Kühe!$A$7:$G$150,7,FALSE)","v":"Stallung Passeraub"}]
["2018-06-24",{"$f":"VLOOKUP(D792,Kühe!$A$7:$G$150,7,FALSE)","v":"Mathieu Leander & Sascha"},{"$f":"VLOOKUP(D792,Kühe!$A$7:$G$150,2,FALSE)","v":"Bavaria"},62,68,{"$f":"VLOOKUP(E792,Kühe!$A$7:$G$150,2,FALSE)","v":"Bulle"},{"$f":"VLOOKUP(E792,Kühe!$A$7:$G$150,7,FALSE)","v":"Stallung Passeraub"}]
["2018-06-24",{"$f":"VLOOKUP(D793,Kühe!$A$7:$G$150,7,FALSE)","v":"Familie Leiggener"},{"$f":"VLOOKUP(D793,Kühe!$A$7:$G$150,2,FALSE)","v":"Bulle"},21,19,{"$f":"VLOOKUP(E793,Kühe!$A$7:$G$150,2,FALSE)","v":"Tiranie"},{"$f":"VLOOKUP(E793,Kühe!$A$7:$G$150,7,FALSE)","v":"Bregy Uli & Pascal"}]
["2018-06-24",{"$f":"VLOOKUP(D794,Kühe!$A$7:$G$150,7,FALSE)","v":"Gebrüder Jäger"},{"$f":"VLOOKUP(D794,Kühe!$A$7:$G$150,2,FALSE)","v":"Tirana"},38,22,{"$f":"VLOOKUP(E794,Kühe!$A$7:$G$150,2,FALSE)","v":"Rambo"},{"$f":"VLOOKUP(E794,Kühe!$A$7:$G$150,7,FALSE)","v":"Familie Leiggener"}]
["2018-06-24",{"$f":"VLOOKUP(D795,Kühe!$A$7:$G$150,7,FALSE)","v":"Bayard Medard & Gustav"},{"$f":"VLOOKUP(D795,Kühe!$A$7:$G$150,2,FALSE)","v":"Violette"},5,64,{"$f":"VLOOKUP(E795,Kühe!$A$7:$G$150,2,FALSE)","v":"Bonita"},{"$f":"VLOOKUP(E795,Kühe!$A$7:$G$150,7,FALSE)","v":"Mathieu Leander & Sascha"}]
["2018-06-23",{"$f":"VLOOKUP(D796,Kühe!$A$7:$G$150,7,FALSE)","v":"Fux Wendelin, Jenny & Wyer Piet"},{"$f":"VLOOKUP(D796,Kühe!$A$7:$G$150,2,FALSE)","v":"Bolero"},27,59,{"$f":"VLOOKUP(E796,Kühe!$A$7:$G$150,2,FALSE)","v":"Baghira"},{"$f":"VLOOKUP(E796,Kühe!$A$7:$G$150,7,FALSE)","v":"Mathieu Leander & Sascha"}]
["2018-06-23",{"$f":"VLOOKUP(D797,Kühe!$A$7:$G$150,7,FALSE)","v":"Zumofen / Gattlen"},{"$f":"VLOOKUP(D797,Kühe!$A$7:$G$150,2,FALSE)","v":"Fayola"},102,62,{"$f":"VLOOKUP(E797,Kühe!$A$7:$G$150,2,FALSE)","v":"Bavaria"},{"$f":"VLOOKUP(E797,Kühe!$A$7:$G$150,7,FALSE)","v":"Mathieu Leander & Sascha"}]
["2018-06-23",{"$f":"VLOOKUP(D798,Kühe!$A$7:$G$150,7,FALSE)","v":"Gebrüder Jäger"},{"$f":"VLOOKUP(D798,Kühe!$A$7:$G$150,2,FALSE)","v":"Lorens"},46,19,{"$f":"VLOOKUP(E798,Kühe!$A$7:$G$150,2,FALSE)","v":"Tiranie"},{"$f":"VLOOKUP(E798,Kühe!$A$7:$G$150,7,FALSE)","v":"Bregy Uli & Pascal"}]
["2018-06-23",{"$f":"VLOOKUP(D799,Kühe!$A$7:$G$150,7,FALSE)","v":"Gebrüder Jäger"},{"$f":"VLOOKUP(D799,Kühe!$A$7:$G$150,2,FALSE)","v":"Tirana"},38,17,{"$f":"VLOOKUP(E799,Kühe!$A$7:$G$150,2,FALSE)","v":"Pandora"},{"$f":"VLOOKUP(E799,Kühe!$A$7:$G$150,7,FALSE)","v":"Bregy Uli & Pascal"}]
["2018-06-23",{"$f":"VLOOKUP(D800,Kühe!$A$7:$G$150,7,FALSE)","v":"Familie Leiggener"},{"$f":"VLOOKUP(D800,Kühe!$A$7:$G$150,2,FALSE)","v":"Bulle"},21,17,{"$f":"VLOOKUP(E800,Kühe!$A$7:$G$150,2,FALSE)","v":"Pandora"},{"$f":"VLOOKUP(E800,Kühe!$A$7:$G$150,7,FALSE)","v":"Bregy Uli & Pascal"}]
["2018-06-23",{"$f":"VLOOKUP(D801,Kühe!$A$7:$G$150,7,FALSE)","v":"Familie Leiggener"},{"$f":"VLOOKUP(D801,Kühe!$A$7:$G$150,2,FALSE)","v":"Rambo"},22,89,{"$f":"VLOOKUP(E801,Kühe!$A$7:$G$150,2,FALSE)","v":"Diva"},{"$f":"VLOOKUP(E801,Kühe!$A$7:$G$150,7,FALSE)","v":"Williner  Anton"}]
["2018-06-23",{"$f":"VLOOKUP(D802,Kühe!$A$7:$G$150,7,FALSE)","v":"Fux Wendelin, Jenny & Wyer Piet"},{"$f":"VLOOKUP(D802,Kühe!$A$7:$G$150,2,FALSE)","v":"Pigalle"},32,15,{"$f":"VLOOKUP(E802,Kühe!$A$7:$G$150,2,FALSE)","v":"Catalina"},{"$f":"VLOOKUP(E802,Kühe!$A$7:$G$150,7,FALSE)","v":"Bregy Uli & Pascal"}]
["2018-06-23",{"$f":"VLOOKUP(D803,Kühe!$A$7:$G$150,7,FALSE)","v":"Fux Wendelin, Jenny & Wyer Piet"},{"$f":"VLOOKUP(D803,Kühe!$A$7:$G$150,2,FALSE)","v":"Pigalle"},32,40,{"$f":"VLOOKUP(E803,Kühe!$A$7:$G$150,2,FALSE)","v":"Barilona"},{"$f":"VLOOKUP(E803,Kühe!$A$7:$G$150,7,FALSE)","v":"Gebrüder Jäger"}]
["2018-06-23",{"$f":"VLOOKUP(D804,Kühe!$A$7:$G$150,7,FALSE)","v":"Wyssen Diego & Madlen"},{"$f":"VLOOKUP(D804,Kühe!$A$7:$G$150,2,FALSE)","v":"Xanja"},94,3,{"$f":"VLOOKUP(E804,Kühe!$A$7:$G$150,2,FALSE)","v":"Pinka"},{"$f":"VLOOKUP(E804,Kühe!$A$7:$G$150,7,FALSE)","v":"Bayard Medard & Gustav"}]
["2018-06-23",{"$f":"VLOOKUP(D805,Kühe!$A$7:$G$150,7,FALSE)","v":"Mathieu Leander & Sascha"},{"$f":"VLOOKUP(D805,Kühe!$A$7:$G$150,2,FALSE)","v":"Bonita"},64,93,{"$f":"VLOOKUP(E805,Kühe!$A$7:$G$150,2,FALSE)","v":"Shagiri"},{"$f":"VLOOKUP(E805,Kühe!$A$7:$G$150,7,FALSE)","v":"Wyssen Diego & Madlen"}]
["2018-06-23",{"$f":"VLOOKUP(D806,Kühe!$A$7:$G$150,7,FALSE)","v":"Zumofen / Gattlen"},{"$f":"VLOOKUP(D806,Kühe!$A$7:$G$150,2,FALSE)","v":"Fangjo"},101,47,{"$f":"VLOOKUP(E806,Kühe!$A$7:$G$150,2,FALSE)","v":"Pablo"},{"$f":"VLOOKUP(E806,Kühe!$A$7:$G$150,7,FALSE)","v":"Hischier Pius"}]
["2018-06-23",{"$f":"VLOOKUP(D807,Kühe!$A$7:$G$150,7,FALSE)","v":"Williner  Anton"},{"$f":"VLOOKUP(D807,Kühe!$A$7:$G$150,2,FALSE)","v":"Diva"},89,56,{"$f":"VLOOKUP(E807,Kühe!$A$7:$G$150,2,FALSE)","v":"Pisa"},{"$f":"VLOOKUP(E807,Kühe!$A$7:$G$150,7,FALSE)","v":"Jäger Carlo"}]
["2018-06-23",{"$f":"VLOOKUP(D808,Kühe!$A$7:$G$150,7,FALSE)","v":"Bregy Uli & Pascal"},{"$f":"VLOOKUP(D808,Kühe!$A$7:$G$150,2,FALSE)","v":"Tiranie"},19,42,{"$f":"VLOOKUP(E808,Kühe!$A$7:$G$150,2,FALSE)","v":"Tiger"},{"$f":"VLOOKUP(E808,Kühe!$A$7:$G$150,7,FALSE)","v":"Gebrüder Jäger"}]
["2018-06-23",{"$f":"VLOOKUP(D809,Kühe!$A$7:$G$150,7,FALSE)","v":"Zumofen / Gattlen"},{"$f":"VLOOKUP(D809,Kühe!$A$7:$G$150,2,FALSE)","v":"Xena"},110,44,{"$f":"VLOOKUP(E809,Kühe!$A$7:$G$150,2,FALSE)","v":"Tamango"},{"$f":"VLOOKUP(E809,Kühe!$A$7:$G$150,7,FALSE)","v":"Gebrüder Jäger"}]
["2018-06-23",{"$f":"VLOOKUP(D810,Kühe!$A$7:$G$150,7,FALSE)","v":"Gebrüder Jäger"},{"$f":"VLOOKUP(D810,Kühe!$A$7:$G$150,2,FALSE)","v":"Tamango"},44,53,{"$f":"VLOOKUP(E810,Kühe!$A$7:$G$150,2,FALSE)","v":"Mirtille"},{"$f":"VLOOKUP(E810,Kühe!$A$7:$G$150,7,FALSE)","v":"Jäger Carlo"}]
["2018-06-23",{"$f":"VLOOKUP(D811,Kühe!$A$7:$G$150,7,FALSE)","v":"Wyssen Diego & Madlen"},{"$f":"VLOOKUP(D811,Kühe!$A$7:$G$150,2,FALSE)","v":"Shagiri"},93,40,{"$f":"VLOOKUP(E811,Kühe!$A$7:$G$150,2,FALSE)","v":"Barilona"},{"$f":"VLOOKUP(E811,Kühe!$A$7:$G$150,7,FALSE)","v":"Gebrüder Jäger"}]
["2018-06-23",{"$f":"VLOOKUP(D812,Kühe!$A$7:$G$150,7,FALSE)","v":"Bregy Uli & Pascal"},{"$f":"VLOOKUP(D812,Kühe!$A$7:$G$150,2,FALSE)","v":"Pandora"},17,62,{"$f":"VLOOKUP(E812,Kühe!$A$7:$G$150,2,FALSE)","v":"Bavaria"},{"$f":"VLOOKUP(E812,Kühe!$A$7:$G$150,7,FALSE)","v":"Mathieu Leander & Sascha"}]
["2018-06-23",{"$f":"VLOOKUP(D813,Kühe!$A$7:$G$150,7,FALSE)","v":"Williner  Anton"},{"$f":"VLOOKUP(D813,Kühe!$A$7:$G$150,2,FALSE)","v":"Vanessa"},91,62,{"$f":"VLOOKUP(E813,Kühe!$A$7:$G$150,2,FALSE)","v":"Bavaria"},{"$f":"VLOOKUP(E813,Kühe!$A$7:$G$150,7,FALSE)","v":"Mathieu Leander & Sascha"}]
["2018-06-23",{"$f":"VLOOKUP(D814,Kühe!$A$7:$G$150,7,FALSE)","v":"Williner  Anton"},{"$f":"VLOOKUP(D814,Kühe!$A$7:$G$150,2,FALSE)","v":"Tira"},90,17,{"$f":"VLOOKUP(E814,Kühe!$A$7:$G$150,2,FALSE)","v":"Pandora"},{"$f":"VLOOKUP(E814,Kühe!$A$7:$G$150,7,FALSE)","v":"Bregy Uli & Pascal"}]
["2018-06-23",{"$f":"VLOOKUP(D815,Kühe!$A$7:$G$150,7,FALSE)","v":"Bregy Ralf & Adolf"},{"$f":"VLOOKUP(D815,Kühe!$A$7:$G$150,2,FALSE)","v":"Creola"},8,14,{"$f":"VLOOKUP(E815,Kühe!$A$7:$G$150,2,FALSE)","v":"Calin"},{"$f":"VLOOKUP(E815,Kühe!$A$7:$G$150,7,FALSE)","v":"Bregy Uli & Pascal"}]
["2018-06-23",{"$f":"VLOOKUP(D816,Kühe!$A$7:$G$150,7,FALSE)","v":"Bregy Ralf & Adolf"},{"$f":"VLOOKUP(D816,Kühe!$A$7:$G$150,2,FALSE)","v":"Creola"},8,110,{"$f":"VLOOKUP(E816,Kühe!$A$7:$G$150,2,FALSE)","v":"Xena"},{"$f":"VLOOKUP(E816,Kühe!$A$7:$G$150,7,FALSE)","v":"Zumofen / Gattlen"}]
["2018-06-23",{"$f":"VLOOKUP(D817,Kühe!$A$7:$G$150,7,FALSE)","v":"Bregy Patrick & Silvan"},{"$f":"VLOOKUP(D817,Kühe!$A$7:$G$150,2,FALSE)","v":"Tequilla"},13,64,{"$f":"VLOOKUP(E817,Kühe!$A$7:$G$150,2,FALSE)","v":"Bonita"},{"$f":"VLOOKUP(E817,Kühe!$A$7:$G$150,7,FALSE)","v":"Mathieu Leander & Sascha"}]
["2018-06-23",{"$f":"VLOOKUP(D818,Kühe!$A$7:$G$150,7,FALSE)","v":"Zumofen / Gattlen"},{"$f":"VLOOKUP(D818,Kühe!$A$7:$G$150,2,FALSE)","v":"Violin"},107,13,{"$f":"VLOOKUP(E818,Kühe!$A$7:$G$150,2,FALSE)","v":"Tequilla"},{"$f":"VLOOKUP(E818,Kühe!$A$7:$G$150,7,FALSE)","v":"Bregy Patrick & Silvan"}]
["2018-06-23",{"$f":"VLOOKUP(D819,Kühe!$A$7:$G$150,7,FALSE)","v":"Fux Wendelin, Jenny & Wyer Piet"},{"$f":"VLOOKUP(D819,Kühe!$A$7:$G$150,2,FALSE)","v":"Souris"},35,64,{"$f":"VLOOKUP(E819,Kühe!$A$7:$G$150,2,FALSE)","v":"Bonita"},{"$f":"VLOOKUP(E819,Kühe!$A$7:$G$150,7,FALSE)","v":"Mathieu Leander & Sascha"}]
["2018-06-22",{"$f":"VLOOKUP(D820,Kühe!$A$7:$G$150,7,FALSE)","v":"Fux Wendelin, Jenny & Wyer Piet"},{"$f":"VLOOKUP(D820,Kühe!$A$7:$G$150,2,FALSE)","v":"Mystic"},31,101,{"$f":"VLOOKUP(E820,Kühe!$A$7:$G$150,2,FALSE)","v":"Fangjo"},{"$f":"VLOOKUP(E820,Kühe!$A$7:$G$150,7,FALSE)","v":"Zumofen / Gattlen"}]
["2018-06-22",{"$f":"VLOOKUP(D821,Kühe!$A$7:$G$150,7,FALSE)","v":"Familie Leiggener"},{"$f":"VLOOKUP(D821,Kühe!$A$7:$G$150,2,FALSE)","v":"Rebell"},23,67,{"$f":"VLOOKUP(E821,Kühe!$A$7:$G$150,2,FALSE)","v":"Bombache"},{"$f":"VLOOKUP(E821,Kühe!$A$7:$G$150,7,FALSE)","v":"Stallung Passeraub"}]
["2018-06-22",{"$f":"VLOOKUP(D822,Kühe!$A$7:$G$150,7,FALSE)","v":"Familie Leiggener"},{"$f":"VLOOKUP(D822,Kühe!$A$7:$G$150,2,FALSE)","v":"Rebell"},23,67,{"$f":"VLOOKUP(E822,Kühe!$A$7:$G$150,2,FALSE)","v":"Bombache"},{"$f":"VLOOKUP(E822,Kühe!$A$7:$G$150,7,FALSE)","v":"Stallung Passeraub"}]
["2018-06-22",{"$f":"VLOOKUP(D823,Kühe!$A$7:$G$150,7,FALSE)","v":"Zumofen / Gattlen"},{"$f":"VLOOKUP(D823,Kühe!$A$7:$G$150,2,FALSE)","v":"Akhira"},100,45,{"$f":"VLOOKUP(E823,Kühe!$A$7:$G$150,2,FALSE)","v":"Taylor"},{"$f":"VLOOKUP(E823,Kühe!$A$7:$G$150,7,FALSE)","v":"Gebrüder Jäger"}]
["2018-06-22",{"$f":"VLOOKUP(D824,Kühe!$A$7:$G$150,7,FALSE)","v":"Bregy Uli & Pascal"},{"$f":"VLOOKUP(D824,Kühe!$A$7:$G$150,2,FALSE)","v":"Souki"},18,8,{"$f":"VLOOKUP(E824,Kühe!$A$7:$G$150,2,FALSE)","v":"Creola"},{"$f":"VLOOKUP(E824,Kühe!$A$7:$G$150,7,FALSE)","v":"Bregy Ralf & Adolf"}]
["2018-06-22",{"$f":"VLOOKUP(D825,Kühe!$A$7:$G$150,7,FALSE)","v":"Sewer Ralf & Thommen Steve"},{"$f":"VLOOKUP(D825,Kühe!$A$7:$G$150,2,FALSE)","v":"Tacona"},79,30,{"$f":"VLOOKUP(E825,Kühe!$A$7:$G$150,2,FALSE)","v":"Dixence"},{"$f":"VLOOKUP(E825,Kühe!$A$7:$G$150,7,FALSE)","v":"Fux Wendelin, Jenny & Wyer Piet"}]
["2018-06-22",{"$f":"VLOOKUP(D826,Kühe!$A$7:$G$150,7,FALSE)","v":"Mathieu Leander & Sascha"},{"$f":"VLOOKUP(D826,Kühe!$A$7:$G$150,2,FALSE)","v":"Bonita"},64,84,{"$f":"VLOOKUP(E826,Kühe!$A$7:$G$150,2,FALSE)","v":"Cobra"},{"$f":"VLOOKUP(E826,Kühe!$A$7:$G$150,7,FALSE)","v":"Tscherry Erwin & Bernhard"}]
["2018-06-22",{"$f":"VLOOKUP(D827,Kühe!$A$7:$G$150,7,FALSE)","v":"Jäger Carlo"},{"$f":"VLOOKUP(D827,Kühe!$A$7:$G$150,2,FALSE)","v":"Paloma"},54,28,{"$f":"VLOOKUP(E827,Kühe!$A$7:$G$150,2,FALSE)","v":"Bresil"},{"$f":"VLOOKUP(E827,Kühe!$A$7:$G$150,7,FALSE)","v":"Fux Wendelin, Jenny & Wyer Piet"}]
["2018-06-22",{"$f":"VLOOKUP(D828,Kühe!$A$7:$G$150,7,FALSE)","v":"Tscherry Erwin & Bernhard"},{"$f":"VLOOKUP(D828,Kühe!$A$7:$G$150,2,FALSE)","v":"Cobra"},84,82,{"$f":"VLOOKUP(E828,Kühe!$A$7:$G$150,2,FALSE)","v":"Carolin"},{"$f":"VLOOKUP(E828,Kühe!$A$7:$G$150,7,FALSE)","v":"Tscherry Erwin & Bernhard"}]
["2018-06-22",{"$f":"VLOOKUP(D829,Kühe!$A$7:$G$150,7,FALSE)","v":"Fux Wendelin, Jenny & Wyer Piet"},{"$f":"VLOOKUP(D829,Kühe!$A$7:$G$150,2,FALSE)","v":"Valaisanne"},36,13,{"$f":"VLOOKUP(E829,Kühe!$A$7:$G$150,2,FALSE)","v":"Tequilla"},{"$f":"VLOOKUP(E829,Kühe!$A$7:$G$150,7,FALSE)","v":"Bregy Patrick & Silvan"}]
["2018-06-22",{"$f":"VLOOKUP(D830,Kühe!$A$7:$G$150,7,FALSE)","v":"Familie Leiggener"},{"$f":"VLOOKUP(D830,Kühe!$A$7:$G$150,2,FALSE)","v":"Rambo"},22,39,{"$f":"VLOOKUP(E830,Kühe!$A$7:$G$150,2,FALSE)","v":"Bandit"},{"$f":"VLOOKUP(E830,Kühe!$A$7:$G$150,7,FALSE)","v":"Gebrüder Jäger"}]
["2018-06-22",{"$f":"VLOOKUP(D831,Kühe!$A$7:$G$150,7,FALSE)","v":"Bregy Ralf & Adolf"},{"$f":"VLOOKUP(D831,Kühe!$A$7:$G$150,2,FALSE)","v":"Canaille"},7,105,{"$f":"VLOOKUP(E831,Kühe!$A$7:$G$150,2,FALSE)","v":"Puma"},{"$f":"VLOOKUP(E831,Kühe!$A$7:$G$150,7,FALSE)","v":"Zumofen / Gattlen"}]
["2018-06-22",{"$f":"VLOOKUP(D832,Kühe!$A$7:$G$150,7,FALSE)","v":"Stallung Passeraub"},{"$f":"VLOOKUP(D832,Kühe!$A$7:$G$150,2,FALSE)","v":"Bombache"},67,16,{"$f":"VLOOKUP(E832,Kühe!$A$7:$G$150,2,FALSE)","v":"Cora"},{"$f":"VLOOKUP(E832,Kühe!$A$7:$G$150,7,FALSE)","v":"Bregy Uli & Pascal"}]
["2018-06-22",{"$f":"VLOOKUP(D833,Kühe!$A$7:$G$150,7,FALSE)","v":"Zumofen / Gattlen"},{"$f":"VLOOKUP(D833,Kühe!$A$7:$G$150,2,FALSE)","v":"Xena"},110,9,{"$f":"VLOOKUP(E833,Kühe!$A$7:$G$150,2,FALSE)","v":"Flacari"},{"$f":"VLOOKUP(E833,Kühe!$A$7:$G$150,7,FALSE)","v":"Bregy Ralf & Adolf"}]
["2018-06-22",{"$f":"VLOOKUP(D834,Kühe!$A$7:$G$150,7,FALSE)","v":"Gebrüder Jäger"},{"$f":"VLOOKUP(D834,Kühe!$A$7:$G$150,2,FALSE)","v":"Tirana"},38,27,{"$f":"VLOOKUP(E834,Kühe!$A$7:$G$150,2,FALSE)","v":"Bolero"},{"$f":"VLOOKUP(E834,Kühe!$A$7:$G$150,7,FALSE)","v":"Fux Wendelin, Jenny & Wyer Piet"}]
["2018-06-22",{"$f":"VLOOKUP(D835,Kühe!$A$7:$G$150,7,FALSE)","v":"Bregy Ralf & Adolf"},{"$f":"VLOOKUP(D835,Kühe!$A$7:$G$150,2,FALSE)","v":"Lacoste"},10,105,{"$f":"VLOOKUP(E835,Kühe!$A$7:$G$150,2,FALSE)","v":"Puma"},{"$f":"VLOOKUP(E835,Kühe!$A$7:$G$150,7,FALSE)","v":"Zumofen / Gattlen"}]
["2018-06-22",{"$f":"VLOOKUP(D836,Kühe!$A$7:$G$150,7,FALSE)","v":"Mathieu Leander & Sascha"},{"$f":"VLOOKUP(D836,Kühe!$A$7:$G$150,2,FALSE)","v":"Baghira"},59,50,{"$f":"VLOOKUP(E836,Kühe!$A$7:$G$150,2,FALSE)","v":"Bandit"},{"$f":"VLOOKUP(E836,Kühe!$A$7:$G$150,7,FALSE)","v":"Jäger Carlo"}]
["2018-06-22",{"$f":"VLOOKUP(D837,Kühe!$A$7:$G$150,7,FALSE)","v":"Fux Wendelin, Jenny & Wyer Piet"},{"$f":"VLOOKUP(D837,Kühe!$A$7:$G$150,2,FALSE)","v":"Bolero"},27,80,{"$f":"VLOOKUP(E837,Kühe!$A$7:$G$150,2,FALSE)","v":"Tiara"},{"$f":"VLOOKUP(E837,Kühe!$A$7:$G$150,7,FALSE)","v":"Sewer Ralf & Thommen Steve"}]
["2018-06-22",{"$f":"VLOOKUP(D838,Kühe!$A$7:$G$150,7,FALSE)","v":"Jäger Carlo"},{"$f":"VLOOKUP(D838,Kühe!$A$7:$G$150,2,FALSE)","v":"Mirtille"},53,42,{"$f":"VLOOKUP(E838,Kühe!$A$7:$G$150,2,FALSE)","v":"Tiger"},{"$f":"VLOOKUP(E838,Kühe!$A$7:$G$150,7,FALSE)","v":"Gebrüder Jäger"}]
["2018-06-22",{"$f":"VLOOKUP(D839,Kühe!$A$7:$G$150,7,FALSE)","v":"Bregy Ralf & Adolf"},{"$f":"VLOOKUP(D839,Kühe!$A$7:$G$150,2,FALSE)","v":"Flacari"},9,4,{"$f":"VLOOKUP(E839,Kühe!$A$7:$G$150,2,FALSE)","v":"Ramona"},{"$f":"VLOOKUP(E839,Kühe!$A$7:$G$150,7,FALSE)","v":"Bayard Medard & Gustav"}]
["2018-06-22",{"$f":"VLOOKUP(D840,Kühe!$A$7:$G$150,7,FALSE)","v":"Bayard Medard & Gustav"},{"$f":"VLOOKUP(D840,Kühe!$A$7:$G$150,2,FALSE)","v":"Ramona"},4,53,{"$f":"VLOOKUP(E840,Kühe!$A$7:$G$150,2,FALSE)","v":"Mirtille"},{"$f":"VLOOKUP(E840,Kühe!$A$7:$G$150,7,FALSE)","v":"Jäger Carlo"}]
["2018-06-22",{"$f":"VLOOKUP(D841,Kühe!$A$7:$G$150,7,FALSE)","v":"Fux Wendelin, Jenny & Wyer Piet"},{"$f":"VLOOKUP(D841,Kühe!$A$7:$G$150,2,FALSE)","v":"Dixence"},30,80,{"$f":"VLOOKUP(E841,Kühe!$A$7:$G$150,2,FALSE)","v":"Tiara"},{"$f":"VLOOKUP(E841,Kühe!$A$7:$G$150,7,FALSE)","v":"Sewer Ralf & Thommen Steve"}]
["2018-06-22",{"$f":"VLOOKUP(D842,Kühe!$A$7:$G$150,7,FALSE)","v":"Hischier Pius"},{"$f":"VLOOKUP(D842,Kühe!$A$7:$G$150,2,FALSE)","v":"Pablo"},47,74,{"$f":"VLOOKUP(E842,Kühe!$A$7:$G$150,2,FALSE)","v":"Diaries"},{"$f":"VLOOKUP(E842,Kühe!$A$7:$G$150,7,FALSE)","v":"Stallung zum Stäg"}]
["2018-06-22",{"$f":"VLOOKUP(D843,Kühe!$A$7:$G$150,7,FALSE)","v":"Bayard Medard & Gustav"},{"$f":"VLOOKUP(D843,Kühe!$A$7:$G$150,2,FALSE)","v":"Ramona"},4,19,{"$f":"VLOOKUP(E843,Kühe!$A$7:$G$150,2,FALSE)","v":"Tiranie"},{"$f":"VLOOKUP(E843,Kühe!$A$7:$G$150,7,FALSE)","v":"Bregy Uli & Pascal"}]
["2018-06-22",{"$f":"VLOOKUP(D844,Kühe!$A$7:$G$150,7,FALSE)","v":"Gebrüder Jäger"},{"$f":"VLOOKUP(D844,Kühe!$A$7:$G$150,2,FALSE)","v":"Dorina"},43,2,{"$f":"VLOOKUP(E844,Kühe!$A$7:$G$150,2,FALSE)","v":"Mirabelle"},{"$f":"VLOOKUP(E844,Kühe!$A$7:$G$150,7,FALSE)","v":"Bayard Medard & Gustav"}]
["2018-06-22",{"$f":"VLOOKUP(D845,Kühe!$A$7:$G$150,7,FALSE)","v":"Stallung Passeraub"},{"$f":"VLOOKUP(D845,Kühe!$A$7:$G$150,2,FALSE)","v":"Bonita"},71,3,{"$f":"VLOOKUP(E845,Kühe!$A$7:$G$150,2,FALSE)","v":"Pinka"},{"$f":"VLOOKUP(E845,Kühe!$A$7:$G$150,7,FALSE)","v":"Bayard Medard & Gustav"}]
["2018-06-22",{"$f":"VLOOKUP(D846,Kühe!$A$7:$G$150,7,FALSE)","v":"Bayard Medard & Gustav"},{"$f":"VLOOKUP(D846,Kühe!$A$7:$G$150,2,FALSE)","v":"Pinka"},3,68,{"$f":"VLOOKUP(E846,Kühe!$A$7:$G$150,2,FALSE)","v":"Bulle"},{"$f":"VLOOKUP(E846,Kühe!$A$7:$G$150,7,FALSE)","v":"Stallung Passeraub"}]
["2018-06-22",{"$f":"VLOOKUP(D847,Kühe!$A$7:$G$150,7,FALSE)","v":"Bayard Medard & Gustav"},{"$f":"VLOOKUP(D847,Kühe!$A$7:$G$150,2,FALSE)","v":"Pinka"},3,65,{"$f":"VLOOKUP(E847,Kühe!$A$7:$G$150,2,FALSE)","v":"Baghera"},{"$f":"VLOOKUP(E847,Kühe!$A$7:$G$150,7,FALSE)","v":"Stallung Passeraub"}]
["2018-06-22",{"$f":"VLOOKUP(D848,Kühe!$A$7:$G$150,7,FALSE)","v":"Zumofen / Gattlen"},{"$f":"VLOOKUP(D848,Kühe!$A$7:$G$150,2,FALSE)","v":"Fangjo"},101,109,{"$f":"VLOOKUP(E848,Kühe!$A$7:$G$150,2,FALSE)","v":"Vulcana"},{"$f":"VLOOKUP(E848,Kühe!$A$7:$G$150,7,FALSE)","v":"Zumofen / Gattlen"}]
["2018-06-22",{"$f":"VLOOKUP(D849,Kühe!$A$7:$G$150,7,FALSE)","v":"Gebrüder Jäger"},{"$f":"VLOOKUP(D849,Kühe!$A$7:$G$150,2,FALSE)","v":"Bessy"},41,99,{"$f":"VLOOKUP(E849,Kühe!$A$7:$G$150,2,FALSE)","v":"Napapiri"},{"$f":"VLOOKUP(E849,Kühe!$A$7:$G$150,7,FALSE)","v":"Familie Zumoberhaus"}]
["2018-06-22",{"$f":"VLOOKUP(D850,Kühe!$A$7:$G$150,7,FALSE)","v":"Gebrüder Jäger"},{"$f":"VLOOKUP(D850,Kühe!$A$7:$G$150,2,FALSE)","v":"Barilona"},40,88,{"$f":"VLOOKUP(E850,Kühe!$A$7:$G$150,2,FALSE)","v":"Colonell"},{"$f":"VLOOKUP(E850,Kühe!$A$7:$G$150,7,FALSE)","v":"Williner  Anton"}]
["2018-06-22",{"$f":"VLOOKUP(D851,Kühe!$A$7:$G$150,7,FALSE)","v":"Hischier Pius"},{"$f":"VLOOKUP(D851,Kühe!$A$7:$G$150,2,FALSE)","v":"Pablo"},47,19,{"$f":"VLOOKUP(E851,Kühe!$A$7:$G$150,2,FALSE)","v":"Tiranie"},{"$f":"VLOOKUP(E851,Kühe!$A$7:$G$150,7,FALSE)","v":"Bregy Uli & Pascal"}]
["2018-06-22",{"$f":"VLOOKUP(D852,Kühe!$A$7:$G$150,7,FALSE)","v":"Stallung zum Stäg"},{"$f":"VLOOKUP(D852,Kühe!$A$7:$G$150,2,FALSE)","v":"Diaries"},74,68,{"$f":"VLOOKUP(E852,Kühe!$A$7:$G$150,2,FALSE)","v":"Bulle"},{"$f":"VLOOKUP(E852,Kühe!$A$7:$G$150,7,FALSE)","v":"Stallung Passeraub"}]
["2018-06-22",{"$f":"VLOOKUP(D853,Kühe!$A$7:$G$150,7,FALSE)","v":"Hischier Pius"},{"$f":"VLOOKUP(D853,Kühe!$A$7:$G$150,2,FALSE)","v":"Pablo"},47,79,{"$f":"VLOOKUP(E853,Kühe!$A$7:$G$150,2,FALSE)","v":"Tacona"},{"$f":"VLOOKUP(E853,Kühe!$A$7:$G$150,7,FALSE)","v":"Sewer Ralf & Thommen Steve"}]
["2018-06-21",{"$f":"VLOOKUP(D854,Kühe!$A$7:$G$150,7,FALSE)","v":"Familie Leiggener"},{"$f":"VLOOKUP(D854,Kühe!$A$7:$G$150,2,FALSE)","v":"Rebell"},23,17,{"$f":"VLOOKUP(E854,Kühe!$A$7:$G$150,2,FALSE)","v":"Pandora"},{"$f":"VLOOKUP(E854,Kühe!$A$7:$G$150,7,FALSE)","v":"Bregy Uli & Pascal"}]
["2018-06-21",{"$f":"VLOOKUP(D855,Kühe!$A$7:$G$150,7,FALSE)","v":"Zumofen / Gattlen"},{"$f":"VLOOKUP(D855,Kühe!$A$7:$G$150,2,FALSE)","v":"Fangjo"},101,30,{"$f":"VLOOKUP(E855,Kühe!$A$7:$G$150,2,FALSE)","v":"Dixence"},{"$f":"VLOOKUP(E855,Kühe!$A$7:$G$150,7,FALSE)","v":"Fux Wendelin, Jenny & Wyer Piet"}]
["2018-06-21",{"$f":"VLOOKUP(D856,Kühe!$A$7:$G$150,7,FALSE)","v":"Stallung zum Stäg"},{"$f":"VLOOKUP(D856,Kühe!$A$7:$G$150,2,FALSE)","v":"Pandora"},75,97,{"$f":"VLOOKUP(E856,Kühe!$A$7:$G$150,2,FALSE)","v":"Coucou"},{"$f":"VLOOKUP(E856,Kühe!$A$7:$G$150,7,FALSE)","v":"Familie Zumoberhaus"}]
["2018-06-21",{"$f":"VLOOKUP(D857,Kühe!$A$7:$G$150,7,FALSE)","v":"Bregy Ralf & Adolf"},{"$f":"VLOOKUP(D857,Kühe!$A$7:$G$150,2,FALSE)","v":"Flacari"},9,110,{"$f":"VLOOKUP(E857,Kühe!$A$7:$G$150,2,FALSE)","v":"Xena"},{"$f":"VLOOKUP(E857,Kühe!$A$7:$G$150,7,FALSE)","v":"Zumofen / Gattlen"}]
["2018-06-21",{"$f":"VLOOKUP(D858,Kühe!$A$7:$G$150,7,FALSE)","v":"Wyssen Diego & Madlen"},{"$f":"VLOOKUP(D858,Kühe!$A$7:$G$150,2,FALSE)","v":"Fiorenza"},92,36,{"$f":"VLOOKUP(E858,Kühe!$A$7:$G$150,2,FALSE)","v":"Valaisanne"},{"$f":"VLOOKUP(E858,Kühe!$A$7:$G$150,7,FALSE)","v":"Fux Wendelin, Jenny & Wyer Piet"}]
["2018-06-21",{"$f":"VLOOKUP(D859,Kühe!$A$7:$G$150,7,FALSE)","v":"Bregy Uli & Pascal"},{"$f":"VLOOKUP(D859,Kühe!$A$7:$G$150,2,FALSE)","v":"Catalina"},15,43,{"$f":"VLOOKUP(E859,Kühe!$A$7:$G$150,2,FALSE)","v":"Dorina"},{"$f":"VLOOKUP(E859,Kühe!$A$7:$G$150,7,FALSE)","v":"Gebrüder Jäger"}]
["2018-06-21",{"$f":"VLOOKUP(D860,Kühe!$A$7:$G$150,7,FALSE)","v":"Bregy Uli & Pascal"},{"$f":"VLOOKUP(D860,Kühe!$A$7:$G$150,2,FALSE)","v":"Catalina"},15,62,{"$f":"VLOOKUP(E860,Kühe!$A$7:$G$150,2,FALSE)","v":"Bavaria"},{"$f":"VLOOKUP(E860,Kühe!$A$7:$G$150,7,FALSE)","v":"Mathieu Leander & Sascha"}]
["2018-06-21",{"$f":"VLOOKUP(D861,Kühe!$A$7:$G$150,7,FALSE)","v":"Wyssen Diego & Madlen"},{"$f":"VLOOKUP(D861,Kühe!$A$7:$G$150,2,FALSE)","v":"Xhyla"},96,62,{"$f":"VLOOKUP(E861,Kühe!$A$7:$G$150,2,FALSE)","v":"Bavaria"},{"$f":"VLOOKUP(E861,Kühe!$A$7:$G$150,7,FALSE)","v":"Mathieu Leander & Sascha"}]
["2018-06-21",{"$f":"VLOOKUP(D862,Kühe!$A$7:$G$150,7,FALSE)","v":"Zumofen / Gattlen"},{"$f":"VLOOKUP(D862,Kühe!$A$7:$G$150,2,FALSE)","v":"Pengale"},104,4,{"$f":"VLOOKUP(E862,Kühe!$A$7:$G$150,2,FALSE)","v":"Ramona"},{"$f":"VLOOKUP(E862,Kühe!$A$7:$G$150,7,FALSE)","v":"Bayard Medard & Gustav"}]
["2018-06-21",{"$f":"VLOOKUP(D863,Kühe!$A$7:$G$150,7,FALSE)","v":"Bayard Medard & Gustav"},{"$f":"VLOOKUP(D863,Kühe!$A$7:$G$150,2,FALSE)","v":"Ramona"},4,52,{"$f":"VLOOKUP(E863,Kühe!$A$7:$G$150,2,FALSE)","v":"Maila"},{"$f":"VLOOKUP(E863,Kühe!$A$7:$G$150,7,FALSE)","v":"Jäger Carlo"}]
["2018-06-21",{"$f":"VLOOKUP(D864,Kühe!$A$7:$G$150,7,FALSE)","v":"Familie Leiggener"},{"$f":"VLOOKUP(D864,Kühe!$A$7:$G$150,2,FALSE)","v":"Rambo"},22,6,{"$f":"VLOOKUP(E864,Kühe!$A$7:$G$150,2,FALSE)","v":"Diabolo"},{"$f":"VLOOKUP(E864,Kühe!$A$7:$G$150,7,FALSE)","v":"Bregy Anja"}]
["2018-06-21",{"$f":"VLOOKUP(D865,Kühe!$A$7:$G$150,7,FALSE)","v":"Mathieu Leander & Sascha"},{"$f":"VLOOKUP(D865,Kühe!$A$7:$G$150,2,FALSE)","v":"Bonita"},64,79,{"$f":"VLOOKUP(E865,Kühe!$A$7:$G$150,2,FALSE)","v":"Tacona"},{"$f":"VLOOKUP(E865,Kühe!$A$7:$G$150,7,FALSE)","v":"Sewer Ralf & Thommen Steve"}]
["2018-06-21",{"$f":"VLOOKUP(D866,Kühe!$A$7:$G$150,7,FALSE)","v":"Sewer Ralf & Thommen Steve"},{"$f":"VLOOKUP(D866,Kühe!$A$7:$G$150,2,FALSE)","v":"Gonda"},76,42,{"$f":"VLOOKUP(E866,Kühe!$A$7:$G$150,2,FALSE)","v":"Tiger"},{"$f":"VLOOKUP(E866,Kühe!$A$7:$G$150,7,FALSE)","v":"Gebrüder Jäger"}]
["2018-06-21",{"$f":"VLOOKUP(D867,Kühe!$A$7:$G$150,7,FALSE)","v":"Bregy Uli & Pascal"},{"$f":"VLOOKUP(D867,Kühe!$A$7:$G$150,2,FALSE)","v":"Calin"},14,81,{"$f":"VLOOKUP(E867,Kühe!$A$7:$G$150,2,FALSE)","v":"Tinea"},{"$f":"VLOOKUP(E867,Kühe!$A$7:$G$150,7,FALSE)","v":"Sewer Ralf & Thommen Steve"}]
["2018-06-21",{"$f":"VLOOKUP(D868,Kühe!$A$7:$G$150,7,FALSE)","v":"Sewer Ralf & Thommen Steve"},{"$f":"VLOOKUP(D868,Kühe!$A$7:$G$150,2,FALSE)","v":"Tacona"},79,40,{"$f":"VLOOKUP(E868,Kühe!$A$7:$G$150,2,FALSE)","v":"Barilona"},{"$f":"VLOOKUP(E868,Kühe!$A$7:$G$150,7,FALSE)","v":"Gebrüder Jäger"}]
["2018-06-21",{"$f":"VLOOKUP(D869,Kühe!$A$7:$G$150,7,FALSE)","v":"Familie Zumoberhaus"},{"$f":"VLOOKUP(D869,Kühe!$A$7:$G$150,2,FALSE)","v":"Nana"},98,79,{"$f":"VLOOKUP(E869,Kühe!$A$7:$G$150,2,FALSE)","v":"Tacona"},{"$f":"VLOOKUP(E869,Kühe!$A$7:$G$150,7,FALSE)","v":"Sewer Ralf & Thommen Steve"}]
["2018-06-21",{"$f":"VLOOKUP(D870,Kühe!$A$7:$G$150,7,FALSE)","v":"Familie Zumoberhaus"},{"$f":"VLOOKUP(D870,Kühe!$A$7:$G$150,2,FALSE)","v":"Napapiri"},99,77,{"$f":"VLOOKUP(E870,Kühe!$A$7:$G$150,2,FALSE)","v":"Saphira"},{"$f":"VLOOKUP(E870,Kühe!$A$7:$G$150,7,FALSE)","v":"Sewer Ralf & Thommen Steve"}]
["2018-06-21",{"$f":"VLOOKUP(D871,Kühe!$A$7:$G$150,7,FALSE)","v":"Sewer Ralf & Thommen Steve"},{"$f":"VLOOKUP(D871,Kühe!$A$7:$G$150,2,FALSE)","v":"Tacona"},79,73,{"$f":"VLOOKUP(E871,Kühe!$A$7:$G$150,2,FALSE)","v":"Benika"},{"$f":"VLOOKUP(E871,Kühe!$A$7:$G$150,7,FALSE)","v":"Stallung zum Stäg"}]
["2018-06-21",{"$f":"VLOOKUP(D872,Kühe!$A$7:$G$150,7,FALSE)","v":"Jäger Carlo"},{"$f":"VLOOKUP(D872,Kühe!$A$7:$G$150,2,FALSE)","v":"Maila"},52,24,{"$f":"VLOOKUP(E872,Kühe!$A$7:$G$150,2,FALSE)","v":"Tigres"},{"$f":"VLOOKUP(E872,Kühe!$A$7:$G$150,7,FALSE)","v":"Familie Leiggener"}]
["2018-06-21",{"$f":"VLOOKUP(D873,Kühe!$A$7:$G$150,7,FALSE)","v":"Mathieu Leander & Sascha"},{"$f":"VLOOKUP(D873,Kühe!$A$7:$G$150,2,FALSE)","v":"Bavaria"},62,25,{"$f":"VLOOKUP(E873,Kühe!$A$7:$G$150,2,FALSE)","v":"Andora"},{"$f":"VLOOKUP(E873,Kühe!$A$7:$G$150,7,FALSE)","v":"Fux Wendelin, Jenny & Wyer Piet"}]
["2018-06-21",{"$f":"VLOOKUP(D874,Kühe!$A$7:$G$150,7,FALSE)","v":"Familie Leiggener"},{"$f":"VLOOKUP(D874,Kühe!$A$7:$G$150,2,FALSE)","v":"Rambo"},22,64,{"$f":"VLOOKUP(E874,Kühe!$A$7:$G$150,2,FALSE)","v":"Bonita"},{"$f":"VLOOKUP(E874,Kühe!$A$7:$G$150,7,FALSE)","v":"Mathieu Leander & Sascha"}]
["2018-06-21",{"$f":"VLOOKUP(D875,Kühe!$A$7:$G$150,7,FALSE)","v":"Mathieu Leander & Sascha"},{"$f":"VLOOKUP(D875,Kühe!$A$7:$G$150,2,FALSE)","v":"Bavaria"},62,27,{"$f":"VLOOKUP(E875,Kühe!$A$7:$G$150,2,FALSE)","v":"Bolero"},{"$f":"VLOOKUP(E875,Kühe!$A$7:$G$150,7,FALSE)","v":"Fux Wendelin, Jenny & Wyer Piet"}]
["2018-06-21",{"$f":"VLOOKUP(D876,Kühe!$A$7:$G$150,7,FALSE)","v":"Gebrüder Jäger"},{"$f":"VLOOKUP(D876,Kühe!$A$7:$G$150,2,FALSE)","v":"Barilona"},40,55,{"$f":"VLOOKUP(E876,Kühe!$A$7:$G$150,2,FALSE)","v":"Papillon"},{"$f":"VLOOKUP(E876,Kühe!$A$7:$G$150,7,FALSE)","v":"Jäger Carlo"}]
["2018-06-21",{"$f":"VLOOKUP(D877,Kühe!$A$7:$G$150,7,FALSE)","v":"Zumofen / Gattlen"},{"$f":"VLOOKUP(D877,Kühe!$A$7:$G$150,2,FALSE)","v":"Puma"},105,24,{"$f":"VLOOKUP(E877,Kühe!$A$7:$G$150,2,FALSE)","v":"Tigres"},{"$f":"VLOOKUP(E877,Kühe!$A$7:$G$150,7,FALSE)","v":"Familie Leiggener"}]
["2018-06-21",{"$f":"VLOOKUP(D878,Kühe!$A$7:$G$150,7,FALSE)","v":"Stallung Passeraub"},{"$f":"VLOOKUP(D878,Kühe!$A$7:$G$150,2,FALSE)","v":"Medusa"},70,41,{"$f":"VLOOKUP(E878,Kühe!$A$7:$G$150,2,FALSE)","v":"Bessy"},{"$f":"VLOOKUP(E878,Kühe!$A$7:$G$150,7,FALSE)","v":"Gebrüder Jäger"}]
["2018-06-21",{"$f":"VLOOKUP(D879,Kühe!$A$7:$G$150,7,FALSE)","v":"Sewer Ralf & Thommen Steve"},{"$f":"VLOOKUP(D879,Kühe!$A$7:$G$150,2,FALSE)","v":"Gonda"},76,84,{"$f":"VLOOKUP(E879,Kühe!$A$7:$G$150,2,FALSE)","v":"Cobra"},{"$f":"VLOOKUP(E879,Kühe!$A$7:$G$150,7,FALSE)","v":"Tscherry Erwin & Bernhard"}]
["2018-06-21",{"$f":"VLOOKUP(D880,Kühe!$A$7:$G$150,7,FALSE)","v":"Familie Leiggener"},{"$f":"VLOOKUP(D880,Kühe!$A$7:$G$150,2,FALSE)","v":"Bulle"},21,54,{"$f":"VLOOKUP(E880,Kühe!$A$7:$G$150,2,FALSE)","v":"Paloma"},{"$f":"VLOOKUP(E880,Kühe!$A$7:$G$150,7,FALSE)","v":"Jäger Carlo"}]
["2018-06-21",{"$f":"VLOOKUP(D881,Kühe!$A$7:$G$150,7,FALSE)","v":"Tscherry Erwin & Bernhard"},{"$f":"VLOOKUP(D881,Kühe!$A$7:$G$150,2,FALSE)","v":"Cobra"},84,78,{"$f":"VLOOKUP(E881,Kühe!$A$7:$G$150,2,FALSE)","v":"Tabitha"},{"$f":"VLOOKUP(E881,Kühe!$A$7:$G$150,7,FALSE)","v":"Sewer Ralf & Thommen Steve"}]
["2018-06-21",{"$f":"VLOOKUP(D882,Kühe!$A$7:$G$150,7,FALSE)","v":"Jäger Carlo"},{"$f":"VLOOKUP(D882,Kühe!$A$7:$G$150,2,FALSE)","v":"Turin"},58,101,{"$f":"VLOOKUP(E882,Kühe!$A$7:$G$150,2,FALSE)","v":"Fangjo"},{"$f":"VLOOKUP(E882,Kühe!$A$7:$G$150,7,FALSE)","v":"Zumofen / Gattlen"}]
["2018-06-20",{"$f":"VLOOKUP(D883,Kühe!$A$7:$G$150,7,FALSE)","v":"Bregy Ralf & Adolf"},{"$f":"VLOOKUP(D883,Kühe!$A$7:$G$150,2,FALSE)","v":"Santiago"},11,21,{"$f":"VLOOKUP(E883,Kühe!$A$7:$G$150,2,FALSE)","v":"Bulle"},{"$f":"VLOOKUP(E883,Kühe!$A$7:$G$150,7,FALSE)","v":"Familie Leiggener"}]
["2018-06-20",{"$f":"VLOOKUP(D884,Kühe!$A$7:$G$150,7,FALSE)","v":"Williner  Anton"},{"$f":"VLOOKUP(D884,Kühe!$A$7:$G$150,2,FALSE)","v":"Lotus"},86,99,{"$f":"VLOOKUP(E884,Kühe!$A$7:$G$150,2,FALSE)","v":"Napapiri"},{"$f":"VLOOKUP(E884,Kühe!$A$7:$G$150,7,FALSE)","v":"Familie Zumoberhaus"}]
["2018-06-20",{"$f":"VLOOKUP(D885,Kühe!$A$7:$G$150,7,FALSE)","v":"Stallung zum Stäg"},{"$f":"VLOOKUP(D885,Kühe!$A$7:$G$150,2,FALSE)","v":"Diaries"},74,61,{"$f":"VLOOKUP(E885,Kühe!$A$7:$G$150,2,FALSE)","v":"Baronesse"},{"$f":"VLOOKUP(E885,Kühe!$A$7:$G$150,7,FALSE)","v":"Mathieu Leander & Sascha"}]
["2018-06-20",{"$f":"VLOOKUP(D886,Kühe!$A$7:$G$150,7,FALSE)","v":"Bayard Medard & Gustav"},{"$f":"VLOOKUP(D886,Kühe!$A$7:$G$150,2,FALSE)","v":"Violette"},5,53,{"$f":"VLOOKUP(E886,Kühe!$A$7:$G$150,2,FALSE)","v":"Mirtille"},{"$f":"VLOOKUP(E886,Kühe!$A$7:$G$150,7,FALSE)","v":"Jäger Carlo"}]
["2018-06-20",{"$f":"VLOOKUP(D887,Kühe!$A$7:$G$150,7,FALSE)","v":"Jäger Carlo"},{"$f":"VLOOKUP(D887,Kühe!$A$7:$G$150,2,FALSE)","v":"Maila"},52,80,{"$f":"VLOOKUP(E887,Kühe!$A$7:$G$150,2,FALSE)","v":"Tiara"},{"$f":"VLOOKUP(E887,Kühe!$A$7:$G$150,7,FALSE)","v":"Sewer Ralf & Thommen Steve"}]
["2018-06-20",{"$f":"VLOOKUP(D888,Kühe!$A$7:$G$150,7,FALSE)","v":"Fux Wendelin, Jenny & Wyer Piet"},{"$f":"VLOOKUP(D888,Kühe!$A$7:$G$150,2,FALSE)","v":"Bresil"},28,93,{"$f":"VLOOKUP(E888,Kühe!$A$7:$G$150,2,FALSE)","v":"Shagiri"},{"$f":"VLOOKUP(E888,Kühe!$A$7:$G$150,7,FALSE)","v":"Wyssen Diego & Madlen"}]
["2018-06-20",{"$f":"VLOOKUP(D889,Kühe!$A$7:$G$150,7,FALSE)","v":"Zumofen / Gattlen"},{"$f":"VLOOKUP(D889,Kühe!$A$7:$G$150,2,FALSE)","v":"Akhira"},100,55,{"$f":"VLOOKUP(E889,Kühe!$A$7:$G$150,2,FALSE)","v":"Papillon"},{"$f":"VLOOKUP(E889,Kühe!$A$7:$G$150,7,FALSE)","v":"Jäger Carlo"}]
["2018-06-20",{"$f":"VLOOKUP(D890,Kühe!$A$7:$G$150,7,FALSE)","v":"Gebrüder Jäger"},{"$f":"VLOOKUP(D890,Kühe!$A$7:$G$150,2,FALSE)","v":"Dorina"},43,83,{"$f":"VLOOKUP(E890,Kühe!$A$7:$G$150,2,FALSE)","v":"Cherrico"},{"$f":"VLOOKUP(E890,Kühe!$A$7:$G$150,7,FALSE)","v":"Tscherry Erwin & Bernhard"}]
["2018-06-20",{"$f":"VLOOKUP(D891,Kühe!$A$7:$G$150,7,FALSE)","v":"Sewer Ralf & Thommen Steve"},{"$f":"VLOOKUP(D891,Kühe!$A$7:$G$150,2,FALSE)","v":"Tacona"},79,26,{"$f":"VLOOKUP(E891,Kühe!$A$7:$G$150,2,FALSE)","v":"Ares"},{"$f":"VLOOKUP(E891,Kühe!$A$7:$G$150,7,FALSE)","v":"Fux Wendelin, Jenny & Wyer Piet"}]
["2018-06-20",{"$f":"VLOOKUP(D892,Kühe!$A$7:$G$150,7,FALSE)","v":"Hischier Pius"},{"$f":"VLOOKUP(D892,Kühe!$A$7:$G$150,2,FALSE)","v":"Shakira"},49,74,{"$f":"VLOOKUP(E892,Kühe!$A$7:$G$150,2,FALSE)","v":"Diaries"},{"$f":"VLOOKUP(E892,Kühe!$A$7:$G$150,7,FALSE)","v":"Stallung zum Stäg"}]
["2018-06-20",{"$f":"VLOOKUP(D893,Kühe!$A$7:$G$150,7,FALSE)","v":"Tscherry Erwin & Bernhard"},{"$f":"VLOOKUP(D893,Kühe!$A$7:$G$150,2,FALSE)","v":"Carolin"},82,36,{"$f":"VLOOKUP(E893,Kühe!$A$7:$G$150,2,FALSE)","v":"Valaisanne"},{"$f":"VLOOKUP(E893,Kühe!$A$7:$G$150,7,FALSE)","v":"Fux Wendelin, Jenny & Wyer Piet"}]
["2018-06-20",{"$f":"VLOOKUP(D894,Kühe!$A$7:$G$150,7,FALSE)","v":"Bregy Ralf & Adolf"},{"$f":"VLOOKUP(D894,Kühe!$A$7:$G$150,2,FALSE)","v":"Canaille"},7,30,{"$f":"VLOOKUP(E894,Kühe!$A$7:$G$150,2,FALSE)","v":"Dixence"},{"$f":"VLOOKUP(E894,Kühe!$A$7:$G$150,7,FALSE)","v":"Fux Wendelin, Jenny & Wyer Piet"}]
["2018-06-20",{"$f":"VLOOKUP(D895,Kühe!$A$7:$G$150,7,FALSE)","v":"Bayard Medard & Gustav"},{"$f":"VLOOKUP(D895,Kühe!$A$7:$G$150,2,FALSE)","v":"Ramona"},4,30,{"$f":"VLOOKUP(E895,Kühe!$A$7:$G$150,2,FALSE)","v":"Dixence"},{"$f":"VLOOKUP(E895,Kühe!$A$7:$G$150,7,FALSE)","v":"Fux Wendelin, Jenny & Wyer Piet"}]
["2018-06-20",{"$f":"VLOOKUP(D896,Kühe!$A$7:$G$150,7,FALSE)","v":"Zumofen / Gattlen"},{"$f":"VLOOKUP(D896,Kühe!$A$7:$G$150,2,FALSE)","v":"Akhira"},100,41,{"$f":"VLOOKUP(E896,Kühe!$A$7:$G$150,2,FALSE)","v":"Bessy"},{"$f":"VLOOKUP(E896,Kühe!$A$7:$G$150,7,FALSE)","v":"Gebrüder Jäger"}]
["2018-06-20",{"$f":"VLOOKUP(D897,Kühe!$A$7:$G$150,7,FALSE)","v":"Williner  Anton"},{"$f":"VLOOKUP(D897,Kühe!$A$7:$G$150,2,FALSE)","v":"Diva"},89,45,{"$f":"VLOOKUP(E897,Kühe!$A$7:$G$150,2,FALSE)","v":"Taylor"},{"$f":"VLOOKUP(E897,Kühe!$A$7:$G$150,7,FALSE)","v":"Gebrüder Jäger"}]
["2018-06-20",{"$f":"VLOOKUP(D898,Kühe!$A$7:$G$150,7,FALSE)","v":"Zumofen / Gattlen"},{"$f":"VLOOKUP(D898,Kühe!$A$7:$G$150,2,FALSE)","v":"Milou"},103,44,{"$f":"VLOOKUP(E898,Kühe!$A$7:$G$150,2,FALSE)","v":"Tamango"},{"$f":"VLOOKUP(E898,Kühe!$A$7:$G$150,7,FALSE)","v":"Gebrüder Jäger"}]
["2018-06-20",{"$f":"VLOOKUP(D899,Kühe!$A$7:$G$150,7,FALSE)","v":"Familie Zumoberhaus"},{"$f":"VLOOKUP(D899,Kühe!$A$7:$G$150,2,FALSE)","v":"Napapiri"},99,36,{"$f":"VLOOKUP(E899,Kühe!$A$7:$G$150,2,FALSE)","v":"Valaisanne"},{"$f":"VLOOKUP(E899,Kühe!$A$7:$G$150,7,FALSE)","v":"Fux Wendelin, Jenny & Wyer Piet"}]
["2018-06-20",{"$f":"VLOOKUP(D900,Kühe!$A$7:$G$150,7,FALSE)","v":"Sewer Ralf & Thommen Steve"},{"$f":"VLOOKUP(D900,Kühe!$A$7:$G$150,2,FALSE)","v":"Saphira"},77,36,{"$f":"VLOOKUP(E900,Kühe!$A$7:$G$150,2,FALSE)","v":"Valaisanne"},{"$f":"VLOOKUP(E900,Kühe!$A$7:$G$150,7,FALSE)","v":"Fux Wendelin, Jenny & Wyer Piet"}]
["2018-06-20",{"$f":"VLOOKUP(D901,Kühe!$A$7:$G$150,7,FALSE)","v":"Stallung Passeraub"},{"$f":"VLOOKUP(D901,Kühe!$A$7:$G$150,2,FALSE)","v":"Medusa"},70,59,{"$f":"VLOOKUP(E901,Kühe!$A$7:$G$150,2,FALSE)","v":"Baghira"},{"$f":"VLOOKUP(E901,Kühe!$A$7:$G$150,7,FALSE)","v":"Mathieu Leander & Sascha"}]
["2018-06-20",{"$f":"VLOOKUP(D902,Kühe!$A$7:$G$150,7,FALSE)","v":"Stallung Passeraub"},{"$f":"VLOOKUP(D902,Kühe!$A$7:$G$150,2,FALSE)","v":"Medusa"},70,42,{"$f":"VLOOKUP(E902,Kühe!$A$7:$G$150,2,FALSE)","v":"Tiger"},{"$f":"VLOOKUP(E902,Kühe!$A$7:$G$150,7,FALSE)","v":"Gebrüder Jäger"}]
["2018-06-20",{"$f":"VLOOKUP(D903,Kühe!$A$7:$G$150,7,FALSE)","v":"Bregy Ralf & Adolf"},{"$f":"VLOOKUP(D903,Kühe!$A$7:$G$150,2,FALSE)","v":"Canaille"},7,99,{"$f":"VLOOKUP(E903,Kühe!$A$7:$G$150,2,FALSE)","v":"Napapiri"},{"$f":"VLOOKUP(E903,Kühe!$A$7:$G$150,7,FALSE)","v":"Familie Zumoberhaus"}]
["2018-06-20",{"$f":"VLOOKUP(D904,Kühe!$A$7:$G$150,7,FALSE)","v":"Bregy Ralf & Adolf"},{"$f":"VLOOKUP(D904,Kühe!$A$7:$G$150,2,FALSE)","v":"Canaille"},7,96,{"$f":"VLOOKUP(E904,Kühe!$A$7:$G$150,2,FALSE)","v":"Xhyla"},{"$f":"VLOOKUP(E904,Kühe!$A$7:$G$150,7,FALSE)","v":"Wyssen Diego & Madlen"}]
["2018-06-20",{"$f":"VLOOKUP(D905,Kühe!$A$7:$G$150,7,FALSE)","v":"Bayard Medard & Gustav"},{"$f":"VLOOKUP(D905,Kühe!$A$7:$G$150,2,FALSE)","v":"Violette"},5,86,{"$f":"VLOOKUP(E905,Kühe!$A$7:$G$150,2,FALSE)","v":"Lotus"},{"$f":"VLOOKUP(E905,Kühe!$A$7:$G$150,7,FALSE)","v":"Williner  Anton"}]
["2018-06-20",{"$f":"VLOOKUP(D906,Kühe!$A$7:$G$150,7,FALSE)","v":"Fux Wendelin, Jenny & Wyer Piet"},{"$f":"VLOOKUP(D906,Kühe!$A$7:$G$150,2,FALSE)","v":"Bolero"},27,19,{"$f":"VLOOKUP(E906,Kühe!$A$7:$G$150,2,FALSE)","v":"Tiranie"},{"$f":"VLOOKUP(E906,Kühe!$A$7:$G$150,7,FALSE)","v":"Bregy Uli & Pascal"}]
["2018-06-20",{"$f":"VLOOKUP(D907,Kühe!$A$7:$G$150,7,FALSE)","v":"Fux Wendelin, Jenny & Wyer Piet"},{"$f":"VLOOKUP(D907,Kühe!$A$7:$G$150,2,FALSE)","v":"Bolero"},27,81,{"$f":"VLOOKUP(E907,Kühe!$A$7:$G$150,2,FALSE)","v":"Tinea"},{"$f":"VLOOKUP(E907,Kühe!$A$7:$G$150,7,FALSE)","v":"Sewer Ralf & Thommen Steve"}]
["2018-06-20",{"$f":"VLOOKUP(D908,Kühe!$A$7:$G$150,7,FALSE)","v":"Bregy Uli & Pascal"},{"$f":"VLOOKUP(D908,Kühe!$A$7:$G$150,2,FALSE)","v":"Calin"},14,2,{"$f":"VLOOKUP(E908,Kühe!$A$7:$G$150,2,FALSE)","v":"Mirabelle"},{"$f":"VLOOKUP(E908,Kühe!$A$7:$G$150,7,FALSE)","v":"Bayard Medard & Gustav"}]
["2018-06-20",{"$f":"VLOOKUP(D909,Kühe!$A$7:$G$150,7,FALSE)","v":"Wyssen Diego & Madlen"},{"$f":"VLOOKUP(D909,Kühe!$A$7:$G$150,2,FALSE)","v":"Xhyla"},96,99,{"$f":"VLOOKUP(E909,Kühe!$A$7:$G$150,2,FALSE)","v":"Napapiri"},{"$f":"VLOOKUP(E909,Kühe!$A$7:$G$150,7,FALSE)","v":"Familie Zumoberhaus"}]
["2018-06-20",{"$f":"VLOOKUP(D910,Kühe!$A$7:$G$150,7,FALSE)","v":"Jäger Carlo"},{"$f":"VLOOKUP(D910,Kühe!$A$7:$G$150,2,FALSE)","v":"Paloma"},54,28,{"$f":"VLOOKUP(E910,Kühe!$A$7:$G$150,2,FALSE)","v":"Bresil"},{"$f":"VLOOKUP(E910,Kühe!$A$7:$G$150,7,FALSE)","v":"Fux Wendelin, Jenny & Wyer Piet"}]
["2018-06-20",{"$f":"VLOOKUP(D911,Kühe!$A$7:$G$150,7,FALSE)","v":"Fux Wendelin, Jenny & Wyer Piet"},{"$f":"VLOOKUP(D911,Kühe!$A$7:$G$150,2,FALSE)","v":"Valaisanne"},36,83,{"$f":"VLOOKUP(E911,Kühe!$A$7:$G$150,2,FALSE)","v":"Cherrico"},{"$f":"VLOOKUP(E911,Kühe!$A$7:$G$150,7,FALSE)","v":"Tscherry Erwin & Bernhard"}]
["2018-06-20",{"$f":"VLOOKUP(D912,Kühe!$A$7:$G$150,7,FALSE)","v":"Fux Wendelin, Jenny & Wyer Piet"},{"$f":"VLOOKUP(D912,Kühe!$A$7:$G$150,2,FALSE)","v":"Valaisanne"},36,6,{"$f":"VLOOKUP(E912,Kühe!$A$7:$G$150,2,FALSE)","v":"Diabolo"},{"$f":"VLOOKUP(E912,Kühe!$A$7:$G$150,7,FALSE)","v":"Bregy Anja"}]
["2018-06-20",{"$f":"VLOOKUP(D913,Kühe!$A$7:$G$150,7,FALSE)","v":"Bregy Ralf & Adolf"},{"$f":"VLOOKUP(D913,Kühe!$A$7:$G$150,2,FALSE)","v":"Flacari"},9,47,{"$f":"VLOOKUP(E913,Kühe!$A$7:$G$150,2,FALSE)","v":"Pablo"},{"$f":"VLOOKUP(E913,Kühe!$A$7:$G$150,7,FALSE)","v":"Hischier Pius"}]
["2018-06-20",{"$f":"VLOOKUP(D914,Kühe!$A$7:$G$150,7,FALSE)","v":"Bayard Medard & Gustav"},{"$f":"VLOOKUP(D914,Kühe!$A$7:$G$150,2,FALSE)","v":"Mirabelle"},2,95,{"$f":"VLOOKUP(E914,Kühe!$A$7:$G$150,2,FALSE)","v":"Xena"},{"$f":"VLOOKUP(E914,Kühe!$A$7:$G$150,7,FALSE)","v":"Wyssen Diego & Madlen"}]
["2018-06-20",{"$f":"VLOOKUP(D915,Kühe!$A$7:$G$150,7,FALSE)","v":"Tscherry Erwin & Bernhard"},{"$f":"VLOOKUP(D915,Kühe!$A$7:$G$150,2,FALSE)","v":"Carolin"},82,26,{"$f":"VLOOKUP(E915,Kühe!$A$7:$G$150,2,FALSE)","v":"Ares"},{"$f":"VLOOKUP(E915,Kühe!$A$7:$G$150,7,FALSE)","v":"Fux Wendelin, Jenny & Wyer Piet"}]
["2018-06-20",{"$f":"VLOOKUP(D916,Kühe!$A$7:$G$150,7,FALSE)","v":"Fux Wendelin, Jenny & Wyer Piet"},{"$f":"VLOOKUP(D916,Kühe!$A$7:$G$150,2,FALSE)","v":"Bolero"},27,11,{"$f":"VLOOKUP(E916,Kühe!$A$7:$G$150,2,FALSE)","v":"Santiago"},{"$f":"VLOOKUP(E916,Kühe!$A$7:$G$150,7,FALSE)","v":"Bregy Ralf & Adolf"}]
["2018-06-20",{"$f":"VLOOKUP(D917,Kühe!$A$7:$G$150,7,FALSE)","v":"Fux Wendelin, Jenny & Wyer Piet"},{"$f":"VLOOKUP(D917,Kühe!$A$7:$G$150,2,FALSE)","v":"Souris"},35,59,{"$f":"VLOOKUP(E917,Kühe!$A$7:$G$150,2,FALSE)","v":"Baghira"},{"$f":"VLOOKUP(E917,Kühe!$A$7:$G$150,7,FALSE)","v":"Mathieu Leander & Sascha"}]
["2018-06-20",{"$f":"VLOOKUP(D918,Kühe!$A$7:$G$150,7,FALSE)","v":"Jäger Carlo"},{"$f":"VLOOKUP(D918,Kühe!$A$7:$G$150,2,FALSE)","v":"Turin"},58,18,{"$f":"VLOOKUP(E918,Kühe!$A$7:$G$150,2,FALSE)","v":"Souki"},{"$f":"VLOOKUP(E918,Kühe!$A$7:$G$150,7,FALSE)","v":"Bregy Uli & Pascal"}]
["2018-06-20",{"$f":"VLOOKUP(D919,Kühe!$A$7:$G$150,7,FALSE)","v":"Fux Wendelin, Jenny & Wyer Piet"},{"$f":"VLOOKUP(D919,Kühe!$A$7:$G$150,2,FALSE)","v":"Bolero"},27,21,{"$f":"VLOOKUP(E919,Kühe!$A$7:$G$150,2,FALSE)","v":"Bulle"},{"$f":"VLOOKUP(E919,Kühe!$A$7:$G$150,7,FALSE)","v":"Familie Leiggener"}]
["2018-06-20",{"$f":"VLOOKUP(D920,Kühe!$A$7:$G$150,7,FALSE)","v":"Familie Leiggener"},{"$f":"VLOOKUP(D920,Kühe!$A$7:$G$150,2,FALSE)","v":"Rebell"},23,27,{"$f":"VLOOKUP(E920,Kühe!$A$7:$G$150,2,FALSE)","v":"Bolero"},{"$f":"VLOOKUP(E920,Kühe!$A$7:$G$150,7,FALSE)","v":"Fux Wendelin, Jenny & Wyer Piet"}]
["2018-06-20",{"$f":"VLOOKUP(D921,Kühe!$A$7:$G$150,7,FALSE)","v":"Familie Leiggener"},{"$f":"VLOOKUP(D921,Kühe!$A$7:$G$150,2,FALSE)","v":"Rebell"},23,47,{"$f":"VLOOKUP(E921,Kühe!$A$7:$G$150,2,FALSE)","v":"Pablo"},{"$f":"VLOOKUP(E921,Kühe!$A$7:$G$150,7,FALSE)","v":"Hischier Pius"}]
["2018-06-20",{"$f":"VLOOKUP(D922,Kühe!$A$7:$G$150,7,FALSE)","v":"Wyssen Diego & Madlen"},{"$f":"VLOOKUP(D922,Kühe!$A$7:$G$150,2,FALSE)","v":"Xanja"},94,3,{"$f":"VLOOKUP(E922,Kühe!$A$7:$G$150,2,FALSE)","v":"Pinka"},{"$f":"VLOOKUP(E922,Kühe!$A$7:$G$150,7,FALSE)","v":"Bayard Medard & Gustav"}]
["2018-06-20",{"$f":"VLOOKUP(D923,Kühe!$A$7:$G$150,7,FALSE)","v":"Jäger Carlo"},{"$f":"VLOOKUP(D923,Kühe!$A$7:$G$150,2,FALSE)","v":"Maila"},52,6,{"$f":"VLOOKUP(E923,Kühe!$A$7:$G$150,2,FALSE)","v":"Diabolo"},{"$f":"VLOOKUP(E923,Kühe!$A$7:$G$150,7,FALSE)","v":"Bregy Anja"}]
["2018-06-20",{"$f":"VLOOKUP(D924,Kühe!$A$7:$G$150,7,FALSE)","v":"Williner  Anton"},{"$f":"VLOOKUP(D924,Kühe!$A$7:$G$150,2,FALSE)","v":"Vanessa"},91,93,{"$f":"VLOOKUP(E924,Kühe!$A$7:$G$150,2,FALSE)","v":"Shagiri"},{"$f":"VLOOKUP(E924,Kühe!$A$7:$G$150,7,FALSE)","v":"Wyssen Diego & Madlen"}]
["2018-06-20",{"$f":"VLOOKUP(D925,Kühe!$A$7:$G$150,7,FALSE)","v":"Gebrüder Jäger"},{"$f":"VLOOKUP(D925,Kühe!$A$7:$G$150,2,FALSE)","v":"Barilona"},40,61,{"$f":"VLOOKUP(E925,Kühe!$A$7:$G$150,2,FALSE)","v":"Baronesse"},{"$f":"VLOOKUP(E925,Kühe!$A$7:$G$150,7,FALSE)","v":"Mathieu Leander & Sascha"}]
["2018-06-20",{"$f":"VLOOKUP(D926,Kühe!$A$7:$G$150,7,FALSE)","v":"Williner  Anton"},{"$f":"VLOOKUP(D926,Kühe!$A$7:$G$150,2,FALSE)","v":"Vanessa"},91,39,{"$f":"VLOOKUP(E926,Kühe!$A$7:$G$150,2,FALSE)","v":"Bandit"},{"$f":"VLOOKUP(E926,Kühe!$A$7:$G$150,7,FALSE)","v":"Gebrüder Jäger"}]
["2018-06-20",{"$f":"VLOOKUP(D927,Kühe!$A$7:$G$150,7,FALSE)","v":"Jäger Carlo"},{"$f":"VLOOKUP(D927,Kühe!$A$7:$G$150,2,FALSE)","v":"Papillon"},55,80,{"$f":"VLOOKUP(E927,Kühe!$A$7:$G$150,2,FALSE)","v":"Tiara"},{"$f":"VLOOKUP(E927,Kühe!$A$7:$G$150,7,FALSE)","v":"Sewer Ralf & Thommen Steve"}]
["2018-06-20",{"$f":"VLOOKUP(D928,Kühe!$A$7:$G$150,7,FALSE)","v":"Bregy Patrick & Silvan"},{"$f":"VLOOKUP(D928,Kühe!$A$7:$G$150,2,FALSE)","v":"Tequilla"},13,106,{"$f":"VLOOKUP(E928,Kühe!$A$7:$G$150,2,FALSE)","v":"Rambo"},{"$f":"VLOOKUP(E928,Kühe!$A$7:$G$150,7,FALSE)","v":"Zumofen / Gattlen"}]
["2018-06-20",{"$f":"VLOOKUP(D929,Kühe!$A$7:$G$150,7,FALSE)","v":"Jäger Carlo"},{"$f":"VLOOKUP(D929,Kühe!$A$7:$G$150,2,FALSE)","v":"Maila"},52,107,{"$f":"VLOOKUP(E929,Kühe!$A$7:$G$150,2,FALSE)","v":"Violin"},{"$f":"VLOOKUP(E929,Kühe!$A$7:$G$150,7,FALSE)","v":"Zumofen / Gattlen"}]
["2018-06-20",{"$f":"VLOOKUP(D930,Kühe!$A$7:$G$150,7,FALSE)","v":"Bregy Ralf & Adolf"},{"$f":"VLOOKUP(D930,Kühe!$A$7:$G$150,2,FALSE)","v":"Canaille"},7,110,{"$f":"VLOOKUP(E930,Kühe!$A$7:$G$150,2,FALSE)","v":"Xena"},{"$f":"VLOOKUP(E930,Kühe!$A$7:$G$150,7,FALSE)","v":"Zumofen / Gattlen"}]
["2018-06-20",{"$f":"VLOOKUP(D931,Kühe!$A$7:$G$150,7,FALSE)","v":"Zumofen / Gattlen"},{"$f":"VLOOKUP(D931,Kühe!$A$7:$G$150,2,FALSE)","v":"Milou"},103,72,{"$f":"VLOOKUP(E931,Kühe!$A$7:$G$150,2,FALSE)","v":"Mirette"},{"$f":"VLOOKUP(E931,Kühe!$A$7:$G$150,7,FALSE)","v":"Hutter Richard"}]
["2018-06-20",{"$f":"VLOOKUP(D932,Kühe!$A$7:$G$150,7,FALSE)","v":"Fux Wendelin, Jenny & Wyer Piet"},{"$f":"VLOOKUP(D932,Kühe!$A$7:$G$150,2,FALSE)","v":"Bolero"},27,86,{"$f":"VLOOKUP(E932,Kühe!$A$7:$G$150,2,FALSE)","v":"Lotus"},{"$f":"VLOOKUP(E932,Kühe!$A$7:$G$150,7,FALSE)","v":"Williner  Anton"}]
["2018-06-20",{"$f":"VLOOKUP(D933,Kühe!$A$7:$G$150,7,FALSE)","v":"Jäger Carlo"},{"$f":"VLOOKUP(D933,Kühe!$A$7:$G$150,2,FALSE)","v":"Paloma"},54,47,{"$f":"VLOOKUP(E933,Kühe!$A$7:$G$150,2,FALSE)","v":"Pablo"},{"$f":"VLOOKUP(E933,Kühe!$A$7:$G$150,7,FALSE)","v":"Hischier Pius"}]
["2018-06-20",{"$f":"VLOOKUP(D934,Kühe!$A$7:$G$150,7,FALSE)","v":"Mathieu Leander & Sascha"},{"$f":"VLOOKUP(D934,Kühe!$A$7:$G$150,2,FALSE)","v":"Bavaria"},62,80,{"$f":"VLOOKUP(E934,Kühe!$A$7:$G$150,2,FALSE)","v":"Tiara"},{"$f":"VLOOKUP(E934,Kühe!$A$7:$G$150,7,FALSE)","v":"Sewer Ralf & Thommen Steve"}]
["2018-06-20",{"$f":"VLOOKUP(D935,Kühe!$A$7:$G$150,7,FALSE)","v":"Zumofen / Gattlen"},{"$f":"VLOOKUP(D935,Kühe!$A$7:$G$150,2,FALSE)","v":"Milou"},103,53,{"$f":"VLOOKUP(E935,Kühe!$A$7:$G$150,2,FALSE)","v":"Mirtille"},{"$f":"VLOOKUP(E935,Kühe!$A$7:$G$150,7,FALSE)","v":"Jäger Carlo"}]
["2018-06-20",{"$f":"VLOOKUP(D936,Kühe!$A$7:$G$150,7,FALSE)","v":"Zumofen / Gattlen"},{"$f":"VLOOKUP(D936,Kühe!$A$7:$G$150,2,FALSE)","v":"Violin"},107,90,{"$f":"VLOOKUP(E936,Kühe!$A$7:$G$150,2,FALSE)","v":"Tira"},{"$f":"VLOOKUP(E936,Kühe!$A$7:$G$150,7,FALSE)","v":"Williner  Anton"}]
["2018-06-20",{"$f":"VLOOKUP(D937,Kühe!$A$7:$G$150,7,FALSE)","v":"Zumofen / Gattlen"},{"$f":"VLOOKUP(D937,Kühe!$A$7:$G$150,2,FALSE)","v":"Xena"},110,72,{"$f":"VLOOKUP(E937,Kühe!$A$7:$G$150,2,FALSE)","v":"Mirette"},{"$f":"VLOOKUP(E937,Kühe!$A$7:$G$150,7,FALSE)","v":"Hutter Richard"}]
["2018-06-19",{"$f":"VLOOKUP(D938,Kühe!$A$7:$G$150,7,FALSE)","v":"Bregy Patrick & Silvan"},{"$f":"VLOOKUP(D938,Kühe!$A$7:$G$150,2,FALSE)","v":"Milow"},12,110,{"$f":"VLOOKUP(E938,Kühe!$A$7:$G$150,2,FALSE)","v":"Xena"},{"$f":"VLOOKUP(E938,Kühe!$A$7:$G$150,7,FALSE)","v":"Zumofen / Gattlen"}]
["2018-06-19",{"$f":"VLOOKUP(D939,Kühe!$A$7:$G$150,7,FALSE)","v":"Zumofen / Gattlen"},{"$f":"VLOOKUP(D939,Kühe!$A$7:$G$150,2,FALSE)","v":"Pengale"},104,100,{"$f":"VLOOKUP(E939,Kühe!$A$7:$G$150,2,FALSE)","v":"Akhira"},{"$f":"VLOOKUP(E939,Kühe!$A$7:$G$150,7,FALSE)","v":"Zumofen / Gattlen"}]
["2018-06-19",{"$f":"VLOOKUP(D940,Kühe!$A$7:$G$150,7,FALSE)","v":"Bregy Patrick & Silvan"},{"$f":"VLOOKUP(D940,Kühe!$A$7:$G$150,2,FALSE)","v":"Milow"},12,105,{"$f":"VLOOKUP(E940,Kühe!$A$7:$G$150,2,FALSE)","v":"Puma"},{"$f":"VLOOKUP(E940,Kühe!$A$7:$G$150,7,FALSE)","v":"Zumofen / Gattlen"}]
["2018-06-19",{"$f":"VLOOKUP(D941,Kühe!$A$7:$G$150,7,FALSE)","v":"Williner  Anton"},{"$f":"VLOOKUP(D941,Kühe!$A$7:$G$150,2,FALSE)","v":"Tira"},90,109,{"$f":"VLOOKUP(E941,Kühe!$A$7:$G$150,2,FALSE)","v":"Vulcana"},{"$f":"VLOOKUP(E941,Kühe!$A$7:$G$150,7,FALSE)","v":"Zumofen / Gattlen"}]
["2018-06-19",{"$f":"VLOOKUP(D942,Kühe!$A$7:$G$150,7,FALSE)","v":"Hischier Pius"},{"$f":"VLOOKUP(D942,Kühe!$A$7:$G$150,2,FALSE)","v":"Pelila"},48,100,{"$f":"VLOOKUP(E942,Kühe!$A$7:$G$150,2,FALSE)","v":"Akhira"},{"$f":"VLOOKUP(E942,Kühe!$A$7:$G$150,7,FALSE)","v":"Zumofen / Gattlen"}]
["2018-06-19",{"$f":"VLOOKUP(D943,Kühe!$A$7:$G$150,7,FALSE)","v":"Hutter Richard"},{"$f":"VLOOKUP(D943,Kühe!$A$7:$G$150,2,FALSE)","v":"Mirette"},72,3,{"$f":"VLOOKUP(E943,Kühe!$A$7:$G$150,2,FALSE)","v":"Pinka"},{"$f":"VLOOKUP(E943,Kühe!$A$7:$G$150,7,FALSE)","v":"Bayard Medard & Gustav"}]
["2018-06-19",{"$f":"VLOOKUP(D944,Kühe!$A$7:$G$150,7,FALSE)","v":"Bregy Uli & Pascal"},{"$f":"VLOOKUP(D944,Kühe!$A$7:$G$150,2,FALSE)","v":"Catalina"},15,71,{"$f":"VLOOKUP(E944,Kühe!$A$7:$G$150,2,FALSE)","v":"Bonita"},{"$f":"VLOOKUP(E944,Kühe!$A$7:$G$150,7,FALSE)","v":"Stallung Passeraub"}]
["2018-06-19",{"$f":"VLOOKUP(D945,Kühe!$A$7:$G$150,7,FALSE)","v":"Bregy Uli & Pascal"},{"$f":"VLOOKUP(D945,Kühe!$A$7:$G$150,2,FALSE)","v":"Catalina"},15,65,{"$f":"VLOOKUP(E945,Kühe!$A$7:$G$150,2,FALSE)","v":"Baghera"},{"$f":"VLOOKUP(E945,Kühe!$A$7:$G$150,7,FALSE)","v":"Stallung Passeraub"}]
["2018-06-19",{"$f":"VLOOKUP(D946,Kühe!$A$7:$G$150,7,FALSE)","v":"Williner  Anton"},{"$f":"VLOOKUP(D946,Kühe!$A$7:$G$150,2,FALSE)","v":"Vanessa"},91,74,{"$f":"VLOOKUP(E946,Kühe!$A$7:$G$150,2,FALSE)","v":"Diaries"},{"$f":"VLOOKUP(E946,Kühe!$A$7:$G$150,7,FALSE)","v":"Stallung zum Stäg"}]
["2018-06-19",{"$f":"VLOOKUP(D947,Kühe!$A$7:$G$150,7,FALSE)","v":"Gebrüder Jäger"},{"$f":"VLOOKUP(D947,Kühe!$A$7:$G$150,2,FALSE)","v":"Tiger"},42,79,{"$f":"VLOOKUP(E947,Kühe!$A$7:$G$150,2,FALSE)","v":"Tacona"},{"$f":"VLOOKUP(E947,Kühe!$A$7:$G$150,7,FALSE)","v":"Sewer Ralf & Thommen Steve"}]
["2018-06-19",{"$f":"VLOOKUP(D948,Kühe!$A$7:$G$150,7,FALSE)","v":"Hutter Richard"},{"$f":"VLOOKUP(D948,Kühe!$A$7:$G$150,2,FALSE)","v":"Mirette"},72,35,{"$f":"VLOOKUP(E948,Kühe!$A$7:$G$150,2,FALSE)","v":"Souris"},{"$f":"VLOOKUP(E948,Kühe!$A$7:$G$150,7,FALSE)","v":"Fux Wendelin, Jenny & Wyer Piet"}]
["2018-06-19",{"$f":"VLOOKUP(D949,Kühe!$A$7:$G$150,7,FALSE)","v":"Stallung zum Stäg"},{"$f":"VLOOKUP(D949,Kühe!$A$7:$G$150,2,FALSE)","v":"Pandora"},75,42,{"$f":"VLOOKUP(E949,Kühe!$A$7:$G$150,2,FALSE)","v":"Tiger"},{"$f":"VLOOKUP(E949,Kühe!$A$7:$G$150,7,FALSE)","v":"Gebrüder Jäger"}]
["2018-06-19",{"$f":"VLOOKUP(D950,Kühe!$A$7:$G$150,7,FALSE)","v":"Jäger Carlo"},{"$f":"VLOOKUP(D950,Kühe!$A$7:$G$150,2,FALSE)","v":"Bandit"},50,40,{"$f":"VLOOKUP(E950,Kühe!$A$7:$G$150,2,FALSE)","v":"Barilona"},{"$f":"VLOOKUP(E950,Kühe!$A$7:$G$150,7,FALSE)","v":"Gebrüder Jäger"}]
["2018-06-19",{"$f":"VLOOKUP(D951,Kühe!$A$7:$G$150,7,FALSE)","v":"Mathieu Leander & Sascha"},{"$f":"VLOOKUP(D951,Kühe!$A$7:$G$150,2,FALSE)","v":"Baghira"},59,102,{"$f":"VLOOKUP(E951,Kühe!$A$7:$G$150,2,FALSE)","v":"Fayola"},{"$f":"VLOOKUP(E951,Kühe!$A$7:$G$150,7,FALSE)","v":"Zumofen / Gattlen"}]
["2018-06-19",{"$f":"VLOOKUP(D952,Kühe!$A$7:$G$150,7,FALSE)","v":"Stallung zum Stäg"},{"$f":"VLOOKUP(D952,Kühe!$A$7:$G$150,2,FALSE)","v":"Diaries"},74,63,{"$f":"VLOOKUP(E952,Kühe!$A$7:$G$150,2,FALSE)","v":"Belon"},{"$f":"VLOOKUP(E952,Kühe!$A$7:$G$150,7,FALSE)","v":"Mathieu Leander & Sascha"}]
["2018-06-19",{"$f":"VLOOKUP(D953,Kühe!$A$7:$G$150,7,FALSE)","v":"Tscherry Erwin & Bernhard"},{"$f":"VLOOKUP(D953,Kühe!$A$7:$G$150,2,FALSE)","v":"Cobra"},84,2,{"$f":"VLOOKUP(E953,Kühe!$A$7:$G$150,2,FALSE)","v":"Mirabelle"},{"$f":"VLOOKUP(E953,Kühe!$A$7:$G$150,7,FALSE)","v":"Bayard Medard & Gustav"}]
["2018-06-19",{"$f":"VLOOKUP(D954,Kühe!$A$7:$G$150,7,FALSE)","v":"Fux Wendelin, Jenny & Wyer Piet"},{"$f":"VLOOKUP(D954,Kühe!$A$7:$G$150,2,FALSE)","v":"Bresil"},28,79,{"$f":"VLOOKUP(E954,Kühe!$A$7:$G$150,2,FALSE)","v":"Tacona"},{"$f":"VLOOKUP(E954,Kühe!$A$7:$G$150,7,FALSE)","v":"Sewer Ralf & Thommen Steve"}]
["2018-06-19",{"$f":"VLOOKUP(D955,Kühe!$A$7:$G$150,7,FALSE)","v":"Gebrüder Jäger"},{"$f":"VLOOKUP(D955,Kühe!$A$7:$G$150,2,FALSE)","v":"Bandit"},39,59,{"$f":"VLOOKUP(E955,Kühe!$A$7:$G$150,2,FALSE)","v":"Baghira"},{"$f":"VLOOKUP(E955,Kühe!$A$7:$G$150,7,FALSE)","v":"Mathieu Leander & Sascha"}]
["2018-06-19",{"$f":"VLOOKUP(D956,Kühe!$A$7:$G$150,7,FALSE)","v":"Familie Zumoberhaus"},{"$f":"VLOOKUP(D956,Kühe!$A$7:$G$150,2,FALSE)","v":"Coucou"},97,76,{"$f":"VLOOKUP(E956,Kühe!$A$7:$G$150,2,FALSE)","v":"Gonda"},{"$f":"VLOOKUP(E956,Kühe!$A$7:$G$150,7,FALSE)","v":"Sewer Ralf & Thommen Steve"}]
["2018-06-19",{"$f":"VLOOKUP(D957,Kühe!$A$7:$G$150,7,FALSE)","v":"Bregy Uli & Pascal"},{"$f":"VLOOKUP(D957,Kühe!$A$7:$G$150,2,FALSE)","v":"Tiranie"},19,97,{"$f":"VLOOKUP(E957,Kühe!$A$7:$G$150,2,FALSE)","v":"Coucou"},{"$f":"VLOOKUP(E957,Kühe!$A$7:$G$150,7,FALSE)","v":"Familie Zumoberhaus"}]
["2018-06-19",{"$f":"VLOOKUP(D958,Kühe!$A$7:$G$150,7,FALSE)","v":"Zumofen / Gattlen"},{"$f":"VLOOKUP(D958,Kühe!$A$7:$G$150,2,FALSE)","v":"Volero"},108,35,{"$f":"VLOOKUP(E958,Kühe!$A$7:$G$150,2,FALSE)","v":"Souris"},{"$f":"VLOOKUP(E958,Kühe!$A$7:$G$150,7,FALSE)","v":"Fux Wendelin, Jenny & Wyer Piet"}]
["2018-06-19",{"$f":"VLOOKUP(D959,Kühe!$A$7:$G$150,7,FALSE)","v":"Bregy Uli & Pascal"},{"$f":"VLOOKUP(D959,Kühe!$A$7:$G$150,2,FALSE)","v":"Souki"},18,91,{"$f":"VLOOKUP(E959,Kühe!$A$7:$G$150,2,FALSE)","v":"Vanessa"},{"$f":"VLOOKUP(E959,Kühe!$A$7:$G$150,7,FALSE)","v":"Williner  Anton"}]
["2018-06-19",{"$f":"VLOOKUP(D960,Kühe!$A$7:$G$150,7,FALSE)","v":"Wyssen Diego & Madlen"},{"$f":"VLOOKUP(D960,Kühe!$A$7:$G$150,2,FALSE)","v":"Fiorenza"},92,105,{"$f":"VLOOKUP(E960,Kühe!$A$7:$G$150,2,FALSE)","v":"Puma"},{"$f":"VLOOKUP(E960,Kühe!$A$7:$G$150,7,FALSE)","v":"Zumofen / Gattlen"}]
["2018-06-19",{"$f":"VLOOKUP(D961,Kühe!$A$7:$G$150,7,FALSE)","v":"Familie Zumoberhaus"},{"$f":"VLOOKUP(D961,Kühe!$A$7:$G$150,2,FALSE)","v":"Napapiri"},99,39,{"$f":"VLOOKUP(E961,Kühe!$A$7:$G$150,2,FALSE)","v":"Bandit"},{"$f":"VLOOKUP(E961,Kühe!$A$7:$G$150,7,FALSE)","v":"Gebrüder Jäger"}]
["2018-06-19",{"$f":"VLOOKUP(D962,Kühe!$A$7:$G$150,7,FALSE)","v":"Zumofen / Gattlen"},{"$f":"VLOOKUP(D962,Kühe!$A$7:$G$150,2,FALSE)","v":"Akhira"},100,81,{"$f":"VLOOKUP(E962,Kühe!$A$7:$G$150,2,FALSE)","v":"Tinea"},{"$f":"VLOOKUP(E962,Kühe!$A$7:$G$150,7,FALSE)","v":"Sewer Ralf & Thommen Steve"}]
["2018-06-19",{"$f":"VLOOKUP(D963,Kühe!$A$7:$G$150,7,FALSE)","v":"Stallung Passeraub"},{"$f":"VLOOKUP(D963,Kühe!$A$7:$G$150,2,FALSE)","v":"Bonita"},71,41,{"$f":"VLOOKUP(E963,Kühe!$A$7:$G$150,2,FALSE)","v":"Bessy"},{"$f":"VLOOKUP(E963,Kühe!$A$7:$G$150,7,FALSE)","v":"Gebrüder Jäger"}]
["2018-06-19",{"$f":"VLOOKUP(D964,Kühe!$A$7:$G$150,7,FALSE)","v":"Gebrüder Jäger"},{"$f":"VLOOKUP(D964,Kühe!$A$7:$G$150,2,FALSE)","v":"Tirana"},38,16,{"$f":"VLOOKUP(E964,Kühe!$A$7:$G$150,2,FALSE)","v":"Cora"},{"$f":"VLOOKUP(E964,Kühe!$A$7:$G$150,7,FALSE)","v":"Bregy Uli & Pascal"}]
["2018-06-19",{"$f":"VLOOKUP(D965,Kühe!$A$7:$G$150,7,FALSE)","v":"Gebrüder Jäger"},{"$f":"VLOOKUP(D965,Kühe!$A$7:$G$150,2,FALSE)","v":"Tirana"},38,90,{"$f":"VLOOKUP(E965,Kühe!$A$7:$G$150,2,FALSE)","v":"Tira"},{"$f":"VLOOKUP(E965,Kühe!$A$7:$G$150,7,FALSE)","v":"Williner  Anton"}]
["2018-06-19",{"$f":"VLOOKUP(D966,Kühe!$A$7:$G$150,7,FALSE)","v":"Hischier Pius"},{"$f":"VLOOKUP(D966,Kühe!$A$7:$G$150,2,FALSE)","v":"Pelila"},48,43,{"$f":"VLOOKUP(E966,Kühe!$A$7:$G$150,2,FALSE)","v":"Dorina"},{"$f":"VLOOKUP(E966,Kühe!$A$7:$G$150,7,FALSE)","v":"Gebrüder Jäger"}]
["2018-06-19",{"$f":"VLOOKUP(D967,Kühe!$A$7:$G$150,7,FALSE)","v":"Gebrüder Jäger"},{"$f":"VLOOKUP(D967,Kühe!$A$7:$G$150,2,FALSE)","v":"Bandit"},39,95,{"$f":"VLOOKUP(E967,Kühe!$A$7:$G$150,2,FALSE)","v":"Xena"},{"$f":"VLOOKUP(E967,Kühe!$A$7:$G$150,7,FALSE)","v":"Wyssen Diego & Madlen"}]
["2018-06-19",{"$f":"VLOOKUP(D968,Kühe!$A$7:$G$150,7,FALSE)","v":"Tscherry Erwin & Bernhard"},{"$f":"VLOOKUP(D968,Kühe!$A$7:$G$150,2,FALSE)","v":"Cobra"},84,74,{"$f":"VLOOKUP(E968,Kühe!$A$7:$G$150,2,FALSE)","v":"Diaries"},{"$f":"VLOOKUP(E968,Kühe!$A$7:$G$150,7,FALSE)","v":"Stallung zum Stäg"}]
["2018-06-19",{"$f":"VLOOKUP(D969,Kühe!$A$7:$G$150,7,FALSE)","v":"Bregy Patrick & Silvan"},{"$f":"VLOOKUP(D969,Kühe!$A$7:$G$150,2,FALSE)","v":"Milow"},12,44,{"$f":"VLOOKUP(E969,Kühe!$A$7:$G$150,2,FALSE)","v":"Tamango"},{"$f":"VLOOKUP(E969,Kühe!$A$7:$G$150,7,FALSE)","v":"Gebrüder Jäger"}]
["2018-06-19",{"$f":"VLOOKUP(D970,Kühe!$A$7:$G$150,7,FALSE)","v":"Stallung zum Stäg"},{"$f":"VLOOKUP(D970,Kühe!$A$7:$G$150,2,FALSE)","v":"Diaries"},74,85,{"$f":"VLOOKUP(E970,Kühe!$A$7:$G$150,2,FALSE)","v":"Tulipe"},{"$f":"VLOOKUP(E970,Kühe!$A$7:$G$150,7,FALSE)","v":"Tscherry Erwin & Bernhard"}]
["2018-06-19",{"$f":"VLOOKUP(D971,Kühe!$A$7:$G$150,7,FALSE)","v":"Gebrüder Jäger"},{"$f":"VLOOKUP(D971,Kühe!$A$7:$G$150,2,FALSE)","v":"Tiger"},42,65,{"$f":"VLOOKUP(E971,Kühe!$A$7:$G$150,2,FALSE)","v":"Baghera"},{"$f":"VLOOKUP(E971,Kühe!$A$7:$G$150,7,FALSE)","v":"Stallung Passeraub"}]
["2018-06-19",{"$f":"VLOOKUP(D972,Kühe!$A$7:$G$150,7,FALSE)","v":"Gebrüder Jäger"},{"$f":"VLOOKUP(D972,Kühe!$A$7:$G$150,2,FALSE)","v":"Taylor"},45,51,{"$f":"VLOOKUP(E972,Kühe!$A$7:$G$150,2,FALSE)","v":"Guxa"},{"$f":"VLOOKUP(E972,Kühe!$A$7:$G$150,7,FALSE)","v":"Jäger Carlo"}]
["2018-06-19",{"$f":"VLOOKUP(D973,Kühe!$A$7:$G$150,7,FALSE)","v":"Jäger Carlo"},{"$f":"VLOOKUP(D973,Kühe!$A$7:$G$150,2,FALSE)","v":"Promise"},57,70,{"$f":"VLOOKUP(E973,Kühe!$A$7:$G$150,2,FALSE)","v":"Medusa"},{"$f":"VLOOKUP(E973,Kühe!$A$7:$G$150,7,FALSE)","v":"Stallung Passeraub"}]
["2018-06-19",{"$f":"VLOOKUP(D974,Kühe!$A$7:$G$150,7,FALSE)","v":"Gebrüder Jäger"},{"$f":"VLOOKUP(D974,Kühe!$A$7:$G$150,2,FALSE)","v":"Tiger"},42,79,{"$f":"VLOOKUP(E974,Kühe!$A$7:$G$150,2,FALSE)","v":"Tacona"},{"$f":"VLOOKUP(E974,Kühe!$A$7:$G$150,7,FALSE)","v":"Sewer Ralf & Thommen Steve"}]
["2018-06-19",{"$f":"VLOOKUP(D975,Kühe!$A$7:$G$150,7,FALSE)","v":"Wyssen Diego & Madlen"},{"$f":"VLOOKUP(D975,Kühe!$A$7:$G$150,2,FALSE)","v":"Fiorenza"},92,91,{"$f":"VLOOKUP(E975,Kühe!$A$7:$G$150,2,FALSE)","v":"Vanessa"},{"$f":"VLOOKUP(E975,Kühe!$A$7:$G$150,7,FALSE)","v":"Williner  Anton"}]
["2018-06-19",{"$f":"VLOOKUP(D976,Kühe!$A$7:$G$150,7,FALSE)","v":"Hutter Richard"},{"$f":"VLOOKUP(D976,Kühe!$A$7:$G$150,2,FALSE)","v":"Mirette"},72,27,{"$f":"VLOOKUP(E976,Kühe!$A$7:$G$150,2,FALSE)","v":"Bolero"},{"$f":"VLOOKUP(E976,Kühe!$A$7:$G$150,7,FALSE)","v":"Fux Wendelin, Jenny & Wyer Piet"}]
["2018-06-19",{"$f":"VLOOKUP(D977,Kühe!$A$7:$G$150,7,FALSE)","v":"Jäger Carlo"},{"$f":"VLOOKUP(D977,Kühe!$A$7:$G$150,2,FALSE)","v":"Mirtille"},53,93,{"$f":"VLOOKUP(E977,Kühe!$A$7:$G$150,2,FALSE)","v":"Shagiri"},{"$f":"VLOOKUP(E977,Kühe!$A$7:$G$150,7,FALSE)","v":"Wyssen Diego & Madlen"}]
["2018-06-19",{"$f":"VLOOKUP(D978,Kühe!$A$7:$G$150,7,FALSE)","v":"Mathieu Leander & Sascha"},{"$f":"VLOOKUP(D978,Kühe!$A$7:$G$150,2,FALSE)","v":"Bavaria"},62,53,{"$f":"VLOOKUP(E978,Kühe!$A$7:$G$150,2,FALSE)","v":"Mirtille"},{"$f":"VLOOKUP(E978,Kühe!$A$7:$G$150,7,FALSE)","v":"Jäger Carlo"}]
["2018-06-19",{"$f":"VLOOKUP(D979,Kühe!$A$7:$G$150,7,FALSE)","v":"Mathieu Leander & Sascha"},{"$f":"VLOOKUP(D979,Kühe!$A$7:$G$150,2,FALSE)","v":"Belon"},63,90,{"$f":"VLOOKUP(E979,Kühe!$A$7:$G$150,2,FALSE)","v":"Tira"},{"$f":"VLOOKUP(E979,Kühe!$A$7:$G$150,7,FALSE)","v":"Williner  Anton"}]
["2018-06-19",{"$f":"VLOOKUP(D980,Kühe!$A$7:$G$150,7,FALSE)","v":"Bregy Uli & Pascal"},{"$f":"VLOOKUP(D980,Kühe!$A$7:$G$150,2,FALSE)","v":"Pandora"},17,43,{"$f":"VLOOKUP(E980,Kühe!$A$7:$G$150,2,FALSE)","v":"Dorina"},{"$f":"VLOOKUP(E980,Kühe!$A$7:$G$150,7,FALSE)","v":"Gebrüder Jäger"}]
["2018-06-19",{"$f":"VLOOKUP(D981,Kühe!$A$7:$G$150,7,FALSE)","v":"Hutter Richard"},{"$f":"VLOOKUP(D981,Kühe!$A$7:$G$150,2,FALSE)","v":"Mirette"},72,22,{"$f":"VLOOKUP(E981,Kühe!$A$7:$G$150,2,FALSE)","v":"Rambo"},{"$f":"VLOOKUP(E981,Kühe!$A$7:$G$150,7,FALSE)","v":"Familie Leiggener"}]
["2018-06-19",{"$f":"VLOOKUP(D982,Kühe!$A$7:$G$150,7,FALSE)","v":"Stallung zum Stäg"},{"$f":"VLOOKUP(D982,Kühe!$A$7:$G$150,2,FALSE)","v":"Pandora"},75,35,{"$f":"VLOOKUP(E982,Kühe!$A$7:$G$150,2,FALSE)","v":"Souris"},{"$f":"VLOOKUP(E982,Kühe!$A$7:$G$150,7,FALSE)","v":"Fux Wendelin, Jenny & Wyer Piet"}]
["2018-06-19",{"$f":"VLOOKUP(D983,Kühe!$A$7:$G$150,7,FALSE)","v":"Stallung zum Stäg"},{"$f":"VLOOKUP(D983,Kühe!$A$7:$G$150,2,FALSE)","v":"Pandora"},75,56,{"$f":"VLOOKUP(E983,Kühe!$A$7:$G$150,2,FALSE)","v":"Pisa"},{"$f":"VLOOKUP(E983,Kühe!$A$7:$G$150,7,FALSE)","v":"Jäger Carlo"}]
["2018-06-19",{"$f":"VLOOKUP(D984,Kühe!$A$7:$G$150,7,FALSE)","v":"Zumofen / Gattlen"},{"$f":"VLOOKUP(D984,Kühe!$A$7:$G$150,2,FALSE)","v":"Milou"},103,92,{"$f":"VLOOKUP(E984,Kühe!$A$7:$G$150,2,FALSE)","v":"Fiorenza"},{"$f":"VLOOKUP(E984,Kühe!$A$7:$G$150,7,FALSE)","v":"Wyssen Diego & Madlen"}]
["2018-06-19",{"$f":"VLOOKUP(D985,Kühe!$A$7:$G$150,7,FALSE)","v":"Bregy Ralf & Adolf"},{"$f":"VLOOKUP(D985,Kühe!$A$7:$G$150,2,FALSE)","v":"Flacari"},9,72,{"$f":"VLOOKUP(E985,Kühe!$A$7:$G$150,2,FALSE)","v":"Mirette"},{"$f":"VLOOKUP(E985,Kühe!$A$7:$G$150,7,FALSE)","v":"Hutter Richard"}]
["2018-06-19",{"$f":"VLOOKUP(D986,Kühe!$A$7:$G$150,7,FALSE)","v":"Familie Leiggener"},{"$f":"VLOOKUP(D986,Kühe!$A$7:$G$150,2,FALSE)","v":"Bijoux"},20,25,{"$f":"VLOOKUP(E986,Kühe!$A$7:$G$150,2,FALSE)","v":"Andora"},{"$f":"VLOOKUP(E986,Kühe!$A$7:$G$150,7,FALSE)","v":"Fux Wendelin, Jenny & Wyer Piet"}]
["2018-06-19",{"$f":"VLOOKUP(D987,Kühe!$A$7:$G$150,7,FALSE)","v":"Fux Wendelin, Jenny & Wyer Piet"},{"$f":"VLOOKUP(D987,Kühe!$A$7:$G$150,2,FALSE)","v":"Bolero"},27,20,{"$f":"VLOOKUP(E987,Kühe!$A$7:$G$150,2,FALSE)","v":"Bijoux"},{"$f":"VLOOKUP(E987,Kühe!$A$7:$G$150,7,FALSE)","v":"Familie Leiggener"}]
["2018-06-19",{"$f":"VLOOKUP(D988,Kühe!$A$7:$G$150,7,FALSE)","v":"Jäger Carlo"},{"$f":"VLOOKUP(D988,Kühe!$A$7:$G$150,2,FALSE)","v":"Bandit"},50,60,{"$f":"VLOOKUP(E988,Kühe!$A$7:$G$150,2,FALSE)","v":"Bambino"},{"$f":"VLOOKUP(E988,Kühe!$A$7:$G$150,7,FALSE)","v":"Mathieu Leander & Sascha"}]
["2018-06-19",{"$f":"VLOOKUP(D989,Kühe!$A$7:$G$150,7,FALSE)","v":"Hutter Richard"},{"$f":"VLOOKUP(D989,Kühe!$A$7:$G$150,2,FALSE)","v":"Mirette"},72,30,{"$f":"VLOOKUP(E989,Kühe!$A$7:$G$150,2,FALSE)","v":"Dixence"},{"$f":"VLOOKUP(E989,Kühe!$A$7:$G$150,7,FALSE)","v":"Fux Wendelin, Jenny & Wyer Piet"}]
["2018-06-19",{"$f":"VLOOKUP(D990,Kühe!$A$7:$G$150,7,FALSE)","v":"Hutter Richard"},{"$f":"VLOOKUP(D990,Kühe!$A$7:$G$150,2,FALSE)","v":"Mirette"},72,20,{"$f":"VLOOKUP(E990,Kühe!$A$7:$G$150,2,FALSE)","v":"Bijoux"},{"$f":"VLOOKUP(E990,Kühe!$A$7:$G$150,7,FALSE)","v":"Familie Leiggener"}]
["2018-06-18",{"$f":"VLOOKUP(D991,Kühe!$A$7:$G$150,7,FALSE)","v":"Bregy Uli & Pascal"},{"$f":"VLOOKUP(D991,Kühe!$A$7:$G$150,2,FALSE)","v":"Souki"},18,90,{"$f":"VLOOKUP(E991,Kühe!$A$7:$G$150,2,FALSE)","v":"Tira"},{"$f":"VLOOKUP(E991,Kühe!$A$7:$G$150,7,FALSE)","v":"Williner  Anton"}]
["2018-06-18",{"$f":"VLOOKUP(D992,Kühe!$A$7:$G$150,7,FALSE)","v":"Jäger Carlo"},{"$f":"VLOOKUP(D992,Kühe!$A$7:$G$150,2,FALSE)","v":"Turin"},58,100,{"$f":"VLOOKUP(E992,Kühe!$A$7:$G$150,2,FALSE)","v":"Akhira"},{"$f":"VLOOKUP(E992,Kühe!$A$7:$G$150,7,FALSE)","v":"Zumofen / Gattlen"}]
["2018-06-18",{"$f":"VLOOKUP(D993,Kühe!$A$7:$G$150,7,FALSE)","v":"Williner  Anton"},{"$f":"VLOOKUP(D993,Kühe!$A$7:$G$150,2,FALSE)","v":"Tira"},90,58,{"$f":"VLOOKUP(E993,Kühe!$A$7:$G$150,2,FALSE)","v":"Turin"},{"$f":"VLOOKUP(E993,Kühe!$A$7:$G$150,7,FALSE)","v":"Jäger Carlo"}]
["2018-06-18",{"$f":"VLOOKUP(D994,Kühe!$A$7:$G$150,7,FALSE)","v":"Stallung Passeraub"},{"$f":"VLOOKUP(D994,Kühe!$A$7:$G$150,2,FALSE)","v":"Bulle"},68,99,{"$f":"VLOOKUP(E994,Kühe!$A$7:$G$150,2,FALSE)","v":"Napapiri"},{"$f":"VLOOKUP(E994,Kühe!$A$7:$G$150,7,FALSE)","v":"Familie Zumoberhaus"}]
["2018-06-18",{"$f":"VLOOKUP(D995,Kühe!$A$7:$G$150,7,FALSE)","v":"Bregy Ralf & Adolf"},{"$f":"VLOOKUP(D995,Kühe!$A$7:$G$150,2,FALSE)","v":"Flacari"},9,65,{"$f":"VLOOKUP(E995,Kühe!$A$7:$G$150,2,FALSE)","v":"Baghera"},{"$f":"VLOOKUP(E995,Kühe!$A$7:$G$150,7,FALSE)","v":"Stallung Passeraub"}]
["2018-06-18",{"$f":"VLOOKUP(D996,Kühe!$A$7:$G$150,7,FALSE)","v":"Stallung Passeraub"},{"$f":"VLOOKUP(D996,Kühe!$A$7:$G$150,2,FALSE)","v":"Bonita"},71,98,{"$f":"VLOOKUP(E996,Kühe!$A$7:$G$150,2,FALSE)","v":"Nana"},{"$f":"VLOOKUP(E996,Kühe!$A$7:$G$150,7,FALSE)","v":"Familie Zumoberhaus"}]
["2018-06-18",{"$f":"VLOOKUP(D997,Kühe!$A$7:$G$150,7,FALSE)","v":"Mathieu Leander & Sascha"},{"$f":"VLOOKUP(D997,Kühe!$A$7:$G$150,2,FALSE)","v":"Belon"},63,78,{"$f":"VLOOKUP(E997,Kühe!$A$7:$G$150,2,FALSE)","v":"Tabitha"},{"$f":"VLOOKUP(E997,Kühe!$A$7:$G$150,7,FALSE)","v":"Sewer Ralf & Thommen Steve"}]
["2018-06-18",{"$f":"VLOOKUP(D998,Kühe!$A$7:$G$150,7,FALSE)","v":"Jäger Carlo"},{"$f":"VLOOKUP(D998,Kühe!$A$7:$G$150,2,FALSE)","v":"Turin"},58,48,{"$f":"VLOOKUP(E998,Kühe!$A$7:$G$150,2,FALSE)","v":"Pelila"},{"$f":"VLOOKUP(E998,Kühe!$A$7:$G$150,7,FALSE)","v":"Hischier Pius"}]
["2018-06-18",{"$f":"VLOOKUP(D999,Kühe!$A$7:$G$150,7,FALSE)","v":"Tscherry Erwin & Bernhard"},{"$f":"VLOOKUP(D999,Kühe!$A$7:$G$150,2,FALSE)","v":"Tulipe"},85,93,{"$f":"VLOOKUP(E999,Kühe!$A$7:$G$150,2,FALSE)","v":"Shagiri"},{"$f":"VLOOKUP(E999,Kühe!$A$7:$G$150,7,FALSE)","v":"Wyssen Diego & Madlen"}]
["2018-06-18",{"$f":"VLOOKUP(D1000,Kühe!$A$7:$G$150,7,FALSE)","v":"Zumofen / Gattlen"},{"$f":"VLOOKUP(D1000,Kühe!$A$7:$G$150,2,FALSE)","v":"Xena"},110,14,{"$f":"VLOOKUP(E1000,Kühe!$A$7:$G$150,2,FALSE)","v":"Calin"},{"$f":"VLOOKUP(E1000,Kühe!$A$7:$G$150,7,FALSE)","v":"Bregy Uli & Pascal"}]
["2018-06-18",{"$f":"VLOOKUP(D1001,Kühe!$A$7:$G$150,7,FALSE)","v":"Williner  Anton"},{"$f":"VLOOKUP(D1001,Kühe!$A$7:$G$150,2,FALSE)","v":"Tira"},90,17,{"$f":"VLOOKUP(E1001,Kühe!$A$7:$G$150,2,FALSE)","v":"Pandora"},{"$f":"VLOOKUP(E1001,Kühe!$A$7:$G$150,7,FALSE)","v":"Bregy Uli & Pascal"}]
["2018-06-18",{"$f":"VLOOKUP(D1002,Kühe!$A$7:$G$150,7,FALSE)","v":"Familie Zumoberhaus"},{"$f":"VLOOKUP(D1002,Kühe!$A$7:$G$150,2,FALSE)","v":"Napapiri"},99,45,{"$f":"VLOOKUP(E1002,Kühe!$A$7:$G$150,2,FALSE)","v":"Taylor"},{"$f":"VLOOKUP(E1002,Kühe!$A$7:$G$150,7,FALSE)","v":"Gebrüder Jäger"}]
["2018-06-18",{"$f":"VLOOKUP(D1003,Kühe!$A$7:$G$150,7,FALSE)","v":"Bregy Ralf & Adolf"},{"$f":"VLOOKUP(D1003,Kühe!$A$7:$G$150,2,FALSE)","v":"Canaille"},7,63,{"$f":"VLOOKUP(E1003,Kühe!$A$7:$G$150,2,FALSE)","v":"Belon"},{"$f":"VLOOKUP(E1003,Kühe!$A$7:$G$150,7,FALSE)","v":"Mathieu Leander & Sascha"}]
["2018-06-18",{"$f":"VLOOKUP(D1004,Kühe!$A$7:$G$150,7,FALSE)","v":"Stallung Passeraub"},{"$f":"VLOOKUP(D1004,Kühe!$A$7:$G$150,2,FALSE)","v":"Bonita"},71,47,{"$f":"VLOOKUP(E1004,Kühe!$A$7:$G$150,2,FALSE)","v":"Pablo"},{"$f":"VLOOKUP(E1004,Kühe!$A$7:$G$150,7,FALSE)","v":"Hischier Pius"}]
["2018-06-18",{"$f":"VLOOKUP(D1005,Kühe!$A$7:$G$150,7,FALSE)","v":"Hischier Pius"},{"$f":"VLOOKUP(D1005,Kühe!$A$7:$G$150,2,FALSE)","v":"Pablo"},47,68,{"$f":"VLOOKUP(E1005,Kühe!$A$7:$G$150,2,FALSE)","v":"Bulle"},{"$f":"VLOOKUP(E1005,Kühe!$A$7:$G$150,7,FALSE)","v":"Stallung Passeraub"}]
["2018-06-18",{"$f":"VLOOKUP(D1006,Kühe!$A$7:$G$150,7,FALSE)","v":"Zumofen / Gattlen"},{"$f":"VLOOKUP(D1006,Kühe!$A$7:$G$150,2,FALSE)","v":"Milou"},103,25,{"$f":"VLOOKUP(E1006,Kühe!$A$7:$G$150,2,FALSE)","v":"Andora"},{"$f":"VLOOKUP(E1006,Kühe!$A$7:$G$150,7,FALSE)","v":"Fux Wendelin, Jenny & Wyer Piet"}]
["2018-06-18",{"$f":"VLOOKUP(D1007,Kühe!$A$7:$G$150,7,FALSE)","v":"Familie Leiggener"},{"$f":"VLOOKUP(D1007,Kühe!$A$7:$G$150,2,FALSE)","v":"Bijoux"},20,11,{"$f":"VLOOKUP(E1007,Kühe!$A$7:$G$150,2,FALSE)","v":"Santiago"},{"$f":"VLOOKUP(E1007,Kühe!$A$7:$G$150,7,FALSE)","v":"Bregy Ralf & Adolf"}]
["2018-06-18",{"$f":"VLOOKUP(D1008,Kühe!$A$7:$G$150,7,FALSE)","v":"Wyssen Diego & Madlen"},{"$f":"VLOOKUP(D1008,Kühe!$A$7:$G$150,2,FALSE)","v":"Xhyla"},96,52,{"$f":"VLOOKUP(E1008,Kühe!$A$7:$G$150,2,FALSE)","v":"Maila"},{"$f":"VLOOKUP(E1008,Kühe!$A$7:$G$150,7,FALSE)","v":"Jäger Carlo"}]
["2018-06-18",{"$f":"VLOOKUP(D1009,Kühe!$A$7:$G$150,7,FALSE)","v":"Williner  Anton"},{"$f":"VLOOKUP(D1009,Kühe!$A$7:$G$150,2,FALSE)","v":"Vanessa"},91,92,{"$f":"VLOOKUP(E1009,Kühe!$A$7:$G$150,2,FALSE)","v":"Fiorenza"},{"$f":"VLOOKUP(E1009,Kühe!$A$7:$G$150,7,FALSE)","v":"Wyssen Diego & Madlen"}]
["2018-06-18",{"$f":"VLOOKUP(D1010,Kühe!$A$7:$G$150,7,FALSE)","v":"Wyssen Diego & Madlen"},{"$f":"VLOOKUP(D1010,Kühe!$A$7:$G$150,2,FALSE)","v":"Xena"},95,53,{"$f":"VLOOKUP(E1010,Kühe!$A$7:$G$150,2,FALSE)","v":"Mirtille"},{"$f":"VLOOKUP(E1010,Kühe!$A$7:$G$150,7,FALSE)","v":"Jäger Carlo"}]
["2018-06-18",{"$f":"VLOOKUP(D1011,Kühe!$A$7:$G$150,7,FALSE)","v":"Tscherry Erwin & Bernhard"},{"$f":"VLOOKUP(D1011,Kühe!$A$7:$G$150,2,FALSE)","v":"Tulipe"},85,62,{"$f":"VLOOKUP(E1011,Kühe!$A$7:$G$150,2,FALSE)","v":"Bavaria"},{"$f":"VLOOKUP(E1011,Kühe!$A$7:$G$150,7,FALSE)","v":"Mathieu Leander & Sascha"}]
["2018-06-18",{"$f":"VLOOKUP(D1012,Kühe!$A$7:$G$150,7,FALSE)","v":"Stallung Passeraub"},{"$f":"VLOOKUP(D1012,Kühe!$A$7:$G$150,2,FALSE)","v":"Bulle"},68,97,{"$f":"VLOOKUP(E1012,Kühe!$A$7:$G$150,2,FALSE)","v":"Coucou"},{"$f":"VLOOKUP(E1012,Kühe!$A$7:$G$150,7,FALSE)","v":"Familie Zumoberhaus"}]
["2018-06-18",{"$f":"VLOOKUP(D1013,Kühe!$A$7:$G$150,7,FALSE)","v":"Jäger Carlo"},{"$f":"VLOOKUP(D1013,Kühe!$A$7:$G$150,2,FALSE)","v":"Maila"},52,46,{"$f":"VLOOKUP(E1013,Kühe!$A$7:$G$150,2,FALSE)","v":"Lorens"},{"$f":"VLOOKUP(E1013,Kühe!$A$7:$G$150,7,FALSE)","v":"Gebrüder Jäger"}]
["2018-06-18",{"$f":"VLOOKUP(D1014,Kühe!$A$7:$G$150,7,FALSE)","v":"Williner  Anton"},{"$f":"VLOOKUP(D1014,Kühe!$A$7:$G$150,2,FALSE)","v":"Tira"},90,84,{"$f":"VLOOKUP(E1014,Kühe!$A$7:$G$150,2,FALSE)","v":"Cobra"},{"$f":"VLOOKUP(E1014,Kühe!$A$7:$G$150,7,FALSE)","v":"Tscherry Erwin & Bernhard"}]
["2018-06-18",{"$f":"VLOOKUP(D1015,Kühe!$A$7:$G$150,7,FALSE)","v":"Stallung Passeraub"},{"$f":"VLOOKUP(D1015,Kühe!$A$7:$G$150,2,FALSE)","v":"Baghera"},65,95,{"$f":"VLOOKUP(E1015,Kühe!$A$7:$G$150,2,FALSE)","v":"Xena"},{"$f":"VLOOKUP(E1015,Kühe!$A$7:$G$150,7,FALSE)","v":"Wyssen Diego & Madlen"}]
["2018-06-18",{"$f":"VLOOKUP(D1016,Kühe!$A$7:$G$150,7,FALSE)","v":"Stallung Passeraub"},{"$f":"VLOOKUP(D1016,Kühe!$A$7:$G$150,2,FALSE)","v":"Baghera"},65,94,{"$f":"VLOOKUP(E1016,Kühe!$A$7:$G$150,2,FALSE)","v":"Xanja"},{"$f":"VLOOKUP(E1016,Kühe!$A$7:$G$150,7,FALSE)","v":"Wyssen Diego & Madlen"}]
["2018-06-18",{"$f":"VLOOKUP(D1017,Kühe!$A$7:$G$150,7,FALSE)","v":"Tscherry Erwin & Bernhard"},{"$f":"VLOOKUP(D1017,Kühe!$A$7:$G$150,2,FALSE)","v":"Tulipe"},85,80,{"$f":"VLOOKUP(E1017,Kühe!$A$7:$G$150,2,FALSE)","v":"Tiara"},{"$f":"VLOOKUP(E1017,Kühe!$A$7:$G$150,7,FALSE)","v":"Sewer Ralf & Thommen Steve"}]
["2018-06-18",{"$f":"VLOOKUP(D1018,Kühe!$A$7:$G$150,7,FALSE)","v":"Wyssen Diego & Madlen"},{"$f":"VLOOKUP(D1018,Kühe!$A$7:$G$150,2,FALSE)","v":"Shagiri"},93,55,{"$f":"VLOOKUP(E1018,Kühe!$A$7:$G$150,2,FALSE)","v":"Papillon"},{"$f":"VLOOKUP(E1018,Kühe!$A$7:$G$150,7,FALSE)","v":"Jäger Carlo"}]
["2018-06-18",{"$f":"VLOOKUP(D1019,Kühe!$A$7:$G$150,7,FALSE)","v":"Bregy Uli & Pascal"},{"$f":"VLOOKUP(D1019,Kühe!$A$7:$G$150,2,FALSE)","v":"Pandora"},17,100,{"$f":"VLOOKUP(E1019,Kühe!$A$7:$G$150,2,FALSE)","v":"Akhira"},{"$f":"VLOOKUP(E1019,Kühe!$A$7:$G$150,7,FALSE)","v":"Zumofen / Gattlen"}]
["2018-06-18",{"$f":"VLOOKUP(D1020,Kühe!$A$7:$G$150,7,FALSE)","v":"Jäger Carlo"},{"$f":"VLOOKUP(D1020,Kühe!$A$7:$G$150,2,FALSE)","v":"Mirtille"},53,77,{"$f":"VLOOKUP(E1020,Kühe!$A$7:$G$150,2,FALSE)","v":"Saphira"},{"$f":"VLOOKUP(E1020,Kühe!$A$7:$G$150,7,FALSE)","v":"Sewer Ralf & Thommen Steve"}]
["2018-06-18",{"$f":"VLOOKUP(D1021,Kühe!$A$7:$G$150,7,FALSE)","v":"Gebrüder Jäger"},{"$f":"VLOOKUP(D1021,Kühe!$A$7:$G$150,2,FALSE)","v":"Tiger"},42,100,{"$f":"VLOOKUP(E1021,Kühe!$A$7:$G$150,2,FALSE)","v":"Akhira"},{"$f":"VLOOKUP(E1021,Kühe!$A$7:$G$150,7,FALSE)","v":"Zumofen / Gattlen"}]
["2018-06-18",{"$f":"VLOOKUP(D1022,Kühe!$A$7:$G$150,7,FALSE)","v":"Jäger Carlo"},{"$f":"VLOOKUP(D1022,Kühe!$A$7:$G$150,2,FALSE)","v":"Turin"},58,100,{"$f":"VLOOKUP(E1022,Kühe!$A$7:$G$150,2,FALSE)","v":"Akhira"},{"$f":"VLOOKUP(E1022,Kühe!$A$7:$G$150,7,FALSE)","v":"Zumofen / Gattlen"}]
["2018-06-18",{"$f":"VLOOKUP(D1023,Kühe!$A$7:$G$150,7,FALSE)","v":"Zumofen / Gattlen"},{"$f":"VLOOKUP(D1023,Kühe!$A$7:$G$150,2,FALSE)","v":"Akhira"},100,56,{"$f":"VLOOKUP(E1023,Kühe!$A$7:$G$150,2,FALSE)","v":"Pisa"},{"$f":"VLOOKUP(E1023,Kühe!$A$7:$G$150,7,FALSE)","v":"Jäger Carlo"}]
["2018-06-18",{"$f":"VLOOKUP(D1024,Kühe!$A$7:$G$150,7,FALSE)","v":"Familie Zumoberhaus"},{"$f":"VLOOKUP(D1024,Kühe!$A$7:$G$150,2,FALSE)","v":"Nana"},98,40,{"$f":"VLOOKUP(E1024,Kühe!$A$7:$G$150,2,FALSE)","v":"Barilona"},{"$f":"VLOOKUP(E1024,Kühe!$A$7:$G$150,7,FALSE)","v":"Gebrüder Jäger"}]
["2018-06-18",{"$f":"VLOOKUP(D1025,Kühe!$A$7:$G$150,7,FALSE)","v":"Gebrüder Jäger"},{"$f":"VLOOKUP(D1025,Kühe!$A$7:$G$150,2,FALSE)","v":"Dorina"},43,100,{"$f":"VLOOKUP(E1025,Kühe!$A$7:$G$150,2,FALSE)","v":"Akhira"},{"$f":"VLOOKUP(E1025,Kühe!$A$7:$G$150,7,FALSE)","v":"Zumofen / Gattlen"}]
["2018-06-18",{"$f":"VLOOKUP(D1026,Kühe!$A$7:$G$150,7,FALSE)","v":"Zumofen / Gattlen"},{"$f":"VLOOKUP(D1026,Kühe!$A$7:$G$150,2,FALSE)","v":"Akhira"},100,40,{"$f":"VLOOKUP(E1026,Kühe!$A$7:$G$150,2,FALSE)","v":"Barilona"},{"$f":"VLOOKUP(E1026,Kühe!$A$7:$G$150,7,FALSE)","v":"Gebrüder Jäger"}]
["2018-06-18",{"$f":"VLOOKUP(D1027,Kühe!$A$7:$G$150,7,FALSE)","v":"Stallung Passeraub"},{"$f":"VLOOKUP(D1027,Kühe!$A$7:$G$150,2,FALSE)","v":"Bombache"},67,38,{"$f":"VLOOKUP(E1027,Kühe!$A$7:$G$150,2,FALSE)","v":"Tirana"},{"$f":"VLOOKUP(E1027,Kühe!$A$7:$G$150,7,FALSE)","v":"Gebrüder Jäger"}]
["2018-06-18",{"$f":"VLOOKUP(D1028,Kühe!$A$7:$G$150,7,FALSE)","v":"Jäger Carlo"},{"$f":"VLOOKUP(D1028,Kühe!$A$7:$G$150,2,FALSE)","v":"Papillon"},55,88,{"$f":"VLOOKUP(E1028,Kühe!$A$7:$G$150,2,FALSE)","v":"Colonell"},{"$f":"VLOOKUP(E1028,Kühe!$A$7:$G$150,7,FALSE)","v":"Williner  Anton"}]
["2018-06-18",{"$f":"VLOOKUP(D1029,Kühe!$A$7:$G$150,7,FALSE)","v":"Bregy Uli & Pascal"},{"$f":"VLOOKUP(D1029,Kühe!$A$7:$G$150,2,FALSE)","v":"Catalina"},15,42,{"$f":"VLOOKUP(E1029,Kühe!$A$7:$G$150,2,FALSE)","v":"Tiger"},{"$f":"VLOOKUP(E1029,Kühe!$A$7:$G$150,7,FALSE)","v":"Gebrüder Jäger"}]
["2018-06-18",{"$f":"VLOOKUP(D1030,Kühe!$A$7:$G$150,7,FALSE)","v":"Stallung Passeraub"},{"$f":"VLOOKUP(D1030,Kühe!$A$7:$G$150,2,FALSE)","v":"Baghera"},65,92,{"$f":"VLOOKUP(E1030,Kühe!$A$7:$G$150,2,FALSE)","v":"Fiorenza"},{"$f":"VLOOKUP(E1030,Kühe!$A$7:$G$150,7,FALSE)","v":"Wyssen Diego & Madlen"}]
["2018-06-18",{"$f":"VLOOKUP(D1031,Kühe!$A$7:$G$150,7,FALSE)","v":"Stallung Passeraub"},{"$f":"VLOOKUP(D1031,Kühe!$A$7:$G$150,2,FALSE)","v":"Bombache"},67,94,{"$f":"VLOOKUP(E1031,Kühe!$A$7:$G$150,2,FALSE)","v":"Xanja"},{"$f":"VLOOKUP(E1031,Kühe!$A$7:$G$150,7,FALSE)","v":"Wyssen Diego & Madlen"}]
["2018-06-18",{"$f":"VLOOKUP(D1032,Kühe!$A$7:$G$150,7,FALSE)","v":"Bregy Ralf & Adolf"},{"$f":"VLOOKUP(D1032,Kühe!$A$7:$G$150,2,FALSE)","v":"Canaille"},7,42,{"$f":"VLOOKUP(E1032,Kühe!$A$7:$G$150,2,FALSE)","v":"Tiger"},{"$f":"VLOOKUP(E1032,Kühe!$A$7:$G$150,7,FALSE)","v":"Gebrüder Jäger"}]
["2018-06-18",{"$f":"VLOOKUP(D1033,Kühe!$A$7:$G$150,7,FALSE)","v":"Wyssen Diego & Madlen"},{"$f":"VLOOKUP(D1033,Kühe!$A$7:$G$150,2,FALSE)","v":"Shagiri"},93,77,{"$f":"VLOOKUP(E1033,Kühe!$A$7:$G$150,2,FALSE)","v":"Saphira"},{"$f":"VLOOKUP(E1033,Kühe!$A$7:$G$150,7,FALSE)","v":"Sewer Ralf & Thommen Steve"}]
["2018-06-18",{"$f":"VLOOKUP(D1034,Kühe!$A$7:$G$150,7,FALSE)","v":"Stallung Passeraub"},{"$f":"VLOOKUP(D1034,Kühe!$A$7:$G$150,2,FALSE)","v":"Baghera"},65,106,{"$f":"VLOOKUP(E1034,Kühe!$A$7:$G$150,2,FALSE)","v":"Rambo"},{"$f":"VLOOKUP(E1034,Kühe!$A$7:$G$150,7,FALSE)","v":"Zumofen / Gattlen"}]
["2018-06-18",{"$f":"VLOOKUP(D1035,Kühe!$A$7:$G$150,7,FALSE)","v":"Jäger Carlo"},{"$f":"VLOOKUP(D1035,Kühe!$A$7:$G$150,2,FALSE)","v":"Maila"},52,59,{"$f":"VLOOKUP(E1035,Kühe!$A$7:$G$150,2,FALSE)","v":"Baghira"},{"$f":"VLOOKUP(E1035,Kühe!$A$7:$G$150,7,FALSE)","v":"Mathieu Leander & Sascha"}]
["2018-06-18",{"$f":"VLOOKUP(D1036,Kühe!$A$7:$G$150,7,FALSE)","v":"Wyssen Diego & Madlen"},{"$f":"VLOOKUP(D1036,Kühe!$A$7:$G$150,2,FALSE)","v":"Xena"},95,90,{"$f":"VLOOKUP(E1036,Kühe!$A$7:$G$150,2,FALSE)","v":"Tira"},{"$f":"VLOOKUP(E1036,Kühe!$A$7:$G$150,7,FALSE)","v":"Williner  Anton"}]
["2018-06-18",{"$f":"VLOOKUP(D1037,Kühe!$A$7:$G$150,7,FALSE)","v":"Bayard Medard & Gustav"},{"$f":"VLOOKUP(D1037,Kühe!$A$7:$G$150,2,FALSE)","v":"Pinka"},3,100,{"$f":"VLOOKUP(E1037,Kühe!$A$7:$G$150,2,FALSE)","v":"Akhira"},{"$f":"VLOOKUP(E1037,Kühe!$A$7:$G$150,7,FALSE)","v":"Zumofen / Gattlen"}]
["2018-06-18",{"$f":"VLOOKUP(D1038,Kühe!$A$7:$G$150,7,FALSE)","v":"Stallung Passeraub"},{"$f":"VLOOKUP(D1038,Kühe!$A$7:$G$150,2,FALSE)","v":"Bulle"},68,49,{"$f":"VLOOKUP(E1038,Kühe!$A$7:$G$150,2,FALSE)","v":"Shakira"},{"$f":"VLOOKUP(E1038,Kühe!$A$7:$G$150,7,FALSE)","v":"Hischier Pius"}]
["2018-06-18",{"$f":"VLOOKUP(D1039,Kühe!$A$7:$G$150,7,FALSE)","v":"Jäger Carlo"},{"$f":"VLOOKUP(D1039,Kühe!$A$7:$G$150,2,FALSE)","v":"Bandit"},50,42,{"$f":"VLOOKUP(E1039,Kühe!$A$7:$G$150,2,FALSE)","v":"Tiger"},{"$f":"VLOOKUP(E1039,Kühe!$A$7:$G$150,7,FALSE)","v":"Gebrüder Jäger"}]
["2018-06-18",{"$f":"VLOOKUP(D1040,Kühe!$A$7:$G$150,7,FALSE)","v":"Stallung Passeraub"},{"$f":"VLOOKUP(D1040,Kühe!$A$7:$G$150,2,FALSE)","v":"Bombache"},67,94,{"$f":"VLOOKUP(E1040,Kühe!$A$7:$G$150,2,FALSE)","v":"Xanja"},{"$f":"VLOOKUP(E1040,Kühe!$A$7:$G$150,7,FALSE)","v":"Wyssen Diego & Madlen"}]
["2018-06-18",{"$f":"VLOOKUP(D1041,Kühe!$A$7:$G$150,7,FALSE)","v":"Mathieu Leander & Sascha"},{"$f":"VLOOKUP(D1041,Kühe!$A$7:$G$150,2,FALSE)","v":"Bavaria"},62,88,{"$f":"VLOOKUP(E1041,Kühe!$A$7:$G$150,2,FALSE)","v":"Colonell"},{"$f":"VLOOKUP(E1041,Kühe!$A$7:$G$150,7,FALSE)","v":"Williner  Anton"}]
["2018-06-18",{"$f":"VLOOKUP(D1042,Kühe!$A$7:$G$150,7,FALSE)","v":"Tscherry Erwin & Bernhard"},{"$f":"VLOOKUP(D1042,Kühe!$A$7:$G$150,2,FALSE)","v":"Carolin"},82,84,{"$f":"VLOOKUP(E1042,Kühe!$A$7:$G$150,2,FALSE)","v":"Cobra"},{"$f":"VLOOKUP(E1042,Kühe!$A$7:$G$150,7,FALSE)","v":"Tscherry Erwin & Bernhard"}]
["2018-06-18",{"$f":"VLOOKUP(D1043,Kühe!$A$7:$G$150,7,FALSE)","v":"Zumofen / Gattlen"},{"$f":"VLOOKUP(D1043,Kühe!$A$7:$G$150,2,FALSE)","v":"Volero"},108,107,{"$f":"VLOOKUP(E1043,Kühe!$A$7:$G$150,2,FALSE)","v":"Violin"},{"$f":"VLOOKUP(E1043,Kühe!$A$7:$G$150,7,FALSE)","v":"Zumofen / Gattlen"}]
["2018-06-18",{"$f":"VLOOKUP(D1044,Kühe!$A$7:$G$150,7,FALSE)","v":"Zumofen / Gattlen"},{"$f":"VLOOKUP(D1044,Kühe!$A$7:$G$150,2,FALSE)","v":"Violin"},107,108,{"$f":"VLOOKUP(E1044,Kühe!$A$7:$G$150,2,FALSE)","v":"Volero"},{"$f":"VLOOKUP(E1044,Kühe!$A$7:$G$150,7,FALSE)","v":"Zumofen / Gattlen"}]
["2018-06-18",{"$f":"VLOOKUP(D1045,Kühe!$A$7:$G$150,7,FALSE)","v":"Gebrüder Jäger"},{"$f":"VLOOKUP(D1045,Kühe!$A$7:$G$150,2,FALSE)","v":"Bessy"},41,97,{"$f":"VLOOKUP(E1045,Kühe!$A$7:$G$150,2,FALSE)","v":"Coucou"},{"$f":"VLOOKUP(E1045,Kühe!$A$7:$G$150,7,FALSE)","v":"Familie Zumoberhaus"}]
["2018-06-18",{"$f":"VLOOKUP(D1046,Kühe!$A$7:$G$150,7,FALSE)","v":"Sewer Ralf & Thommen Steve"},{"$f":"VLOOKUP(D1046,Kühe!$A$7:$G$150,2,FALSE)","v":"Tabitha"},78,41,{"$f":"VLOOKUP(E1046,Kühe!$A$7:$G$150,2,FALSE)","v":"Bessy"},{"$f":"VLOOKUP(E1046,Kühe!$A$7:$G$150,7,FALSE)","v":"Gebrüder Jäger"}]
["2018-06-18",{"$f":"VLOOKUP(D1047,Kühe!$A$7:$G$150,7,FALSE)","v":"Wyssen Diego & Madlen"},{"$f":"VLOOKUP(D1047,Kühe!$A$7:$G$150,2,FALSE)","v":"Shagiri"},93,76,{"$f":"VLOOKUP(E1047,Kühe!$A$7:$G$150,2,FALSE)","v":"Gonda"},{"$f":"VLOOKUP(E1047,Kühe!$A$7:$G$150,7,FALSE)","v":"Sewer Ralf & Thommen Steve"}]
["2018-06-18",{"$f":"VLOOKUP(D1048,Kühe!$A$7:$G$150,7,FALSE)","v":"Jäger Carlo"},{"$f":"VLOOKUP(D1048,Kühe!$A$7:$G$150,2,FALSE)","v":"Paloma"},54,75,{"$f":"VLOOKUP(E1048,Kühe!$A$7:$G$150,2,FALSE)","v":"Pandora"},{"$f":"VLOOKUP(E1048,Kühe!$A$7:$G$150,7,FALSE)","v":"Stallung zum Stäg"}]
["2018-06-18",{"$f":"VLOOKUP(D1049,Kühe!$A$7:$G$150,7,FALSE)","v":"Familie Zumoberhaus"},{"$f":"VLOOKUP(D1049,Kühe!$A$7:$G$150,2,FALSE)","v":"Nana"},98,43,{"$f":"VLOOKUP(E1049,Kühe!$A$7:$G$150,2,FALSE)","v":"Dorina"},{"$f":"VLOOKUP(E1049,Kühe!$A$7:$G$150,7,FALSE)","v":"Gebrüder Jäger"}]
["2018-06-18",{"$f":"VLOOKUP(D1050,Kühe!$A$7:$G$150,7,FALSE)","v":"Wyssen Diego & Madlen"},{"$f":"VLOOKUP(D1050,Kühe!$A$7:$G$150,2,FALSE)","v":"Fiorenza"},92,14,{"$f":"VLOOKUP(E1050,Kühe!$A$7:$G$150,2,FALSE)","v":"Calin"},{"$f":"VLOOKUP(E1050,Kühe!$A$7:$G$150,7,FALSE)","v":"Bregy Uli & Pascal"}]
["2018-06-18",{"$f":"VLOOKUP(D1051,Kühe!$A$7:$G$150,7,FALSE)","v":"Bregy Uli & Pascal"},{"$f":"VLOOKUP(D1051,Kühe!$A$7:$G$150,2,FALSE)","v":"Cora"},16,76,{"$f":"VLOOKUP(E1051,Kühe!$A$7:$G$150,2,FALSE)","v":"Gonda"},{"$f":"VLOOKUP(E1051,Kühe!$A$7:$G$150,7,FALSE)","v":"Sewer Ralf & Thommen Steve"}]
["2018-06-17",{"$f":"VLOOKUP(D1052,Kühe!$A$7:$G$150,7,FALSE)","v":"Zumofen / Gattlen"},{"$f":"VLOOKUP(D1052,Kühe!$A$7:$G$150,2,FALSE)","v":"Rambo"},106,91,{"$f":"VLOOKUP(E1052,Kühe!$A$7:$G$150,2,FALSE)","v":"Vanessa"},{"$f":"VLOOKUP(E1052,Kühe!$A$7:$G$150,7,FALSE)","v":"Williner  Anton"}]
["2018-06-17",{"$f":"VLOOKUP(D1053,Kühe!$A$7:$G$150,7,FALSE)","v":"Bregy Patrick & Silvan"},{"$f":"VLOOKUP(D1053,Kühe!$A$7:$G$150,2,FALSE)","v":"Milow"},12,30,{"$f":"VLOOKUP(E1053,Kühe!$A$7:$G$150,2,FALSE)","v":"Dixence"},{"$f":"VLOOKUP(E1053,Kühe!$A$7:$G$150,7,FALSE)","v":"Fux Wendelin, Jenny & Wyer Piet"}]
["2018-06-17",{"$f":"VLOOKUP(D1054,Kühe!$A$7:$G$150,7,FALSE)","v":"Wyssen Diego & Madlen"},{"$f":"VLOOKUP(D1054,Kühe!$A$7:$G$150,2,FALSE)","v":"Xanja"},94,106,{"$f":"VLOOKUP(E1054,Kühe!$A$7:$G$150,2,FALSE)","v":"Rambo"},{"$f":"VLOOKUP(E1054,Kühe!$A$7:$G$150,7,FALSE)","v":"Zumofen / Gattlen"}]
["2018-06-17",{"$f":"VLOOKUP(D1055,Kühe!$A$7:$G$150,7,FALSE)","v":"Bregy Patrick & Silvan"},{"$f":"VLOOKUP(D1055,Kühe!$A$7:$G$150,2,FALSE)","v":"Tequilla"},13,55,{"$f":"VLOOKUP(E1055,Kühe!$A$7:$G$150,2,FALSE)","v":"Papillon"},{"$f":"VLOOKUP(E1055,Kühe!$A$7:$G$150,7,FALSE)","v":"Jäger Carlo"}]
["2018-06-17",{"$f":"VLOOKUP(D1056,Kühe!$A$7:$G$150,7,FALSE)","v":"Bregy Ralf & Adolf"},{"$f":"VLOOKUP(D1056,Kühe!$A$7:$G$150,2,FALSE)","v":"Canaille"},7,57,{"$f":"VLOOKUP(E1056,Kühe!$A$7:$G$150,2,FALSE)","v":"Promise"},{"$f":"VLOOKUP(E1056,Kühe!$A$7:$G$150,7,FALSE)","v":"Jäger Carlo"}]
["2018-06-17",{"$f":"VLOOKUP(D1057,Kühe!$A$7:$G$150,7,FALSE)","v":"Jäger Carlo"},{"$f":"VLOOKUP(D1057,Kühe!$A$7:$G$150,2,FALSE)","v":"Bandit"},50,10,{"$f":"VLOOKUP(E1057,Kühe!$A$7:$G$150,2,FALSE)","v":"Lacoste"},{"$f":"VLOOKUP(E1057,Kühe!$A$7:$G$150,7,FALSE)","v":"Bregy Ralf & Adolf"}]
["2018-06-17",{"$f":"VLOOKUP(D1058,Kühe!$A$7:$G$150,7,FALSE)","v":"Jäger Carlo"},{"$f":"VLOOKUP(D1058,Kühe!$A$7:$G$150,2,FALSE)","v":"Maila"},52,43,{"$f":"VLOOKUP(E1058,Kühe!$A$7:$G$150,2,FALSE)","v":"Dorina"},{"$f":"VLOOKUP(E1058,Kühe!$A$7:$G$150,7,FALSE)","v":"Gebrüder Jäger"}]
["2018-06-17",{"$f":"VLOOKUP(D1059,Kühe!$A$7:$G$150,7,FALSE)","v":"Zumofen / Gattlen"},{"$f":"VLOOKUP(D1059,Kühe!$A$7:$G$150,2,FALSE)","v":"Milou"},103,8,{"$f":"VLOOKUP(E1059,Kühe!$A$7:$G$150,2,FALSE)","v":"Creola"},{"$f":"VLOOKUP(E1059,Kühe!$A$7:$G$150,7,FALSE)","v":"Bregy Ralf & Adolf"}]
["2018-06-17",{"$f":"VLOOKUP(D1060,Kühe!$A$7:$G$150,7,FALSE)","v":"Zumofen / Gattlen"},{"$f":"VLOOKUP(D1060,Kühe!$A$7:$G$150,2,FALSE)","v":"Fangjo"},101,85,{"$f":"VLOOKUP(E1060,Kühe!$A$7:$G$150,2,FALSE)","v":"Tulipe"},{"$f":"VLOOKUP(E1060,Kühe!$A$7:$G$150,7,FALSE)","v":"Tscherry Erwin & Bernhard"}]
["2018-06-17",{"$f":"VLOOKUP(D1061,Kühe!$A$7:$G$150,7,FALSE)","v":"Sewer Ralf & Thommen Steve"},{"$f":"VLOOKUP(D1061,Kühe!$A$7:$G$150,2,FALSE)","v":"Tacona"},79,110,{"$f":"VLOOKUP(E1061,Kühe!$A$7:$G$150,2,FALSE)","v":"Xena"},{"$f":"VLOOKUP(E1061,Kühe!$A$7:$G$150,7,FALSE)","v":"Zumofen / Gattlen"}]
["2018-06-17",{"$f":"VLOOKUP(D1062,Kühe!$A$7:$G$150,7,FALSE)","v":"Jäger Carlo"},{"$f":"VLOOKUP(D1062,Kühe!$A$7:$G$150,2,FALSE)","v":"Maila"},52,14,{"$f":"VLOOKUP(E1062,Kühe!$A$7:$G$150,2,FALSE)","v":"Calin"},{"$f":"VLOOKUP(E1062,Kühe!$A$7:$G$150,7,FALSE)","v":"Bregy Uli & Pascal"}]
["2018-06-17",{"$f":"VLOOKUP(D1063,Kühe!$A$7:$G$150,7,FALSE)","v":"Jäger Carlo"},{"$f":"VLOOKUP(D1063,Kühe!$A$7:$G$150,2,FALSE)","v":"Maila"},52,78,{"$f":"VLOOKUP(E1063,Kühe!$A$7:$G$150,2,FALSE)","v":"Tabitha"},{"$f":"VLOOKUP(E1063,Kühe!$A$7:$G$150,7,FALSE)","v":"Sewer Ralf & Thommen Steve"}]
["2018-06-17",{"$f":"VLOOKUP(D1064,Kühe!$A$7:$G$150,7,FALSE)","v":"Wyssen Diego & Madlen"},{"$f":"VLOOKUP(D1064,Kühe!$A$7:$G$150,2,FALSE)","v":"Xanja"},94,81,{"$f":"VLOOKUP(E1064,Kühe!$A$7:$G$150,2,FALSE)","v":"Tinea"},{"$f":"VLOOKUP(E1064,Kühe!$A$7:$G$150,7,FALSE)","v":"Sewer Ralf & Thommen Steve"}]
["2018-06-17",{"$f":"VLOOKUP(D1065,Kühe!$A$7:$G$150,7,FALSE)","v":"Wyssen Diego & Madlen"},{"$f":"VLOOKUP(D1065,Kühe!$A$7:$G$150,2,FALSE)","v":"Xanja"},94,42,{"$f":"VLOOKUP(E1065,Kühe!$A$7:$G$150,2,FALSE)","v":"Tiger"},{"$f":"VLOOKUP(E1065,Kühe!$A$7:$G$150,7,FALSE)","v":"Gebrüder Jäger"}]
["2018-06-17",{"$f":"VLOOKUP(D1066,Kühe!$A$7:$G$150,7,FALSE)","v":"Wyssen Diego & Madlen"},{"$f":"VLOOKUP(D1066,Kühe!$A$7:$G$150,2,FALSE)","v":"Shagiri"},93,55,{"$f":"VLOOKUP(E1066,Kühe!$A$7:$G$150,2,FALSE)","v":"Papillon"},{"$f":"VLOOKUP(E1066,Kühe!$A$7:$G$150,7,FALSE)","v":"Jäger Carlo"}]
["2018-06-17",{"$f":"VLOOKUP(D1067,Kühe!$A$7:$G$150,7,FALSE)","v":"Wyssen Diego & Madlen"},{"$f":"VLOOKUP(D1067,Kühe!$A$7:$G$150,2,FALSE)","v":"Fiorenza"},92,37,{"$f":"VLOOKUP(E1067,Kühe!$A$7:$G$150,2,FALSE)","v":"Tango"},{"$f":"VLOOKUP(E1067,Kühe!$A$7:$G$150,7,FALSE)","v":"Gebrüder Jäger"}]
["2018-06-17",{"$f":"VLOOKUP(D1068,Kühe!$A$7:$G$150,7,FALSE)","v":"Sewer Ralf & Thommen Steve"},{"$f":"VLOOKUP(D1068,Kühe!$A$7:$G$150,2,FALSE)","v":"Tacona"},79,108,{"$f":"VLOOKUP(E1068,Kühe!$A$7:$G$150,2,FALSE)","v":"Volero"},{"$f":"VLOOKUP(E1068,Kühe!$A$7:$G$150,7,FALSE)","v":"Zumofen / Gattlen"}]
["2018-06-17",{"$f":"VLOOKUP(D1069,Kühe!$A$7:$G$150,7,FALSE)","v":"Zumofen / Gattlen"},{"$f":"VLOOKUP(D1069,Kühe!$A$7:$G$150,2,FALSE)","v":"Xena"},110,5,{"$f":"VLOOKUP(E1069,Kühe!$A$7:$G$150,2,FALSE)","v":"Violette"},{"$f":"VLOOKUP(E1069,Kühe!$A$7:$G$150,7,FALSE)","v":"Bayard Medard & Gustav"}]
["2018-06-17",{"$f":"VLOOKUP(D1070,Kühe!$A$7:$G$150,7,FALSE)","v":"Fux Wendelin, Jenny & Wyer Piet"},{"$f":"VLOOKUP(D1070,Kühe!$A$7:$G$150,2,FALSE)","v":"Valaisanne"},36,73,{"$f":"VLOOKUP(E1070,Kühe!$A$7:$G$150,2,FALSE)","v":"Benika"},{"$f":"VLOOKUP(E1070,Kühe!$A$7:$G$150,7,FALSE)","v":"Stallung zum Stäg"}]
["2018-06-17",{"$f":"VLOOKUP(D1071,Kühe!$A$7:$G$150,7,FALSE)","v":"Sewer Ralf & Thommen Steve"},{"$f":"VLOOKUP(D1071,Kühe!$A$7:$G$150,2,FALSE)","v":"Tabitha"},78,106,{"$f":"VLOOKUP(E1071,Kühe!$A$7:$G$150,2,FALSE)","v":"Rambo"},{"$f":"VLOOKUP(E1071,Kühe!$A$7:$G$150,7,FALSE)","v":"Zumofen / Gattlen"}]
["2018-06-17",{"$f":"VLOOKUP(D1072,Kühe!$A$7:$G$150,7,FALSE)","v":"Stallung zum Stäg"},{"$f":"VLOOKUP(D1072,Kühe!$A$7:$G$150,2,FALSE)","v":"Pandora"},75,85,{"$f":"VLOOKUP(E1072,Kühe!$A$7:$G$150,2,FALSE)","v":"Tulipe"},{"$f":"VLOOKUP(E1072,Kühe!$A$7:$G$150,7,FALSE)","v":"Tscherry Erwin & Bernhard"}]
["2018-06-17",{"$f":"VLOOKUP(D1073,Kühe!$A$7:$G$150,7,FALSE)","v":"Wyssen Diego & Madlen"},{"$f":"VLOOKUP(D1073,Kühe!$A$7:$G$150,2,FALSE)","v":"Xena"},95,102,{"$f":"VLOOKUP(E1073,Kühe!$A$7:$G$150,2,FALSE)","v":"Fayola"},{"$f":"VLOOKUP(E1073,Kühe!$A$7:$G$150,7,FALSE)","v":"Zumofen / Gattlen"}]
["2018-06-17",{"$f":"VLOOKUP(D1074,Kühe!$A$7:$G$150,7,FALSE)","v":"Sewer Ralf & Thommen Steve"},{"$f":"VLOOKUP(D1074,Kühe!$A$7:$G$150,2,FALSE)","v":"Tabitha"},78,15,{"$f":"VLOOKUP(E1074,Kühe!$A$7:$G$150,2,FALSE)","v":"Catalina"},{"$f":"VLOOKUP(E1074,Kühe!$A$7:$G$150,7,FALSE)","v":"Bregy Uli & Pascal"}]
["2018-06-17",{"$f":"VLOOKUP(D1075,Kühe!$A$7:$G$150,7,FALSE)","v":"Fux Wendelin, Jenny & Wyer Piet"},{"$f":"VLOOKUP(D1075,Kühe!$A$7:$G$150,2,FALSE)","v":"Valaisanne"},36,106,{"$f":"VLOOKUP(E1075,Kühe!$A$7:$G$150,2,FALSE)","v":"Rambo"},{"$f":"VLOOKUP(E1075,Kühe!$A$7:$G$150,7,FALSE)","v":"Zumofen / Gattlen"}]
["2018-06-17",{"$f":"VLOOKUP(D1076,Kühe!$A$7:$G$150,7,FALSE)","v":"Williner  Anton"},{"$f":"VLOOKUP(D1076,Kühe!$A$7:$G$150,2,FALSE)","v":"Vanessa"},91,36,{"$f":"VLOOKUP(E1076,Kühe!$A$7:$G$150,2,FALSE)","v":"Valaisanne"},{"$f":"VLOOKUP(E1076,Kühe!$A$7:$G$150,7,FALSE)","v":"Fux Wendelin, Jenny & Wyer Piet"}]
["2018-06-17",{"$f":"VLOOKUP(D1077,Kühe!$A$7:$G$150,7,FALSE)","v":"Familie Leiggener"},{"$f":"VLOOKUP(D1077,Kühe!$A$7:$G$150,2,FALSE)","v":"Bulle"},21,50,{"$f":"VLOOKUP(E1077,Kühe!$A$7:$G$150,2,FALSE)","v":"Bandit"},{"$f":"VLOOKUP(E1077,Kühe!$A$7:$G$150,7,FALSE)","v":"Jäger Carlo"}]
["2018-06-17",{"$f":"VLOOKUP(D1078,Kühe!$A$7:$G$150,7,FALSE)","v":"Jäger Carlo"},{"$f":"VLOOKUP(D1078,Kühe!$A$7:$G$150,2,FALSE)","v":"Maila"},52,59,{"$f":"VLOOKUP(E1078,Kühe!$A$7:$G$150,2,FALSE)","v":"Baghira"},{"$f":"VLOOKUP(E1078,Kühe!$A$7:$G$150,7,FALSE)","v":"Mathieu Leander & Sascha"}]
["2018-06-17",{"$f":"VLOOKUP(D1079,Kühe!$A$7:$G$150,7,FALSE)","v":"Gebrüder Jäger"},{"$f":"VLOOKUP(D1079,Kühe!$A$7:$G$150,2,FALSE)","v":"Lorens"},46,21,{"$f":"VLOOKUP(E1079,Kühe!$A$7:$G$150,2,FALSE)","v":"Bulle"},{"$f":"VLOOKUP(E1079,Kühe!$A$7:$G$150,7,FALSE)","v":"Familie Leiggener"}]
["2018-06-17",{"$f":"VLOOKUP(D1080,Kühe!$A$7:$G$150,7,FALSE)","v":"Wyssen Diego & Madlen"},{"$f":"VLOOKUP(D1080,Kühe!$A$7:$G$150,2,FALSE)","v":"Xanja"},94,64,{"$f":"VLOOKUP(E1080,Kühe!$A$7:$G$150,2,FALSE)","v":"Bonita"},{"$f":"VLOOKUP(E1080,Kühe!$A$7:$G$150,7,FALSE)","v":"Mathieu Leander & Sascha"}]
["2018-06-17",{"$f":"VLOOKUP(D1081,Kühe!$A$7:$G$150,7,FALSE)","v":"Wyssen Diego & Madlen"},{"$f":"VLOOKUP(D1081,Kühe!$A$7:$G$150,2,FALSE)","v":"Shagiri"},93,84,{"$f":"VLOOKUP(E1081,Kühe!$A$7:$G$150,2,FALSE)","v":"Cobra"},{"$f":"VLOOKUP(E1081,Kühe!$A$7:$G$150,7,FALSE)","v":"Tscherry Erwin & Bernhard"}]
["2018-06-17",{"$f":"VLOOKUP(D1082,Kühe!$A$7:$G$150,7,FALSE)","v":"Stallung zum Stäg"},{"$f":"VLOOKUP(D1082,Kühe!$A$7:$G$150,2,FALSE)","v":"Pandora"},75,60,{"$f":"VLOOKUP(E1082,Kühe!$A$7:$G$150,2,FALSE)","v":"Bambino"},{"$f":"VLOOKUP(E1082,Kühe!$A$7:$G$150,7,FALSE)","v":"Mathieu Leander & Sascha"}]
["2018-06-17",{"$f":"VLOOKUP(D1083,Kühe!$A$7:$G$150,7,FALSE)","v":"Gebrüder Jäger"},{"$f":"VLOOKUP(D1083,Kühe!$A$7:$G$150,2,FALSE)","v":"Tamango"},44,95,{"$f":"VLOOKUP(E1083,Kühe!$A$7:$G$150,2,FALSE)","v":"Xena"},{"$f":"VLOOKUP(E1083,Kühe!$A$7:$G$150,7,FALSE)","v":"Wyssen Diego & Madlen"}]
["2018-06-17",{"$f":"VLOOKUP(D1084,Kühe!$A$7:$G$150,7,FALSE)","v":"Sewer Ralf & Thommen Steve"},{"$f":"VLOOKUP(D1084,Kühe!$A$7:$G$150,2,FALSE)","v":"Tinea"},81,27,{"$f":"VLOOKUP(E1084,Kühe!$A$7:$G$150,2,FALSE)","v":"Bolero"},{"$f":"VLOOKUP(E1084,Kühe!$A$7:$G$150,7,FALSE)","v":"Fux Wendelin, Jenny & Wyer Piet"}]
["2018-06-17",{"$f":"VLOOKUP(D1085,Kühe!$A$7:$G$150,7,FALSE)","v":"Stallung zum Stäg"},{"$f":"VLOOKUP(D1085,Kühe!$A$7:$G$150,2,FALSE)","v":"Benika"},73,26,{"$f":"VLOOKUP(E1085,Kühe!$A$7:$G$150,2,FALSE)","v":"Ares"},{"$f":"VLOOKUP(E1085,Kühe!$A$7:$G$150,7,FALSE)","v":"Fux Wendelin, Jenny & Wyer Piet"}]
["2018-06-17",{"$f":"VLOOKUP(D1086,Kühe!$A$7:$G$150,7,FALSE)","v":"Sewer Ralf & Thommen Steve"},{"$f":"VLOOKUP(D1086,Kühe!$A$7:$G$150,2,FALSE)","v":"Tinea"},81,36,{"$f":"VLOOKUP(E1086,Kühe!$A$7:$G$150,2,FALSE)","v":"Valaisanne"},{"$f":"VLOOKUP(E1086,Kühe!$A$7:$G$150,7,FALSE)","v":"Fux Wendelin, Jenny & Wyer Piet"}]
["2018-06-17",{"$f":"VLOOKUP(D1087,Kühe!$A$7:$G$150,7,FALSE)","v":"Bregy Ralf & Adolf"},{"$f":"VLOOKUP(D1087,Kühe!$A$7:$G$150,2,FALSE)","v":"Creola"},8,56,{"$f":"VLOOKUP(E1087,Kühe!$A$7:$G$150,2,FALSE)","v":"Pisa"},{"$f":"VLOOKUP(E1087,Kühe!$A$7:$G$150,7,FALSE)","v":"Jäger Carlo"}]
["2018-06-17",{"$f":"VLOOKUP(D1088,Kühe!$A$7:$G$150,7,FALSE)","v":"Bregy Ralf & Adolf"},{"$f":"VLOOKUP(D1088,Kühe!$A$7:$G$150,2,FALSE)","v":"Canaille"},7,69,{"$f":"VLOOKUP(E1088,Kühe!$A$7:$G$150,2,FALSE)","v":"Manou"},{"$f":"VLOOKUP(E1088,Kühe!$A$7:$G$150,7,FALSE)","v":"Stallung Passeraub"}]
["2018-06-17",{"$f":"VLOOKUP(D1089,Kühe!$A$7:$G$150,7,FALSE)","v":"Zumofen / Gattlen"},{"$f":"VLOOKUP(D1089,Kühe!$A$7:$G$150,2,FALSE)","v":"Fayola"},102,97,{"$f":"VLOOKUP(E1089,Kühe!$A$7:$G$150,2,FALSE)","v":"Coucou"},{"$f":"VLOOKUP(E1089,Kühe!$A$7:$G$150,7,FALSE)","v":"Familie Zumoberhaus"}]
["2018-06-17",{"$f":"VLOOKUP(D1090,Kühe!$A$7:$G$150,7,FALSE)","v":"Bregy Patrick & Silvan"},{"$f":"VLOOKUP(D1090,Kühe!$A$7:$G$150,2,FALSE)","v":"Milow"},12,106,{"$f":"VLOOKUP(E1090,Kühe!$A$7:$G$150,2,FALSE)","v":"Rambo"},{"$f":"VLOOKUP(E1090,Kühe!$A$7:$G$150,7,FALSE)","v":"Zumofen / Gattlen"}]
["2018-06-17",{"$f":"VLOOKUP(D1091,Kühe!$A$7:$G$150,7,FALSE)","v":"Gebrüder Jäger"},{"$f":"VLOOKUP(D1091,Kühe!$A$7:$G$150,2,FALSE)","v":"Tamango"},44,10,{"$f":"VLOOKUP(E1091,Kühe!$A$7:$G$150,2,FALSE)","v":"Lacoste"},{"$f":"VLOOKUP(E1091,Kühe!$A$7:$G$150,7,FALSE)","v":"Bregy Ralf & Adolf"}]
["2018-06-17",{"$f":"VLOOKUP(D1092,Kühe!$A$7:$G$150,7,FALSE)","v":"Jäger Carlo"},{"$f":"VLOOKUP(D1092,Kühe!$A$7:$G$150,2,FALSE)","v":"Maila"},52,17,{"$f":"VLOOKUP(E1092,Kühe!$A$7:$G$150,2,FALSE)","v":"Pandora"},{"$f":"VLOOKUP(E1092,Kühe!$A$7:$G$150,7,FALSE)","v":"Bregy Uli & Pascal"}]
["2018-06-17",{"$f":"VLOOKUP(D1093,Kühe!$A$7:$G$150,7,FALSE)","v":"Bregy Patrick & Silvan"},{"$f":"VLOOKUP(D1093,Kühe!$A$7:$G$150,2,FALSE)","v":"Tequilla"},13,14,{"$f":"VLOOKUP(E1093,Kühe!$A$7:$G$150,2,FALSE)","v":"Calin"},{"$f":"VLOOKUP(E1093,Kühe!$A$7:$G$150,7,FALSE)","v":"Bregy Uli & Pascal"}]
["2018-06-17",{"$f":"VLOOKUP(D1094,Kühe!$A$7:$G$150,7,FALSE)","v":"Hischier Pius"},{"$f":"VLOOKUP(D1094,Kühe!$A$7:$G$150,2,FALSE)","v":"Pablo"},47,49,{"$f":"VLOOKUP(E1094,Kühe!$A$7:$G$150,2,FALSE)","v":"Shakira"},{"$f":"VLOOKUP(E1094,Kühe!$A$7:$G$150,7,FALSE)","v":"Hischier Pius"}]
["2018-06-17",{"$f":"VLOOKUP(D1095,Kühe!$A$7:$G$150,7,FALSE)","v":"Bregy Patrick & Silvan"},{"$f":"VLOOKUP(D1095,Kühe!$A$7:$G$150,2,FALSE)","v":"Milow"},12,69,{"$f":"VLOOKUP(E1095,Kühe!$A$7:$G$150,2,FALSE)","v":"Manou"},{"$f":"VLOOKUP(E1095,Kühe!$A$7:$G$150,7,FALSE)","v":"Stallung Passeraub"}]
["2018-06-17",{"$f":"VLOOKUP(D1096,Kühe!$A$7:$G$150,7,FALSE)","v":"Mathieu Leander & Sascha"},{"$f":"VLOOKUP(D1096,Kühe!$A$7:$G$150,2,FALSE)","v":"Bavaria"},62,81,{"$f":"VLOOKUP(E1096,Kühe!$A$7:$G$150,2,FALSE)","v":"Tinea"},{"$f":"VLOOKUP(E1096,Kühe!$A$7:$G$150,7,FALSE)","v":"Sewer Ralf & Thommen Steve"}]
["2018-06-17",{"$f":"VLOOKUP(D1097,Kühe!$A$7:$G$150,7,FALSE)","v":"Wyssen Diego & Madlen"},{"$f":"VLOOKUP(D1097,Kühe!$A$7:$G$150,2,FALSE)","v":"Xanja"},94,27,{"$f":"VLOOKUP(E1097,Kühe!$A$7:$G$150,2,FALSE)","v":"Bolero"},{"$f":"VLOOKUP(E1097,Kühe!$A$7:$G$150,7,FALSE)","v":"Fux Wendelin, Jenny & Wyer Piet"}]
["2018-06-17",{"$f":"VLOOKUP(D1098,Kühe!$A$7:$G$150,7,FALSE)","v":"Sewer Ralf & Thommen Steve"},{"$f":"VLOOKUP(D1098,Kühe!$A$7:$G$150,2,FALSE)","v":"Tinea"},81,64,{"$f":"VLOOKUP(E1098,Kühe!$A$7:$G$150,2,FALSE)","v":"Bonita"},{"$f":"VLOOKUP(E1098,Kühe!$A$7:$G$150,7,FALSE)","v":"Mathieu Leander & Sascha"}]
["2018-06-17",{"$f":"VLOOKUP(D1099,Kühe!$A$7:$G$150,7,FALSE)","v":"Familie Leiggener"},{"$f":"VLOOKUP(D1099,Kühe!$A$7:$G$150,2,FALSE)","v":"Tigres"},24,94,{"$f":"VLOOKUP(E1099,Kühe!$A$7:$G$150,2,FALSE)","v":"Xanja"},{"$f":"VLOOKUP(E1099,Kühe!$A$7:$G$150,7,FALSE)","v":"Wyssen Diego & Madlen"}]
["2018-06-17",{"$f":"VLOOKUP(D1100,Kühe!$A$7:$G$150,7,FALSE)","v":"Wyssen Diego & Madlen"},{"$f":"VLOOKUP(D1100,Kühe!$A$7:$G$150,2,FALSE)","v":"Xanja"},94,65,{"$f":"VLOOKUP(E1100,Kühe!$A$7:$G$150,2,FALSE)","v":"Baghera"},{"$f":"VLOOKUP(E1100,Kühe!$A$7:$G$150,7,FALSE)","v":"Stallung Passeraub"}]
["2018-06-17",{"$f":"VLOOKUP(D1101,Kühe!$A$7:$G$150,7,FALSE)","v":"Wyssen Diego & Madlen"},{"$f":"VLOOKUP(D1101,Kühe!$A$7:$G$150,2,FALSE)","v":"Xhyla"},96,11,{"$f":"VLOOKUP(E1101,Kühe!$A$7:$G$150,2,FALSE)","v":"Santiago"},{"$f":"VLOOKUP(E1101,Kühe!$A$7:$G$150,7,FALSE)","v":"Bregy Ralf & Adolf"}]
["2018-06-17",{"$f":"VLOOKUP(D1102,Kühe!$A$7:$G$150,7,FALSE)","v":"Wyssen Diego & Madlen"},{"$f":"VLOOKUP(D1102,Kühe!$A$7:$G$150,2,FALSE)","v":"Fiorenza"},92,7,{"$f":"VLOOKUP(E1102,Kühe!$A$7:$G$150,2,FALSE)","v":"Canaille"},{"$f":"VLOOKUP(E1102,Kühe!$A$7:$G$150,7,FALSE)","v":"Bregy Ralf & Adolf"}]
["2018-06-17",{"$f":"VLOOKUP(D1103,Kühe!$A$7:$G$150,7,FALSE)","v":"Bregy Anja"},{"$f":"VLOOKUP(D1103,Kühe!$A$7:$G$150,2,FALSE)","v":"Diabolo"},6,11,{"$f":"VLOOKUP(E1103,Kühe!$A$7:$G$150,2,FALSE)","v":"Santiago"},{"$f":"VLOOKUP(E1103,Kühe!$A$7:$G$150,7,FALSE)","v":"Bregy Ralf & Adolf"}]
["2018-06-17",{"$f":"VLOOKUP(D1104,Kühe!$A$7:$G$150,7,FALSE)","v":"Wyssen Diego & Madlen"},{"$f":"VLOOKUP(D1104,Kühe!$A$7:$G$150,2,FALSE)","v":"Xhyla"},96,59,{"$f":"VLOOKUP(E1104,Kühe!$A$7:$G$150,2,FALSE)","v":"Baghira"},{"$f":"VLOOKUP(E1104,Kühe!$A$7:$G$150,7,FALSE)","v":"Mathieu Leander & Sascha"}]
["2018-06-17",{"$f":"VLOOKUP(D1105,Kühe!$A$7:$G$150,7,FALSE)","v":"Hischier Pius"},{"$f":"VLOOKUP(D1105,Kühe!$A$7:$G$150,2,FALSE)","v":"Pelila"},48,59,{"$f":"VLOOKUP(E1105,Kühe!$A$7:$G$150,2,FALSE)","v":"Baghira"},{"$f":"VLOOKUP(E1105,Kühe!$A$7:$G$150,7,FALSE)","v":"Mathieu Leander & Sascha"}]
["2018-06-17",{"$f":"VLOOKUP(D1106,Kühe!$A$7:$G$150,7,FALSE)","v":"Bregy Ralf & Adolf"},{"$f":"VLOOKUP(D1106,Kühe!$A$7:$G$150,2,FALSE)","v":"Flacari"},9,94,{"$f":"VLOOKUP(E1106,Kühe!$A$7:$G$150,2,FALSE)","v":"Xanja"},{"$f":"VLOOKUP(E1106,Kühe!$A$7:$G$150,7,FALSE)","v":"Wyssen Diego & Madlen"}]
["2018-06-17",{"$f":"VLOOKUP(D1107,Kühe!$A$7:$G$150,7,FALSE)","v":"Bregy Uli & Pascal"},{"$f":"VLOOKUP(D1107,Kühe!$A$7:$G$150,2,FALSE)","v":"Tiranie"},19,31,{"$f":"VLOOKUP(E1107,Kühe!$A$7:$G$150,2,FALSE)","v":"Mystic"},{"$f":"VLOOKUP(E1107,Kühe!$A$7:$G$150,7,FALSE)","v":"Fux Wendelin, Jenny & Wyer Piet"}]
["2018-06-17",{"$f":"VLOOKUP(D1108,Kühe!$A$7:$G$150,7,FALSE)","v":"Familie Zumoberhaus"},{"$f":"VLOOKUP(D1108,Kühe!$A$7:$G$150,2,FALSE)","v":"Napapiri"},99,49,{"$f":"VLOOKUP(E1108,Kühe!$A$7:$G$150,2,FALSE)","v":"Shakira"},{"$f":"VLOOKUP(E1108,Kühe!$A$7:$G$150,7,FALSE)","v":"Hischier Pius"}]
["2018-06-17",{"$f":"VLOOKUP(D1109,Kühe!$A$7:$G$150,7,FALSE)","v":"Jäger Carlo"},{"$f":"VLOOKUP(D1109,Kühe!$A$7:$G$150,2,FALSE)","v":"Papillon"},55,36,{"$f":"VLOOKUP(E1109,Kühe!$A$7:$G$150,2,FALSE)","v":"Valaisanne"},{"$f":"VLOOKUP(E1109,Kühe!$A$7:$G$150,7,FALSE)","v":"Fux Wendelin, Jenny & Wyer Piet"}]
["2018-06-17",{"$f":"VLOOKUP(D1110,Kühe!$A$7:$G$150,7,FALSE)","v":"Hischier Pius"},{"$f":"VLOOKUP(D1110,Kühe!$A$7:$G$150,2,FALSE)","v":"Pelila"},48,50,{"$f":"VLOOKUP(E1110,Kühe!$A$7:$G$150,2,FALSE)","v":"Bandit"},{"$f":"VLOOKUP(E1110,Kühe!$A$7:$G$150,7,FALSE)","v":"Jäger Carlo"}]
["2018-06-17",{"$f":"VLOOKUP(D1111,Kühe!$A$7:$G$150,7,FALSE)","v":"Jäger Carlo"},{"$f":"VLOOKUP(D1111,Kühe!$A$7:$G$150,2,FALSE)","v":"Pisa"},56,9,{"$f":"VLOOKUP(E1111,Kühe!$A$7:$G$150,2,FALSE)","v":"Flacari"},{"$f":"VLOOKUP(E1111,Kühe!$A$7:$G$150,7,FALSE)","v":"Bregy Ralf & Adolf"}]
["2018-06-17",{"$f":"VLOOKUP(D1112,Kühe!$A$7:$G$150,7,FALSE)","v":"Familie Zumoberhaus"},{"$f":"VLOOKUP(D1112,Kühe!$A$7:$G$150,2,FALSE)","v":"Nana"},98,40,{"$f":"VLOOKUP(E1112,Kühe!$A$7:$G$150,2,FALSE)","v":"Barilona"},{"$f":"VLOOKUP(E1112,Kühe!$A$7:$G$150,7,FALSE)","v":"Gebrüder Jäger"}]
["2018-06-17",{"$f":"VLOOKUP(D1113,Kühe!$A$7:$G$150,7,FALSE)","v":"Mathieu Leander & Sascha"},{"$f":"VLOOKUP(D1113,Kühe!$A$7:$G$150,2,FALSE)","v":"Bambino"},60,46,{"$f":"VLOOKUP(E1113,Kühe!$A$7:$G$150,2,FALSE)","v":"Lorens"},{"$f":"VLOOKUP(E1113,Kühe!$A$7:$G$150,7,FALSE)","v":"Gebrüder Jäger"}]
["2018-06-17",{"$f":"VLOOKUP(D1114,Kühe!$A$7:$G$150,7,FALSE)","v":"Bregy Uli & Pascal"},{"$f":"VLOOKUP(D1114,Kühe!$A$7:$G$150,2,FALSE)","v":"Souki"},18,95,{"$f":"VLOOKUP(E1114,Kühe!$A$7:$G$150,2,FALSE)","v":"Xena"},{"$f":"VLOOKUP(E1114,Kühe!$A$7:$G$150,7,FALSE)","v":"Wyssen Diego & Madlen"}]
["2018-06-17",{"$f":"VLOOKUP(D1115,Kühe!$A$7:$G$150,7,FALSE)","v":"Tscherry Erwin & Bernhard"},{"$f":"VLOOKUP(D1115,Kühe!$A$7:$G$150,2,FALSE)","v":"Tulipe"},85,98,{"$f":"VLOOKUP(E1115,Kühe!$A$7:$G$150,2,FALSE)","v":"Nana"},{"$f":"VLOOKUP(E1115,Kühe!$A$7:$G$150,7,FALSE)","v":"Familie Zumoberhaus"}]
["2018-06-17",{"$f":"VLOOKUP(D1116,Kühe!$A$7:$G$150,7,FALSE)","v":"Tscherry Erwin & Bernhard"},{"$f":"VLOOKUP(D1116,Kühe!$A$7:$G$150,2,FALSE)","v":"Carolin"},82,36,{"$f":"VLOOKUP(E1116,Kühe!$A$7:$G$150,2,FALSE)","v":"Valaisanne"},{"$f":"VLOOKUP(E1116,Kühe!$A$7:$G$150,7,FALSE)","v":"Fux Wendelin, Jenny & Wyer Piet"}]
["2018-06-17",{"$f":"VLOOKUP(D1117,Kühe!$A$7:$G$150,7,FALSE)","v":"Wyssen Diego & Madlen"},{"$f":"VLOOKUP(D1117,Kühe!$A$7:$G$150,2,FALSE)","v":"Xanja"},94,27,{"$f":"VLOOKUP(E1117,Kühe!$A$7:$G$150,2,FALSE)","v":"Bolero"},{"$f":"VLOOKUP(E1117,Kühe!$A$7:$G$150,7,FALSE)","v":"Fux Wendelin, Jenny & Wyer Piet"}]
["2018-06-17",{"$f":"VLOOKUP(D1118,Kühe!$A$7:$G$150,7,FALSE)","v":"Zumofen / Gattlen"},{"$f":"VLOOKUP(D1118,Kühe!$A$7:$G$150,2,FALSE)","v":"Puma"},105,89,{"$f":"VLOOKUP(E1118,Kühe!$A$7:$G$150,2,FALSE)","v":"Diva"},{"$f":"VLOOKUP(E1118,Kühe!$A$7:$G$150,7,FALSE)","v":"Williner  Anton"}]
["2018-06-17",{"$f":"VLOOKUP(D1119,Kühe!$A$7:$G$150,7,FALSE)","v":"Williner  Anton"},{"$f":"VLOOKUP(D1119,Kühe!$A$7:$G$150,2,FALSE)","v":"Mirabilis"},87,108,{"$f":"VLOOKUP(E1119,Kühe!$A$7:$G$150,2,FALSE)","v":"Volero"},{"$f":"VLOOKUP(E1119,Kühe!$A$7:$G$150,7,FALSE)","v":"Zumofen / Gattlen"}]
["2018-06-17",{"$f":"VLOOKUP(D1120,Kühe!$A$7:$G$150,7,FALSE)","v":"Zumofen / Gattlen"},{"$f":"VLOOKUP(D1120,Kühe!$A$7:$G$150,2,FALSE)","v":"Akhira"},100,80,{"$f":"VLOOKUP(E1120,Kühe!$A$7:$G$150,2,FALSE)","v":"Tiara"},{"$f":"VLOOKUP(E1120,Kühe!$A$7:$G$150,7,FALSE)","v":"Sewer Ralf & Thommen Steve"}]
["2018-06-17",{"$f":"VLOOKUP(D1121,Kühe!$A$7:$G$150,7,FALSE)","v":"Familie Leiggener"},{"$f":"VLOOKUP(D1121,Kühe!$A$7:$G$150,2,FALSE)","v":"Bulle"},21,87,{"$f":"VLOOKUP(E1121,Kühe!$A$7:$G$150,2,FALSE)","v":"Mirabilis"},{"$f":"VLOOKUP(E1121,Kühe!$A$7:$G$150,7,FALSE)","v":"Williner  Anton"}]
["2018-06-17",{"$f":"VLOOKUP(D1122,Kühe!$A$7:$G$150,7,FALSE)","v":"Gebrüder Jäger"},{"$f":"VLOOKUP(D1122,Kühe!$A$7:$G$150,2,FALSE)","v":"Dorina"},43,76,{"$f":"VLOOKUP(E1122,Kühe!$A$7:$G$150,2,FALSE)","v":"Gonda"},{"$f":"VLOOKUP(E1122,Kühe!$A$7:$G$150,7,FALSE)","v":"Sewer Ralf & Thommen Steve"}]
["2018-06-17",{"$f":"VLOOKUP(D1123,Kühe!$A$7:$G$150,7,FALSE)","v":"Gebrüder Jäger"},{"$f":"VLOOKUP(D1123,Kühe!$A$7:$G$150,2,FALSE)","v":"Dorina"},43,74,{"$f":"VLOOKUP(E1123,Kühe!$A$7:$G$150,2,FALSE)","v":"Diaries"},{"$f":"VLOOKUP(E1123,Kühe!$A$7:$G$150,7,FALSE)","v":"Stallung zum Stäg"}]
["2018-06-17",{"$f":"VLOOKUP(D1124,Kühe!$A$7:$G$150,7,FALSE)","v":"Fux Wendelin, Jenny & Wyer Piet"},{"$f":"VLOOKUP(D1124,Kühe!$A$7:$G$150,2,FALSE)","v":"Bolero"},27,21,{"$f":"VLOOKUP(E1124,Kühe!$A$7:$G$150,2,FALSE)","v":"Bulle"},{"$f":"VLOOKUP(E1124,Kühe!$A$7:$G$150,7,FALSE)","v":"Familie Leiggener"}]
["2018-06-17",{"$f":"VLOOKUP(D1125,Kühe!$A$7:$G$150,7,FALSE)","v":"Stallung Passeraub"},{"$f":"VLOOKUP(D1125,Kühe!$A$7:$G$150,2,FALSE)","v":"Bombache"},67,17,{"$f":"VLOOKUP(E1125,Kühe!$A$7:$G$150,2,FALSE)","v":"Pandora"},{"$f":"VLOOKUP(E1125,Kühe!$A$7:$G$150,7,FALSE)","v":"Bregy Uli & Pascal"}]
["2018-06-17",{"$f":"VLOOKUP(D1126,Kühe!$A$7:$G$150,7,FALSE)","v":"Bregy Uli & Pascal"},{"$f":"VLOOKUP(D1126,Kühe!$A$7:$G$150,2,FALSE)","v":"Catalina"},15,40,{"$f":"VLOOKUP(E1126,Kühe!$A$7:$G$150,2,FALSE)","v":"Barilona"},{"$f":"VLOOKUP(E1126,Kühe!$A$7:$G$150,7,FALSE)","v":"Gebrüder Jäger"}]
["2018-06-17",{"$f":"VLOOKUP(D1127,Kühe!$A$7:$G$150,7,FALSE)","v":"Wyssen Diego & Madlen"},{"$f":"VLOOKUP(D1127,Kühe!$A$7:$G$150,2,FALSE)","v":"Xanja"},94,31,{"$f":"VLOOKUP(E1127,Kühe!$A$7:$G$150,2,FALSE)","v":"Mystic"},{"$f":"VLOOKUP(E1127,Kühe!$A$7:$G$150,7,FALSE)","v":"Fux Wendelin, Jenny & Wyer Piet"}]
["2018-06-17",{"$f":"VLOOKUP(D1128,Kühe!$A$7:$G$150,7,FALSE)","v":"Wyssen Diego & Madlen"},{"$f":"VLOOKUP(D1128,Kühe!$A$7:$G$150,2,FALSE)","v":"Xanja"},94,30,{"$f":"VLOOKUP(E1128,Kühe!$A$7:$G$150,2,FALSE)","v":"Dixence"},{"$f":"VLOOKUP(E1128,Kühe!$A$7:$G$150,7,FALSE)","v":"Fux Wendelin, Jenny & Wyer Piet"}]
["2018-06-17",{"$f":"VLOOKUP(D1129,Kühe!$A$7:$G$150,7,FALSE)","v":"Gebrüder Jäger"},{"$f":"VLOOKUP(D1129,Kühe!$A$7:$G$150,2,FALSE)","v":"Tango"},37,4,{"$f":"VLOOKUP(E1129,Kühe!$A$7:$G$150,2,FALSE)","v":"Ramona"},{"$f":"VLOOKUP(E1129,Kühe!$A$7:$G$150,7,FALSE)","v":"Bayard Medard & Gustav"}]
["2018-06-17",{"$f":"VLOOKUP(D1130,Kühe!$A$7:$G$150,7,FALSE)","v":"Gebrüder Jäger"},{"$f":"VLOOKUP(D1130,Kühe!$A$7:$G$150,2,FALSE)","v":"Tango"},37,40,{"$f":"VLOOKUP(E1130,Kühe!$A$7:$G$150,2,FALSE)","v":"Barilona"},{"$f":"VLOOKUP(E1130,Kühe!$A$7:$G$150,7,FALSE)","v":"Gebrüder Jäger"}]
["2018-06-17",{"$f":"VLOOKUP(D1131,Kühe!$A$7:$G$150,7,FALSE)","v":"Hischier Pius"},{"$f":"VLOOKUP(D1131,Kühe!$A$7:$G$150,2,FALSE)","v":"Pablo"},47,102,{"$f":"VLOOKUP(E1131,Kühe!$A$7:$G$150,2,FALSE)","v":"Fayola"},{"$f":"VLOOKUP(E1131,Kühe!$A$7:$G$150,7,FALSE)","v":"Zumofen / Gattlen"}]
["2018-06-17",{"$f":"VLOOKUP(D1132,Kühe!$A$7:$G$150,7,FALSE)","v":"Stallung Passeraub"},{"$f":"VLOOKUP(D1132,Kühe!$A$7:$G$150,2,FALSE)","v":"Medusa"},70,61,{"$f":"VLOOKUP(E1132,Kühe!$A$7:$G$150,2,FALSE)","v":"Baronesse"},{"$f":"VLOOKUP(E1132,Kühe!$A$7:$G$150,7,FALSE)","v":"Mathieu Leander & Sascha"}]
["2018-06-17",{"$f":"VLOOKUP(D1133,Kühe!$A$7:$G$150,7,FALSE)","v":"Gebrüder Jäger"},{"$f":"VLOOKUP(D1133,Kühe!$A$7:$G$150,2,FALSE)","v":"Barilona"},40,82,{"$f":"VLOOKUP(E1133,Kühe!$A$7:$G$150,2,FALSE)","v":"Carolin"},{"$f":"VLOOKUP(E1133,Kühe!$A$7:$G$150,7,FALSE)","v":"Tscherry Erwin & Bernhard"}]
["2018-06-17",{"$f":"VLOOKUP(D1134,Kühe!$A$7:$G$150,7,FALSE)","v":"Wyssen Diego & Madlen"},{"$f":"VLOOKUP(D1134,Kühe!$A$7:$G$150,2,FALSE)","v":"Xanja"},94,12,{"$f":"VLOOKUP(E1134,Kühe!$A$7:$G$150,2,FALSE)","v":"Milow"},{"$f":"VLOOKUP(E1134,Kühe!$A$7:$G$150,7,FALSE)","v":"Bregy Patrick & Silvan"}]
["2018-06-17",{"$f":"VLOOKUP(D1135,Kühe!$A$7:$G$150,7,FALSE)","v":"Fux Wendelin, Jenny & Wyer Piet"},{"$f":"VLOOKUP(D1135,Kühe!$A$7:$G$150,2,FALSE)","v":"Bolero"},27,71,{"$f":"VLOOKUP(E1135,Kühe!$A$7:$G$150,2,FALSE)","v":"Bonita"},{"$f":"VLOOKUP(E1135,Kühe!$A$7:$G$150,7,FALSE)","v":"Stallung Passeraub"}]
["2018-06-17",{"$f":"VLOOKUP(D1136,Kühe!$A$7:$G$150,7,FALSE)","v":"Fux Wendelin, Jenny & Wyer Piet"},{"$f":"VLOOKUP(D1136,Kühe!$A$7:$G$150,2,FALSE)","v":"Mystic"},31,82,{"$f":"VLOOKUP(E1136,Kühe!$A$7:$G$150,2,FALSE)","v":"Carolin"},{"$f":"VLOOKUP(E1136,Kühe!$A$7:$G$150,7,FALSE)","v":"Tscherry Erwin & Bernhard"}]
["2018-06-17",{"$f":"VLOOKUP(D1137,Kühe!$A$7:$G$150,7,FALSE)","v":"Gebrüder Jäger"},{"$f":"VLOOKUP(D1137,Kühe!$A$7:$G$150,2,FALSE)","v":"Tiger"},42,84,{"$f":"VLOOKUP(E1137,Kühe!$A$7:$G$150,2,FALSE)","v":"Cobra"},{"$f":"VLOOKUP(E1137,Kühe!$A$7:$G$150,7,FALSE)","v":"Tscherry Erwin & Bernhard"}]
["2018-06-17",{"$f":"VLOOKUP(D1138,Kühe!$A$7:$G$150,7,FALSE)","v":"Williner  Anton"},{"$f":"VLOOKUP(D1138,Kühe!$A$7:$G$150,2,FALSE)","v":"Vanessa"},91,80,{"$f":"VLOOKUP(E1138,Kühe!$A$7:$G$150,2,FALSE)","v":"Tiara"},{"$f":"VLOOKUP(E1138,Kühe!$A$7:$G$150,7,FALSE)","v":"Sewer Ralf & Thommen Steve"}]
["2018-06-17",{"$f":"VLOOKUP(D1139,Kühe!$A$7:$G$150,7,FALSE)","v":"Fux Wendelin, Jenny & Wyer Piet"},{"$f":"VLOOKUP(D1139,Kühe!$A$7:$G$150,2,FALSE)","v":"Dixence"},30,96,{"$f":"VLOOKUP(E1139,Kühe!$A$7:$G$150,2,FALSE)","v":"Xhyla"},{"$f":"VLOOKUP(E1139,Kühe!$A$7:$G$150,7,FALSE)","v":"Wyssen Diego & Madlen"}]
["2018-06-17",{"$f":"VLOOKUP(D1140,Kühe!$A$7:$G$150,7,FALSE)","v":"Bregy Patrick & Silvan"},{"$f":"VLOOKUP(D1140,Kühe!$A$7:$G$150,2,FALSE)","v":"Tequilla"},13,85,{"$f":"VLOOKUP(E1140,Kühe!$A$7:$G$150,2,FALSE)","v":"Tulipe"},{"$f":"VLOOKUP(E1140,Kühe!$A$7:$G$150,7,FALSE)","v":"Tscherry Erwin & Bernhard"}]
["2018-06-17",{"$f":"VLOOKUP(D1141,Kühe!$A$7:$G$150,7,FALSE)","v":"Stallung Passeraub"},{"$f":"VLOOKUP(D1141,Kühe!$A$7:$G$150,2,FALSE)","v":"Bonita"},71,84,{"$f":"VLOOKUP(E1141,Kühe!$A$7:$G$150,2,FALSE)","v":"Cobra"},{"$f":"VLOOKUP(E1141,Kühe!$A$7:$G$150,7,FALSE)","v":"Tscherry Erwin & Bernhard"}]
["2018-06-17",{"$f":"VLOOKUP(D1142,Kühe!$A$7:$G$150,7,FALSE)","v":"Bregy Ralf & Adolf"},{"$f":"VLOOKUP(D1142,Kühe!$A$7:$G$150,2,FALSE)","v":"Canaille"},7,38,{"$f":"VLOOKUP(E1142,Kühe!$A$7:$G$150,2,FALSE)","v":"Tirana"},{"$f":"VLOOKUP(E1142,Kühe!$A$7:$G$150,7,FALSE)","v":"Gebrüder Jäger"}]
["2018-06-17",{"$f":"VLOOKUP(D1143,Kühe!$A$7:$G$150,7,FALSE)","v":"Fux Wendelin, Jenny & Wyer Piet"},{"$f":"VLOOKUP(D1143,Kühe!$A$7:$G$150,2,FALSE)","v":"Dixence"},30,55,{"$f":"VLOOKUP(E1143,Kühe!$A$7:$G$150,2,FALSE)","v":"Papillon"},{"$f":"VLOOKUP(E1143,Kühe!$A$7:$G$150,7,FALSE)","v":"Jäger Carlo"}]
["2018-06-17",{"$f":"VLOOKUP(D1144,Kühe!$A$7:$G$150,7,FALSE)","v":"Bregy Uli & Pascal"},{"$f":"VLOOKUP(D1144,Kühe!$A$7:$G$150,2,FALSE)","v":"Pandora"},17,8,{"$f":"VLOOKUP(E1144,Kühe!$A$7:$G$150,2,FALSE)","v":"Creola"},{"$f":"VLOOKUP(E1144,Kühe!$A$7:$G$150,7,FALSE)","v":"Bregy Ralf & Adolf"}]
["2018-06-17",{"$f":"VLOOKUP(D1145,Kühe!$A$7:$G$150,7,FALSE)","v":"Familie Leiggener"},{"$f":"VLOOKUP(D1145,Kühe!$A$7:$G$150,2,FALSE)","v":"Bijoux"},20,36,{"$f":"VLOOKUP(E1145,Kühe!$A$7:$G$150,2,FALSE)","v":"Valaisanne"},{"$f":"VLOOKUP(E1145,Kühe!$A$7:$G$150,7,FALSE)","v":"Fux Wendelin, Jenny & Wyer Piet"}]
["2018-06-17",{"$f":"VLOOKUP(D1146,Kühe!$A$7:$G$150,7,FALSE)","v":"Jäger Carlo"},{"$f":"VLOOKUP(D1146,Kühe!$A$7:$G$150,2,FALSE)","v":"Maila"},52,35,{"$f":"VLOOKUP(E1146,Kühe!$A$7:$G$150,2,FALSE)","v":"Souris"},{"$f":"VLOOKUP(E1146,Kühe!$A$7:$G$150,7,FALSE)","v":"Fux Wendelin, Jenny & Wyer Piet"}]
["2018-06-17",{"$f":"VLOOKUP(D1147,Kühe!$A$7:$G$150,7,FALSE)","v":"Familie Leiggener"},{"$f":"VLOOKUP(D1147,Kühe!$A$7:$G$150,2,FALSE)","v":"Rambo"},22,75,{"$f":"VLOOKUP(E1147,Kühe!$A$7:$G$150,2,FALSE)","v":"Pandora"},{"$f":"VLOOKUP(E1147,Kühe!$A$7:$G$150,7,FALSE)","v":"Stallung zum Stäg"}]
["2018-06-17",{"$f":"VLOOKUP(D1148,Kühe!$A$7:$G$150,7,FALSE)","v":"Tscherry Erwin & Bernhard"},{"$f":"VLOOKUP(D1148,Kühe!$A$7:$G$150,2,FALSE)","v":"Carolin"},82,34,{"$f":"VLOOKUP(E1148,Kühe!$A$7:$G$150,2,FALSE)","v":"Scarlette"},{"$f":"VLOOKUP(E1148,Kühe!$A$7:$G$150,7,FALSE)","v":"Fux Wendelin, Jenny & Wyer Piet"}]
["2018-06-17",{"$f":"VLOOKUP(D1149,Kühe!$A$7:$G$150,7,FALSE)","v":"Fux Wendelin, Jenny & Wyer Piet"},{"$f":"VLOOKUP(D1149,Kühe!$A$7:$G$150,2,FALSE)","v":"Mystic"},31,93,{"$f":"VLOOKUP(E1149,Kühe!$A$7:$G$150,2,FALSE)","v":"Shagiri"},{"$f":"VLOOKUP(E1149,Kühe!$A$7:$G$150,7,FALSE)","v":"Wyssen Diego & Madlen"}]
["2018-06-17",{"$f":"VLOOKUP(D1150,Kühe!$A$7:$G$150,7,FALSE)","v":"Hischier Pius"},{"$f":"VLOOKUP(D1150,Kühe!$A$7:$G$150,2,FALSE)","v":"Shakira"},49,47,{"$f":"VLOOKUP(E1150,Kühe!$A$7:$G$150,2,FALSE)","v":"Pablo"},{"$f":"VLOOKUP(E1150,Kühe!$A$7:$G$150,7,FALSE)","v":"Hischier Pius"}]
["2018-06-17",{"$f":"VLOOKUP(D1151,Kühe!$A$7:$G$150,7,FALSE)","v":"Williner  Anton"},{"$f":"VLOOKUP(D1151,Kühe!$A$7:$G$150,2,FALSE)","v":"Tira"},90,81,{"$f":"VLOOKUP(E1151,Kühe!$A$7:$G$150,2,FALSE)","v":"Tinea"},{"$f":"VLOOKUP(E1151,Kühe!$A$7:$G$150,7,FALSE)","v":"Sewer Ralf & Thommen Steve"}]
["2018-06-17",{"$f":"VLOOKUP(D1152,Kühe!$A$7:$G$150,7,FALSE)","v":"Sewer Ralf & Thommen Steve"},{"$f":"VLOOKUP(D1152,Kühe!$A$7:$G$150,2,FALSE)","v":"Tabitha"},78,55,{"$f":"VLOOKUP(E1152,Kühe!$A$7:$G$150,2,FALSE)","v":"Papillon"},{"$f":"VLOOKUP(E1152,Kühe!$A$7:$G$150,7,FALSE)","v":"Jäger Carlo"}]
["2018-06-17",{"$f":"VLOOKUP(D1153,Kühe!$A$7:$G$150,7,FALSE)","v":"Williner  Anton"},{"$f":"VLOOKUP(D1153,Kühe!$A$7:$G$150,2,FALSE)","v":"Colonell"},88,79,{"$f":"VLOOKUP(E1153,Kühe!$A$7:$G$150,2,FALSE)","v":"Tacona"},{"$f":"VLOOKUP(E1153,Kühe!$A$7:$G$150,7,FALSE)","v":"Sewer Ralf & Thommen Steve"}]
["2018-06-17",{"$f":"VLOOKUP(D1154,Kühe!$A$7:$G$150,7,FALSE)","v":"Williner  Anton"},{"$f":"VLOOKUP(D1154,Kühe!$A$7:$G$150,2,FALSE)","v":"Vanessa"},91,53,{"$f":"VLOOKUP(E1154,Kühe!$A$7:$G$150,2,FALSE)","v":"Mirtille"},{"$f":"VLOOKUP(E1154,Kühe!$A$7:$G$150,7,FALSE)","v":"Jäger Carlo"}]
["2018-06-17",{"$f":"VLOOKUP(D1155,Kühe!$A$7:$G$150,7,FALSE)","v":"Jäger Carlo"},{"$f":"VLOOKUP(D1155,Kühe!$A$7:$G$150,2,FALSE)","v":"Bandit"},50,88,{"$f":"VLOOKUP(E1155,Kühe!$A$7:$G$150,2,FALSE)","v":"Colonell"},{"$f":"VLOOKUP(E1155,Kühe!$A$7:$G$150,7,FALSE)","v":"Williner  Anton"}]
["2018-06-17",{"$f":"VLOOKUP(D1156,Kühe!$A$7:$G$150,7,FALSE)","v":"Bregy Uli & Pascal"},{"$f":"VLOOKUP(D1156,Kühe!$A$7:$G$150,2,FALSE)","v":"Calin"},14,6,{"$f":"VLOOKUP(E1156,Kühe!$A$7:$G$150,2,FALSE)","v":"Diabolo"},{"$f":"VLOOKUP(E1156,Kühe!$A$7:$G$150,7,FALSE)","v":"Bregy Anja"}]
["2018-06-17",{"$f":"VLOOKUP(D1157,Kühe!$A$7:$G$150,7,FALSE)","v":"Williner  Anton"},{"$f":"VLOOKUP(D1157,Kühe!$A$7:$G$150,2,FALSE)","v":"Colonell"},88,54,{"$f":"VLOOKUP(E1157,Kühe!$A$7:$G$150,2,FALSE)","v":"Paloma"},{"$f":"VLOOKUP(E1157,Kühe!$A$7:$G$150,7,FALSE)","v":"Jäger Carlo"}]
["2018-06-17",{"$f":"VLOOKUP(D1158,Kühe!$A$7:$G$150,7,FALSE)","v":"Jäger Carlo"},{"$f":"VLOOKUP(D1158,Kühe!$A$7:$G$150,2,FALSE)","v":"Maila"},52,100,{"$f":"VLOOKUP(E1158,Kühe!$A$7:$G$150,2,FALSE)","v":"Akhira"},{"$f":"VLOOKUP(E1158,Kühe!$A$7:$G$150,7,FALSE)","v":"Zumofen / Gattlen"}]
["2018-06-17",{"$f":"VLOOKUP(D1159,Kühe!$A$7:$G$150,7,FALSE)","v":"Bregy Ralf & Adolf"},{"$f":"VLOOKUP(D1159,Kühe!$A$7:$G$150,2,FALSE)","v":"Canaille"},7,57,{"$f":"VLOOKUP(E1159,Kühe!$A$7:$G$150,2,FALSE)","v":"Promise"},{"$f":"VLOOKUP(E1159,Kühe!$A$7:$G$150,7,FALSE)","v":"Jäger Carlo"}]
["2018-06-17",{"$f":"VLOOKUP(D1160,Kühe!$A$7:$G$150,7,FALSE)","v":"Jäger Carlo"},{"$f":"VLOOKUP(D1160,Kühe!$A$7:$G$150,2,FALSE)","v":"Paloma"},54,45,{"$f":"VLOOKUP(E1160,Kühe!$A$7:$G$150,2,FALSE)","v":"Taylor"},{"$f":"VLOOKUP(E1160,Kühe!$A$7:$G$150,7,FALSE)","v":"Gebrüder Jäger"}]
["2018-06-17",{"$f":"VLOOKUP(D1161,Kühe!$A$7:$G$150,7,FALSE)","v":"Zumofen / Gattlen"},{"$f":"VLOOKUP(D1161,Kühe!$A$7:$G$150,2,FALSE)","v":"Xena"},110,79,{"$f":"VLOOKUP(E1161,Kühe!$A$7:$G$150,2,FALSE)","v":"Tacona"},{"$f":"VLOOKUP(E1161,Kühe!$A$7:$G$150,7,FALSE)","v":"Sewer Ralf & Thommen Steve"}]
["2018-06-17",{"$f":"VLOOKUP(D1162,Kühe!$A$7:$G$150,7,FALSE)","v":"Williner  Anton"},{"$f":"VLOOKUP(D1162,Kühe!$A$7:$G$150,2,FALSE)","v":"Mirabilis"},87,85,{"$f":"VLOOKUP(E1162,Kühe!$A$7:$G$150,2,FALSE)","v":"Tulipe"},{"$f":"VLOOKUP(E1162,Kühe!$A$7:$G$150,7,FALSE)","v":"Tscherry Erwin & Bernhard"}]
["2018-06-17",{"$f":"VLOOKUP(D1163,Kühe!$A$7:$G$150,7,FALSE)","v":"Jäger Carlo"},{"$f":"VLOOKUP(D1163,Kühe!$A$7:$G$150,2,FALSE)","v":"Promise"},57,10,{"$f":"VLOOKUP(E1163,Kühe!$A$7:$G$150,2,FALSE)","v":"Lacoste"},{"$f":"VLOOKUP(E1163,Kühe!$A$7:$G$150,7,FALSE)","v":"Bregy Ralf & Adolf"}]
["2018-06-17",{"$f":"VLOOKUP(D1164,Kühe!$A$7:$G$150,7,FALSE)","v":"Familie Leiggener"},{"$f":"VLOOKUP(D1164,Kühe!$A$7:$G$150,2,FALSE)","v":"Bijoux"},20,80,{"$f":"VLOOKUP(E1164,Kühe!$A$7:$G$150,2,FALSE)","v":"Tiara"},{"$f":"VLOOKUP(E1164,Kühe!$A$7:$G$150,7,FALSE)","v":"Sewer Ralf & Thommen Steve"}]
["2018-06-17",{"$f":"VLOOKUP(D1165,Kühe!$A$7:$G$150,7,FALSE)","v":"Bregy Ralf & Adolf"},{"$f":"VLOOKUP(D1165,Kühe!$A$7:$G$150,2,FALSE)","v":"Lacoste"},10,75,{"$f":"VLOOKUP(E1165,Kühe!$A$7:$G$150,2,FALSE)","v":"Pandora"},{"$f":"VLOOKUP(E1165,Kühe!$A$7:$G$150,7,FALSE)","v":"Stallung zum Stäg"}]
["2018-06-17",{"$f":"VLOOKUP(D1166,Kühe!$A$7:$G$150,7,FALSE)","v":"Gebrüder Jäger"},{"$f":"VLOOKUP(D1166,Kühe!$A$7:$G$150,2,FALSE)","v":"Dorina"},43,21,{"$f":"VLOOKUP(E1166,Kühe!$A$7:$G$150,2,FALSE)","v":"Bulle"},{"$f":"VLOOKUP(E1166,Kühe!$A$7:$G$150,7,FALSE)","v":"Familie Leiggener"}]
["2018-06-17",{"$f":"VLOOKUP(D1167,Kühe!$A$7:$G$150,7,FALSE)","v":"Familie Leiggener"},{"$f":"VLOOKUP(D1167,Kühe!$A$7:$G$150,2,FALSE)","v":"Bulle"},21,53,{"$f":"VLOOKUP(E1167,Kühe!$A$7:$G$150,2,FALSE)","v":"Mirtille"},{"$f":"VLOOKUP(E1167,Kühe!$A$7:$G$150,7,FALSE)","v":"Jäger Carlo"}]
["2018-06-17",{"$f":"VLOOKUP(D1168,Kühe!$A$7:$G$150,7,FALSE)","v":"Hischier Pius"},{"$f":"VLOOKUP(D1168,Kühe!$A$7:$G$150,2,FALSE)","v":"Shakira"},49,73,{"$f":"VLOOKUP(E1168,Kühe!$A$7:$G$150,2,FALSE)","v":"Benika"},{"$f":"VLOOKUP(E1168,Kühe!$A$7:$G$150,7,FALSE)","v":"Stallung zum Stäg"}]
["2018-06-17",{"$f":"VLOOKUP(D1169,Kühe!$A$7:$G$150,7,FALSE)","v":"Familie Leiggener"},{"$f":"VLOOKUP(D1169,Kühe!$A$7:$G$150,2,FALSE)","v":"Rambo"},22,6,{"$f":"VLOOKUP(E1169,Kühe!$A$7:$G$150,2,FALSE)","v":"Diabolo"},{"$f":"VLOOKUP(E1169,Kühe!$A$7:$G$150,7,FALSE)","v":"Bregy Anja"}]
["2018-06-17",{"$f":"VLOOKUP(D1170,Kühe!$A$7:$G$150,7,FALSE)","v":"Hischier Pius"},{"$f":"VLOOKUP(D1170,Kühe!$A$7:$G$150,2,FALSE)","v":"Pelila"},48,58,{"$f":"VLOOKUP(E1170,Kühe!$A$7:$G$150,2,FALSE)","v":"Turin"},{"$f":"VLOOKUP(E1170,Kühe!$A$7:$G$150,7,FALSE)","v":"Jäger Carlo"}]
["2018-06-17",{"$f":"VLOOKUP(D1171,Kühe!$A$7:$G$150,7,FALSE)","v":"Jäger Carlo"},{"$f":"VLOOKUP(D1171,Kühe!$A$7:$G$150,2,FALSE)","v":"Turin"},58,47,{"$f":"VLOOKUP(E1171,Kühe!$A$7:$G$150,2,FALSE)","v":"Pablo"},{"$f":"VLOOKUP(E1171,Kühe!$A$7:$G$150,7,FALSE)","v":"Hischier Pius"}]
["2018-06-17",{"$f":"VLOOKUP(D1172,Kühe!$A$7:$G$150,7,FALSE)","v":"Jäger Carlo"},{"$f":"VLOOKUP(D1172,Kühe!$A$7:$G$150,2,FALSE)","v":"Paloma"},54,75,{"$f":"VLOOKUP(E1172,Kühe!$A$7:$G$150,2,FALSE)","v":"Pandora"},{"$f":"VLOOKUP(E1172,Kühe!$A$7:$G$150,7,FALSE)","v":"Stallung zum Stäg"}]
["2018-06-17",{"$f":"VLOOKUP(D1173,Kühe!$A$7:$G$150,7,FALSE)","v":"Wyssen Diego & Madlen"},{"$f":"VLOOKUP(D1173,Kühe!$A$7:$G$150,2,FALSE)","v":"Xanja"},94,75,{"$f":"VLOOKUP(E1173,Kühe!$A$7:$G$150,2,FALSE)","v":"Pandora"},{"$f":"VLOOKUP(E1173,Kühe!$A$7:$G$150,7,FALSE)","v":"Stallung zum Stäg"}]
["2018-06-17",{"$f":"VLOOKUP(D1174,Kühe!$A$7:$G$150,7,FALSE)","v":"Williner  Anton"},{"$f":"VLOOKUP(D1174,Kühe!$A$7:$G$150,2,FALSE)","v":"Tira"},90,58,{"$f":"VLOOKUP(E1174,Kühe!$A$7:$G$150,2,FALSE)","v":"Turin"},{"$f":"VLOOKUP(E1174,Kühe!$A$7:$G$150,7,FALSE)","v":"Jäger Carlo"}]
["2018-06-17",{"$f":"VLOOKUP(D1175,Kühe!$A$7:$G$150,7,FALSE)","v":"Bregy Patrick & Silvan"},{"$f":"VLOOKUP(D1175,Kühe!$A$7:$G$150,2,FALSE)","v":"Tequilla"},13,61,{"$f":"VLOOKUP(E1175,Kühe!$A$7:$G$150,2,FALSE)","v":"Baronesse"},{"$f":"VLOOKUP(E1175,Kühe!$A$7:$G$150,7,FALSE)","v":"Mathieu Leander & Sascha"}]
["2018-06-17",{"$f":"VLOOKUP(D1176,Kühe!$A$7:$G$150,7,FALSE)","v":"Wyssen Diego & Madlen"},{"$f":"VLOOKUP(D1176,Kühe!$A$7:$G$150,2,FALSE)","v":"Xhyla"},96,11,{"$f":"VLOOKUP(E1176,Kühe!$A$7:$G$150,2,FALSE)","v":"Santiago"},{"$f":"VLOOKUP(E1176,Kühe!$A$7:$G$150,7,FALSE)","v":"Bregy Ralf & Adolf"}]
["2018-06-17",{"$f":"VLOOKUP(D1177,Kühe!$A$7:$G$150,7,FALSE)","v":"Bregy Uli & Pascal"},{"$f":"VLOOKUP(D1177,Kühe!$A$7:$G$150,2,FALSE)","v":"Tiranie"},19,27,{"$f":"VLOOKUP(E1177,Kühe!$A$7:$G$150,2,FALSE)","v":"Bolero"},{"$f":"VLOOKUP(E1177,Kühe!$A$7:$G$150,7,FALSE)","v":"Fux Wendelin, Jenny & Wyer Piet"}]
["2018-06-17",{"$f":"VLOOKUP(D1178,Kühe!$A$7:$G$150,7,FALSE)","v":"Fux Wendelin, Jenny & Wyer Piet"},{"$f":"VLOOKUP(D1178,Kühe!$A$7:$G$150,2,FALSE)","v":"Bolero"},27,17,{"$f":"VLOOKUP(E1178,Kühe!$A$7:$G$150,2,FALSE)","v":"Pandora"},{"$f":"VLOOKUP(E1178,Kühe!$A$7:$G$150,7,FALSE)","v":"Bregy Uli & Pascal"}]
["2018-06-17",{"$f":"VLOOKUP(D1179,Kühe!$A$7:$G$150,7,FALSE)","v":"Bayard Medard & Gustav"},{"$f":"VLOOKUP(D1179,Kühe!$A$7:$G$150,2,FALSE)","v":"Violette"},5,100,{"$f":"VLOOKUP(E1179,Kühe!$A$7:$G$150,2,FALSE)","v":"Akhira"},{"$f":"VLOOKUP(E1179,Kühe!$A$7:$G$150,7,FALSE)","v":"Zumofen / Gattlen"}]
["2018-06-17",{"$f":"VLOOKUP(D1180,Kühe!$A$7:$G$150,7,FALSE)","v":"Familie Leiggener"},{"$f":"VLOOKUP(D1180,Kühe!$A$7:$G$150,2,FALSE)","v":"Rebell"},23,27,{"$f":"VLOOKUP(E1180,Kühe!$A$7:$G$150,2,FALSE)","v":"Bolero"},{"$f":"VLOOKUP(E1180,Kühe!$A$7:$G$150,7,FALSE)","v":"Fux Wendelin, Jenny & Wyer Piet"}]
["2018-06-17",{"$f":"VLOOKUP(D1181,Kühe!$A$7:$G$150,7,FALSE)","v":"Zumofen / Gattlen"},{"$f":"VLOOKUP(D1181,Kühe!$A$7:$G$150,2,FALSE)","v":"Fangjo"},101,1,{"$f":"VLOOKUP(E1181,Kühe!$A$7:$G$150,2,FALSE)","v":"Diabolo"},{"$f":"VLOOKUP(E1181,Kühe!$A$7:$G$150,7,FALSE)","v":"Bayard Medard & Gustav"}]
["2018-06-17",{"$f":"VLOOKUP(D1182,Kühe!$A$7:$G$150,7,FALSE)","v":"Bayard Medard & Gustav"},{"$f":"VLOOKUP(D1182,Kühe!$A$7:$G$150,2,FALSE)","v":"Violette"},5,107,{"$f":"VLOOKUP(E1182,Kühe!$A$7:$G$150,2,FALSE)","v":"Violin"},{"$f":"VLOOKUP(E1182,Kühe!$A$7:$G$150,7,FALSE)","v":"Zumofen / Gattlen"}]
["2018-06-17",{"$f":"VLOOKUP(D1183,Kühe!$A$7:$G$150,7,FALSE)","v":"Gebrüder Jäger"},{"$f":"VLOOKUP(D1183,Kühe!$A$7:$G$150,2,FALSE)","v":"Tamango"},44,69,{"$f":"VLOOKUP(E1183,Kühe!$A$7:$G$150,2,FALSE)","v":"Manou"},{"$f":"VLOOKUP(E1183,Kühe!$A$7:$G$150,7,FALSE)","v":"Stallung Passeraub"}]
["2018-06-17",{"$f":"VLOOKUP(D1184,Kühe!$A$7:$G$150,7,FALSE)","v":"Bregy Uli & Pascal"},{"$f":"VLOOKUP(D1184,Kühe!$A$7:$G$150,2,FALSE)","v":"Cora"},16,60,{"$f":"VLOOKUP(E1184,Kühe!$A$7:$G$150,2,FALSE)","v":"Bambino"},{"$f":"VLOOKUP(E1184,Kühe!$A$7:$G$150,7,FALSE)","v":"Mathieu Leander & Sascha"}]
["2018-06-17",{"$f":"VLOOKUP(D1185,Kühe!$A$7:$G$150,7,FALSE)","v":"Familie Leiggener"},{"$f":"VLOOKUP(D1185,Kühe!$A$7:$G$150,2,FALSE)","v":"Bulle"},21,16,{"$f":"VLOOKUP(E1185,Kühe!$A$7:$G$150,2,FALSE)","v":"Cora"},{"$f":"VLOOKUP(E1185,Kühe!$A$7:$G$150,7,FALSE)","v":"Bregy Uli & Pascal"}]
["2018-06-17",{"$f":"VLOOKUP(D1186,Kühe!$A$7:$G$150,7,FALSE)","v":"Fux Wendelin, Jenny & Wyer Piet"},{"$f":"VLOOKUP(D1186,Kühe!$A$7:$G$150,2,FALSE)","v":"Bolero"},27,20,{"$f":"VLOOKUP(E1186,Kühe!$A$7:$G$150,2,FALSE)","v":"Bijoux"},{"$f":"VLOOKUP(E1186,Kühe!$A$7:$G$150,7,FALSE)","v":"Familie Leiggener"}]
["2018-06-17",{"$f":"VLOOKUP(D1187,Kühe!$A$7:$G$150,7,FALSE)","v":"Williner  Anton"},{"$f":"VLOOKUP(D1187,Kühe!$A$7:$G$150,2,FALSE)","v":"Colonell"},88,81,{"$f":"VLOOKUP(E1187,Kühe!$A$7:$G$150,2,FALSE)","v":"Tinea"},{"$f":"VLOOKUP(E1187,Kühe!$A$7:$G$150,7,FALSE)","v":"Sewer Ralf & Thommen Steve"}]
["2018-06-17",{"$f":"VLOOKUP(D1188,Kühe!$A$7:$G$150,7,FALSE)","v":"Mathieu Leander & Sascha"},{"$f":"VLOOKUP(D1188,Kühe!$A$7:$G$150,2,FALSE)","v":"Bavaria"},62,41,{"$f":"VLOOKUP(E1188,Kühe!$A$7:$G$150,2,FALSE)","v":"Bessy"},{"$f":"VLOOKUP(E1188,Kühe!$A$7:$G$150,7,FALSE)","v":"Gebrüder Jäger"}]
["2018-06-17",{"$f":"VLOOKUP(D1189,Kühe!$A$7:$G$150,7,FALSE)","v":"Zumofen / Gattlen"},{"$f":"VLOOKUP(D1189,Kühe!$A$7:$G$150,2,FALSE)","v":"Milou"},103,21,{"$f":"VLOOKUP(E1189,Kühe!$A$7:$G$150,2,FALSE)","v":"Bulle"},{"$f":"VLOOKUP(E1189,Kühe!$A$7:$G$150,7,FALSE)","v":"Familie Leiggener"}]
["2018-06-17",{"$f":"VLOOKUP(D1190,Kühe!$A$7:$G$150,7,FALSE)","v":"Stallung Passeraub"},{"$f":"VLOOKUP(D1190,Kühe!$A$7:$G$150,2,FALSE)","v":"Manou"},69,4,{"$f":"VLOOKUP(E1190,Kühe!$A$7:$G$150,2,FALSE)","v":"Ramona"},{"$f":"VLOOKUP(E1190,Kühe!$A$7:$G$150,7,FALSE)","v":"Bayard Medard & Gustav"}]
["2018-06-17",{"$f":"VLOOKUP(D1191,Kühe!$A$7:$G$150,7,FALSE)","v":"Zumofen / Gattlen"},{"$f":"VLOOKUP(D1191,Kühe!$A$7:$G$150,2,FALSE)","v":"Milou"},103,22,{"$f":"VLOOKUP(E1191,Kühe!$A$7:$G$150,2,FALSE)","v":"Rambo"},{"$f":"VLOOKUP(E1191,Kühe!$A$7:$G$150,7,FALSE)","v":"Familie Leiggener"}]
["2018-06-17",{"$f":"VLOOKUP(D1192,Kühe!$A$7:$G$150,7,FALSE)","v":"Fux Wendelin, Jenny & Wyer Piet"},{"$f":"VLOOKUP(D1192,Kühe!$A$7:$G$150,2,FALSE)","v":"Bolero"},27,68,{"$f":"VLOOKUP(E1192,Kühe!$A$7:$G$150,2,FALSE)","v":"Bulle"},{"$f":"VLOOKUP(E1192,Kühe!$A$7:$G$150,7,FALSE)","v":"Stallung Passeraub"}]
["2018-06-17",{"$f":"VLOOKUP(D1193,Kühe!$A$7:$G$150,7,FALSE)","v":"Fux Wendelin, Jenny & Wyer Piet"},{"$f":"VLOOKUP(D1193,Kühe!$A$7:$G$150,2,FALSE)","v":"Bolero"},27,71,{"$f":"VLOOKUP(E1193,Kühe!$A$7:$G$150,2,FALSE)","v":"Bonita"},{"$f":"VLOOKUP(E1193,Kühe!$A$7:$G$150,7,FALSE)","v":"Stallung Passeraub"}]
["2018-06-17",{"$f":"VLOOKUP(D1194,Kühe!$A$7:$G$150,7,FALSE)","v":"Stallung Passeraub"},{"$f":"VLOOKUP(D1194,Kühe!$A$7:$G$150,2,FALSE)","v":"Medusa"},70,66,{"$f":"VLOOKUP(E1194,Kühe!$A$7:$G$150,2,FALSE)","v":"Bobino"},{"$f":"VLOOKUP(E1194,Kühe!$A$7:$G$150,7,FALSE)","v":"Stallung Passeraub"}]
["2018-06-17",{"$f":"VLOOKUP(D1195,Kühe!$A$7:$G$150,7,FALSE)","v":"Jäger Carlo"},{"$f":"VLOOKUP(D1195,Kühe!$A$7:$G$150,2,FALSE)","v":"Papillon"},55,36,{"$f":"VLOOKUP(E1195,Kühe!$A$7:$G$150,2,FALSE)","v":"Valaisanne"},{"$f":"VLOOKUP(E1195,Kühe!$A$7:$G$150,7,FALSE)","v":"Fux Wendelin, Jenny & Wyer Piet"}]
["2018-06-17",{"$f":"VLOOKUP(D1196,Kühe!$A$7:$G$150,7,FALSE)","v":"Jäger Carlo"},{"$f":"VLOOKUP(D1196,Kühe!$A$7:$G$150,2,FALSE)","v":"Pisa"},56,9,{"$f":"VLOOKUP(E1196,Kühe!$A$7:$G$150,2,FALSE)","v":"Flacari"},{"$f":"VLOOKUP(E1196,Kühe!$A$7:$G$150,7,FALSE)","v":"Bregy Ralf & Adolf"}]
["2018-06-17",{"$f":"VLOOKUP(D1197,Kühe!$A$7:$G$150,7,FALSE)","v":"Familie Zumoberhaus"},{"$f":"VLOOKUP(D1197,Kühe!$A$7:$G$150,2,FALSE)","v":"Nana"},98,40,{"$f":"VLOOKUP(E1197,Kühe!$A$7:$G$150,2,FALSE)","v":"Barilona"},{"$f":"VLOOKUP(E1197,Kühe!$A$7:$G$150,7,FALSE)","v":"Gebrüder Jäger"}]
["2018-06-17",{"$f":"VLOOKUP(D1198,Kühe!$A$7:$G$150,7,FALSE)","v":"Jäger Carlo"},{"$f":"VLOOKUP(D1198,Kühe!$A$7:$G$150,2,FALSE)","v":"Turin"},58,65,{"$f":"VLOOKUP(E1198,Kühe!$A$7:$G$150,2,FALSE)","v":"Baghera"},{"$f":"VLOOKUP(E1198,Kühe!$A$7:$G$150,7,FALSE)","v":"Stallung Passeraub"}]
["2018-06-17",{"$f":"VLOOKUP(D1199,Kühe!$A$7:$G$150,7,FALSE)","v":"Gebrüder Jäger"},{"$f":"VLOOKUP(D1199,Kühe!$A$7:$G$150,2,FALSE)","v":"Tirana"},38,1,{"$f":"VLOOKUP(E1199,Kühe!$A$7:$G$150,2,FALSE)","v":"Diabolo"},{"$f":"VLOOKUP(E1199,Kühe!$A$7:$G$150,7,FALSE)","v":"Bayard Medard & Gustav"}]
["2018-06-17",{"$f":"VLOOKUP(D1200,Kühe!$A$7:$G$150,7,FALSE)","v":"Bregy Uli & Pascal"},{"$f":"VLOOKUP(D1200,Kühe!$A$7:$G$150,2,FALSE)","v":"Souki"},18,95,{"$f":"VLOOKUP(E1200,Kühe!$A$7:$G$150,2,FALSE)","v":"Xena"},{"$f":"VLOOKUP(E1200,Kühe!$A$7:$G$150,7,FALSE)","v":"Wyssen Diego & Madlen"}]
["2018-06-17",{"$f":"VLOOKUP(D1201,Kühe!$A$7:$G$150,7,FALSE)","v":"Gebrüder Jäger"},{"$f":"VLOOKUP(D1201,Kühe!$A$7:$G$150,2,FALSE)","v":"Barilona"},40,58,{"$f":"VLOOKUP(E1201,Kühe!$A$7:$G$150,2,FALSE)","v":"Turin"},{"$f":"VLOOKUP(E1201,Kühe!$A$7:$G$150,7,FALSE)","v":"Jäger Carlo"}]
["2018-06-17",{"$f":"VLOOKUP(D1202,Kühe!$A$7:$G$150,7,FALSE)","v":"Jäger Carlo"},{"$f":"VLOOKUP(D1202,Kühe!$A$7:$G$150,2,FALSE)","v":"Maila"},52,38,{"$f":"VLOOKUP(E1202,Kühe!$A$7:$G$150,2,FALSE)","v":"Tirana"},{"$f":"VLOOKUP(E1202,Kühe!$A$7:$G$150,7,FALSE)","v":"Gebrüder Jäger"}]
["2018-06-17",{"$f":"VLOOKUP(D1203,Kühe!$A$7:$G$150,7,FALSE)","v":"Tscherry Erwin & Bernhard"},{"$f":"VLOOKUP(D1203,Kühe!$A$7:$G$150,2,FALSE)","v":"Tulipe"},85,98,{"$f":"VLOOKUP(E1203,Kühe!$A$7:$G$150,2,FALSE)","v":"Nana"},{"$f":"VLOOKUP(E1203,Kühe!$A$7:$G$150,7,FALSE)","v":"Familie Zumoberhaus"}]
["2018-06-17",{"$f":"VLOOKUP(D1204,Kühe!$A$7:$G$150,7,FALSE)","v":"Jäger Carlo"},{"$f":"VLOOKUP(D1204,Kühe!$A$7:$G$150,2,FALSE)","v":"Turin"},58,20,{"$f":"VLOOKUP(E1204,Kühe!$A$7:$G$150,2,FALSE)","v":"Bijoux"},{"$f":"VLOOKUP(E1204,Kühe!$A$7:$G$150,7,FALSE)","v":"Familie Leiggener"}]
["2018-06-17",{"$f":"VLOOKUP(D1205,Kühe!$A$7:$G$150,7,FALSE)","v":"Tscherry Erwin & Bernhard"},{"$f":"VLOOKUP(D1205,Kühe!$A$7:$G$150,2,FALSE)","v":"Carolin"},82,36,{"$f":"VLOOKUP(E1205,Kühe!$A$7:$G$150,2,FALSE)","v":"Valaisanne"},{"$f":"VLOOKUP(E1205,Kühe!$A$7:$G$150,7,FALSE)","v":"Fux Wendelin, Jenny & Wyer Piet"}]
["2018-06-17",{"$f":"VLOOKUP(D1206,Kühe!$A$7:$G$150,7,FALSE)","v":"Wyssen Diego & Madlen"},{"$f":"VLOOKUP(D1206,Kühe!$A$7:$G$150,2,FALSE)","v":"Xanja"},94,27,{"$f":"VLOOKUP(E1206,Kühe!$A$7:$G$150,2,FALSE)","v":"Bolero"},{"$f":"VLOOKUP(E1206,Kühe!$A$7:$G$150,7,FALSE)","v":"Fux Wendelin, Jenny & Wyer Piet"}]
["2018-06-17",{"$f":"VLOOKUP(D1207,Kühe!$A$7:$G$150,7,FALSE)","v":"Stallung Passeraub"},{"$f":"VLOOKUP(D1207,Kühe!$A$7:$G$150,2,FALSE)","v":"Medusa"},70,21,{"$f":"VLOOKUP(E1207,Kühe!$A$7:$G$150,2,FALSE)","v":"Bulle"},{"$f":"VLOOKUP(E1207,Kühe!$A$7:$G$150,7,FALSE)","v":"Familie Leiggener"}]
["2018-06-17",{"$f":"VLOOKUP(D1208,Kühe!$A$7:$G$150,7,FALSE)","v":"Familie Leiggener"},{"$f":"VLOOKUP(D1208,Kühe!$A$7:$G$150,2,FALSE)","v":"Bulle"},21,71,{"$f":"VLOOKUP(E1208,Kühe!$A$7:$G$150,2,FALSE)","v":"Bonita"},{"$f":"VLOOKUP(E1208,Kühe!$A$7:$G$150,7,FALSE)","v":"Stallung Passeraub"}]
["2018-06-17",{"$f":"VLOOKUP(D1209,Kühe!$A$7:$G$150,7,FALSE)","v":"Zumofen / Gattlen"},{"$f":"VLOOKUP(D1209,Kühe!$A$7:$G$150,2,FALSE)","v":"Xena"},110,20,{"$f":"VLOOKUP(E1209,Kühe!$A$7:$G$150,2,FALSE)","v":"Bijoux"},{"$f":"VLOOKUP(E1209,Kühe!$A$7:$G$150,7,FALSE)","v":"Familie Leiggener"}]
["2018-06-17",{"$f":"VLOOKUP(D1210,Kühe!$A$7:$G$150,7,FALSE)","v":"Gebrüder Jäger"},{"$f":"VLOOKUP(D1210,Kühe!$A$7:$G$150,2,FALSE)","v":"Dorina"},43,74,{"$f":"VLOOKUP(E1210,Kühe!$A$7:$G$150,2,FALSE)","v":"Diaries"},{"$f":"VLOOKUP(E1210,Kühe!$A$7:$G$150,7,FALSE)","v":"Stallung zum Stäg"}]
["2018-06-17",{"$f":"VLOOKUP(D1211,Kühe!$A$7:$G$150,7,FALSE)","v":"Fux Wendelin, Jenny & Wyer Piet"},{"$f":"VLOOKUP(D1211,Kühe!$A$7:$G$150,2,FALSE)","v":"Souris"},35,43,{"$f":"VLOOKUP(E1211,Kühe!$A$7:$G$150,2,FALSE)","v":"Dorina"},{"$f":"VLOOKUP(E1211,Kühe!$A$7:$G$150,7,FALSE)","v":"Gebrüder Jäger"}]
["2018-06-17",{"$f":"VLOOKUP(D1212,Kühe!$A$7:$G$150,7,FALSE)","v":"Sewer Ralf & Thommen Steve"},{"$f":"VLOOKUP(D1212,Kühe!$A$7:$G$150,2,FALSE)","v":"Gonda"},76,35,{"$f":"VLOOKUP(E1212,Kühe!$A$7:$G$150,2,FALSE)","v":"Souris"},{"$f":"VLOOKUP(E1212,Kühe!$A$7:$G$150,7,FALSE)","v":"Fux Wendelin, Jenny & Wyer Piet"}]
["2018-06-17",{"$f":"VLOOKUP(D1213,Kühe!$A$7:$G$150,7,FALSE)","v":"Stallung zum Stäg"},{"$f":"VLOOKUP(D1213,Kühe!$A$7:$G$150,2,FALSE)","v":"Pandora"},75,106,{"$f":"VLOOKUP(E1213,Kühe!$A$7:$G$150,2,FALSE)","v":"Rambo"},{"$f":"VLOOKUP(E1213,Kühe!$A$7:$G$150,7,FALSE)","v":"Zumofen / Gattlen"}]
["2018-06-17",{"$f":"VLOOKUP(D1214,Kühe!$A$7:$G$150,7,FALSE)","v":"Wyssen Diego & Madlen"},{"$f":"VLOOKUP(D1214,Kühe!$A$7:$G$150,2,FALSE)","v":"Xanja"},94,30,{"$f":"VLOOKUP(E1214,Kühe!$A$7:$G$150,2,FALSE)","v":"Dixence"},{"$f":"VLOOKUP(E1214,Kühe!$A$7:$G$150,7,FALSE)","v":"Fux Wendelin, Jenny & Wyer Piet"}]
["2018-06-17",{"$f":"VLOOKUP(D1215,Kühe!$A$7:$G$150,7,FALSE)","v":"Fux Wendelin, Jenny & Wyer Piet"},{"$f":"VLOOKUP(D1215,Kühe!$A$7:$G$150,2,FALSE)","v":"Bolero"},27,85,{"$f":"VLOOKUP(E1215,Kühe!$A$7:$G$150,2,FALSE)","v":"Tulipe"},{"$f":"VLOOKUP(E1215,Kühe!$A$7:$G$150,7,FALSE)","v":"Tscherry Erwin & Bernhard"}]
["2018-06-17",{"$f":"VLOOKUP(D1216,Kühe!$A$7:$G$150,7,FALSE)","v":"Fux Wendelin, Jenny & Wyer Piet"},{"$f":"VLOOKUP(D1216,Kühe!$A$7:$G$150,2,FALSE)","v":"Bolero"},27,97,{"$f":"VLOOKUP(E1216,Kühe!$A$7:$G$150,2,FALSE)","v":"Coucou"},{"$f":"VLOOKUP(E1216,Kühe!$A$7:$G$150,7,FALSE)","v":"Familie Zumoberhaus"}]
["2018-06-17",{"$f":"VLOOKUP(D1217,Kühe!$A$7:$G$150,7,FALSE)","v":"Fux Wendelin, Jenny & Wyer Piet"},{"$f":"VLOOKUP(D1217,Kühe!$A$7:$G$150,2,FALSE)","v":"Bolero"},27,98,{"$f":"VLOOKUP(E1217,Kühe!$A$7:$G$150,2,FALSE)","v":"Nana"},{"$f":"VLOOKUP(E1217,Kühe!$A$7:$G$150,7,FALSE)","v":"Familie Zumoberhaus"}]
["2018-06-17",{"$f":"VLOOKUP(D1218,Kühe!$A$7:$G$150,7,FALSE)","v":"Jäger Carlo"},{"$f":"VLOOKUP(D1218,Kühe!$A$7:$G$150,2,FALSE)","v":"Pisa"},56,41,{"$f":"VLOOKUP(E1218,Kühe!$A$7:$G$150,2,FALSE)","v":"Bessy"},{"$f":"VLOOKUP(E1218,Kühe!$A$7:$G$150,7,FALSE)","v":"Gebrüder Jäger"}]
["2018-06-17",{"$f":"VLOOKUP(D1219,Kühe!$A$7:$G$150,7,FALSE)","v":"Gebrüder Jäger"},{"$f":"VLOOKUP(D1219,Kühe!$A$7:$G$150,2,FALSE)","v":"Bessy"},41,55,{"$f":"VLOOKUP(E1219,Kühe!$A$7:$G$150,2,FALSE)","v":"Papillon"},{"$f":"VLOOKUP(E1219,Kühe!$A$7:$G$150,7,FALSE)","v":"Jäger Carlo"}]
["2018-06-17",{"$f":"VLOOKUP(D1220,Kühe!$A$7:$G$150,7,FALSE)","v":"Sewer Ralf & Thommen Steve"},{"$f":"VLOOKUP(D1220,Kühe!$A$7:$G$150,2,FALSE)","v":"Tacona"},79,99,{"$f":"VLOOKUP(E1220,Kühe!$A$7:$G$150,2,FALSE)","v":"Napapiri"},{"$f":"VLOOKUP(E1220,Kühe!$A$7:$G$150,7,FALSE)","v":"Familie Zumoberhaus"}]
["2018-06-17",{"$f":"VLOOKUP(D1221,Kühe!$A$7:$G$150,7,FALSE)","v":"Tscherry Erwin & Bernhard"},{"$f":"VLOOKUP(D1221,Kühe!$A$7:$G$150,2,FALSE)","v":"Tulipe"},85,71,{"$f":"VLOOKUP(E1221,Kühe!$A$7:$G$150,2,FALSE)","v":"Bonita"},{"$f":"VLOOKUP(E1221,Kühe!$A$7:$G$150,7,FALSE)","v":"Stallung Passeraub"}]
["2018-06-17",{"$f":"VLOOKUP(D1222,Kühe!$A$7:$G$150,7,FALSE)","v":"Fux Wendelin, Jenny & Wyer Piet"},{"$f":"VLOOKUP(D1222,Kühe!$A$7:$G$150,2,FALSE)","v":"Bolero"},27,71,{"$f":"VLOOKUP(E1222,Kühe!$A$7:$G$150,2,FALSE)","v":"Bonita"},{"$f":"VLOOKUP(E1222,Kühe!$A$7:$G$150,7,FALSE)","v":"Stallung Passeraub"}]
["2018-06-17",{"$f":"VLOOKUP(D1223,Kühe!$A$7:$G$150,7,FALSE)","v":"Sewer Ralf & Thommen Steve"},{"$f":"VLOOKUP(D1223,Kühe!$A$7:$G$150,2,FALSE)","v":"Tinea"},81,73,{"$f":"VLOOKUP(E1223,Kühe!$A$7:$G$150,2,FALSE)","v":"Benika"},{"$f":"VLOOKUP(E1223,Kühe!$A$7:$G$150,7,FALSE)","v":"Stallung zum Stäg"}]
["2018-06-17",{"$f":"VLOOKUP(D1224,Kühe!$A$7:$G$150,7,FALSE)","v":"Wyssen Diego & Madlen"},{"$f":"VLOOKUP(D1224,Kühe!$A$7:$G$150,2,FALSE)","v":"Fiorenza"},92,59,{"$f":"VLOOKUP(E1224,Kühe!$A$7:$G$150,2,FALSE)","v":"Baghira"},{"$f":"VLOOKUP(E1224,Kühe!$A$7:$G$150,7,FALSE)","v":"Mathieu Leander & Sascha"}]
["2018-06-17",{"$f":"VLOOKUP(D1225,Kühe!$A$7:$G$150,7,FALSE)","v":"Familie Leiggener"},{"$f":"VLOOKUP(D1225,Kühe!$A$7:$G$150,2,FALSE)","v":"Bulle"},21,97,{"$f":"VLOOKUP(E1225,Kühe!$A$7:$G$150,2,FALSE)","v":"Coucou"},{"$f":"VLOOKUP(E1225,Kühe!$A$7:$G$150,7,FALSE)","v":"Familie Zumoberhaus"}]
["2018-06-17",{"$f":"VLOOKUP(D1226,Kühe!$A$7:$G$150,7,FALSE)","v":"Stallung zum Stäg"},{"$f":"VLOOKUP(D1226,Kühe!$A$7:$G$150,2,FALSE)","v":"Pandora"},75,8,{"$f":"VLOOKUP(E1226,Kühe!$A$7:$G$150,2,FALSE)","v":"Creola"},{"$f":"VLOOKUP(E1226,Kühe!$A$7:$G$150,7,FALSE)","v":"Bregy Ralf & Adolf"}]
["2018-06-17",{"$f":"VLOOKUP(D1227,Kühe!$A$7:$G$150,7,FALSE)","v":"Tscherry Erwin & Bernhard"},{"$f":"VLOOKUP(D1227,Kühe!$A$7:$G$150,2,FALSE)","v":"Carolin"},82,73,{"$f":"VLOOKUP(E1227,Kühe!$A$7:$G$150,2,FALSE)","v":"Benika"},{"$f":"VLOOKUP(E1227,Kühe!$A$7:$G$150,7,FALSE)","v":"Stallung zum Stäg"}]
["2018-06-17",{"$f":"VLOOKUP(D1228,Kühe!$A$7:$G$150,7,FALSE)","v":"Wyssen Diego & Madlen"},{"$f":"VLOOKUP(D1228,Kühe!$A$7:$G$150,2,FALSE)","v":"Shagiri"},93,81,{"$f":"VLOOKUP(E1228,Kühe!$A$7:$G$150,2,FALSE)","v":"Tinea"},{"$f":"VLOOKUP(E1228,Kühe!$A$7:$G$150,7,FALSE)","v":"Sewer Ralf & Thommen Steve"}]
["2018-06-17",{"$f":"VLOOKUP(D1229,Kühe!$A$7:$G$150,7,FALSE)","v":"Familie Leiggener"},{"$f":"VLOOKUP(D1229,Kühe!$A$7:$G$150,2,FALSE)","v":"Bulle"},21,52,{"$f":"VLOOKUP(E1229,Kühe!$A$7:$G$150,2,FALSE)","v":"Maila"},{"$f":"VLOOKUP(E1229,Kühe!$A$7:$G$150,7,FALSE)","v":"Jäger Carlo"}]

{"sheet":"Kühe","index":1,"n_rows":116,"n_cols":7,"rows_kept":116,"cut":false,"hidden":false,"merged":[[4,0,4,6]]}
[]
[]
[]
[]
["Rot = Troupeau-Siegerin "]
["Nr.","Name","Ohrmarkennr.","Geburtsdat.","Vater","Mutter","Eigentümer"]
[1,"Diabolo","120.0898.9041.4","2011-11-07","@PARATI","DRAGON","Bayard Medard & Gustav"]
[2,"Mirabelle","120.0998.9046.6","30.10.2012","MESSI","MERY","Bayard Medard & Gustav"]
[3,"Pinka","120.0998.9038.1","14.11.2011","@CLINTON","PUMA","Bayard Medard & Gustav"]
[4,"Ramona","120.0998.9034.3","29.10.2011","VITUS","RIQUITA","Bayard Medard & Gustav"]
[5,"Violette","120.0764.8382.7","13.12.2008","ATTILA","VICTORINE","Bayard Medard & Gustav"]
[6,"Diabolo","120.0708.9312.7","19.11.2014","#TEIRO","CREOLA","Bregy Anja"]
[7,"Canaille","120.0931.3322.4","17.10.2012","$BREONA","CHEALSY","Bregy Ralf & Adolf"]
[8,"Creola","120.0935.2375.9","18.10.2011","$BREONA","DORINA","Bregy Ralf & Adolf"]
[9,"Flacari","120.0931.3303.3","17.11.2010","@CARIBOU","FLASH","Bregy Ralf & Adolf"]
[10,"Lacoste","120.0931.3319.4","03.10.2012","CLINTON","LOREN","Bregy Ralf & Adolf"]
[11,"Santiago","120.0931.3328.6","02.12.2012","#TEIRO","SCHEILA","Bregy Ralf & Adolf"]
[12,"Milow","120.0931.3304.0","26.09.2011","$BREONA","MARUSCHKA","Bregy Patrick & Silvan"]
[13,"Tequilla","120.0931.3329.3","02.12.2012","#TEIRO","TRACONIA","Bregy Patrick & Silvan"]
[14,"Calin","120.0919.1804.5","07.10.2010","BOCASSA","CALIMERO","Bregy Uli & Pascal"]
[15,"Catalina","120.1050.6420.1","11.10.2013","SHACARI","CALINE","Bregy Uli & Pascal"]
[16,"Cora","120.1050.6419.5","10.10.2013","SHACARI","COBRA","Bregy Uli & Pascal"]
[17,"Pandora","120.1050.6417.1","02.01.2013","$TARTUFF","PALOMA","Bregy Uli & Pascal"]
[18,"Souki","120.0745.7355.1","27.10.2009","COQUIN","MIRAGE","Bregy Uli & Pascal"]
[19,"Tiranie","120.1121.4498.9","23.11.2013","ZOLA","TSATAGNE","Bregy Uli & Pascal"]
[20,"Bijoux","120.0840.8555.6","04.11.2009","@TIGRE 09","BARON","Familie Leiggener"]
[21,"Bulle","120.1000.4525.0","14.11.2012","#TORRES","BRISKA","Familie Leiggener"]
[22,"Rambo","120.0745.5898.5","23.10.2008","MASTAR","ROXEN","Familie Leiggener"]
[23,"Rebell","120.0761.3757.7","28.09.2010","@BIRK","RIVA","Familie Leiggener"]
[24,"Tigres","120.0745.7790.0","15.12.2008","BOCASSA","TITO","Familie Leiggener"]
[25,"Andora","120.0843.1657.5","04.11.2009","TURKO","AYCHA","Fux Wendelin, Jenny & Wyer Piet"]
[26,"Ares","120.1119.8620.7","15.10.2014","TIGER","ANDORA","Fux Wendelin, Jenny & Wyer Piet"]
[27,"Bolero","120.1119.8616.0","11.11.2013","TIGER","BAGUERA","Fux Wendelin, Jenny & Wyer Piet"]
[28,"Bresil","120.1055.7163.1","19.01.2013","#TORRES","AFIFA","Fux Wendelin, Jenny & Wyer Piet"]
[29,"Caprise","120.0916.4223.0","08.01.2011","@CARLOS","CALMY","Fux Wendelin, Jenny & Wyer Piet"]
[30,"Dixence","120.0995.2550.4","09.11.2012","MAGIC","DIAMANT","Fux Wendelin, Jenny & Wyer Piet"]
[31,"Mystic","120.0995.2546.7","17.10.2012","MAGIC","ETOILE","Fux Wendelin, Jenny & Wyer Piet"]
[32,"Pigalle","120.0995.2553.5","22.11.2011","MAGIC","PANDORA","Fux Wendelin, Jenny & Wyer Piet"]
[33,"Samantha","120.0995.2548.1","04.11.2012","MAGIC","BAGUERA","Fux Wendelin, Jenny & Wyer Piet"]
[34,"Scarlette","120.1119.8620.7","14.11.2014","TIGER","ANDORA","Fux Wendelin, Jenny & Wyer Piet"]
[35,"Souris","120.1119.8615.3","11.11.2013","TIGER","SANTANA","Fux Wendelin, Jenny & Wyer Piet"]
[36,"Valaisanne","120.1186.6943.1","07.01.2015","VAMPIR","VAGABONDE","Fux Wendelin, Jenny & Wyer Piet"]
[37,"Tango","120.0619.4600.9","26.01.2007","@POLUX","TIGER","Gebrüder Jäger"]
[38,"Tirana","120.1051.3478.2","09.12.2012","$TARTUFF","TIGER","Gebrüder Jäger"]
[39,"Bandit","120.0478.7410.4","09.11.2005","PANADOL","BELON","Gebrüder Jäger"]
[40,"Barilona","120.1153.2314.5","23.11.2014","KEIRO","BARON","Gebrüder Jäger"]
[41,"Bessy","120.1118.9222.5","09.10.2013","KEIRO","BLERINA","Gebrüder Jäger"]
[42,"Tiger","120.1153.2306.0","28.10.2014","KEIRO","TINA","Gebrüder Jäger"]
[43,"Dorina","120.1153.2313.8","21.11.2014","KEIRO","DIJONE","Gebrüder Jäger"]
[44,"Tamango","120.0919.0508.3","15.11.2010","KEIRO","TINA","Gebrüder Jäger"]
[45,"Taylor","120.1118.9230.0","29.11.2013","$TARTUFF","TAMANGO","Gebrüder Jäger"]
[46,"Lorens","120.11181.9224.9","2013-10-19","Monza","Micabol","Gebrüder Jäger"]
[47,"Pablo","120.0990.3391.7","02.12.2013","SATYR","PUMA","Hischier Pius"]
[48,"Pelila","120.0990.3390.0","02.12.2013","SATYR","PUMA","Hischier Pius"]
[49,"Shakira","120.0623.7070.4","16.12.2013","@VALENTINO","SAFIRA","Hischier Pius"]
[50,"Bandit","120.1042.9275.9","12.10.2012","NERO","BELONE","Jäger Carlo"]
[51,"Guxa","120.0764.2445.5","02.10.2009","XAVER","YAKIN","Jäger Carlo"]
[52,"Maila","120.1055.8462.4","18.11.2012","RAMBAR","MONA","Jäger Carlo"]
[53,"Mirtille","120.1048.6409.3","09.12.2012","PRINCE","MISTRAL","Jäger Carlo"]
[54,"Paloma","120.1068.9664.1","18.03.2013","NERO","PRINCESSE","Jäger Carlo"]
[55,"Papillon","120.0992.5300.1","22.10.2011","TORNADO","PRINCESSE","Jäger Carlo"]
[56,"Pisa","120.1068.9667.2","02.10.2013","FAKIR","POMMETTE","Jäger Carlo"]
[57,"Promise","120.0836.1545.7","02.10.2009","FRANCO","PRINCESSE","Jäger Carlo"]
[58,"Turin","120.1042.9272.8","08.10.2012","NERO","TURCO","Jäger Carlo"]
[59,"Baghira","120.1275.7770.3","22.11.2013","@PEPIN","BAGHIRA","Mathieu Leander & Sascha"]
[60,"Bambino","120.0931.3525.9","25.10.2013","@NATI","BAMBI","Mathieu Leander & Sascha"]
[61,"Baronesse","120.0931.3527.3","05.02.2014","@BISON","BARON","Mathieu Leander & Sascha"]
[62,"Bavaria","120.0930.1107.2","12.10.2012","$TARTUFF","BOA","Mathieu Leander & Sascha"]
[63,"Belon","120.0765.3580.9","29.11.2008","@CAPSULE","BANDIT","Mathieu Leander & Sascha"]
[64,"Bonita","120.0930.1109.6","29.10.2012","$VITO","BELON","Mathieu Leander & Sascha"]
[65,"Baghera","120.1118.3998.5","30.11.2013","MALI","BERENICE","Stallung Passeraub"]
[66,"Bobino","120.1118.4000.4","24.11.2013","NAT","BERENICE","Stallung Passeraub"]
[67,"Bombache","120.0847.9621.6","13.10.2009","NAT","BATICHA","Stallung Passeraub"]
[68,"Bulle","120.1118.3996.1","25.11.2013","NAT","BERENICE","Stallung Passeraub"]
[69,"Manou","120.1118.3994.7","14.11.2013","MALI","MAMOU","Stallung Passeraub"]
[70,"Medusa","120.1064.0583.6","04.10.2013","MALI","MITIS","Stallung Passeraub"]
[71,"Bonita","120.1118.4001.1","08.01.2014","MALI","BOMBACHE","Stallung Passeraub"]
[72,"Mirette","120.0623.0762.5","04.10.2008","@BRONSON","MOUSTIQUE","Hutter Richard"]
[73,"Benika","120.1036.6445.8","21.01.2013","GITAN","BENICHOU","Stallung zum Stäg"]
[74,"Diaries","120.0990.8567.1","18.12.2012","CLINTON","ORCAS","Stallung zum Stäg"]
[75,"Pandora","120.0806.0680.9","14.12.2012","@POLUX","GIPSY","Stallung zum Stäg"]
[76,"Gonda","120.0767.2835.5","26.10.2011","PELE","GITAN","Sewer Ralf & Thommen Steve"]
[77,"Saphira","120.1086.2400.6","14.11.2014","@MAC","SHAKIRA","Sewer Ralf & Thommen Steve"]
[78,"Tabitha","120.0924.5768.0","30.12.2011","@TOSKANI","TURON","Sewer Ralf & Thommen Steve"]
[79,"Tacona","120.1188.8306.6","14.11.2014","@PITCH","TABITHA","Sewer Ralf & Thommen Steve"]
[80,"Tiara","120.0924.5773.4","20.11.2012","@LUCA","TRACK","Sewer Ralf & Thommen Steve"]
[81,"Tinea","120.1071.7797.8","04.11.2013","@CARAMBAR","TSARDON","Sewer Ralf & Thommen Steve"]
[82,"Carolin","120.1086.2394.8","30.09.2014","@NOUNOURS","CUBA","Tscherry Erwin & Bernhard"]
[83,"Cherrico","120.1086.2399.3","14.11.2014","@MAC","COBRA","Tscherry Erwin & Bernhard"]
[84,"Cobra","120.0942.4296.3","01.11.2011","@PICADOR","CUBA","Tscherry Erwin & Bernhard"]
[85,"Tulipe","120.0745.8431.1","10.10.2008","@JUSTIN","TANGO","Tscherry Erwin & Bernhard"]
[86,"Lotus","120.0995.8766.3","22.12.2013","LUCA","LANA","Williner  Anton"]
[87,"Mirabilis","120.1053.7061.6","26.10.2012","TOBY","MASSAI","Williner  Anton"]
[88,"Colonell","120.0687.0260.8","15.11.2013","VARIO","CARMELIN","Williner  Anton"]
[89,"Diva","120.0687.0255.4","03.11.2013","BENO","DORIN","Williner  Anton"]
[90,"Tira","120.0955.4058.7","02.11.2012","CHUCK","TOMBA","Williner  Anton"]
[91,"Vanessa","120.0955.4060.0","03.11.2012","CHUCK","VALLESIA","Williner  Anton"]
[92,"Fiorenza","120.0681.1102.8","21.11.2007","@ARDOF","FIASCO","Wyssen Diego & Madlen"]
[93,"Shagiri","120.0607.1162.2","07.11.2014","#TURBULENCE","SIMBA","Wyssen Diego & Madlen"]
[94,"Xanja","120.1118.6567.0","19.11.2013","#TURBULENCE","XENIA","Wyssen Diego & Madlen"]
[95,"Xena","120.1118.6566.3","19.11.2013","FOUDRE","XERA","Wyssen Diego & Madlen"]
[96,"Xhyla","120.1127.8750.6","14.10.2014","#TURBULENCE","XENIA","Wyssen Diego & Madlen"]
[97,"Coucou","120.0931.3317.0","30.09.2012","@PIRATE","CLAIRON","Familie Zumoberhaus"]
[98,"Nana","120.0676.8587.2","10.10.2008","NEGRO","NORMANDIE","Familie Zumoberhaus"]
[99,"Napapiri","120.1054.6787.3","08.10.2012","BIMI","NANA","Familie Zumoberhaus"]
[100,"Akhira","120.1118.4004.2","15.10.2014","$BREONA","ARIZONA","Zumofen / Gattlen"]
[101,"Fangjo","120.1095.6908.5","07.11.2013","RAMBO","FIASCO","Zumofen / Gattlen"]
[102,"Fayola","120.0708.7750.9","24.09.2014","#VOLERIO","FIORENZA","Zumofen / Gattlen"]
[103,"Milou","120.0944.5559.2","01.10.2011","NESTOR","PINSON","Zumofen / Gattlen"]
[104,"Pengale","120.0990.9559.5","10.11.2012","JANKA","PESSARO","Zumofen / Gattlen"]
[105,"Puma","120.0875.3387.0","16.11.2010","@CARIBOU","PUMA","Zumofen / Gattlen"]
[106,"Rambo","120.0708.7749.3","27.09.2014","#VOLERIO","ROCKY","Zumofen / Gattlen"]
[107,"Violin","120.0708.7752.3","28.11.2013","VITUS","VOLERO","Zumofen / Gattlen"]
[108,"Volero","120.0708.7730.1","03.10.2008","@CARIBOU","VIOLIN","Zumofen / Gattlen"]
[109,"Vulcana","120.0708.7755.4","30.10.2014","@GLOU-GLOU","VANDALE","Zumofen / Gattlen"]
[110,"Xena","120.1051.2928.3","13.10.2012","@CARIBOU","XENTI","Zumofen / Gattlen"]